{"text_format":"3","workbook":"xlsx","n_sheets":13,"sheets":["EcoReviva","data","NL","EN","FR","DE","NR","SP","SW","TS","ExtraTaal1","ExtraTaal2","ExtraTaal3"],"not_rendered":{"images":7,"macros":1,"defined_names":23,"comments":1},"read":"whole","date_system":"1900"}

{"sheet":"EcoReviva","index":0,"n_rows":39,"n_cols":13,"rows_kept":39,"merged":[[1,1,1,10],[3,5,3,8],[3,9,3,10],[3,11,3,12],[4,1,4,2],[4,5,4,8],[4,9,4,10],[5,5,5,8],[6,7,7,9],[6,10,7,10],[6,11,7,11],[6,12,7,12],[9,1,9,3],[9,6,9,8],[9,11,9,12],[10,1,10,3],[10,6,10,8],[10,11,13,12],[11,1,11,3],[11,6,11,8],[12,6,12,8],[15,1,15,2],[16,1,16,12],[17,1,17,2],[18,1,18,2],[19,1,19,2],[20,1,20,2],[21,1,21,2],[22,1,22,2],[23,1,23,2],[24,1,24,2],[25,1,25,2],[26,1,26,2],[27,1,27,2],[28,1,28,2],[29,1,29,2],[30,1,30,2],[31,1,31,2],[32,1,32,2],[33,1,33,2]]}
[]
[null,"Selectiontool Ecoreviva"]
[]
[{"$nulls":5},"Taal/Language/Sprache/Språk/Jazyk",{"$nulls":3},"English"]
[{"$nulls":5},{"$f":"IF(data!$CC$17=1,NL!F4,IF(data!$CC$17=2,EN!F4,IF(data!$CC$17=3,FR!F4,IF(data!$CC$17=4,DE!F4,IF(data!$CC$17=5,NR!F4,IF(data!$CC$17=6,SP!F4,IF(data!$CC$17=7,SW!F4,IF(data!$CC$17=8,TS!F4,IF(data!$CC$17=9,ExtraTaal1!F4,IF(data!$CC$17=10,ExtraTaal2!F4,IF(data!$CC$17=11,ExtraTaal3!F4,)))))))))))","v":"Hybrid device"},{"$nulls":3},"Ecoreviva Hybrid"]
[{"$nulls":5},{"$f":"IF(data!$CC$17=1,NL!E4,IF(data!$CC$17=2,EN!E4,IF(data!$CC$17=3,FR!E4,IF(data!$CC$17=4,DE!E4,IF(data!$CC$17=5,NR!E4,IF(data!$CC$17=6,SP!E4,IF(data!$CC$17=7,SW!E4,IF(data!$CC$17=8,TS!E4,IF(data!$CC$17=9,ExtraTaal1!E4,IF(data!$CC$17=10,ExtraTaal2!E4,IF(data!$CC$17=11,ExtraTaal38E4,)))))))))))&IF(data!$CC$17=8,\" [centimetr]\",\" [centimeter]\")","v":"Version [centimeter]"},{"$nulls":6},{"$f":"data!H6","v":{"$error":"#N/A"}}]
[{"$nulls":6},{"$f":"IF($J$4=data!$CC$3,NL!B3,IF($J$4=data!$CC$4,EN!B3,IF($J$4=data!$CC$5,FR!B3,IF($J$4=data!$CC$6,DE!B3,IF($J$4=data!$CC$7,NR!B3,IF($J$4=data!$CC$8,SP!B3,IF($J$4=data!$CC$9,SW!B3,)))))))","v":"Length"},{"$f":"IF(data!$CC$17=1,NL!B16,IF(data!$CC$17=2,EN!B16,IF(data!$CC$17=3,FR!B16,IF(data!$CC$17=4,DE!B16,IF(data!$CC$17=5,NR!B16,IF(data!$CC$17=6,SP!B16,IF(data!$CC$17=7,SW!B16,IF(data!$CC$17=8,TS!B16,IF(data!$CC$17=9,ExtraTaal1!B16,IF(data!$CC$17=10,ExtraTaal2!B16,IF(data!$CC$17=11,ExtraTaal3!B16,)))))))))))","v":"Fan speed"},null,null,{"$f":"IF(data!$CC$17=1,NL!B4,IF(data!$CC$17=2,EN!B4,IF(data!$CC$17=3,FR!B4,IF(data!$CC$17=4,DE!B4,IF(data!$CC$17=5,NR!B4,IF(data!$CC$17=6,SP!B4,IF(data!$CC$17=7,SW!B4,IF(data!$CC$17=8,TS!B4,IF(data!$CC$17=9,ExtraTaal1!B4,IF(data!$CC$17=10,ExtraTaal2!B4,IF(data!$CC$17=11,ExtraTaal3!B4,)))))))))))","v":"Heigth"},{"$f":"IF(data!$CC$17=1,NL!B5,IF(data!$CC$17=2,EN!B5,IF(data!$CC$17=3,FR!B5,IF(data!$CC$17=4,DE!B5,IF(data!$CC$17=5,NR!B5,IF(data!$CC$17=6,SP!B5,IF(data!$CC$17=7,SW!B5,IF(data!$CC$17=8,TS!B5,IF(data!$CC$17=9,ExtraTaal1!B5,IF(data!$CC$17=10,ExtraTaal2!B5,IF(data!$CC$17=11,ExtraTaal3!B5,)))))))))))","v":"Type"},{"$f":"IF(data!$CC$17=1,NL!B6,IF(data!$CC$17=2,EN!B6,IF(data!$CC$17=3,FR!B6,IF(data!$CC$17=4,DE!B6,IF(data!$CC$17=5,NR!B6,IF(data!$CC$17=6,SP!B6,IF(data!$CC$17=7,SW!B6,IF(data!$CC$17=8,TS!B6,IF(data!$CC$17=9,ExtraTaal1!B6,IF(data!$CC$17=10,ExtraTaal2!B6,IF(data!$CC$17=11,ExtraTaal3!B6,)))))))))))","v":"Depth"}]
[null,{"$f":"IF(data!$CC$17=1,NL!E5,IF(data!$CC$17=2,EN!E5,IF(data!$CC$17=3,FR!E5,IF(data!$CC$17=4,DE!E5,IF(data!$CC$17=5,NR!E5,IF(data!$CC$17=6,SP!E5,IF(data!$CC$17=7,SW!E5,IF(data!$CC$17=8,TS!E5,IF(data!$CC$17=9,ExtraTaal1!E5,IF(data!$CC$17=10,ExtraTaal2!E5,IF(data!$CC$17=11,ExtraTaal3!E5,)))))))))))","v":"Temperatures"}]
[null,{"$f":"IF(data!$CC$17=1,NL!B8,IF(data!$CC$17=2,EN!B8,IF(data!$CC$17=3,FR!B8,IF(data!$CC$17=4,DE!B8,IF(data!$CC$17=5,NR!B8,IF(data!$CC$17=6,SP!B8,IF(data!$CC$17=7,SW!B8,IF(data!$CC$17=8,TS!B8,IF(data!$CC$17=9,ExtraTaal1!B8,IF(data!$CC$17=10,ExtraTaal2!B8,IF(data!$CC$17=11,ExtraTaal3!B8,)))))))))))","v":"Heating:"},{"$nulls":4},{"$f":"IF(data!$CC$17=1,NL!G8,IF(data!$CC$17=2,EN!G8,IF(data!$CC$17=3,FR!G8,IF(data!$CC$17=4,DE!G8,IF(data!$CC$17=5,NR!G8,IF(data!$CC$17=6,SP!G8,IF(data!$CC$17=7,SW!G8,IF(data!$CC$17=8,TS!G8,IF(data!$CC$17=9,ExtraTaal1!G8,IF(data!$CC$17=10,ExtraTaal2!G8,IF(data!$CC$17=11,ExtraTaal3!G8,)))))))))))","v":"Cooling:"}]
[null,{"$f":"IF(data!$CC$17=1,NL!B9,IF(data!$CC$17=2,EN!B9,IF(data!$CC$17=3,FR!B9,IF(data!$CC$17=4,DE!B9,IF(data!$CC$17=5,NR!B9,IF(data!$CC$17=6,SP!B9,IF(data!$CC$17=7,SW!B9,IF(data!$CC$17=8,TS!B9,IF(data!$CC$17=9,ExtraTaal1!B9,IF(data!$CC$17=10,ExtraTaal2!B9,IF(data!$CC$17=11,ExtraTaal3!B9,)))))))))))","v":"Supply water"},0,0,35,{"$f":"IF(data!$BZ$2=1,\"°C\",IF(data!$BZ$2=2,\"°F\",))","v":"°C"},{"$f":"B10","v":"Supply water"},0,0,16,{"$f":"F10","v":"°C"},{"$f":"IF(data!$CC$17=1,NL!G4,IF(data!$CC$17=2,EN!G4,IF(data!$CC$17=3,FR!G4,IF(data!$CC$17=4,DE!G4,IF(data!$CC$17=5,NR!G4,IF(data!$CC$17=6,SP!G4,IF(data!$CC$17=7,SW!G4,IF(data!$CC$17=8,TS!G4,IF(data!$CC$17=9,ExtraTaal1!G4,IF(data!$CC$17=10,ExtraTaal2!G4,IF(data!$CC$17=11,ExtraTaal3!G4,)))))))))))","v":"Unit conversion"}]
[null,{"$f":"IF(data!$CC$17=1,NL!B10,IF(data!$CC$17=2,EN!B10,IF(data!$CC$17=3,FR!B10,IF(data!$CC$17=4,DE!B10,IF(data!$CC$17=5,NR!B10,IF(data!$CC$17=6,SP!B10,IF(data!$CC$17=7,SW!B10,IF(data!$CC$17=8,TS!B10,IF(data!$CC$17=9,ExtraTaal1!B10,IF(data!$CC$17=10,ExtraTaal2!B10,IF(data!$CC$17=11,ExtraTaal3!B10,)))))))))))","v":"Return water"},0,0,30,{"$f":"F10","v":"°C"},{"$f":"B11","v":"Return water"},0,0,{"v":18.000000000000004,"d":"18"},{"$f":"F10","v":"°C"}]
[null,{"$f":"IF(data!$CC$17=1,NL!B11,IF(data!$CC$17=2,EN!B11,IF(data!$CC$17=3,FR!B11,IF(data!$CC$17=4,DE!B11,IF(data!$CC$17=5,NR!B11,IF(data!$CC$17=6,SP!B11,IF(data!$CC$17=7,SW!B11,IF(data!$CC$17=8,TS!B11,IF(data!$CC$17=9,ExtraTaal1!B11,IF(data!$CC$17=10,ExtraTaal2!B11,IF(data!$CC$17=11,ExtraTaal3!B11,)))))))))))","v":"Entering air (dry bulb)"},0,0,20,{"$f":"F10","v":"°C"},{"$f":"B12","v":"Entering air (dry bulb)"},0,0,{"v":26.999999999999996,"d":"27"},{"$f":"F10","v":"°C"}]
[{"$nulls":6},{"$f":"IF(data!$CC$17=1,NL!$G$3,IF(data!$CC$17=2,EN!$G$3,IF(data!$CC$17=3,FR!$G$3,IF(data!$CC$17=4,DE!$G$3,IF(data!$CC$17=5,NR!$G$3,IF(data!$CC$17=6,SP!$G$3,IF(data!$CC$17=7,SW!$G$3,IF(data!$CC$17=8,TS!G3,IF(data!$CC$17=9,ExtraTaal1!G3,IF(data!$CC$17=10,ExtraTaal2!G3,IF(data!$CC$17=11,ExtraTaal3!G3,)))))))))))","v":"rel. humid."},null,null,{"v":0.5,"d":"50%"}]
[]
[]
[null,{"$f":"IF(data!$CC$17=1,NL!B3,IF(data!$CC$17=2,EN!B3,IF(data!$CC$17=3,FR!B3,IF(data!$CC$17=4,DE!B3,IF(data!$CC$17=5,NR!B3,IF(data!$CC$17=6,SP!B3,IF(data!$CC$17=7,SW!B3,IF(data!$CC$17=8,TS!B3,IF(data!$CC$17=9,ExtraTaal1!B3,IF(data!$CC$17=10,ExtraTaal2!B3,IF(data!$CC$17=11,ExtraTaal3!B3,)))))))))))&\" [cm]\"","v":"Length [cm]"},null,{"$f":"IF(data!$CC$17=1,NL!C14,IF(data!$CC$17=2,EN!C14,IF(data!$CC$17=3,FR!C14,IF(data!$CC$17=4,DE!C14,IF(data!$CC$17=5,NR!C14,IF(data!$CC$17=6,SP!C14,IF(data!$CC$17=7,SW!C14,IF(data!$CC$17=8,TS!C14,IF(data!$CC$17=9,ExtraTaal1!C14,IF(data!$CC$17=10,ExtraTaal2!C14,IF(data!$CC$17=11,ExtraTaal3!C14,)))))))))))&IF(data!BZ2=1,\" [W]\",IF(data!BZ2=2,\" [Btu/h]\",))","v":"Heating capacity [W]"},{"$f":"IF(data!$CC$17=1,NL!D14,IF(data!$CC$17=2,EN!D14,IF(data!$CC$17=3,FR!D14,IF(data!$CC$17=4,DE!D14,IF(data!$CC$17=5,NR!D14,IF(data!$CC$17=6,SP!D14,IF(data!$CC$17=7,SW!D14,IF(data!$CC$17=8,TS!D14,IF(data!$CC$17=9,ExtraTaal1!D14,IF(data!$CC$17=10,ExtraTaal2!D14,IF(data!$CC$17=11,ExtraTaal3!D14,)))))))))))&IF(data!BZ2=1,\" [kg/h]\",IF(data!BZ2=2,\" [GPM]**\",))","v":"Water flow [kg/h]"},{"$f":"IF(data!$CC$17=1,NL!F6,IF(data!$CC$17=2,EN!F6,IF(data!$CC$17=3,FR!F6,IF(data!$CC$17=4,DE!F6,IF(data!$CC$17=5,NR!F6,IF(data!$CC$17=6,SP!F6,IF(data!$CC$17=7,SW!F6,IF(data!$CC$17=8,TS!F6,IF(data!$CC$17=9,ExtraTaal1!F6,IF(data!$CC$17=10,ExtraTaal2!F6,IF(data!$CC$17=11,ExtraTaal3!F6,)))))))))))&\" [\"&IF(data!BZ2=1,\"kPa\",IF(data!BZ2=2,\"ftH2O\"))&\"]\"","v":"Water side pressure loss  [kPa]"},{"$f":"IF(data!$CC$17=1,NL!E14,IF(data!$CC$17=2,EN!E14,IF(data!$CC$17=3,FR!E14,IF(data!$CC$17=4,DE!E14,IF(data!$CC$17=5,NR!E14,IF(data!$CC$17=6,SP!E14,IF(data!$CC$17=7,SW!E14,IF(data!$CC$17=8,TS!E14,IF(data!$CC$17=9,ExtraTaal1!E14,IF(data!$CC$17=10,ExtraTaal2!E14,IF(data!$CC$17=11,ExtraTaal3!E14,)))))))))))&IF(data!BZ2=1,\" [W]**\",IF(data!BZ2=2,\" [Btu/h]*\",))","v":"Cooling capacity [W]**"},{"$f":"E16","v":"Water flow [kg/h]"},{"$f":"F16","v":"Water side pressure loss  [kPa]"},{"$f":"IF(data!$CC$17=1,NL!I13,IF(data!$CC$17=2,EN!I13,IF(data!$CC$17=3,FR!I13,IF(data!$CC$17=4,DE!I13,IF(data!$CC$17=5,NR!I13,IF(data!$CC$17=6,SP!I13,IF(data!$CC$17=7,SW!I13,IF(data!$CC$17=8,TS!I13,IF(data!$CC$17=9,ExtraTaal1!I13,IF(data!$CC$17=10,ExtraTaal2!I13,IF(data!$CC$17=11,ExtraTaal3!I13,)))))))))))","v":"Sound pressure level [dB(A)]****"},{"$f":"IF(data!$CC$17=1,NL!J13,IF(data!$CC$17=2,EN!J13,IF(data!$CC$17=3,FR!J13,IF(data!$CC$17=4,DE!J13,IF(data!$CC$17=5,NR!J13,IF(data!$CC$17=6,SP!J13,IF(data!$CC$17=7,SW!J13,IF(data!$CC$17=8,TS!J13,IF(data!$CC$17=9,ExtraTaal1!J13,IF(data!$CC$17=10,ExtraTaal2!J13,IF(data!$CC$17=11,ExtraTaal3!J13,)))))))))))","v":"Sound power [dB(A)]****"},{"$f":"IF(data!$CC$17=1,NL!H13,IF(data!$CC$17=2,EN!H13,IF(data!$CC$17=3,FR!H13,IF(data!$CC$17=4,DE!H13,IF(data!$CC$17=5,NR!H13,IF(data!$CC$17=6,SP!H13,IF(data!$CC$17=7,SW!H13,IF(data!$CC$17=8,TS!H13,IF(data!$CC$17=9,ExtraTaal1!H13,IF(data!$CC$17=10,ExtraTaal2!H13,IF(data!$CC$17=11,ExtraTaal3!H13,)))))))))))","v":"Electrical consumption [W]"},{"$f":"IF(data!$CC$17=1,NL!G13,IF(data!$CC$17=2,EN!G13,IF(data!$CC$17=3,FR!G13,IF(data!$CC$17=4,DE!G13,IF(data!$CC$17=5,NR!G13,IF(data!$CC$17=6,SP!G13,IF(data!$CC$17=7,SW!G13,IF(data!$CC$17=8,TS!G13,IF(data!$CC$17=9,ExtraTaal1!G13,IF(data!$CC$17=10,ExtraTaal2!G13,IF(data!$CC$17=11,ExtraTaal3!G13,)))))))))))&IF(data!BZ2=1,\" [l]\",IF(data!BZ2=2,\" [Gal]**\",))","v":"Water volume [l]"}]
[null,{"$f":"CONCATENATE($J$5,\", \",$K$7, \" \",$K$6,\"cm, \",$L$7, \" \",$L$6)","v":"Ecoreviva Hybrid, Heigth cm, Type "},0,0,0,0,0,0,0,0,0,0,0]
[null,55,null,{"$f":"IF($J$6=\"OFF\",data!DH18,IF($J$6=\"26dB(A)\",data!DH19,IF($J$6=\"30dB(A)\",data!DH20,IF($J$6=\"MAX\",data!DH21,IF($J$6=\"n.a.\",data!DH19,\"\")))))","v":""},{"$f":"IF($J$6=\"OFF\",data!DI18,IF($J$6=\"26dB(A)\",data!DI19,IF($J$6=\"30dB(A)\",data!DI20,IF($J$6=\"MAX\",data!DI21,IF($J$6=\"n.a.\",data!DI19,\"\")))))","v":""},{"$f":"IF($J$6=\"OFF\",data!DJ18,IF($J$6=\"26dB(A)\",data!DJ19,IF($J$6=\"30dB(A)\",data!DJ20,IF($J$6=\"MAX\",data!DJ21,IF($J$6=\"n.a.\",data!DJ19,\"\")))))","v":""},{"$f":"IF($J$6=\"OFF\",data!DK18,IF($J$6=\"26dB(A)\",data!DK19,IF($J$6=\"30dB(A)\",data!DK20,IF($J$6=\"MAX\",data!DK21,IF($J$6=\"n.a.\",data!DK19,\"\")))))","v":""},{"$f":"IF($J$6=\"OFF\",data!DL18,IF($J$6=\"26dB(A)\",data!DL19,IF($J$6=\"30dB(A)\",data!DL20,IF($J$6=\"MAX\",data!DL21,IF($J$6=\"n.a.\",data!DL19,\"\")))))","v":""},{"$f":"IF($J$6=\"OFF\",data!DM18,IF($J$6=\"26dB(A)\",data!DM19,IF($J$6=\"30dB(A)\",data!DM20,IF($J$6=\"MAX\",data!DM21,IF($J$6=\"n.a.\",data!DM19,\"\")))))","v":""},{"$f":"IF($J$6=\"OFF\",data!DN18,IF($J$6=\"26dB(A)\",data!DN19,IF($J$6=\"30dB(A)\",data!DN20,IF($J$6=\"MAX\",data!DN21,IF($J$6=\"n.a.\",data!DN19,\"\")))))","v":""},{"$f":"IF($J$6=\"OFF\",data!DO18,IF($J$6=\"26dB(A)\",data!DO19,IF($J$6=\"30dB(A)\",data!DO20,IF($J$6=\"MAX\",data!DO21,IF($J$6=\"n.a.\",data!DO19,\"\")))))","v":""},{"$f":"IF($J$6=\"OFF\",data!DP18,IF($J$6=\"26dB(A)\",data!DP19,IF($J$6=\"30dB(A)\",data!DP20,IF($J$6=\"MAX\",data!DP21,IF($J$6=\"n.a.\",data!DP19,\"\")))))","v":""},{"$f":"IF($J$6=\"OFF\",data!DQ18,IF($J$6=\"26dB(A)\",data!DQ19,IF($J$6=\"30dB(A)\",data!DQ20,IF($J$6=\"MAX\",data!DQ21,IF($J$6=\"n.a.\",data!DQ19,\"\")))))","v":""}]
[null,65,65,{"$f":"IF($J$6=\"OFF\",data!DH22,IF($J$6=\"26dB(A)\",data!DH23,IF($J$6=\"30dB(A)\",data!DH24,IF($J$6=\"MAX\",data!DH25,IF($J$6=\"n.a.\",data!DH23,\"\")))))","v":""},{"$f":"IF($J$6=\"OFF\",data!DI22,IF($J$6=\"26dB(A)\",data!DI23,IF($J$6=\"30dB(A)\",data!DI24,IF($J$6=\"MAX\",data!DI25,IF($J$6=\"n.a.\",data!DI23,\"\")))))","v":""},{"$f":"IF($J$6=\"OFF\",data!DJ22,IF($J$6=\"26dB(A)\",data!DJ23,IF($J$6=\"30dB(A)\",data!DJ24,IF($J$6=\"MAX\",data!DJ25,IF($J$6=\"n.a.\",data!DJ23,\"\")))))","v":""},{"$f":"IF($J$6=\"OFF\",data!DK22,IF($J$6=\"26dB(A)\",data!DK23,IF($J$6=\"30dB(A)\",data!DK24,IF($J$6=\"MAX\",data!DK25,IF($J$6=\"n.a.\",data!DK23,\"\")))))","v":""},{"$f":"IF($J$6=\"OFF\",data!DL22,IF($J$6=\"26dB(A)\",data!DL23,IF($J$6=\"30dB(A)\",data!DL24,IF($J$6=\"MAX\",data!DL25,IF($J$6=\"n.a.\",data!DL23,\"\")))))","v":""},{"$f":"IF($J$6=\"OFF\",data!DM22,IF($J$6=\"26dB(A)\",data!DM23,IF($J$6=\"30dB(A)\",data!DM24,IF($J$6=\"MAX\",data!DM25,IF($J$6=\"n.a.\",data!DM23,\"\")))))","v":""},{"$f":"IF($J$6=\"OFF\",data!DN22,IF($J$6=\"26dB(A)\",data!DN23,IF($J$6=\"30dB(A)\",data!DN24,IF($J$6=\"MAX\",data!DN25,IF($J$6=\"n.a.\",data!DN23,\"\")))))","v":""},{"$f":"IF($J$6=\"OFF\",data!DO22,IF($J$6=\"26dB(A)\",data!DO23,IF($J$6=\"30dB(A)\",data!DO24,IF($J$6=\"MAX\",data!DO25,IF($J$6=\"n.a.\",data!DO23,\"\")))))","v":""},{"$f":"IF($J$6=\"OFF\",data!DP22,IF($J$6=\"26dB(A)\",data!DP23,IF($J$6=\"30dB(A)\",data!DP24,IF($J$6=\"MAX\",data!DP25,IF($J$6=\"n.a.\",data!DP23,\"\")))))","v":""},{"$f":"IF($J$6=\"OFF\",data!DQ22,IF($J$6=\"26dB(A)\",data!DQ23,IF($J$6=\"30dB(A)\",data!DQ24,IF($J$6=\"MAX\",data!DQ25,IF($J$6=\"n.a.\",data!DQ23,\"\")))))","v":""}]
[null,75,75,{"$f":"IF($J$6=\"OFF\",data!DH26,IF($J$6=\"26dB(A)\",data!DH27,IF($J$6=\"30dB(A)\",data!DH28,IF($J$6=\"MAX\",data!DH29,IF($J$6=\"n.a.\",data!DH27,\"\")))))","v":""},{"$f":"IF($J$6=\"OFF\",data!DI26,IF($J$6=\"26dB(A)\",data!DI27,IF($J$6=\"30dB(A)\",data!DI28,IF($J$6=\"MAX\",data!DI29,IF($J$6=\"n.a.\",data!DI27,\"\")))))","v":""},{"$f":"IF($J$6=\"OFF\",data!DJ26,IF($J$6=\"26dB(A)\",data!DJ27,IF($J$6=\"30dB(A)\",data!DJ28,IF($J$6=\"MAX\",data!DJ29,IF($J$6=\"n.a.\",data!DJ27,\"\")))))","v":""},{"$f":"IF($J$6=\"OFF\",data!DK26,IF($J$6=\"26dB(A)\",data!DK27,IF($J$6=\"30dB(A)\",data!DK28,IF($J$6=\"MAX\",data!DK29,IF($J$6=\"n.a.\",data!DK27,\"\")))))","v":""},{"$f":"IF($J$6=\"OFF\",data!DL26,IF($J$6=\"26dB(A)\",data!DL27,IF($J$6=\"30dB(A)\",data!DL28,IF($J$6=\"MAX\",data!DL29,IF($J$6=\"n.a.\",data!DL27,\"\")))))","v":""},{"$f":"IF($J$6=\"OFF\",data!DM26,IF($J$6=\"26dB(A)\",data!DM27,IF($J$6=\"30dB(A)\",data!DM28,IF($J$6=\"MAX\",data!DM29,IF($J$6=\"n.a.\",data!DM27,\"\")))))","v":""},{"$f":"IF($J$6=\"OFF\",data!DN26,IF($J$6=\"26dB(A)\",data!DN27,IF($J$6=\"30dB(A)\",data!DN28,IF($J$6=\"MAX\",data!DN29,IF($J$6=\"n.a.\",data!DN27,\"\")))))","v":""},{"$f":"IF($J$6=\"OFF\",data!DO26,IF($J$6=\"26dB(A)\",data!DO27,IF($J$6=\"30dB(A)\",data!DO28,IF($J$6=\"MAX\",data!DO29,IF($J$6=\"n.a.\",data!DO27,\"\")))))","v":""},{"$f":"IF($J$6=\"OFF\",data!DP26,IF($J$6=\"26dB(A)\",data!DP27,IF($J$6=\"30dB(A)\",data!DP28,IF($J$6=\"MAX\",data!DP29,IF($J$6=\"n.a.\",data!DP27,\"\")))))","v":""},{"$f":"IF($J$6=\"OFF\",data!DQ26,IF($J$6=\"26dB(A)\",data!DQ27,IF($J$6=\"30dB(A)\",data!DQ28,IF($J$6=\"MAX\",data!DQ29,IF($J$6=\"n.a.\",data!DQ27,\"\")))))","v":""}]
[null,85,85,{"$f":"IF($J$6=\"OFF\",data!DH30,IF($J$6=\"26dB(A)\",data!DH31,IF($J$6=\"30dB(A)\",data!DH32,IF($J$6=\"MAX\",data!DH33,IF($J$6=\"n.a.\",data!DH31,\"\")))))","v":""},{"$f":"IF($J$6=\"OFF\",data!DI30,IF($J$6=\"26dB(A)\",data!DI31,IF($J$6=\"30dB(A)\",data!DI32,IF($J$6=\"MAX\",data!DI33,IF($J$6=\"n.a.\",data!DI31,\"\")))))","v":""},{"$f":"IF($J$6=\"OFF\",data!DJ30,IF($J$6=\"26dB(A)\",data!DJ31,IF($J$6=\"30dB(A)\",data!DJ32,IF($J$6=\"MAX\",data!DJ33,IF($J$6=\"n.a.\",data!DJ31,\"\")))))","v":""},{"$f":"IF($J$6=\"OFF\",data!DK30,IF($J$6=\"26dB(A)\",data!DK31,IF($J$6=\"30dB(A)\",data!DK32,IF($J$6=\"MAX\",data!DK33,IF($J$6=\"n.a.\",data!DK31,\"\")))))","v":""},{"$f":"IF($J$6=\"OFF\",data!DL30,IF($J$6=\"26dB(A)\",data!DL31,IF($J$6=\"30dB(A)\",data!DL32,IF($J$6=\"MAX\",data!DL33,IF($J$6=\"n.a.\",data!DL31,\"\")))))","v":""},{"$f":"IF($J$6=\"OFF\",data!DM30,IF($J$6=\"26dB(A)\",data!DM31,IF($J$6=\"30dB(A)\",data!DM32,IF($J$6=\"MAX\",data!DM33,IF($J$6=\"n.a.\",data!DM31,\"\")))))","v":""},{"$f":"IF($J$6=\"OFF\",data!DN30,IF($J$6=\"26dB(A)\",data!DN31,IF($J$6=\"30dB(A)\",data!DN32,IF($J$6=\"MAX\",data!DN33,IF($J$6=\"n.a.\",data!DN31,\"\")))))","v":""},{"$f":"IF($J$6=\"OFF\",data!DO30,IF($J$6=\"26dB(A)\",data!DO31,IF($J$6=\"30dB(A)\",data!DO32,IF($J$6=\"MAX\",data!DO33,IF($J$6=\"n.a.\",data!DO31,\"\")))))","v":""},{"$f":"IF($J$6=\"OFF\",data!DP30,IF($J$6=\"26dB(A)\",data!DP31,IF($J$6=\"30dB(A)\",data!DP32,IF($J$6=\"MAX\",data!DP33,IF($J$6=\"n.a.\",data!DP31,\"\")))))","v":""},{"$f":"IF($J$6=\"OFF\",data!DQ30,IF($J$6=\"26dB(A)\",data!DQ31,IF($J$6=\"30dB(A)\",data!DQ32,IF($J$6=\"MAX\",data!DQ33,IF($J$6=\"n.a.\",data!DQ31,\"\")))))","v":""}]
[null,95,95,{"$f":"IF($J$6=\"OFF\",data!DH34,IF($J$6=\"26dB(A)\",data!DH35,IF($J$6=\"30dB(A)\",data!DH36,IF($J$6=\"MAX\",data!DH37,IF($J$6=\"n.a.\",data!DH35,\"\")))))","v":""},{"$f":"IF($J$6=\"OFF\",data!DI34,IF($J$6=\"26dB(A)\",data!DI35,IF($J$6=\"30dB(A)\",data!DI36,IF($J$6=\"MAX\",data!DI37,IF($J$6=\"n.a.\",data!DI35,\"\")))))","v":""},{"$f":"IF($J$6=\"OFF\",data!DJ34,IF($J$6=\"26dB(A)\",data!DJ35,IF($J$6=\"30dB(A)\",data!DJ36,IF($J$6=\"MAX\",data!DJ37,IF($J$6=\"n.a.\",data!DJ35,\"\")))))","v":""},{"$f":"IF($J$6=\"OFF\",data!DK34,IF($J$6=\"26dB(A)\",data!DK35,IF($J$6=\"30dB(A)\",data!DK36,IF($J$6=\"MAX\",data!DK37,IF($J$6=\"n.a.\",data!DK35,\"\")))))","v":""},{"$f":"IF($J$6=\"OFF\",data!DL34,IF($J$6=\"26dB(A)\",data!DL35,IF($J$6=\"30dB(A)\",data!DL36,IF($J$6=\"MAX\",data!DL37,IF($J$6=\"n.a.\",data!DL35,\"\")))))","v":""},{"$f":"IF($J$6=\"OFF\",data!DM34,IF($J$6=\"26dB(A)\",data!DM35,IF($J$6=\"30dB(A)\",data!DM36,IF($J$6=\"MAX\",data!DM37,IF($J$6=\"n.a.\",data!DM35,\"\")))))","v":""},{"$f":"IF($J$6=\"OFF\",data!DN34,IF($J$6=\"26dB(A)\",data!DN35,IF($J$6=\"30dB(A)\",data!DN36,IF($J$6=\"MAX\",data!DN37,IF($J$6=\"n.a.\",data!DN35,\"\")))))","v":""},{"$f":"IF($J$6=\"OFF\",data!DO34,IF($J$6=\"26dB(A)\",data!DO35,IF($J$6=\"30dB(A)\",data!DO36,IF($J$6=\"MAX\",data!DO37,IF($J$6=\"n.a.\",data!DO35,\"\")))))","v":""},{"$f":"IF($J$6=\"OFF\",data!DP34,IF($J$6=\"26dB(A)\",data!DP35,IF($J$6=\"30dB(A)\",data!DP36,IF($J$6=\"MAX\",data!DP37,IF($J$6=\"n.a.\",data!DP35,\"\")))))","v":""},{"$f":"IF($J$6=\"OFF\",data!DQ34,IF($J$6=\"26dB(A)\",data!DQ35,IF($J$6=\"30dB(A)\",data!DQ36,IF($J$6=\"MAX\",data!DQ37,IF($J$6=\"n.a.\",data!DQ35,\"\")))))","v":""}]
[null,105,105,{"$f":"IF($J$6=\"OFF\",data!DH38,IF($J$6=\"26dB(A)\",data!DH39,IF($J$6=\"30dB(A)\",data!DH40,IF($J$6=\"MAX\",data!DH41,IF($J$6=\"n.a.\",data!DH39,\"\")))))","v":""},{"$f":"IF($J$6=\"OFF\",data!DI38,IF($J$6=\"26dB(A)\",data!DI39,IF($J$6=\"30dB(A)\",data!DI40,IF($J$6=\"MAX\",data!DI41,IF($J$6=\"n.a.\",data!DI39,\"\")))))","v":""},{"$f":"IF($J$6=\"OFF\",data!DJ38,IF($J$6=\"26dB(A)\",data!DJ39,IF($J$6=\"30dB(A)\",data!DJ40,IF($J$6=\"MAX\",data!DJ41,IF($J$6=\"n.a.\",data!DJ39,\"\")))))","v":""},{"$f":"IF($J$6=\"OFF\",data!DK38,IF($J$6=\"26dB(A)\",data!DK39,IF($J$6=\"30dB(A)\",data!DK40,IF($J$6=\"MAX\",data!DK41,IF($J$6=\"n.a.\",data!DK39,\"\")))))","v":""},{"$f":"IF($J$6=\"OFF\",data!DL38,IF($J$6=\"26dB(A)\",data!DL39,IF($J$6=\"30dB(A)\",data!DL40,IF($J$6=\"MAX\",data!DL41,IF($J$6=\"n.a.\",data!DL39,\"\")))))","v":""},{"$f":"IF($J$6=\"OFF\",data!DM38,IF($J$6=\"26dB(A)\",data!DM39,IF($J$6=\"30dB(A)\",data!DM40,IF($J$6=\"MAX\",data!DM41,IF($J$6=\"n.a.\",data!DM39,\"\")))))","v":""},{"$f":"IF($J$6=\"OFF\",data!DN38,IF($J$6=\"26dB(A)\",data!DN39,IF($J$6=\"30dB(A)\",data!DN40,IF($J$6=\"MAX\",data!DN41,IF($J$6=\"n.a.\",data!DN39,\"\")))))","v":""},{"$f":"IF($J$6=\"OFF\",data!DO38,IF($J$6=\"26dB(A)\",data!DO39,IF($J$6=\"30dB(A)\",data!DO40,IF($J$6=\"MAX\",data!DO41,IF($J$6=\"n.a.\",data!DO39,\"\")))))","v":""},{"$f":"IF($J$6=\"OFF\",data!DP38,IF($J$6=\"26dB(A)\",data!DP39,IF($J$6=\"30dB(A)\",data!DP40,IF($J$6=\"MAX\",data!DP41,IF($J$6=\"n.a.\",data!DP39,\"\")))))","v":""},{"$f":"IF($J$6=\"OFF\",data!DQ38,IF($J$6=\"26dB(A)\",data!DQ39,IF($J$6=\"30dB(A)\",data!DQ40,IF($J$6=\"MAX\",data!DQ41,IF($J$6=\"n.a.\",data!DQ39,\"\")))))","v":""}]
[null,115,115,{"$f":"IF($J$6=\"OFF\",data!DH42,IF($J$6=\"26dB(A)\",data!DH43,IF($J$6=\"30dB(A)\",data!DH44,IF($J$6=\"MAX\",data!DH45,IF($J$6=\"n.a.\",data!DH43,\"\")))))","v":""},{"$f":"IF($J$6=\"OFF\",data!DI42,IF($J$6=\"26dB(A)\",data!DI43,IF($J$6=\"30dB(A)\",data!DI44,IF($J$6=\"MAX\",data!DI45,IF($J$6=\"n.a.\",data!DI43,\"\")))))","v":""},{"$f":"IF($J$6=\"OFF\",data!DJ42,IF($J$6=\"26dB(A)\",data!DJ43,IF($J$6=\"30dB(A)\",data!DJ44,IF($J$6=\"MAX\",data!DJ45,IF($J$6=\"n.a.\",data!DJ43,\"\")))))","v":""},{"$f":"IF($J$6=\"OFF\",data!DK42,IF($J$6=\"26dB(A)\",data!DK43,IF($J$6=\"30dB(A)\",data!DK44,IF($J$6=\"MAX\",data!DK45,IF($J$6=\"n.a.\",data!DK43,\"\")))))","v":""},{"$f":"IF($J$6=\"OFF\",data!DL42,IF($J$6=\"26dB(A)\",data!DL43,IF($J$6=\"30dB(A)\",data!DL44,IF($J$6=\"MAX\",data!DL45,IF($J$6=\"n.a.\",data!DL43,\"\")))))","v":""},{"$f":"IF($J$6=\"OFF\",data!DM42,IF($J$6=\"26dB(A)\",data!DM43,IF($J$6=\"30dB(A)\",data!DM44,IF($J$6=\"MAX\",data!DM45,IF($J$6=\"n.a.\",data!DM43,\"\")))))","v":""},{"$f":"IF($J$6=\"OFF\",data!DN42,IF($J$6=\"26dB(A)\",data!DN43,IF($J$6=\"30dB(A)\",data!DN44,IF($J$6=\"MAX\",data!DN45,IF($J$6=\"n.a.\",data!DN43,\"\")))))","v":""},{"$f":"IF($J$6=\"OFF\",data!DO42,IF($J$6=\"26dB(A)\",data!DO43,IF($J$6=\"30dB(A)\",data!DO44,IF($J$6=\"MAX\",data!DO45,IF($J$6=\"n.a.\",data!DO43,\"\")))))","v":""},{"$f":"IF($J$6=\"OFF\",data!DP42,IF($J$6=\"26dB(A)\",data!DP43,IF($J$6=\"30dB(A)\",data!DP44,IF($J$6=\"MAX\",data!DP45,IF($J$6=\"n.a.\",data!DP43,\"\")))))","v":""},{"$f":"IF($J$6=\"OFF\",data!DQ42,IF($J$6=\"26dB(A)\",data!DQ43,IF($J$6=\"30dB(A)\",data!DQ44,IF($J$6=\"MAX\",data!DQ45,IF($J$6=\"n.a.\",data!DQ43,\"\")))))","v":""}]
[null,135,135,{"$f":"IF($J$6=\"OFF\",data!DH46,IF($J$6=\"26dB(A)\",data!DH47,IF($J$6=\"30dB(A)\",data!DH48,IF($J$6=\"MAX\",data!DH49,IF($J$6=\"n.a.\",data!DH47,\"\")))))","v":""},{"$f":"IF($J$6=\"OFF\",data!DI46,IF($J$6=\"26dB(A)\",data!DI47,IF($J$6=\"30dB(A)\",data!DI48,IF($J$6=\"MAX\",data!DI49,IF($J$6=\"n.a.\",data!DI47,\"\")))))","v":""},{"$f":"IF($J$6=\"OFF\",data!DJ46,IF($J$6=\"26dB(A)\",data!DJ47,IF($J$6=\"30dB(A)\",data!DJ48,IF($J$6=\"MAX\",data!DJ49,IF($J$6=\"n.a.\",data!DJ47,\"\")))))","v":""},{"$f":"IF($J$6=\"OFF\",data!DK46,IF($J$6=\"26dB(A)\",data!DK47,IF($J$6=\"30dB(A)\",data!DK48,IF($J$6=\"MAX\",data!DK49,IF($J$6=\"n.a.\",data!DK47,\"\")))))","v":""},{"$f":"IF($J$6=\"OFF\",data!DL46,IF($J$6=\"26dB(A)\",data!DL47,IF($J$6=\"30dB(A)\",data!DL48,IF($J$6=\"MAX\",data!DL49,IF($J$6=\"n.a.\",data!DL47,\"\")))))","v":""},{"$f":"IF($J$6=\"OFF\",data!DM46,IF($J$6=\"26dB(A)\",data!DM47,IF($J$6=\"30dB(A)\",data!DM48,IF($J$6=\"MAX\",data!DM49,IF($J$6=\"n.a.\",data!DM47,\"\")))))","v":""},{"$f":"IF($J$6=\"OFF\",data!DN46,IF($J$6=\"26dB(A)\",data!DN47,IF($J$6=\"30dB(A)\",data!DN48,IF($J$6=\"MAX\",data!DN49,IF($J$6=\"n.a.\",data!DN47,\"\")))))","v":""},{"$f":"IF($J$6=\"OFF\",data!DO46,IF($J$6=\"26dB(A)\",data!DO47,IF($J$6=\"30dB(A)\",data!DO48,IF($J$6=\"MAX\",data!DO49,IF($J$6=\"n.a.\",data!DO47,\"\")))))","v":""},{"$f":"IF($J$6=\"OFF\",data!DP46,IF($J$6=\"26dB(A)\",data!DP47,IF($J$6=\"30dB(A)\",data!DP48,IF($J$6=\"MAX\",data!DP49,IF($J$6=\"n.a.\",data!DP47,\"\")))))","v":""},{"$f":"IF($J$6=\"OFF\",data!DQ46,IF($J$6=\"26dB(A)\",data!DQ47,IF($J$6=\"30dB(A)\",data!DQ48,IF($J$6=\"MAX\",data!DQ49,IF($J$6=\"n.a.\",data!DQ47,\"\")))))","v":""}]
[null,155,155,{"$f":"IF($J$6=\"OFF\",data!DH50,IF($J$6=\"26dB(A)\",data!DH51,IF($J$6=\"30dB(A)\",data!DH52,IF($J$6=\"MAX\",data!DH53,IF($J$6=\"n.a.\",data!DH51,\"\")))))","v":""},{"$f":"IF($J$6=\"OFF\",data!DI50,IF($J$6=\"26dB(A)\",data!DI51,IF($J$6=\"30dB(A)\",data!DI52,IF($J$6=\"MAX\",data!DI53,IF($J$6=\"n.a.\",data!DI51,\"\")))))","v":""},{"$f":"IF($J$6=\"OFF\",data!DJ50,IF($J$6=\"26dB(A)\",data!DJ51,IF($J$6=\"30dB(A)\",data!DJ52,IF($J$6=\"MAX\",data!DJ53,IF($J$6=\"n.a.\",data!DJ51,\"\")))))","v":""},{"$f":"IF($J$6=\"OFF\",data!DK50,IF($J$6=\"26dB(A)\",data!DK51,IF($J$6=\"30dB(A)\",data!DK52,IF($J$6=\"MAX\",data!DK53,IF($J$6=\"n.a.\",data!DK51,\"\")))))","v":""},{"$f":"IF($J$6=\"OFF\",data!DL50,IF($J$6=\"26dB(A)\",data!DL51,IF($J$6=\"30dB(A)\",data!DL52,IF($J$6=\"MAX\",data!DL53,IF($J$6=\"n.a.\",data!DL51,\"\")))))","v":""},{"$f":"IF($J$6=\"OFF\",data!DM50,IF($J$6=\"26dB(A)\",data!DM51,IF($J$6=\"30dB(A)\",data!DM52,IF($J$6=\"MAX\",data!DM53,IF($J$6=\"n.a.\",data!DM51,\"\")))))","v":""},{"$f":"IF($J$6=\"OFF\",data!DN50,IF($J$6=\"26dB(A)\",data!DN51,IF($J$6=\"30dB(A)\",data!DN52,IF($J$6=\"MAX\",data!DN53,IF($J$6=\"n.a.\",data!DN51,\"\")))))","v":""},{"$f":"IF($J$6=\"OFF\",data!DO50,IF($J$6=\"26dB(A)\",data!DO51,IF($J$6=\"30dB(A)\",data!DO52,IF($J$6=\"MAX\",data!DO53,IF($J$6=\"n.a.\",data!DO51,\"\")))))","v":""},{"$f":"IF($J$6=\"OFF\",data!DP50,IF($J$6=\"26dB(A)\",data!DP51,IF($J$6=\"30dB(A)\",data!DP52,IF($J$6=\"MAX\",data!DP53,IF($J$6=\"n.a.\",data!DP51,\"\")))))","v":""},{"$f":"IF($J$6=\"OFF\",data!DQ50,IF($J$6=\"26dB(A)\",data!DQ51,IF($J$6=\"30dB(A)\",data!DQ52,IF($J$6=\"MAX\",data!DQ53,IF($J$6=\"n.a.\",data!DQ51,\"\")))))","v":""}]
[null,175,175,{"$f":"IF($J$6=\"OFF\",data!DH54,IF($J$6=\"26dB(A)\",data!DH55,IF($J$6=\"30dB(A)\",data!DH56,IF($J$6=\"MAX\",data!DH57,IF($J$6=\"n.a.\",data!DH55,\"\")))))","v":""},{"$f":"IF($J$6=\"OFF\",data!DI54,IF($J$6=\"26dB(A)\",data!DI55,IF($J$6=\"30dB(A)\",data!DI56,IF($J$6=\"MAX\",data!DI57,IF($J$6=\"n.a.\",data!DI55,\"\")))))","v":""},{"$f":"IF($J$6=\"OFF\",data!DJ54,IF($J$6=\"26dB(A)\",data!DJ55,IF($J$6=\"30dB(A)\",data!DJ56,IF($J$6=\"MAX\",data!DJ57,IF($J$6=\"n.a.\",data!DJ55,\"\")))))","v":""},{"$f":"IF($J$6=\"OFF\",data!DK54,IF($J$6=\"26dB(A)\",data!DK55,IF($J$6=\"30dB(A)\",data!DK56,IF($J$6=\"MAX\",data!DK57,IF($J$6=\"n.a.\",data!DK55,\"\")))))","v":""},{"$f":"IF($J$6=\"OFF\",data!DL54,IF($J$6=\"26dB(A)\",data!DL55,IF($J$6=\"30dB(A)\",data!DL56,IF($J$6=\"MAX\",data!DL57,IF($J$6=\"n.a.\",data!DL55,\"\")))))","v":""},{"$f":"IF($J$6=\"OFF\",data!DM54,IF($J$6=\"26dB(A)\",data!DM55,IF($J$6=\"30dB(A)\",data!DM56,IF($J$6=\"MAX\",data!DM57,IF($J$6=\"n.a.\",data!DM55,\"\")))))","v":""},{"$f":"IF($J$6=\"OFF\",data!DN54,IF($J$6=\"26dB(A)\",data!DN55,IF($J$6=\"30dB(A)\",data!DN56,IF($J$6=\"MAX\",data!DN57,IF($J$6=\"n.a.\",data!DN55,\"\")))))","v":""},{"$f":"IF($J$6=\"OFF\",data!DO54,IF($J$6=\"26dB(A)\",data!DO55,IF($J$6=\"30dB(A)\",data!DO56,IF($J$6=\"MAX\",data!DO57,IF($J$6=\"n.a.\",data!DO55,\"\")))))","v":""},{"$f":"IF($J$6=\"OFF\",data!DP54,IF($J$6=\"26dB(A)\",data!DP55,IF($J$6=\"30dB(A)\",data!DP56,IF($J$6=\"MAX\",data!DP57,IF($J$6=\"n.a.\",data!DP55,\"\")))))","v":""},{"$f":"IF($J$6=\"OFF\",data!DQ54,IF($J$6=\"26dB(A)\",data!DQ55,IF($J$6=\"30dB(A)\",data!DQ56,IF($J$6=\"MAX\",data!DQ57,IF($J$6=\"n.a.\",data!DQ55,\"\")))))","v":""}]
[null,195,195,{"$f":"IF($J$6=\"OFF\",data!DH58,IF($J$6=\"26dB(A)\",data!DH59,IF($J$6=\"30dB(A)\",data!DH60,IF($J$6=\"MAX\",data!DH61,IF($J$6=\"n.a.\",data!DH59,\"\")))))","v":""},{"$f":"IF($J$6=\"OFF\",data!DI58,IF($J$6=\"26dB(A)\",data!DI59,IF($J$6=\"30dB(A)\",data!DI60,IF($J$6=\"MAX\",data!DI61,IF($J$6=\"n.a.\",data!DI59,\"\")))))","v":""},{"$f":"IF($J$6=\"OFF\",data!DJ58,IF($J$6=\"26dB(A)\",data!DJ59,IF($J$6=\"30dB(A)\",data!DJ60,IF($J$6=\"MAX\",data!DJ61,IF($J$6=\"n.a.\",data!DJ59,\"\")))))","v":""},{"$f":"IF($J$6=\"OFF\",data!DK58,IF($J$6=\"26dB(A)\",data!DK59,IF($J$6=\"30dB(A)\",data!DK60,IF($J$6=\"MAX\",data!DK61,IF($J$6=\"n.a.\",data!DK59,\"\")))))","v":""},{"$f":"IF($J$6=\"OFF\",data!DL58,IF($J$6=\"26dB(A)\",data!DL59,IF($J$6=\"30dB(A)\",data!DL60,IF($J$6=\"MAX\",data!DL61,IF($J$6=\"n.a.\",data!DL59,\"\")))))","v":""},{"$f":"IF($J$6=\"OFF\",data!DM58,IF($J$6=\"26dB(A)\",data!DM59,IF($J$6=\"30dB(A)\",data!DM60,IF($J$6=\"MAX\",data!DM61,IF($J$6=\"n.a.\",data!DM59,\"\")))))","v":""},{"$f":"IF($J$6=\"OFF\",data!DN58,IF($J$6=\"26dB(A)\",data!DN59,IF($J$6=\"30dB(A)\",data!DN60,IF($J$6=\"MAX\",data!DN61,IF($J$6=\"n.a.\",data!DN59,\"\")))))","v":""},{"$f":"IF($J$6=\"OFF\",data!DO58,IF($J$6=\"26dB(A)\",data!DO59,IF($J$6=\"30dB(A)\",data!DO60,IF($J$6=\"MAX\",data!DO61,IF($J$6=\"n.a.\",data!DO59,\"\")))))","v":""},{"$f":"IF($J$6=\"OFF\",data!DP58,IF($J$6=\"26dB(A)\",data!DP59,IF($J$6=\"30dB(A)\",data!DP60,IF($J$6=\"MAX\",data!DP61,IF($J$6=\"n.a.\",data!DP59,\"\")))))","v":""},{"$f":"IF($J$6=\"OFF\",data!DQ58,IF($J$6=\"26dB(A)\",data!DQ59,IF($J$6=\"30dB(A)\",data!DQ60,IF($J$6=\"MAX\",data!DQ61,IF($J$6=\"n.a.\",data!DQ59,\"\")))))","v":""}]
[null,215,215,{"$f":"IF($J$6=\"OFF\",data!DH62,IF($J$6=\"26dB(A)\",data!DH63,IF($J$6=\"30dB(A)\",data!DH64,IF($J$6=\"MAX\",data!DH65,IF($J$6=\"n.a.\",data!DH63,\"\")))))","v":""},{"$f":"IF($J$6=\"OFF\",data!DI62,IF($J$6=\"26dB(A)\",data!DI63,IF($J$6=\"30dB(A)\",data!DI64,IF($J$6=\"MAX\",data!DI65,IF($J$6=\"n.a.\",data!DI63,\"\")))))","v":""},{"$f":"IF($J$6=\"OFF\",data!DJ62,IF($J$6=\"26dB(A)\",data!DJ63,IF($J$6=\"30dB(A)\",data!DJ64,IF($J$6=\"MAX\",data!DJ65,IF($J$6=\"n.a.\",data!DJ63,\"\")))))","v":""},{"$f":"IF($J$6=\"OFF\",data!DK62,IF($J$6=\"26dB(A)\",data!DK63,IF($J$6=\"30dB(A)\",data!DK64,IF($J$6=\"MAX\",data!DK65,IF($J$6=\"n.a.\",data!DK63,\"\")))))","v":""},{"$f":"IF($J$6=\"OFF\",data!DL62,IF($J$6=\"26dB(A)\",data!DL63,IF($J$6=\"30dB(A)\",data!DL64,IF($J$6=\"MAX\",data!DL65,IF($J$6=\"n.a.\",data!DL63,\"\")))))","v":""},{"$f":"IF($J$6=\"OFF\",data!DM62,IF($J$6=\"26dB(A)\",data!DM63,IF($J$6=\"30dB(A)\",data!DM64,IF($J$6=\"MAX\",data!DM65,IF($J$6=\"n.a.\",data!DM63,\"\")))))","v":""},{"$f":"IF($J$6=\"OFF\",data!DN62,IF($J$6=\"26dB(A)\",data!DN63,IF($J$6=\"30dB(A)\",data!DN64,IF($J$6=\"MAX\",data!DN65,IF($J$6=\"n.a.\",data!DN63,\"\")))))","v":""},{"$f":"IF($J$6=\"OFF\",data!DO62,IF($J$6=\"26dB(A)\",data!DO63,IF($J$6=\"30dB(A)\",data!DO64,IF($J$6=\"MAX\",data!DO65,IF($J$6=\"n.a.\",data!DO63,\"\")))))","v":""},{"$f":"IF($J$6=\"OFF\",data!DP62,IF($J$6=\"26dB(A)\",data!DP63,IF($J$6=\"30dB(A)\",data!DP64,IF($J$6=\"MAX\",data!DP65,IF($J$6=\"n.a.\",data!DP63,\"\")))))","v":""},{"$f":"IF($J$6=\"OFF\",data!DQ62,IF($J$6=\"26dB(A)\",data!DQ63,IF($J$6=\"30dB(A)\",data!DQ64,IF($J$6=\"MAX\",data!DQ65,IF($J$6=\"n.a.\",data!DQ63,\"\")))))","v":""}]
[null,235,235,{"$f":"IF($J$6=\"OFF\",data!DH66,IF($J$6=\"26dB(A)\",data!DH67,IF($J$6=\"30dB(A)\",data!DH68,IF($J$6=\"MAX\",data!DH69,IF($J$6=\"n.a.\",data!DH67,\"\")))))","v":""},{"$f":"IF($J$6=\"OFF\",data!DI66,IF($J$6=\"26dB(A)\",data!DI67,IF($J$6=\"30dB(A)\",data!DI68,IF($J$6=\"MAX\",data!DI69,IF($J$6=\"n.a.\",data!DI67,\"\")))))","v":""},{"$f":"IF($J$6=\"OFF\",data!DJ66,IF($J$6=\"26dB(A)\",data!DJ67,IF($J$6=\"30dB(A)\",data!DJ68,IF($J$6=\"MAX\",data!DJ69,IF($J$6=\"n.a.\",data!DJ67,\"\")))))","v":""},{"$f":"IF($J$6=\"OFF\",data!DK66,IF($J$6=\"26dB(A)\",data!DK67,IF($J$6=\"30dB(A)\",data!DK68,IF($J$6=\"MAX\",data!DK69,IF($J$6=\"n.a.\",data!DK67,\"\")))))","v":""},{"$f":"IF($J$6=\"OFF\",data!DL66,IF($J$6=\"26dB(A)\",data!DL67,IF($J$6=\"30dB(A)\",data!DL68,IF($J$6=\"MAX\",data!DL69,IF($J$6=\"n.a.\",data!DL67,\"\")))))","v":""},{"$f":"IF($J$6=\"OFF\",data!DM66,IF($J$6=\"26dB(A)\",data!DM67,IF($J$6=\"30dB(A)\",data!DM68,IF($J$6=\"MAX\",data!DM69,IF($J$6=\"n.a.\",data!DM67,\"\")))))","v":""},{"$f":"IF($J$6=\"OFF\",data!DN66,IF($J$6=\"26dB(A)\",data!DN67,IF($J$6=\"30dB(A)\",data!DN68,IF($J$6=\"MAX\",data!DN69,IF($J$6=\"n.a.\",data!DN67,\"\")))))","v":""},{"$f":"IF($J$6=\"OFF\",data!DO66,IF($J$6=\"26dB(A)\",data!DO67,IF($J$6=\"30dB(A)\",data!DO68,IF($J$6=\"MAX\",data!DO69,IF($J$6=\"n.a.\",data!DO67,\"\")))))","v":""},{"$f":"IF($J$6=\"OFF\",data!DP66,IF($J$6=\"26dB(A)\",data!DP67,IF($J$6=\"30dB(A)\",data!DP68,IF($J$6=\"MAX\",data!DP69,IF($J$6=\"n.a.\",data!DP67,\"\")))))","v":""},{"$f":"IF($J$6=\"OFF\",data!DQ66,IF($J$6=\"26dB(A)\",data!DQ67,IF($J$6=\"30dB(A)\",data!DQ68,IF($J$6=\"MAX\",data!DQ69,IF($J$6=\"n.a.\",data!DQ67,\"\")))))","v":""}]
[null,{"$f":"IF($J$6=\"OFF\",data!DF70,IF($J$6=\"26dB(A)\",data!DF71,IF($J$6=\"30dB(A)\",data!DF72,IF($J$6=\"MAX\",data!DF73))))","v":false},null,{"$f":"IF($J$6=\"OFF\",data!DH70,IF($J$6=\"26dB(A)\",data!DH71,IF($J$6=\"30dB(A)\",data!DH72,IF($J$6=\"MAX\",data!DH73,IF($J$6=\"n.a.\",data!DH71,\"\")))))","v":""},{"$f":"IF($J$6=\"OFF\",data!DI70,IF($J$6=\"26dB(A)\",data!DI71,IF($J$6=\"30dB(A)\",data!DI72,IF($J$6=\"MAX\",data!DI73,IF($J$6=\"n.a.\",data!DI71,\"\")))))","v":""},{"$f":"IF($J$6=\"OFF\",data!DJ70,IF($J$6=\"26dB(A)\",data!DJ71,IF($J$6=\"30dB(A)\",data!DJ72,IF($J$6=\"MAX\",data!DJ73,IF($J$6=\"n.a.\",data!DJ71,\"\")))))","v":""},{"$f":"IF($J$6=\"OFF\",data!DK70,IF($J$6=\"26dB(A)\",data!DK71,IF($J$6=\"30dB(A)\",data!DK72,IF($J$6=\"MAX\",data!DK73,IF($J$6=\"n.a.\",data!DK71,\"\")))))","v":""},{"$f":"IF($J$6=\"OFF\",data!DL70,IF($J$6=\"26dB(A)\",data!DL71,IF($J$6=\"30dB(A)\",data!DL72,IF($J$6=\"MAX\",data!DL73,IF($J$6=\"n.a.\",data!DL71,\"\")))))","v":""},{"$f":"IF($J$6=\"OFF\",data!DM70,IF($J$6=\"26dB(A)\",data!DM71,IF($J$6=\"30dB(A)\",data!DM72,IF($J$6=\"MAX\",data!DM73,IF($J$6=\"n.a.\",data!DM71,\"\")))))","v":""},{"$f":"IF($J$6=\"OFF\",data!DN70,IF($J$6=\"26dB(A)\",data!DN71,IF($J$6=\"30dB(A)\",data!DN72,IF($J$6=\"MAX\",data!DN73,IF($J$6=\"n.a.\",data!DN71,\"\")))))","v":""},{"$f":"IF($J$6=\"OFF\",data!DO70,IF($J$6=\"26dB(A)\",data!DO71,IF($J$6=\"30dB(A)\",data!DO72,IF($J$6=\"MAX\",data!DO73,IF($J$6=\"n.a.\",data!DO71,\"\")))))","v":""},{"$f":"IF($J$6=\"OFF\",data!DP70,IF($J$6=\"26dB(A)\",data!DP71,IF($J$6=\"30dB(A)\",data!DP72,IF($J$6=\"MAX\",data!DP73,IF($J$6=\"n.a.\",data!DP71,\"\")))))","v":""},{"$f":"IF($J$6=\"OFF\",data!DQ70,IF($J$6=\"26dB(A)\",data!DQ71,IF($J$6=\"30dB(A)\",data!DQ72,IF($J$6=\"MAX\",data!DQ73,IF($J$6=\"n.a.\",data!DQ71,\"\")))))","v":""}]
[null,{"$f":"IF($J$6=\"OFF\",data!DF74,IF($J$6=\"26dB(A)\",data!DF75,IF($J$6=\"30dB(A)\",data!DF76,IF($J$6=\"MAX\",data!DF77))))","v":false},null,{"$f":"IF($J$6=\"OFF\",data!DH74,IF($J$6=\"26dB(A)\",data!DH75,IF($J$6=\"30dB(A)\",data!DH76,IF($J$6=\"MAX\",data!DH77))))","v":false},{"$f":"IF($J$6=\"OFF\",data!DI74,IF($J$6=\"26dB(A)\",data!DI75,IF($J$6=\"30dB(A)\",data!DI76,IF($J$6=\"MAX\",data!DI77))))","v":false},{"$f":"IF($J$6=\"OFF\",data!DJ74,IF($J$6=\"26dB(A)\",data!DJ75,IF($J$6=\"30dB(A)\",data!DJ76,IF($J$6=\"MAX\",data!DJ77))))","v":false},{"$f":"IF($J$6=\"OFF\",data!DK74,IF($J$6=\"26dB(A)\",data!DK75,IF($J$6=\"30dB(A)\",data!DK76,IF($J$6=\"MAX\",data!DK77))))","v":false},{"$f":"IF($J$6=\"OFF\",data!DL74,IF($J$6=\"26dB(A)\",data!DL75,IF($J$6=\"30dB(A)\",data!DL76,IF($J$6=\"MAX\",data!DL77))))","v":false},{"$f":"IF($J$6=\"OFF\",data!DM74,IF($J$6=\"26dB(A)\",data!DM75,IF($J$6=\"30dB(A)\",data!DM76,IF($J$6=\"MAX\",data!DM77))))","v":false},{"$f":"IF($J$6=\"OFF\",data!DN74,IF($J$6=\"26dB(A)\",data!DN75,IF($J$6=\"30dB(A)\",data!DN76,IF($J$6=\"MAX\",data!DN77))))","v":false},{"$f":"IF($J$6=\"OFF\",data!DO74,IF($J$6=\"26dB(A)\",data!DO75,IF($J$6=\"30dB(A)\",data!DO76,IF($J$6=\"MAX\",data!DO77))))","v":false},{"$f":"IF($J$6=\"OFF\",data!DP74,IF($J$6=\"26dB(A)\",data!DP75,IF($J$6=\"30dB(A)\",data!DP76,IF($J$6=\"MAX\",data!DP77))))","v":false},{"$f":"IF($J$6=\"OFF\",data!DQ74,IF($J$6=\"26dB(A)\",data!DQ75,IF($J$6=\"30dB(A)\",data!DQ76,IF($J$6=\"MAX\",data!DQ77))))","v":false}]
[null,{"$f":"IF($J$6=\"OFF\",data!DF78,IF($J$6=\"26dB(A)\",data!DF79,IF($J$6=\"30dB(A)\",data!DF80,IF($J$6=\"MAX\",data!DF81))))","v":false},null,{"$f":"IF($J$6=\"OFF\",data!DH78,IF($J$6=\"26dB(A)\",data!DH79,IF($J$6=\"30dB(A)\",data!DH80,IF($J$6=\"MAX\",data!DH81))))","v":false},{"$f":"IF($J$6=\"OFF\",data!DI78,IF($J$6=\"26dB(A)\",data!DI79,IF($J$6=\"30dB(A)\",data!DI80,IF($J$6=\"MAX\",data!DI81))))","v":false},{"$f":"IF($J$6=\"OFF\",data!DJ78,IF($J$6=\"26dB(A)\",data!DJ79,IF($J$6=\"30dB(A)\",data!DJ80,IF($J$6=\"MAX\",data!DJ81))))","v":false},{"$f":"IF($J$6=\"OFF\",data!DK78,IF($J$6=\"26dB(A)\",data!DK79,IF($J$6=\"30dB(A)\",data!DK80,IF($J$6=\"MAX\",data!DK81))))","v":false},{"$f":"IF($J$6=\"OFF\",data!DL78,IF($J$6=\"26dB(A)\",data!DL79,IF($J$6=\"30dB(A)\",data!DL80,IF($J$6=\"MAX\",data!DL81))))","v":false},{"$f":"IF($J$6=\"OFF\",data!DM78,IF($J$6=\"26dB(A)\",data!DM79,IF($J$6=\"30dB(A)\",data!DM80,IF($J$6=\"MAX\",data!DM81))))","v":false},{"$f":"IF($J$6=\"OFF\",data!DN78,IF($J$6=\"26dB(A)\",data!DN79,IF($J$6=\"30dB(A)\",data!DN80,IF($J$6=\"MAX\",data!DN81))))","v":false},{"$f":"IF($J$6=\"OFF\",data!DO78,IF($J$6=\"26dB(A)\",data!DO79,IF($J$6=\"30dB(A)\",data!DO80,IF($J$6=\"MAX\",data!DO81))))","v":false},{"$f":"IF($J$6=\"OFF\",data!DP78,IF($J$6=\"26dB(A)\",data!DP79,IF($J$6=\"30dB(A)\",data!DP80,IF($J$6=\"MAX\",data!DP81))))","v":false},{"$f":"IF($J$6=\"OFF\",data!DQ78,IF($J$6=\"26dB(A)\",data!DQ79,IF($J$6=\"30dB(A)\",data!DQ80,IF($J$6=\"MAX\",data!DQ81))))","v":false}]
[null,{"$f":"IF($J$6=\"OFF\",data!DF82,IF($J$6=\"26dB(A)\",data!DF83,IF($J$6=\"30dB(A)\",data!DF84,IF($J$6=\"MAX\",data!DF85))))","v":false},null,{"$f":"IF($J$6=\"OFF\",data!DH82,IF($J$6=\"26dB(A)\",data!DH83,IF($J$6=\"30dB(A)\",data!DH84,IF($J$6=\"MAX\",data!DH85))))","v":false},{"$f":"IF($J$6=\"OFF\",data!DI82,IF($J$6=\"26dB(A)\",data!DI83,IF($J$6=\"30dB(A)\",data!DI84,IF($J$6=\"MAX\",data!DI85))))","v":false},{"$f":"IF($J$6=\"OFF\",data!DJ82,IF($J$6=\"26dB(A)\",data!DJ83,IF($J$6=\"30dB(A)\",data!DJ84,IF($J$6=\"MAX\",data!DJ85))))","v":false},{"$f":"IF($J$6=\"OFF\",data!DK82,IF($J$6=\"26dB(A)\",data!DK83,IF($J$6=\"30dB(A)\",data!DK84,IF($J$6=\"MAX\",data!DK85))))","v":false},{"$f":"IF($J$6=\"OFF\",data!DL82,IF($J$6=\"26dB(A)\",data!DL83,IF($J$6=\"30dB(A)\",data!DL84,IF($J$6=\"MAX\",data!DL85))))","v":false},{"$f":"IF($J$6=\"OFF\",data!DM82,IF($J$6=\"26dB(A)\",data!DM83,IF($J$6=\"30dB(A)\",data!DM84,IF($J$6=\"MAX\",data!DM85))))","v":false},{"$f":"IF($J$6=\"OFF\",data!DN82,IF($J$6=\"26dB(A)\",data!DN83,IF($J$6=\"30dB(A)\",data!DN84,IF($J$6=\"MAX\",data!DN85))))","v":false},{"$f":"IF($J$6=\"OFF\",data!DO82,IF($J$6=\"26dB(A)\",data!DO83,IF($J$6=\"30dB(A)\",data!DO84,IF($J$6=\"MAX\",data!DO85))))","v":false},{"$f":"IF($J$6=\"OFF\",data!DP82,IF($J$6=\"26dB(A)\",data!DP83,IF($J$6=\"30dB(A)\",data!DP84,IF($J$6=\"MAX\",data!DP85))))","v":false},{"$f":"IF($J$6=\"OFF\",data!DQ82,IF($J$6=\"26dB(A)\",data!DQ83,IF($J$6=\"30dB(A)\",data!DQ84,IF($J$6=\"MAX\",data!DQ85))))","v":false}]
[{"$nulls":12},"v2025-11-04"]
[null,"*",{"$f":"IF(data!$CC$17=1,NL!E6,IF(data!$CC$17=2,EN!E6,IF(data!$CC$17=3,FR!E6,IF(data!$CC$17=4,DE!E6,IF(data!$CC$17=5,NR!E6,IF(data!$CC$17=6,SP!E6,IF(data!$CC$17=7,SW!E6,IF(data!$CC$17=8,TS!E6,IF(data!$CC$17=9,ExtraTaal1!E6,IF(data!$CC$17=10,ExtraTaal2!E6,IF(data!$CC$17=11,ExtraTaal3!E6,)))))))))))","v":"If the fans are switched off, the output is an indicative value."}]
[null,"**",{"$f":"IF(data!$CC$17=1,NL!B20,IF(data!$CC$17=2,EN!B20,IF(data!$CC$17=3,FR!B20,IF(data!$CC$17=4,DE!B20,IF(data!$CC$17=5,NR!B20,IF(data!$CC$17=6,SP!B20,IF(data!$CC$17=7,SW!B20,IF(data!$CC$17=8,TS!B20,IF(data!$CC$17=9,ExtraTaal1!B20,IF(data!$CC$17=10,ExtraTaal2!B20,IF(data!$CC$17=11,ExtraTaal3!B20,)))))))))))","v":"Cooling power is calcullated according EN16430 with fans blowing up for all heights."}]
[null,"***",{"$f":"IF($J$4=data!$CC$3,NL!B21,IF($J$4=data!$CC$4,EN!B21,IF($J$4=data!$CC$5,FR!B21,IF($J$4=data!$CC$6,DE!B21,IF($J$4=data!$CC$7,NR!B21,IF($J$4=data!$CC$8,SP!B21,IF($J$4=data!$CC$9,SW!B21,)))))))","v":"When the water volume is given in gallons, the units are specifically imperial gallons."}]
[null,"****",{"$f":"IF(data!$CC$17=1,NL!B22,IF(data!$CC$17=2,EN!B22,IF(data!$CC$17=3,FR!B22,IF(data!$CC$17=4,DE!B22,IF(data!$CC$17=5,NR!B22,IF(data!$CC$17=6,SP!B22,IF(data!$CC$17=7,SW!B22,IF(data!$CC$17=8,TS!B22,IF(data!$CC$17=9,ExtraTaal1!B22,IF(data!$CC$17=10,ExtraTaal2!B22,IF(data!$CC$17=11,ExtraTaal3!B22,)))))))))))","v":"Soundpower according to ISO 3741:2010, sound pressure level with assumed room damping of 8 dB(A)."}]

{"sheet":"data","index":1,"n_rows":614,"n_cols":121,"rows_kept":614,"hidden":true,"merged":[[0,85,0,87],[0,88,0,90],[0,91,0,93],[0,94,0,96],[0,97,0,99],[0,100,0,102],[0,103,0,105],[1,79,1,83],[1,109,1,118],[3,113,3,116],[3,117,3,118],[3,119,3,120],[4,109,4,110],[4,113,4,116],[4,117,4,118],[5,113,5,116],[6,116,7,117],[6,118,7,118],[6,119,7,119],[6,120,7,120],[9,109,9,111],[9,114,9,116],[9,119,9,120],[10,109,10,111],[10,114,10,116],[10,119,13,120],[11,109,11,111],[11,114,11,116],[12,114,12,116],[16,109,16,120],[21,94,21,96],[21,97,21,99],[25,66,25,68],[25,69,25,71],[25,73,25,75],[25,76,25,77],[69,92,69,103],[70,92,70,93],[70,94,70,95],[70,96,70,97],[70,98,70,99],[70,100,70,101],[70,102,70,103],[101,91,101,96],[105,91,105,96],[109,91,109,96],[113,91,113,96],[2678,84,2681,84],[2678,85,2681,85],[2678,86,2681,86],[2678,87,2681,87]]}
[{"$f":"+CONCATENATE($A$2,\"_L\")","v":"Ecoreviva_L"},{"$nulls":11},"heating","Ti",{"$f":"IF($BZ$2=1,$P1,IF($BZ$2=2,(P1-32)/1.8,))","v":35},{"$f":"EcoReviva!E10","v":35},{"$nulls":20},"cooling","Ti",{"$f":"IF($BZ$2=1,$AN1,IF($BZ$2=2,($AN1-32)/1.8,))","v":16},{"$f":"EcoReviva!J10","v":16},null,"RH",{"$f":"EcoReviva!J13","v":{"v":0.5,"d":"50%"}},{"$nulls":3},"RH",{"$nulls":24},"DBH rail",{"$f":"IF($CC$17=1,\"GEEN\",IF($CC$17=2,\"NONE\",IF($CC$17=3,\"NONE\",IF($CC$17=4,\"NONE\",IF($CC$17=5,\"NONE\",)))))","v":"NONE"},10,15,null,null,"Imperial/SI",null,"toestel","taal","lengte","hoogte","type",{"$nulls":4},"Ecoreviva Hybrid",null,null,"Ecoreviva"]
[{"$f":"IF(EcoReviva!$J$5=data!$CH$1,data!$CA$6,IF(EcoReviva!$J$5=data!$CK$1,data!$CA$3,IF(EcoReviva!$J$5=data!$CN$1,data!$CA$4,IF(EcoReviva!$J$5=data!$CQ$1,data!$CA$5,IF(EcoReviva!$J$5=data!$CW$1,data!$CA$7,IF(EcoReviva!$J$5=data!$CZ$1,data!$CA$8))))))","v":"Ecoreviva"},{"$nulls":12},"Tr",{"$f":"IF($BZ$2=1,$P2,IF($BZ$2=2,(P2-32)/1.8,))","v":30},{"$f":"EcoReviva!E11","v":30},{"$nulls":21},"Tr",{"$f":"IF($BZ$2=1,$AN2,IF($BZ$2=2,($AN2-32)/1.8,))","v":18.000000000000004},{"$f":"EcoReviva!J11","v":{"v":18.000000000000004,"d":"18"}},{"$nulls":25},{"$f":"IF(OR(EcoReviva!$L$6=10,EcoReviva!$L$6=15,EcoReviva!$L$6=20),1,IF(EcoReviva!$K$6<51,1,(1-(EcoReviva!$K$6-50)*0.005)))","v":1},{"$nulls":5},1,{"$nulls":5},1,null,"Geselecteerd",{"$nulls":5},"factor voor hoogtes aanpassing bij hybrids",null,null,"hoogte","lengte","type","hoogte","lengte","type",{"$nulls":15},{"$f":"IF(data!$CC$17=7,\"Effektsimulering Hybridmodeller\",\"Selectiontool LowH2O Hybrids\")","v":"Selectiontool LowH2O Hybrids"}]
[{"$f":"+CONCATENATE($A$2,\"_T\")","v":"Ecoreviva_T"},{"$nulls":12},"Ta",{"$f":"IF($BZ$2=1,$P3,IF($BZ$2=2,(P3-32)/1.8,))","v":20},{"$f":"EcoReviva!E12","v":20},{"$nulls":21},"Ta",{"$f":"IF($BZ$2=1,$AN3,IF($BZ$2=2,($AN3-32)/1.8,))","v":26.999999999999996},{"$f":"EcoReviva!J12","v":{"v":26.999999999999996,"d":"27"}},{"$nulls":37},1,"Ecoreviva",{"$f":"CK1","v":"Ecoreviva Hybrid"},"Nederlands",55,{"$f":"IF($CB$9=1,CK3,IF($CB$9=2,CN3,IF($CB$9=3,CQ3,IF($CB$9=4,CH3,IF($CB$9=5,CW3)))))","v":40},10,{"$nulls":4},40,55,11,40,55,10]
["kolomindex",2,3,4,5,6,7,8,9,10,11,12,13,14,15,16,17,18,19,20,21,22,23,24,25,26,27,28,29,30,31,32,33,34,35,36,37,38,39,40,41,42,43,44,45,46,47,48,49,50,51,52,53,54,55,56,57,58,59,60,61,62,63,64,65,66,67,68,69,70,71,72,73,74,75,76,77,null,"Linea",{"$f":"CN1","v":"Ecoreviva"},"English",65,{"$f":"IF($CB$9=1,CK4,IF($CB$9=2,CN4,IF($CB$9=3,CQ4,IF($CB$9=4,CH4,IF($CB$9=5,CW4)))))","v":45},11,{"$nulls":4},45,65,16,45,65,15,{"$nulls":19},"Taal/Language/Sprache/Langue/Språk/Lengua",{"$nulls":3},{"$f":"EcoReviva!J4","v":"English"},{"$f":"EcoReviva!K4","v":0}]
[{"$f":"CONCATENATE($CB$9,IF($CB$9=2,EcoReviva!$K$6,50),$CD3,EcoReviva!$L$6)","v":"15055"},null,null,{"$f":"VLOOKUP($A5,$A$28:$BY$1500,D$4,0)","v":{"$error":"#N/A"}},{"$f":"VLOOKUP($A5,$A$28:$BY$1500,E$4,0)","v":{"$error":"#N/A"}},{"$f":"VLOOKUP($A5,$A$28:$BY$1500,F$4,0)","v":{"$error":"#N/A"}},{"$f":"VLOOKUP($A5,$A$28:$BY$1500,G$4,0)","v":{"$error":"#N/A"}},{"$f":"VLOOKUP($A5,$A$28:$BY$1500,H$4,0)","v":{"$error":"#N/A"}},{"$error":"#N/A"},{"$error":"#N/A"},{"$error":"#N/A"},{"$error":"#N/A"},{"$f":"VLOOKUP($A5,$A$28:$BY$1500,M$4,0)","v":{"$error":"#N/A"}},{"$f":"VLOOKUP($A5,$A$28:$BY$1500,N$4,0)","v":{"$error":"#N/A"}},{"$error":"#N/A"},{"$error":"#N/A"},{"$error":"#N/A"},{"$error":"#N/A"},{"$error":"#N/A"},{"$error":"#N/A"},{"$f":"VLOOKUP($A5,$A$28:$BY$1500,U$4,0)*IF(EcoReviva!$J$5=data!$CB$8,0.9,1)","v":{"$error":"#N/A"}},{"$error":"#N/A"},{"$error":"#N/A"},{"$f":"VLOOKUP($A5,$A$28:$BY$1500,X$4,0)","v":{"$error":"#N/A"}},{"$error":"#N/A"},{"$error":"#N/A"},{"$error":"#N/A"},{"$error":"#N/A"},{"$error":"#N/A"},{"$error":"#N/A"},{"$error":"#N/A"},{"$error":"#N/A"},{"$error":"#N/A"},{"$f":"VLOOKUP($A5,$A$28:$BY$1500,AH$4,0)","v":{"$error":"#N/A"}},{"$error":"#N/A"},{"$error":"#N/A"},{"$error":"#N/A"},{"$error":"#N/A"},{"$error":"#N/A"},{"$error":"#N/A"},{"$error":"#N/A"},{"$error":"#N/A"},{"$error":"#N/A"},{"$f":"VLOOKUP($A5,$A$28:$BY$1500,AR$4,0)","v":{"$error":"#N/A"}},{"$error":"#N/A"},{"$error":"#N/A"},{"$error":"#N/A"},{"$error":"#N/A"},{"$error":"#N/A"},{"$error":"#N/A"},{"$error":"#N/A"},{"$error":"#N/A"},{"$error":"#N/A"},{"$f":"VLOOKUP($A5,$A$28:$BY$1500,BB$4,0)","v":{"$error":"#N/A"}},{"$error":"#N/A"},{"$error":"#N/A"},{"$error":"#N/A"},{"$error":"#N/A"},{"$error":"#N/A"},{"$error":"#N/A"},{"$error":"#N/A"},{"$error":"#N/A"},{"$error":"#N/A"},{"$f":"VLOOKUP($A5,$A$28:$BY$1500,BL$4,0)","v":{"$error":"#N/A"}},{"$error":"#N/A"},{"$error":"#N/A"},{"$error":"#N/A"},{"$error":"#N/A"},{"$error":"#N/A"},{"$error":"#N/A"},{"$error":"#N/A"},{"$error":"#N/A"},{"$error":"#N/A"},{"$error":"#N/A"},{"$error":"#N/A"},{"$error":"#N/A"},{"$error":"#N/A"},null,"Tempo",{"$f":"CQ1","v":0},"Français",75,50,15,{"$nulls":4},50,75,21,50,75,20,{"$nulls":19},{"$f":"IF($J$4=data!$CC$3,NL!DJ4,IF($J$4=data!$CC$4,EN!DJ4,IF($J$4=data!$CC$5,FR!DJ4,IF($J$4=data!$CC$6,DE!DJ4,IF($J$4=data!$CC$7,NR!DJ4,IF($J$4=data!$CC$8,SP!DJ4,IF($J$4=data!$CC$9,SW!DJ4,)))))))","v":0},{"$nulls":3},{"$f":"EcoReviva!J5","v":"Ecoreviva Hybrid"},{"$f":"EcoReviva!K5","v":0}]
[{"$f":"CONCATENATE($CB$9,IF($CB$9=2,EcoReviva!$K$6,50),$CD4,EcoReviva!$L$6)","v":"15065"},null,null,{"$error":"#N/A"},{"$error":"#N/A"},{"$error":"#N/A"},{"$error":"#N/A"},{"$error":"#N/A"},{"$error":"#N/A"},{"$error":"#N/A"},{"$error":"#N/A"},{"$error":"#N/A"},{"$error":"#N/A"},{"$error":"#N/A"},{"$error":"#N/A"},{"$error":"#N/A"},{"$error":"#N/A"},{"$error":"#N/A"},{"$error":"#N/A"},{"$error":"#N/A"},{"$f":"VLOOKUP($A6,$A$28:$BY$1500,U$4,0)*IF(EcoReviva!$J$5=data!$CB$8,0.9,1)","v":{"$error":"#N/A"}},{"$error":"#N/A"},{"$error":"#N/A"},{"$error":"#N/A"},{"$error":"#N/A"},{"$error":"#N/A"},{"$error":"#N/A"},{"$error":"#N/A"},{"$error":"#N/A"},{"$error":"#N/A"},{"$error":"#N/A"},{"$error":"#N/A"},{"$error":"#N/A"},{"$error":"#N/A"},{"$error":"#N/A"},{"$error":"#N/A"},{"$error":"#N/A"},{"$error":"#N/A"},{"$error":"#N/A"},{"$error":"#N/A"},{"$error":"#N/A"},{"$error":"#N/A"},{"$error":"#N/A"},{"$error":"#N/A"},{"$error":"#N/A"},{"$error":"#N/A"},{"$error":"#N/A"},{"$error":"#N/A"},{"$error":"#N/A"},{"$error":"#N/A"},{"$error":"#N/A"},{"$error":"#N/A"},{"$error":"#N/A"},{"$error":"#N/A"},{"$error":"#N/A"},{"$error":"#N/A"},{"$error":"#N/A"},{"$error":"#N/A"},{"$error":"#N/A"},{"$error":"#N/A"},{"$error":"#N/A"},{"$error":"#N/A"},{"$error":"#N/A"},{"$error":"#N/A"},{"$error":"#N/A"},{"$error":"#N/A"},{"$error":"#N/A"},{"$error":"#N/A"},{"$error":"#N/A"},{"$error":"#N/A"},{"$error":"#N/A"},{"$error":"#N/A"},{"$error":"#N/A"},{"$error":"#N/A"},{"$error":"#N/A"},{"$error":"#N/A"},{"$error":"#N/A"},null,"Built_in",{"$f":"CH1","v":0},"Deutsch",85,55,16,{"$nulls":4},55,85,null,55,85,{"$nulls":20},{"$f":"IF($J$4=data!$CC$3,NL!DI4,IF($J$4=data!$CC$4,EN!DI4,IF($J$4=data!$CC$5,FR!DI4,IF($J$4=data!$CC$6,DE!DI4,IF($J$4=data!$CC$7,NR!DI4,IF($J$4=data!$CC$8,SP!DI4,IF($J$4=data!$CC$9,SW!DI4,)))))))&\" [centimeter]\"","v":" [centimeter]"},{"$nulls":3},{"$f":"EcoReviva!J6","v":0},{"$f":"EcoReviva!K6","v":0},{"$f":"EcoReviva!L6","v":0},{"$f":"data!DL6","v":0}]
[{"$f":"CONCATENATE($CB$9,IF($CB$9=2,EcoReviva!$K$6,50),$CD5,EcoReviva!$L$6)","v":"15075"},null,null,{"$error":"#N/A"},{"$error":"#N/A"},{"$error":"#N/A"},{"$error":"#N/A"},{"$error":"#N/A"},{"$error":"#N/A"},{"$error":"#N/A"},{"$error":"#N/A"},{"$error":"#N/A"},{"$error":"#N/A"},{"$error":"#N/A"},{"$error":"#N/A"},{"$error":"#N/A"},{"$error":"#N/A"},{"$error":"#N/A"},{"$error":"#N/A"},{"$error":"#N/A"},{"$f":"VLOOKUP($A7,$A$28:$BY$1500,U$4,0)*IF(EcoReviva!$J$5=data!$CB$8,0.9,1)","v":{"$error":"#N/A"}},{"$error":"#N/A"},{"$error":"#N/A"},{"$error":"#N/A"},{"$error":"#N/A"},{"$error":"#N/A"},{"$error":"#N/A"},{"$error":"#N/A"},{"$error":"#N/A"},{"$error":"#N/A"},{"$error":"#N/A"},{"$error":"#N/A"},{"$error":"#N/A"},{"$error":"#N/A"},{"$error":"#N/A"},{"$error":"#N/A"},{"$error":"#N/A"},{"$error":"#N/A"},{"$error":"#N/A"},{"$error":"#N/A"},{"$error":"#N/A"},{"$error":"#N/A"},{"$error":"#N/A"},{"$error":"#N/A"},{"$error":"#N/A"},{"$error":"#N/A"},{"$error":"#N/A"},{"$error":"#N/A"},{"$error":"#N/A"},{"$error":"#N/A"},{"$error":"#N/A"},{"$error":"#N/A"},{"$error":"#N/A"},{"$error":"#N/A"},{"$error":"#N/A"},{"$error":"#N/A"},{"$error":"#N/A"},{"$error":"#N/A"},{"$error":"#N/A"},{"$error":"#N/A"},{"$error":"#N/A"},{"$error":"#N/A"},{"$error":"#N/A"},{"$error":"#N/A"},{"$error":"#N/A"},{"$error":"#N/A"},{"$error":"#N/A"},{"$error":"#N/A"},{"$error":"#N/A"},{"$error":"#N/A"},{"$error":"#N/A"},{"$error":"#N/A"},{"$error":"#N/A"},{"$error":"#N/A"},{"$error":"#N/A"},{"$error":"#N/A"},{"$error":"#N/A"},null,"MiniHybrid","Mini Hybrid","Norsk",95,60,20,{"$nulls":4},60,95,null,60,95,{"$nulls":21},{"$f":"IF($J$4=data!$CC$3,NL!DF3,IF($J$4=data!$CC$4,EN!DF3,IF($J$4=data!$CC$5,FR!DF3,IF($J$4=data!$CC$6,DE!DF3,IF($J$4=data!$CC$7,NR!DF3,IF($J$4=data!$CC$8,SP!DF3,IF($J$4=data!$CC$9,SW!DF3,)))))))","v":0},null,{"$f":"IF($J$4=data!$CC$3,NL!DF16,IF($J$4=data!$CC$4,EN!DF16,IF($J$4=data!$CC$5,FR!DF16,IF($J$4=data!$CC$6,DE!DF16,IF($J$4=data!$CC$7,NR!DF16,IF($J$4=data!$CC$8,SP!DF16,IF($J$4=data!$CC$9,SW!DF16,)))))))","v":0},null,{"$f":"IF($J$4=data!$CC$3,NL!DF4,IF($J$4=data!$CC$4,EN!DF4,IF($J$4=data!$CC$5,FR!DF4,IF($J$4=data!$CC$6,DE!DF4,IF($J$4=data!$CC$7,NR!DF4,IF($J$4=data!$CC$8,SP!DF4,IF($J$4=data!$CC$9,SW!DF4,)))))))","v":0},{"$f":"IF($J$4=data!$CC$3,NL!DF5,IF($J$4=data!$CC$4,EN!DF5,IF($J$4=data!$CC$5,FR!DF5,IF($J$4=data!$CC$6,DE!DF5,IF($J$4=data!$CC$7,NR!DF5,IF($J$4=data!$CC$8,SP!DF5,IF($J$4=data!$CC$9,SW!DF5,)))))))","v":0},{"$f":"IF($J$4=data!$CC$3,NL!DF6,IF($J$4=data!$CC$4,EN!DF6,IF($J$4=data!$CC$5,FR!DF6,IF($J$4=data!$CC$6,DE!DF6,IF($J$4=data!$CC$7,NR!DF6,IF($J$4=data!$CC$8,SP!DF6,IF($J$4=data!$CC$9,SW!DF6,)))))))","v":0}]
[{"$f":"CONCATENATE($CB$9,IF($CB$9=2,EcoReviva!$K$6,50),$CD6,EcoReviva!$L$6)","v":"15085"},null,null,{"$error":"#N/A"},{"$error":"#N/A"},{"$error":"#N/A"},{"$error":"#N/A"},{"$error":"#N/A"},{"$error":"#N/A"},{"$error":"#N/A"},{"$error":"#N/A"},{"$error":"#N/A"},{"$error":"#N/A"},{"$error":"#N/A"},{"$error":"#N/A"},{"$error":"#N/A"},{"$error":"#N/A"},{"$error":"#N/A"},{"$error":"#N/A"},{"$error":"#N/A"},{"$f":"VLOOKUP($A8,$A$28:$BY$1500,U$4,0)*IF(EcoReviva!$J$5=data!$CB$8,0.9,1)","v":{"$error":"#N/A"}},{"$error":"#N/A"},{"$error":"#N/A"},{"$error":"#N/A"},{"$error":"#N/A"},{"$error":"#N/A"},{"$error":"#N/A"},{"$error":"#N/A"},{"$error":"#N/A"},{"$error":"#N/A"},{"$error":"#N/A"},{"$error":"#N/A"},{"$error":"#N/A"},{"$error":"#N/A"},{"$error":"#N/A"},{"$error":"#N/A"},{"$error":"#N/A"},{"$error":"#N/A"},{"$error":"#N/A"},{"$error":"#N/A"},{"$error":"#N/A"},{"$error":"#N/A"},{"$error":"#N/A"},{"$error":"#N/A"},{"$error":"#N/A"},{"$error":"#N/A"},{"$error":"#N/A"},{"$error":"#N/A"},{"$error":"#N/A"},{"$error":"#N/A"},{"$error":"#N/A"},{"$error":"#N/A"},{"$error":"#N/A"},{"$error":"#N/A"},{"$error":"#N/A"},{"$error":"#N/A"},{"$error":"#N/A"},{"$error":"#N/A"},{"$error":"#N/A"},{"$error":"#N/A"},{"$error":"#N/A"},{"$error":"#N/A"},{"$error":"#N/A"},{"$error":"#N/A"},{"$error":"#N/A"},{"$error":"#N/A"},{"$error":"#N/A"},{"$error":"#N/A"},{"$error":"#N/A"},{"$error":"#N/A"},{"$error":"#N/A"},{"$error":"#N/A"},{"$error":"#N/A"},{"$error":"#N/A"},{"$error":"#N/A"},{"$error":"#N/A"},{"$error":"#N/A"},null,"StradaMM","Strada Hybrid MM","Español",105,65,21,{"$nulls":4},65,105,null,65,105,{"$nulls":16},{"$f":"IF($J$4=data!$CC$3,NL!DI5,IF($J$4=data!$CC$4,EN!DI5,IF($J$4=data!$CC$5,FR!DI5,IF($J$4=data!$CC$6,DE!DI5,IF($J$4=data!$CC$7,NR!DI5,IF($J$4=data!$CC$8,SP!DI5,IF($J$4=data!$CC$9,SW!DI5,)))))))","v":0}]
[{"$f":"CONCATENATE($CB$9,IF($CB$9=2,EcoReviva!$K$6,50),$CD7,EcoReviva!$L$6)","v":"15095"},null,null,{"$error":"#N/A"},{"$error":"#N/A"},{"$error":"#N/A"},{"$error":"#N/A"},{"$error":"#N/A"},{"$error":"#N/A"},{"$error":"#N/A"},{"$error":"#N/A"},{"$error":"#N/A"},{"$error":"#N/A"},{"$error":"#N/A"},{"$error":"#N/A"},{"$error":"#N/A"},{"$error":"#N/A"},{"$error":"#N/A"},{"$error":"#N/A"},{"$error":"#N/A"},{"$f":"VLOOKUP($A9,$A$28:$BY$1500,U$4,0)*IF(EcoReviva!$J$5=data!$CB$8,0.9,1)","v":{"$error":"#N/A"}},{"$error":"#N/A"},{"$error":"#N/A"},{"$error":"#N/A"},{"$error":"#N/A"},{"$error":"#N/A"},{"$error":"#N/A"},{"$error":"#N/A"},{"$error":"#N/A"},{"$error":"#N/A"},{"$error":"#N/A"},{"$error":"#N/A"},{"$error":"#N/A"},{"$error":"#N/A"},{"$error":"#N/A"},{"$error":"#N/A"},{"$error":"#N/A"},{"$error":"#N/A"},{"$error":"#N/A"},{"$error":"#N/A"},{"$error":"#N/A"},{"$error":"#N/A"},{"$error":"#N/A"},{"$error":"#N/A"},{"$error":"#N/A"},{"$error":"#N/A"},{"$error":"#N/A"},{"$error":"#N/A"},{"$error":"#N/A"},{"$error":"#N/A"},{"$error":"#N/A"},{"$error":"#N/A"},{"$error":"#N/A"},{"$error":"#N/A"},{"$error":"#N/A"},{"$error":"#N/A"},{"$error":"#N/A"},{"$error":"#N/A"},{"$error":"#N/A"},{"$error":"#N/A"},{"$error":"#N/A"},{"$error":"#N/A"},{"$error":"#N/A"},{"$error":"#N/A"},{"$error":"#N/A"},{"$error":"#N/A"},{"$error":"#N/A"},{"$error":"#N/A"},{"$error":"#N/A"},{"$error":"#N/A"},{"$error":"#N/A"},{"$error":"#N/A"},{"$error":"#N/A"},{"$error":"#N/A"},{"$error":"#N/A"},{"$error":"#N/A"},{"$error":"#N/A"},null,{"$f":"IF(#REF!=data!CA3,1,IF(#REF!=data!CA4,2,IF(#REF!=data!CA5,3,IF(#REF!=data!CA6,3))))","v":{"$error":"#REF!"}},{"$f":"IF(EcoReviva!$J$5=data!CB3,1,IF(EcoReviva!$J$5=data!CB4,2,IF(EcoReviva!$J$5=data!CB5,3,IF(EcoReviva!$J$5=data!CB6,3,IF(EcoReviva!$J$5=data!CB7,5,IF(EcoReviva!$J$5=data!CB8,1))))))","v":1},"Svenska",115,70,{"$nulls":5},70,115,null,70,115,{"$nulls":16},{"$f":"IF($J$4=data!$CC$3,NL!DF8,IF($J$4=data!$CC$4,EN!DF8,IF($J$4=data!$CC$5,FR!DF8,IF($J$4=data!$CC$6,DE!DF8,IF($J$4=data!$CC$7,NR!DF8,IF($J$4=data!$CC$8,SP!DF8,IF($J$4=data!$CC$9,SW!DF8,)))))))","v":0},{"$nulls":4},{"$f":"IF($J$4=data!$CC$3,NL!DK8,IF($J$4=data!$CC$4,EN!DK8,IF($J$4=data!$CC$5,FR!DK8,IF($J$4=data!$CC$6,DE!DK8,IF($J$4=data!$CC$7,NR!DK8,IF($J$4=data!$CC$8,SP!DK8,IF($J$4=data!$CC$9,SW!DK8,)))))))","v":0}]
[{"$f":"CONCATENATE($CB$9,IF($CB$9=2,EcoReviva!$K$6,50),$CD8,EcoReviva!$L$6)","v":"150105"},null,null,{"$error":"#N/A"},{"$error":"#N/A"},{"$error":"#N/A"},{"$error":"#N/A"},{"$error":"#N/A"},{"$error":"#N/A"},{"$error":"#N/A"},{"$error":"#N/A"},{"$error":"#N/A"},{"$error":"#N/A"},{"$error":"#N/A"},{"$error":"#N/A"},{"$error":"#N/A"},{"$error":"#N/A"},{"$error":"#N/A"},{"$error":"#N/A"},{"$error":"#N/A"},{"$f":"VLOOKUP($A10,$A$28:$BY$1500,U$4,0)*IF(EcoReviva!$J$5=data!$CB$8,0.9,1)","v":{"$error":"#N/A"}},{"$error":"#N/A"},{"$error":"#N/A"},{"$error":"#N/A"},{"$error":"#N/A"},{"$error":"#N/A"},{"$error":"#N/A"},{"$error":"#N/A"},{"$error":"#N/A"},{"$error":"#N/A"},{"$error":"#N/A"},{"$error":"#N/A"},{"$error":"#N/A"},{"$error":"#N/A"},{"$error":"#N/A"},{"$error":"#N/A"},{"$error":"#N/A"},{"$error":"#N/A"},{"$error":"#N/A"},{"$error":"#N/A"},{"$error":"#N/A"},{"$error":"#N/A"},{"$error":"#N/A"},{"$error":"#N/A"},{"$error":"#N/A"},{"$error":"#N/A"},{"$error":"#N/A"},{"$error":"#N/A"},{"$error":"#N/A"},{"$error":"#N/A"},{"$error":"#N/A"},{"$error":"#N/A"},{"$error":"#N/A"},{"$error":"#N/A"},{"$error":"#N/A"},{"$error":"#N/A"},{"$error":"#N/A"},{"$error":"#N/A"},{"$error":"#N/A"},{"$error":"#N/A"},{"$error":"#N/A"},{"$error":"#N/A"},{"$error":"#N/A"},{"$error":"#N/A"},{"$error":"#N/A"},{"$error":"#N/A"},{"$error":"#N/A"},{"$error":"#N/A"},{"$error":"#N/A"},{"$error":"#N/A"},{"$error":"#N/A"},{"$error":"#N/A"},{"$error":"#N/A"},{"$error":"#N/A"},{"$error":"#N/A"},{"$error":"#N/A"},{"$error":"#N/A"},null,"W/m,beript dyn heat","W/m,beript dyn cool","Čeština",135,75,{"$nulls":5},75,135,null,75,135,{"$nulls":16},{"$f":"IF($J$4=data!$CC$3,NL!DF9,IF($J$4=data!$CC$4,EN!DF9,IF($J$4=data!$CC$5,FR!DF9,IF($J$4=data!$CC$6,DE!DF9,IF($J$4=data!$CC$7,NR!DF9,IF($J$4=data!$CC$8,SP!DF9,IF($J$4=data!$CC$9,SW!DF9,)))))))","v":0},0,0,{"$f":"EcoReviva!E10","v":35},{"$f":"IF(data!$BZ$2=1,\"°C\",IF(data!$BZ$2=2,\"°F\",))","v":"°C"},{"$f":"DF10","v":0},0,0,{"$f":"EcoReviva!J10","v":16},{"$f":"DJ10","v":"°C"},{"$f":"IF($J$4=data!$CC$3,NL!DK4,IF($J$4=data!$CC$4,EN!DK4,IF($J$4=data!$CC$5,FR!DK4,IF($J$4=data!$CC$6,DE!DK4,IF($J$4=data!$CC$7,NR!DK4,IF($J$4=data!$CC$8,SP!DK4,IF($J$4=data!$CC$9,SW!DK4,)))))))","v":0}]
[{"$f":"CONCATENATE($CB$9,IF($CB$9=2,EcoReviva!$K$6,50),$CD9,EcoReviva!$L$6)","v":"150115"},null,null,{"$error":"#N/A"},{"$error":"#N/A"},{"$error":"#N/A"},{"$error":"#N/A"},{"$error":"#N/A"},{"$error":"#N/A"},{"$error":"#N/A"},{"$error":"#N/A"},{"$error":"#N/A"},{"$error":"#N/A"},{"$error":"#N/A"},{"$error":"#N/A"},{"$error":"#N/A"},{"$error":"#N/A"},{"$error":"#N/A"},{"$error":"#N/A"},{"$error":"#N/A"},{"$f":"VLOOKUP($A11,$A$28:$BY$1500,U$4,0)*IF(EcoReviva!$J$5=data!$CB$8,0.9,1)","v":{"$error":"#N/A"}},{"$error":"#N/A"},{"$error":"#N/A"},{"$error":"#N/A"},{"$error":"#N/A"},{"$error":"#N/A"},{"$error":"#N/A"},{"$error":"#N/A"},{"$error":"#N/A"},{"$error":"#N/A"},{"$error":"#N/A"},{"$error":"#N/A"},{"$error":"#N/A"},{"$error":"#N/A"},{"$error":"#N/A"},{"$error":"#N/A"},{"$error":"#N/A"},{"$error":"#N/A"},{"$error":"#N/A"},{"$error":"#N/A"},{"$error":"#N/A"},{"$error":"#N/A"},{"$error":"#N/A"},{"$error":"#N/A"},{"$error":"#N/A"},{"$error":"#N/A"},{"$error":"#N/A"},{"$error":"#N/A"},{"$error":"#N/A"},{"$error":"#N/A"},{"$error":"#N/A"},{"$error":"#N/A"},{"$error":"#N/A"},{"$error":"#N/A"},{"$error":"#N/A"},{"$error":"#N/A"},{"$error":"#N/A"},{"$error":"#N/A"},{"$error":"#N/A"},{"$error":"#N/A"},{"$error":"#N/A"},{"$error":"#N/A"},{"$error":"#N/A"},{"$error":"#N/A"},{"$error":"#N/A"},{"$error":"#N/A"},{"$error":"#N/A"},{"$error":"#N/A"},{"$error":"#N/A"},{"$error":"#N/A"},{"$error":"#N/A"},{"$error":"#N/A"},{"$error":"#N/A"},{"$error":"#N/A"},{"$error":"#N/A"},{"$error":"#N/A"},{"$error":"#N/A"},null,null,{"$f":"IF(EcoReviva!$J$5=data!CB3,1,IF(EcoReviva!$J$5=data!CB4,2,IF(EcoReviva!$J$5=data!CB5,3,IF(EcoReviva!$J$5=data!CB6,3,IF(EcoReviva!$J$5=data!CB7,5,IF(EcoReviva!$J$5=data!CB8,6))))))","v":1},"ExtraTaal1",155,80,{"$nulls":5},80,155,null,80,155,{"$nulls":16},{"$f":"IF($J$4=data!$CC$3,NL!DF10,IF($J$4=data!$CC$4,EN!DF10,IF($J$4=data!$CC$5,FR!DF10,IF($J$4=data!$CC$6,DE!DF10,IF($J$4=data!$CC$7,NR!DF10,IF($J$4=data!$CC$8,SP!DF10,IF($J$4=data!$CC$9,SW!DF10,)))))))","v":0},0,0,{"$f":"EcoReviva!E11","v":30},{"$f":"DJ10","v":"°C"},{"$f":"DF11","v":0},0,0,{"$f":"EcoReviva!J11","v":{"v":18.000000000000004,"d":"18"}},{"$f":"DJ10","v":"°C"}]
[{"$f":"CONCATENATE($CB$9,IF($CB$9=2,EcoReviva!$K$6,50),$CD10,EcoReviva!$L$6)","v":"150135"},null,null,{"$error":"#N/A"},{"$error":"#N/A"},{"$error":"#N/A"},{"$error":"#N/A"},{"$error":"#N/A"},{"$error":"#N/A"},{"$error":"#N/A"},{"$error":"#N/A"},{"$error":"#N/A"},{"$error":"#N/A"},{"$error":"#N/A"},{"$error":"#N/A"},{"$error":"#N/A"},{"$error":"#N/A"},{"$error":"#N/A"},{"$error":"#N/A"},{"$error":"#N/A"},{"$f":"VLOOKUP($A12,$A$28:$BY$1500,U$4,0)*IF(EcoReviva!$J$5=data!$CB$8,0.9,1)","v":{"$error":"#N/A"}},{"$error":"#N/A"},{"$error":"#N/A"},{"$error":"#N/A"},{"$error":"#N/A"},{"$error":"#N/A"},{"$error":"#N/A"},{"$error":"#N/A"},{"$error":"#N/A"},{"$error":"#N/A"},{"$error":"#N/A"},{"$error":"#N/A"},{"$error":"#N/A"},{"$error":"#N/A"},{"$error":"#N/A"},{"$error":"#N/A"},{"$error":"#N/A"},{"$error":"#N/A"},{"$error":"#N/A"},{"$error":"#N/A"},{"$error":"#N/A"},{"$error":"#N/A"},{"$error":"#N/A"},{"$error":"#N/A"},{"$error":"#N/A"},{"$error":"#N/A"},{"$error":"#N/A"},{"$error":"#N/A"},{"$error":"#N/A"},{"$error":"#N/A"},{"$error":"#N/A"},{"$error":"#N/A"},{"$error":"#N/A"},{"$error":"#N/A"},{"$error":"#N/A"},{"$error":"#N/A"},{"$error":"#N/A"},{"$error":"#N/A"},{"$error":"#N/A"},{"$error":"#N/A"},{"$error":"#N/A"},{"$error":"#N/A"},{"$error":"#N/A"},{"$error":"#N/A"},{"$error":"#N/A"},{"$error":"#N/A"},{"$error":"#N/A"},{"$error":"#N/A"},{"$error":"#N/A"},{"$error":"#N/A"},{"$error":"#N/A"},{"$error":"#N/A"},{"$error":"#N/A"},{"$error":"#N/A"},{"$error":"#N/A"},{"$error":"#N/A"},{"$error":"#N/A"},null,"OFF",null,"ExtraTaal2",175,85,{"$nulls":5},85,175,null,85,175,{"$nulls":16},{"$f":"IF($J$4=data!$CC$3,NL!DF11,IF($J$4=data!$CC$4,EN!DF11,IF($J$4=data!$CC$5,FR!DF11,IF($J$4=data!$CC$6,DE!DF11,IF($J$4=data!$CC$7,NR!DF11,IF($J$4=data!$CC$8,SP!DF11,IF($J$4=data!$CC$9,SW!DF11,)))))))","v":0},0,0,{"$f":"EcoReviva!E12","v":20},{"$f":"DJ10","v":"°C"},{"$f":"DF12","v":0},0,0,{"$f":"EcoReviva!J12","v":{"v":26.999999999999996,"d":"27"}},{"$f":"DJ10","v":"°C"}]
[{"$f":"CONCATENATE($CB$9,IF($CB$9=2,EcoReviva!$K$6,50),$CD11,EcoReviva!$L$6)","v":"150155"},null,null,{"$error":"#N/A"},{"$error":"#N/A"},{"$error":"#N/A"},{"$error":"#N/A"},{"$error":"#N/A"},{"$error":"#N/A"},{"$error":"#N/A"},{"$error":"#N/A"},{"$error":"#N/A"},{"$error":"#N/A"},{"$error":"#N/A"},{"$error":"#N/A"},{"$error":"#N/A"},{"$error":"#N/A"},{"$error":"#N/A"},{"$error":"#N/A"},{"$error":"#N/A"},{"$f":"VLOOKUP($A13,$A$28:$BY$1500,U$4,0)*IF(EcoReviva!$J$5=data!$CB$8,0.9,1)","v":{"$error":"#N/A"}},{"$error":"#N/A"},{"$error":"#N/A"},{"$error":"#N/A"},{"$error":"#N/A"},{"$error":"#N/A"},{"$error":"#N/A"},{"$error":"#N/A"},{"$error":"#N/A"},{"$error":"#N/A"},{"$error":"#N/A"},{"$error":"#N/A"},{"$error":"#N/A"},{"$error":"#N/A"},{"$error":"#N/A"},{"$error":"#N/A"},{"$error":"#N/A"},{"$error":"#N/A"},{"$error":"#N/A"},{"$error":"#N/A"},{"$error":"#N/A"},{"$error":"#N/A"},{"$error":"#N/A"},{"$error":"#N/A"},{"$error":"#N/A"},{"$error":"#N/A"},{"$error":"#N/A"},{"$error":"#N/A"},{"$error":"#N/A"},{"$error":"#N/A"},{"$error":"#N/A"},{"$error":"#N/A"},{"$error":"#N/A"},{"$error":"#N/A"},{"$error":"#N/A"},{"$error":"#N/A"},{"$error":"#N/A"},{"$error":"#N/A"},{"$error":"#N/A"},{"$error":"#N/A"},{"$error":"#N/A"},{"$error":"#N/A"},{"$error":"#N/A"},{"$error":"#N/A"},{"$error":"#N/A"},{"$error":"#N/A"},{"$error":"#N/A"},{"$error":"#N/A"},{"$error":"#N/A"},{"$error":"#N/A"},{"$error":"#N/A"},{"$error":"#N/A"},{"$error":"#N/A"},{"$error":"#N/A"},{"$error":"#N/A"},{"$error":"#N/A"},{"$error":"#N/A"},{"$f":"IF($CB$9=1,CA13,\"n.a.\")","v":"26dB(A)"},"26dB(A)",null,"ExtraTaal3",195,90,{"$f":"IF($CC$17=1,NL!$I3,IF($CC$17=2,EN!$I3,IF($CC$17=3,FR!$I3,IF($CC$17=4,DE!$I3,IF($CC$17=5,NR!$I3,IF($CC$17=6,SP!$I3,IF($CC$17=7,SW!$I3,IF($CC$17=8,TS!$I3,IF($CC$17=9,ExtraTaal1!$I3,IF($CC$17=10,ExtraTaal2!$I3,IF($CC$17=11,ExtraTaal3!$I3,)))))))))))","v":"Copy all data"},{"$nulls":4},90,195,null,90,195,{"$nulls":21},{"$f":"IF($J$4=data!$CC$3,NL!$G$3,IF($J$4=data!$CC$4,EN!$G$3,IF($J$4=data!$CC$5,FR!$G$3,IF($J$4=data!$CC$6,DE!$G$3,IF($J$4=data!$CC$7,NR!$G$3,IF($J$4=data!$CC$8,SP!$G$3,IF($J$4=data!$CC$9,SW!$G$3,)))))))","v":0},null,null,{"$f":"EcoReviva!J13","v":{"v":0.5,"d":"50%"}}]
[{"$f":"CONCATENATE($CB$9,IF($CB$9=2,EcoReviva!$K$6,50),$CD12,EcoReviva!$L$6)","v":"150175"},null,null,{"$error":"#N/A"},{"$error":"#N/A"},{"$error":"#N/A"},{"$error":"#N/A"},{"$error":"#N/A"},{"$error":"#N/A"},{"$error":"#N/A"},{"$error":"#N/A"},{"$error":"#N/A"},{"$error":"#N/A"},{"$error":"#N/A"},{"$error":"#N/A"},{"$error":"#N/A"},{"$error":"#N/A"},{"$error":"#N/A"},{"$error":"#N/A"},{"$error":"#N/A"},{"$f":"VLOOKUP($A14,$A$28:$BY$1500,U$4,0)*IF(EcoReviva!$J$5=data!$CB$8,0.9,1)","v":{"$error":"#N/A"}},{"$error":"#N/A"},{"$error":"#N/A"},{"$error":"#N/A"},{"$error":"#N/A"},{"$error":"#N/A"},{"$error":"#N/A"},{"$error":"#N/A"},{"$error":"#N/A"},{"$error":"#N/A"},{"$error":"#N/A"},{"$error":"#N/A"},{"$error":"#N/A"},{"$error":"#N/A"},{"$error":"#N/A"},{"$error":"#N/A"},{"$error":"#N/A"},{"$error":"#N/A"},{"$error":"#N/A"},{"$error":"#N/A"},{"$error":"#N/A"},{"$error":"#N/A"},{"$error":"#N/A"},{"$error":"#N/A"},{"$error":"#N/A"},{"$error":"#N/A"},{"$error":"#N/A"},{"$error":"#N/A"},{"$error":"#N/A"},{"$error":"#N/A"},{"$error":"#N/A"},{"$error":"#N/A"},{"$error":"#N/A"},{"$error":"#N/A"},{"$error":"#N/A"},{"$error":"#N/A"},{"$error":"#N/A"},{"$error":"#N/A"},{"$error":"#N/A"},{"$error":"#N/A"},{"$error":"#N/A"},{"$error":"#N/A"},{"$error":"#N/A"},{"$error":"#N/A"},{"$error":"#N/A"},{"$error":"#N/A"},{"$error":"#N/A"},{"$error":"#N/A"},{"$error":"#N/A"},{"$error":"#N/A"},{"$error":"#N/A"},{"$error":"#N/A"},{"$error":"#N/A"},{"$error":"#N/A"},{"$error":"#N/A"},{"$error":"#N/A"},{"$error":"#N/A"},{"$f":"IF($CB$9=1,CA14,\"n.a.\")","v":"30dB(A)"},"30dB(A)",null,null,215,95,{"$f":"IF($CC$17=1,NL!$I4,IF($CC$17=2,EN!$I4,IF($CC$17=3,FR!$I4,IF($CC$17=4,DE!$I4,IF($CC$17=5,NR!$I4,IF($CC$17=6,SP!$I4,IF($CC$17=7,SW!$I4,IF($CC$17=8,TS!$I4,IF($CC$17=9,ExtraTaal1!$I4,IF($CC$17=10,ExtraTaal2!$I4,IF($CC$17=11,ExtraTaal3!$I4,)))))))))))","v":"SI-units"},{"$nulls":4},95,215,null,95,215]
[{"$f":"CONCATENATE($CB$9,IF($CB$9=2,EcoReviva!$K$6,50),$CD13,EcoReviva!$L$6)","v":"150195"},null,null,{"$f":"VLOOKUP($A15,$A$28:$BY$1500,D$4,0)","v":{"$error":"#N/A"}},{"$error":"#N/A"},{"$error":"#N/A"},{"$error":"#N/A"},{"$error":"#N/A"},{"$error":"#N/A"},{"$error":"#N/A"},{"$error":"#N/A"},{"$error":"#N/A"},{"$error":"#N/A"},{"$f":"VLOOKUP($A15,$A$28:$BY$1500,N$4,0)","v":{"$error":"#N/A"}},{"$error":"#N/A"},{"$error":"#N/A"},{"$error":"#N/A"},{"$error":"#N/A"},{"$error":"#N/A"},{"$error":"#N/A"},{"$f":"VLOOKUP($A15,$A$28:$BY$1500,U$4,0)*IF(EcoReviva!$J$5=data!$CB$8,0.9,1)","v":{"$error":"#N/A"}},{"$error":"#N/A"},{"$error":"#N/A"},{"$f":"VLOOKUP($A15,$A$28:$BY$1500,X$4,0)","v":{"$error":"#N/A"}},{"$error":"#N/A"},{"$error":"#N/A"},{"$error":"#N/A"},{"$error":"#N/A"},{"$error":"#N/A"},{"$error":"#N/A"},{"$error":"#N/A"},{"$error":"#N/A"},{"$error":"#N/A"},{"$f":"VLOOKUP($A15,$A$28:$BY$1500,AH$4,0)","v":{"$error":"#N/A"}},{"$error":"#N/A"},{"$error":"#N/A"},{"$error":"#N/A"},{"$error":"#N/A"},{"$error":"#N/A"},{"$error":"#N/A"},{"$error":"#N/A"},{"$error":"#N/A"},{"$error":"#N/A"},{"$f":"VLOOKUP($A15,$A$28:$BY$1500,AR$4,0)","v":{"$error":"#N/A"}},{"$error":"#N/A"},{"$error":"#N/A"},{"$error":"#N/A"},{"$error":"#N/A"},{"$error":"#N/A"},{"$error":"#N/A"},{"$error":"#N/A"},{"$error":"#N/A"},{"$error":"#N/A"},{"$f":"VLOOKUP($A15,$A$28:$BY$1500,BB$4,0)","v":{"$error":"#N/A"}},{"$error":"#N/A"},{"$error":"#N/A"},{"$error":"#N/A"},{"$error":"#N/A"},{"$error":"#N/A"},{"$error":"#N/A"},{"$error":"#N/A"},{"$error":"#N/A"},{"$error":"#N/A"},{"$f":"VLOOKUP($A15,$A$28:$BY$1500,BL$4,0)","v":{"$error":"#N/A"}},{"$error":"#N/A"},{"$error":"#N/A"},{"$error":"#N/A"},{"$error":"#N/A"},{"$error":"#N/A"},{"$error":"#N/A"},{"$error":"#N/A"},{"$error":"#N/A"},{"$error":"#N/A"},{"$error":"#N/A"},{"$error":"#N/A"},{"$error":"#N/A"},{"$error":"#N/A"},"MAX","MAX",null,null,235,100,{"$f":"IF($CC$17=1,NL!$I5,IF($CC$17=2,EN!$I5,IF($CC$17=3,FR!$I5,IF($CC$17=4,DE!$I5,IF($CC$17=5,NR!$I5,IF($CC$17=6,SP!$I5,IF($CC$17=7,SW!$I5,IF($CC$17=8,TS!$I5,IF($CC$17=9,ExtraTaal1!$I5,IF($CC$17=10,ExtraTaal2!$I5,IF($CC$17=11,ExtraTaal3!$I5,)))))))))))","v":"Imperial-units"},{"$nulls":4},100,235,null,100,235]
[{"$f":"CONCATENATE($CB$9,IF($CB$9=2,EcoReviva!$K$6,50),$CD14,EcoReviva!$L$6)","v":"150215"},null,null,{"$error":"#N/A"},{"$error":"#N/A"},{"$error":"#N/A"},{"$error":"#N/A"},{"$error":"#N/A"},{"$error":"#N/A"},{"$error":"#N/A"},{"$error":"#N/A"},{"$error":"#N/A"},{"$error":"#N/A"},{"$error":"#N/A"},{"$error":"#N/A"},{"$error":"#N/A"},{"$error":"#N/A"},{"$error":"#N/A"},{"$error":"#N/A"},{"$error":"#N/A"},{"$f":"VLOOKUP($A16,$A$28:$BY$1500,U$4,0)*IF(EcoReviva!$J$5=data!$CB$8,0.9,1)","v":{"$error":"#N/A"}},{"$error":"#N/A"},{"$error":"#N/A"},{"$error":"#N/A"},{"$error":"#N/A"},{"$error":"#N/A"},{"$error":"#N/A"},{"$error":"#N/A"},{"$error":"#N/A"},{"$error":"#N/A"},{"$error":"#N/A"},{"$error":"#N/A"},{"$error":"#N/A"},{"$error":"#N/A"},{"$error":"#N/A"},{"$error":"#N/A"},{"$error":"#N/A"},{"$error":"#N/A"},{"$error":"#N/A"},{"$error":"#N/A"},{"$error":"#N/A"},{"$error":"#N/A"},{"$error":"#N/A"},{"$error":"#N/A"},{"$error":"#N/A"},{"$error":"#N/A"},{"$error":"#N/A"},{"$error":"#N/A"},{"$error":"#N/A"},{"$error":"#N/A"},{"$error":"#N/A"},{"$error":"#N/A"},{"$error":"#N/A"},{"$error":"#N/A"},{"$error":"#N/A"},{"$error":"#N/A"},{"$error":"#N/A"},{"$error":"#N/A"},{"$error":"#N/A"},{"$error":"#N/A"},{"$error":"#N/A"},{"$error":"#N/A"},{"$error":"#N/A"},{"$error":"#N/A"},{"$error":"#N/A"},{"$error":"#N/A"},{"$error":"#N/A"},{"$error":"#N/A"},{"$error":"#N/A"},{"$error":"#N/A"},{"$error":"#N/A"},{"$error":"#N/A"},{"$error":"#N/A"},{"$error":"#N/A"},{"$error":"#N/A"},{"$error":"#N/A"},{"$error":"#N/A"},{"$f":"IF(CB9=2,\"n.a.\",dropdownstand)","v":"26dB(A)"},{"$nulls":31},{"$f":"IF($J$4=data!$CC$3,NL!DF3,IF($J$4=data!$CC$4,EN!DF3,IF($J$4=data!$CC$5,FR!DF3,IF($J$4=data!$CC$6,DE!DF3,IF($J$4=data!$CC$7,NR!DF3,IF($J$4=data!$CC$8,SP!DF3,IF($J$4=data!$CC$9,SW!DF3,)))))))&\" [cm]\"","v":" [cm]"},{"$f":"IF($J$4=data!$CC$3,NL!DF19,IF($J$4=data!$CC$4,EN!DF19,IF($J$4=data!$CC$5,FR!DF19,IF($J$4=data!$CC$6,DE!DF19,IF($J$4=data!$CC$7,NR!DF19,IF($J$4=data!$CC$8,SP!DF19,IF($J$4=data!$CC$9,SW!DF19,)))))))","v":0},{"$f":"IF($J$4=data!$CC$3,NL!DG14,IF($J$4=data!$CC$4,EN!DG14,IF($J$4=data!$CC$5,FR!DG14,IF($J$4=data!$CC$6,DE!DG14,IF($J$4=data!$CC$7,NR!DG14,IF($J$4=data!$CC$8,SP!DG14,IF($J$4=data!$CC$9,SW!DG14,)))))))&IF(data!GD2=1,\" [W]\",IF(data!GD2=2,\" [Btu/h]\",))","v":""},{"$f":"IF($J$4=data!$CC$3,NL!DH14,IF($J$4=data!$CC$4,EN!DH14,IF($J$4=data!$CC$5,FR!DH14,IF($J$4=data!$CC$6,DE!DH14,IF($J$4=data!$CC$7,NR!DH14,IF($J$4=data!$CC$8,SP!DH14,IF($J$4=data!$CC$9,SW!DH14,)))))))&IF(data!GD2=1,\" [kg/h]\",IF(data!GD2=2,\" [GPM]**\",))","v":""},{"$f":"IF($J$4=data!$CC$3,NL!DJ6,IF($J$4=data!$CC$4,EN!DJ6,IF($J$4=data!$CC$5,FR!DJ6,IF($J$4=data!$CC$6,DE!DJ6,IF($J$4=data!$CC$7,NR!DJ6,IF($J$4=data!$CC$8,SP!DJ6,IF($J$4=data!$CC$9,SW!DJ6,)))))))&\" [\"&IF(data!GD2=1,\"kPa\",IF(data!GD2=2,\"ftH2O\"))&\"]\"","v":" [ONWAAR]"},{"$f":"IF($J$4=data!$CC$3,NL!DI14,IF($J$4=data!$CC$4,EN!DI14,IF($J$4=data!$CC$5,FR!DI14,IF($J$4=data!$CC$6,DE!DI14,IF($J$4=data!$CC$7,NR!DI14,IF($J$4=data!$CC$8,SP!DI14,IF($J$4=data!$CC$9,SW!DI14,)))))))&IF(data!GD2=1,\" [W]*\",IF(data!GD2=2,\" [Btu/h]*\",))","v":""},{"$f":"DI16","v":""},{"$f":"DJ16","v":" [ONWAAR]"},{"$f":"IF($J$4=data!$CC$3,NL!DM13,IF($J$4=data!$CC$4,EN!DM13,IF($J$4=data!$CC$5,FR!DM13,IF($J$4=data!$CC$6,DE!DM13,IF($J$4=data!$CC$7,NR!DM13,IF($J$4=data!$CC$8,SP!DM13,IF($J$4=data!$CC$9,SW!DM13,)))))))","v":0},{"$f":"IF($J$4=data!$CC$3,NL!DN13,IF($J$4=data!$CC$4,EN!DN13,IF($J$4=data!$CC$5,FR!DN13,IF($J$4=data!$CC$6,DE!DN13,IF($J$4=data!$CC$7,NR!DN13,IF($J$4=data!$CC$9,SW!DN13,))))))","v":0},{"$f":"IF($J$4=data!$CC$3,NL!DL13,IF($J$4=data!$CC$4,EN!DL13,IF($J$4=data!$CC$5,FR!DL13,IF($J$4=data!$CC$6,DE!DL13,IF($J$4=data!$CC$7,NR!DL13,IF($J$4=data!$CC$8,SP!DL13,IF($J$4=data!$CC$9,SW!DL13,)))))))","v":0},{"$f":"IF($J$4=data!$CC$3,NL!DK13,IF($J$4=data!$CC$4,EN!DK13,IF($J$4=data!$CC$5,FR!DK13,IF($J$4=data!$CC$6,DE!DK13,IF($J$4=data!$CC$7,NR!DK13,IF($J$4=data!$CC$8,SP!DK13,IF($J$4=data!$CC$9,SW!DK13,)))))))&IF(data!GD2=1,\" [l]\",IF(data!GD2=2,\" [Gal]**\",))","v":""}]
[{"$f":"CONCATENATE($CB$9,IF($CB$9=2,EcoReviva!$K$6,50),$CD15,EcoReviva!$L$6)","v":"150235"},null,null,{"$error":"#N/A"},{"$error":"#N/A"},{"$error":"#N/A"},{"$error":"#N/A"},{"$error":"#N/A"},{"$error":"#N/A"},{"$error":"#N/A"},{"$error":"#N/A"},{"$error":"#N/A"},{"$error":"#N/A"},{"$error":"#N/A"},{"$error":"#N/A"},{"$error":"#N/A"},{"$error":"#N/A"},{"$error":"#N/A"},{"$error":"#N/A"},{"$error":"#N/A"},{"$f":"VLOOKUP($A17,$A$28:$BY$1500,U$4,0)*IF(EcoReviva!$J$5=data!$CB$8,0.9,1)","v":{"$error":"#N/A"}},{"$error":"#N/A"},{"$error":"#N/A"},{"$error":"#N/A"},{"$error":"#N/A"},{"$error":"#N/A"},{"$error":"#N/A"},{"$error":"#N/A"},{"$error":"#N/A"},{"$error":"#N/A"},{"$error":"#N/A"},{"$error":"#N/A"},{"$error":"#N/A"},{"$error":"#N/A"},{"$error":"#N/A"},{"$error":"#N/A"},{"$error":"#N/A"},{"$error":"#N/A"},{"$error":"#N/A"},{"$error":"#N/A"},{"$error":"#N/A"},{"$error":"#N/A"},{"$error":"#N/A"},{"$error":"#N/A"},{"$error":"#N/A"},{"$error":"#N/A"},{"$error":"#N/A"},{"$error":"#N/A"},{"$error":"#N/A"},{"$error":"#N/A"},{"$error":"#N/A"},{"$error":"#N/A"},{"$error":"#N/A"},{"$error":"#N/A"},{"$error":"#N/A"},{"$error":"#N/A"},{"$error":"#N/A"},{"$error":"#N/A"},{"$error":"#N/A"},{"$error":"#N/A"},{"$error":"#N/A"},{"$error":"#N/A"},{"$error":"#N/A"},{"$error":"#N/A"},{"$error":"#N/A"},{"$error":"#N/A"},{"$error":"#N/A"},{"$error":"#N/A"},{"$error":"#N/A"},{"$error":"#N/A"},{"$error":"#N/A"},{"$error":"#N/A"},{"$error":"#N/A"},{"$error":"#N/A"},{"$error":"#N/A"},{"$error":"#N/A"},{"$error":"#N/A"},"30dB(A)",null,null,{"$f":"IF(EcoReviva!$J$4=data!CC3,1,IF(EcoReviva!$J$4=data!CC4,2,IF(EcoReviva!$J$4=data!CC5,3,IF(EcoReviva!$J$4=data!CC6,4,IF(EcoReviva!$J$4=data!CC7,5,IF(EcoReviva!$J$4=data!CC8,6,IF(EcoReviva!$J$4=data!CC9,7,IF(EcoReviva!$J$4=data!CC10,8,IF(EcoReviva!$J$4=data!CC11,9,IF(EcoReviva!$J$4=data!CC12,10,IF(EcoReviva!$J$4=data!CC13,11)))))))))))","v":2},{"$nulls":28},{"$f":"CONCATENATE($J$5,\", \",$K$7, \" \",$K$6,\"cm, \",$L$7, \" \",$L$6)","v":{"$error":"#N/A"}},0,0,0,0,0,0,0,0,0,0,0]
[{"$nulls":77},"MAX",{"$nulls":31},55,{"$f":"BJ5","v":{"$error":"#N/A"}},{"$f":"ROUND(IF($BZ$2=1,U5,IF($BZ$2=2,U5*3.412141633,)),0)","v":{"$error":"#N/A"}},{"$f":"IF($BZ$2=1,ROUND(Y5,0),IF($BZ$2=2,ROUND(Y5/272.7654,1),))","v":{"$error":"#N/A"}},{"$f":"IF($BZ$2=1,AC5,IF($BZ$2=2,AC5*0.3346,))","v":{"$error":"#N/A"}},{"$nulls":3},{"v":0,"d":"0.0"},{"v":0,"d":"0.0"},{"v":0,"d":"0.0"},{"$f":"IF($BZ$2=1,AZ5,IF($BZ$2=2,AZ5/4.54609,))","v":{"$error":"#N/A"}}]
[{"$nulls":109},55,{"$f":"BK5","v":{"$error":"#N/A"}},{"$f":"ROUND(IF($BZ$2=1,V5,IF($BZ$2=2,V5*3.412141633,)),0)","v":{"$error":"#N/A"}},{"$f":"IF($BZ$2=1,ROUND(Z5,0),IF($BZ$2=2,ROUND(Z5/272.7654,1),))","v":{"$error":"#N/A"}},{"$f":"IF($BZ$2=1,AD5,IF($BZ$2=2,AD5*0.3346,))","v":{"$error":"#N/A"}},{"$f":"IF(BY5=1,ROUND(IF($BZ$2=1,AQ5,IF($BZ$2=2,AQ5*3.412141633,)),0),\"\")","v":{"$error":"#N/A"}},{"$f":"IF(BY5=1,IF($BZ$2=1,ROUND(AT5,0),IF($BZ$2=2,ROUND(AT5/272.7654,1),)),\"\")","v":{"$error":"#N/A"}},{"$f":"IF(BY5=1,IF($BZ$2=1,AW5,IF($BZ$2=2,AW5*0.3346,)),\"\")","v":{"$error":"#N/A"}},{"$f":"J5","v":{"$error":"#N/A"}},{"$f":"IF(DN19=\"\",\"\",DN19+8)","v":{"$error":"#N/A"}},{"$f":"BA5","v":{"$error":"#N/A"}},{"$f":"DQ18","v":{"$error":"#N/A"}}]
[{"$nulls":91},1,2,3,4,5,6,7,8,9,{"$nulls":9},55,{"$f":"BL5","v":{"$error":"#N/A"}},{"$f":"ROUND(IF($BZ$2=1,W5,IF($BZ$2=2,W5*3.412141633,)),0)","v":{"$error":"#N/A"}},{"$f":"IF($BZ$2=1,ROUND(AA5,0),IF($BZ$2=2,ROUND(AA5/272.7654,1),))","v":{"$error":"#N/A"}},{"$f":"IF($BZ$2=1,AE5,IF($BZ$2=2,AE5*0.3346,))","v":{"$error":"#N/A"}},{"$f":"IF(BY5=1,ROUND(IF($BZ$2=1,AR5,IF($BZ$2=2,AR5*3.412141633,)),0),\"\")","v":{"$error":"#N/A"}},{"$f":"IF(BY5=1,IF($BZ$2=1,ROUND(AU5,0),IF($BZ$2=2,ROUND(AU5/272.7654,1),)),\"\")","v":{"$error":"#N/A"}},{"$f":"IF(BY5=1,IF($BZ$2=1,AX5,IF($BZ$2=2,AX5*0.3346,)),\"\")","v":{"$error":"#N/A"}},{"$f":"K5","v":{"$error":"#N/A"}},{"$f":"IF(DN20=\"\",\"\",DN20+8)","v":{"$error":"#N/A"}},{"$f":"BB5","v":{"$error":"#N/A"}},{"$f":"DQ18","v":{"$error":"#N/A"}}]
[{"$nulls":94},{"$f":"VLOOKUP($A$24,$CN$23:$CV$56,CQ$20,0)","v":{"$error":"#N/A"}},{"$error":"#N/A"},{"$error":"#N/A"},{"$error":"#N/A"},{"$error":"#N/A"},{"$error":"#N/A"},{"$nulls":9},55,{"$f":"BM5","v":{"$error":"#N/A"}},{"$f":"ROUND(IF($BZ$2=1,X5,IF($BZ$2=2,X5*3.412141633,)),0)","v":{"$error":"#N/A"}},{"$f":"IF($BZ$2=1,ROUND(AB5,0),IF($BZ$2=2,ROUND(AB5/272.7654,1),))","v":{"$error":"#N/A"}},{"$f":"IF($BZ$2=1,AF5,IF($BZ$2=2,AF5*0.3346,))","v":{"$error":"#N/A"}},{"$f":"IF(BY5=1,ROUND(IF($BZ$2=1,AS5,IF($BZ$2=2,AS5*3.412141633,)),0),\"\")","v":{"$error":"#N/A"}},{"$f":"IF(BY5=1,IF($BZ$2=1,ROUND(AV5,0),IF($BZ$2=2,ROUND(AV5/272.7654,1),)),\"\")","v":{"$error":"#N/A"}},{"$f":"IF(BY5=1,IF($BZ$2=1,AY5,IF($BZ$2=2,AY5*0.3346,)),\"\")","v":{"$error":"#N/A"}},{"$f":"L5","v":{"$error":"#N/A"}},{"$error":"#N/A"},{"$f":"BC5","v":{"$error":"#N/A"}},{"$f":"DQ18","v":{"$error":"#N/A"}}]
[{"$nulls":92},"Raillengte","Railtype","BMS-stuurspanningen",null,null,"Opgenomen elektrisch vermogen",{"$nulls":11},65,{"$f":"BJ6","v":{"$error":"#N/A"}},{"$f":"ROUND(IF($BZ$2=1,U6,IF($BZ$2=2,U6*3.412141633,)),0)","v":{"$error":"#N/A"}},{"$f":"IF($BZ$2=1,ROUND(Y6,0),IF($BZ$2=2,ROUND(Y6/272.7654,1),))","v":{"$error":"#N/A"}},{"$f":"IF($BZ$2=1,AC6,IF($BZ$2=2,AC6*0.3346,))","v":{"$error":"#N/A"}},{"$nulls":3},{"v":0,"d":"0.0"},{"v":0,"d":"0.0"},{"v":0,"d":"0.0"},{"$f":"IF($BZ$2=1,AZ6,IF($BZ$2=2,AZ6/4.54606,))","v":{"$error":"#N/A"}}]
[{"$nulls":91},{"$f":"CONCATENATE(CO23,CP23)","v":"5010"},50,10,14.2,16.2,21.85,3.6,4.1,5.1,null,"Lengte 55",{"$nulls":7},{"$f":"DF22","v":65},{"$f":"BK6","v":{"$error":"#N/A"}},{"$f":"ROUND(IF($BZ$2=1,V6,IF($BZ$2=2,V6*3.412141633,)),0)","v":{"$error":"#N/A"}},{"$f":"IF($BZ$2=1,ROUND(Z6,0),IF($BZ$2=2,ROUND(Z6/272.7654,1),))","v":{"$error":"#N/A"}},{"$f":"IF($BZ$2=1,AD6,IF($BZ$2=2,AD6*0.3346,))","v":{"$error":"#N/A"}},{"$f":"IF(BY6=1,ROUND(IF($BZ$2=1,AQ6,IF($BZ$2=2,AQ6*3.412141633,)),0),\"\")","v":{"$error":"#N/A"}},{"$f":"IF(BY6=1,IF($BZ$2=1,ROUND(AT6,0),IF($BZ$2=2,ROUND(AT6/272.7654,1),)),\"\")","v":{"$error":"#N/A"}},{"$f":"IF(BY6=1,IF($BZ$2=1,AW6,IF($BZ$2=2,AW6*0.3346,)),\"\")","v":{"$error":"#N/A"}},{"$f":"J6","v":{"$error":"#N/A"}},{"$f":"IF(DN23=\"\",\"\",DN23+8)","v":{"$error":"#N/A"}},{"$f":"BA6","v":{"$error":"#N/A"}},{"$f":"DQ22","v":{"$error":"#N/A"}}]
[{"$nulls":91},{"$f":"CONCATENATE(CO24,CP24)","v":"5015"},50,15,0,0,0,0,0,0,null,"Lengte 65",{"$nulls":7},{"$f":"DF22","v":65},{"$f":"BL6","v":{"$error":"#N/A"}},{"$f":"ROUND(IF($BZ$2=1,W6,IF($BZ$2=2,W6*3.412141633,)),0)","v":{"$error":"#N/A"}},{"$f":"IF($BZ$2=1,ROUND(AA6,0),IF($BZ$2=2,ROUND(AA6/272.7654,1),))","v":{"$error":"#N/A"}},{"$f":"IF($BZ$2=1,AE6,IF($BZ$2=2,AE6*0.3346,))","v":{"$error":"#N/A"}},{"$f":"IF(BY6=1,ROUND(IF($BZ$2=1,AR6,IF($BZ$2=2,AR6*3.412141633,)),0),\"\")","v":{"$error":"#N/A"}},{"$f":"IF(BY6=1,IF($BZ$2=1,ROUND(AU6,0),IF($BZ$2=2,ROUND(AU6/272.7654,1),)),\"\")","v":{"$error":"#N/A"}},{"$f":"IF(BY6=1,IF($BZ$2=1,AX6,IF($BZ$2=2,AX6*0.3346,)),\"\")","v":{"$error":"#N/A"}},{"$f":"K6","v":{"$error":"#N/A"}},{"$f":"IF(DN24=\"\",\"\",DN24+8)","v":{"$error":"#N/A"}},{"$f":"BB6","v":{"$error":"#N/A"}},{"$f":"DQ22","v":{"$error":"#N/A"}}]
[{"$nulls":91},"6010",60,10,13.6,15.6,21.85,4.8,5.4,6.8,null,"Lengte 75",{"$nulls":7},{"$f":"DF22","v":65},{"$f":"BM6","v":{"$error":"#N/A"}},{"$f":"ROUND(IF($BZ$2=1,X6,IF($BZ$2=2,X6*3.412141633,)),0)","v":{"$error":"#N/A"}},{"$f":"IF($BZ$2=1,ROUND(AB6,0),IF($BZ$2=2,ROUND(AB6/272.7654,1),))","v":{"$error":"#N/A"}},{"$f":"IF($BZ$2=1,AF6,IF($BZ$2=2,AF6*0.3346,))","v":{"$error":"#N/A"}},{"$f":"IF(BY6=1,ROUND(IF($BZ$2=1,AS6,IF($BZ$2=2,AS6*3.412141633,)),0),\"\")","v":{"$error":"#N/A"}},{"$f":"IF(BY6=1,IF($BZ$2=1,ROUND(AV6,0),IF($BZ$2=2,ROUND(AV6/272.7654,1),)),\"\")","v":{"$error":"#N/A"}},{"$f":"IF(BY6=1,IF($BZ$2=1,AY6,IF($BZ$2=2,AY6*0.3346,)),\"\")","v":{"$error":"#N/A"}},{"$f":"L6","v":{"$error":"#N/A"}},{"$error":"#N/A"},{"$f":"BC6","v":{"$error":"#N/A"}},{"$f":"DQ22","v":{"$error":"#N/A"}}]
[{"$nulls":8},"soundpressure level",{"$nulls":3},"power","75/65/20",null,null,"n",{"$nulls":3},"result","power",null,null,"result","flow",null,null,"static pressure loss",{"$nulls":7},"power","16/18/27",null,"n",null,null,"result","power",null,"result","flow",null,"static pressure loss",{"$nulls":3},"electrical power nominal",{"$nulls":3},"oude cataloog",null,"Statisch met rail / statisch cataloog",{"$nulls":4},"BMS-stuurspanning",null,null,"Sensible heat factor",null,null,"Total cooling capacity",{"$nulls":3},"Diff. Total and sensible",null,null,"Show or not",{"$nulls":14},"6015",60,15,12.3,14.4,21.85,4.8,5.5,7.2,null,"Lengte 85",{"$nulls":7},75,{"$f":"BJ7","v":{"$error":"#N/A"}},{"$f":"ROUND(IF($BZ$2=1,U7,IF($BZ$2=2,U7*3.412141633,)),0)","v":{"$error":"#N/A"}},{"$f":"IF($BZ$2=1,ROUND(Y7,0),IF($BZ$2=2,ROUND(Y7/272.7654,1),))","v":{"$error":"#N/A"}},{"$f":"IF($BZ$2=1,AC7,IF($BZ$2=2,AC7*0.3346,))","v":{"$error":"#N/A"}},{"$nulls":3},{"v":0,"d":"0.0"},{"v":0,"d":"0.0"},{"v":0,"d":"0.0"},{"$f":"IF($BZ$2=1,AZ7,IF($BZ$2=2,AZ7/4.54609,))","v":{"$error":"#N/A"}}]
["lookup code","L,rail","T,rail","toestel","height","length","type","depth",0,1,2,3,0,1,2,3,0,1,2,3,0,1,2,3,0,1,2,3,0,1,2,3,"k1","n","t","k2",1,2,3,1,2,3,1,2,3,1,2,3,1,2,3,"watervolume",1,2,3,null,"Static,H","Static,C",{"$nulls":3},0,1,2,3,null,"SHF 1","SHF 2","SHF 3","Q,t 1","Q,t 2","Q,t 3",null,"ΔQ,t,s 1","ΔQ,t,s 2","ΔQ,t,s 3","OK/NOTOK","Verminderings factor cooling bijhoogtes > 50",{"$nulls":13},"7010",70,10,13.2,15.1,21.85,5.5,5.9,7.9,null,"Lengte 95",{"$nulls":7},{"$f":"DF26","v":75},{"$f":"BK7","v":{"$error":"#N/A"}},{"$f":"ROUND(IF($BZ$2=1,V7,IF($BZ$2=2,V7*3.412141633,)),0)","v":{"$error":"#N/A"}},{"$f":"IF($BZ$2=1,ROUND(Z7,0),IF($BZ$2=2,ROUND(Z7/272.7654,1),))","v":{"$error":"#N/A"}},{"$f":"IF($BZ$2=1,AD7,IF($BZ$2=2,AD7*0.3346,))","v":{"$error":"#N/A"}},{"$f":"IF(BY7=1,ROUND(IF($BZ$2=1,AQ7,IF($BZ$2=2,AQ7*3.412141633,)),0),\"\")","v":{"$error":"#N/A"}},{"$f":"IF(BY7=1,IF($BZ$2=1,ROUND(AT7,0),IF($BZ$2=2,ROUND(AT7/272.7654,1),)),\"\")","v":{"$error":"#N/A"}},{"$f":"IF(BY7=1,IF($BZ$2=1,AW7,IF($BZ$2=2,AW7*0.3346,)),\"\")","v":{"$error":"#N/A"}},{"$f":"J7","v":{"$error":"#N/A"}},{"$f":"IF(DN27=\"\",\"\",DN27+8)","v":{"$error":"#N/A"}},{"$f":"BA7","v":{"$error":"#N/A"}},{"$f":"DQ26","v":{"$error":"#N/A"}}]
[{"$f":"CONCATENATE(D28,E28,F28,G28)","v":"1504510"},null,null,1,50,45,10,10.9,0,26,30,38.8,{"$f":"IF($N28-($BE28*$BG28)>100,$BE28*$BG28,$N28-95)","v":{"v":484.2,"d":"484"}},649,695,812,1.5,{"$f":"IF($G28=10,1.08,IF($G28=11,1.1,IF($G28=15,1.08,IF($G28=16,1.1,IF($G28=20,1.08,IF($G28=21,1.05))))))","v":1.08},1.08,1.08,{"$f":"ROUND(M28*POWER(CF_heat,Q28),0)","v":60},{"$f":"ROUND(N28*POWER(CF_heat,R28),0)","v":144},{"$f":"ROUND(O28*POWER(CF_heat,S28),0)","v":154},{"$f":"ROUND(P28*POWER(CF_heat,T28),0)","v":180},{"$f":"ROUND(U28*3600/(4186*ABS($O$1-$O$2)),0)","v":10},{"$f":"ROUND(V28*3600/(4186*ABS($O$1-$O$2)),0)","v":25},{"$f":"ROUND(W28*3600/(4186*ABS($O$1-$O$2)),0)","v":26},{"$f":"ROUND(X28*3600/(4186*ABS($O$1-$O$2)),0)","v":31},{"$f":"(($AG28*(Y28^$AH28)*((($F28-14.4)*$AI28)/100))+($AJ28*(Y28^2)))*0.0098","v":{"v":4.891988947469105E-4,"d":"0.00"}},{"$f":"(($AG28*(Z28^$AH28)*((($F28-14.4)*$AI28)/100))+($AJ28*(Z28^2)))*0.0098","v":{"v":0.002883177673808546,"d":"0.00"}},{"$f":"(($AG28*(AA28^$AH28)*((($F28-14.4)*$AI28)/100))+($AJ28*(AA28^2)))*0.0098","v":{"v":3.111353276885069E-3,"d":"0.00"}},{"$f":"(($AG28*(AB28^$AH28)*((($F28-14.4)*$AI28)/100))+($AJ28*(AB28^2)))*0.0098","v":{"v":0.004379148971957723,"d":"0.00"}},{"$f":"IF($G28=$CO$103,CP$103,IF($G28=$CO$104,CP$104,IF($G28=$CO$105,CP$105,IF($G28=$CO$107,CP$107,IF($G28=$CO$108,CP$108,IF($G28=$CO$109,CP$109,IF($G28=$CO$111,CP$111,IF($G28=$CO$112,CP$112,IF($G28=$CO$113,CP$113,IF($G28=$CO$115,CP$115,IF($G28=$CO$116,CP$116,IF($G28=$CO$117,CP$117,IF($G28=$CO$119,CP$119,IF($G28=$CO$120,CP$120,))))))))))))))","v":3.969E-4},{"$f":"IF($G28=$CO$103,CQ$103,IF($G28=$CO$104,CQ$104,IF($G28=$CO$105,CQ$105,IF($G28=$CO$107,CQ$107,IF($G28=$CO$108,CQ$108,IF($G28=$CO$109,CQ$109,IF($G28=$CO$111,CQ$111,IF($G28=$CO$112,CQ$112,IF($G28=$CO$113,CQ$113,IF($G28=$CO$115,CQ$115,IF($G28=$CO$116,CQ$116,IF($G28=$CO$117,CQ$117,IF($G28=$CO$119,CQ$119,IF($G28=$CO$120,CQ$120,))))))))))))))","v":1.7346},{"$f":"IF($G28=$CO$103,CR$103,IF($G28=$CO$104,CR$104,IF($G28=$CO$105,CR$105,IF($G28=$CO$107,CR$107,IF($G28=$CO$108,CR$108,IF($G28=$CO$109,CR$109,IF($G28=$CO$111,CR$111,IF($G28=$CO$112,CR$112,IF($G28=$CO$113,CR$113,IF($G28=$CO$115,CR$115,IF($G28=$CO$116,CR$116,IF($G28=$CO$117,CR$117,IF($G28=$CO$119,CR$119,IF($G28=$CO$120,CR$120,))))))))))))))","v":2},{"$f":"IF($G28=$CO$103,CS$103,IF($G28=$CO$104,CS$104,IF($G28=$CO$105,CS$105,IF($G28=$CO$107,CS$107,IF($G28=$CO$108,CS$108,IF($G28=$CO$109,CS$109,IF($G28=$CO$111,CS$111,IF($G28=$CO$112,CS$112,IF($G28=$CO$113,CS$113,IF($G28=$CO$115,CS$115,IF($G28=$CO$116,CS$116,IF($G28=$CO$117,CS$117,IF($G28=$CO$119,CS$119,IF($G28=$CO$120,CS$120,))))))))))))))","v":0.000367347},{"v":90.02011923475614,"d":"90"},{"v":96.3282593249777,"d":"96"},{"v":112.64,"d":"113"},{"$f":"IF($G28=10,0.98,IF($G28=11,0.95,IF($G28=15,1.01,IF($G28=16,0.95,IF($G28=20,0.95,IF($G28=21,0.85))))))","v":0.98},0.98,0.98,{"$f":"ROUND(AK28*BZ28*POWER(CF_cool,AN28),0)","v":90},{"$f":"ROUND(AL28*BZ28*POWER(CF_cool,AO28),0)","v":96},{"$f":"ROUND(AM28*BZ28*POWER(CF_cool,AP28),0)","v":113},{"$f":"ROUND(AQ28*3600/(4186*ABS($AM$1-$AM$2)),0)","v":39},{"$f":"ROUND(AR28*3600/(4186*ABS($AM$1-$AM$2)),0)","v":41},{"$f":"ROUND(AS28*3600/(4186*ABS($AM$1-$AM$2)),0)","v":49},{"$f":"(($AG28*(AT28^$AH28)*((($F28-14.4)*$AI28)/100))+($AJ28*(AT28^2)))*0.0098","v":{"v":0.006844966040866462,"d":"0.01"}},{"$f":"(($AG28*(AU28^$AH28)*((($F28-14.4)*$AI28)/100))+($AJ28*(AU28^2)))*0.0098","v":{"v":0.007545060593935707,"d":"0.01"}},{"$f":"(($AG28*(AV28^$AH28)*((($F28-14.4)*$AI28)/100))+($AJ28*(AV28^2)))*0.0098","v":{"v":0.010678171818579104,"d":"0.01"}},{"$f":"ROUND(IF(G28=10,$CO$92*F28,IF(G28=11,$CO$93*F28,IF(G28=15,$CO$94*F28,IF(G28=16,$CO$95*F28,IF(G28=20,$CO$96*F28,IF(G28=21,$CO$97*F28,)))))),1)","v":0.3},3.6,4.1,5.1,null,538,null,{"$f":"IF(G28=10,0.9,IF(G28=11,0.68,IF(G28=15,0.8,IF(G28=16,0.68,IF(G28=20,0.8,IF(G28=21,0.8))))))","v":{"v":0.9,"d":"90%"}},null,null,0,14.2,16.2,21.85,null,{"$f":"IF((237.3*LN(($AQ$1*EXP(17.27*($AM$3/($AM$3+237.3))))))/(17.27-LN(($AQ$1*EXP(17.27*($AM$3/($AM$3+237.3))))))<(($AM$1+$AM$2)/2),1,IF(1/(1+((2258*((0.622/((101325/(1*611*EXP(17.27*((($AM$1+$AM$2)/2)/((($AM$1+$AM$2)/2)+237.3))))))-1)*1000-(0.622/((101325/($AQ$1*611*EXP(17.27*($AM$3/($AM$3+237.3))))))-1)*1000))/(1005*((($AM$1+$AM$2)/2)-$AM$3))))>1,1,1/(1+((2258*((0.622/((101325/(1*611*EXP(17.27*((($AM$1+$AM$2)/2)/((($AM$1+$AM$2)/2)+237.3))))))-1)*1000-(0.622/((101325/($AQ$1*611*EXP(17.27*($AM$3/($AM$3+237.3))))))-1)*1000))/(1005*((($AM$1+$AM$2)/2)-$AM$3))))))","v":1},1,1,{"$f":"AQ28/BO28","v":90},{"$f":"AR28/BP28","v":96},{"$f":"AS28/BQ28","v":113},null,{"$f":"BR28-AQ28","v":0},{"$f":"BS28-AR28","v":0},{"$f":"BT28-AS28","v":0},{"$f":"IF(SUM(BV28:BX28)=0,1,0)","v":1},{"$f":"IF(OR(EcoReviva!$L$6=10,EcoReviva!$L$6=15,EcoReviva!$L$6=20),1,IF(EcoReviva!$K$6<51,1,(1-(EcoReviva!$K$6-50)*0.005)))","v":1},{"$nulls":13},"7015",70,15,12.3,14.4,21.85,5.1,5.6,7.2,null,"Lengte 105",{"$nulls":7},{"$f":"DF26","v":75},{"$f":"BL7","v":{"$error":"#N/A"}},{"$f":"ROUND(IF($BZ$2=1,W7,IF($BZ$2=2,W7*3.412141633,)),0)","v":{"$error":"#N/A"}},{"$f":"IF($BZ$2=1,ROUND(AA7,0),IF($BZ$2=2,ROUND(AA7/272.7654,1),))","v":{"$error":"#N/A"}},{"$f":"IF($BZ$2=1,AE7,IF($BZ$2=2,AE7*0.3346,))","v":{"$error":"#N/A"}},{"$f":"IF(BY7=1,ROUND(IF($BZ$2=1,AR7,IF($BZ$2=2,AR7*3.412141633,)),0),\"\")","v":{"$error":"#N/A"}},{"$f":"IF(BY7=1,IF($BZ$2=1,ROUND(AU7,0),IF($BZ$2=2,ROUND(AU7/272.7654,1),)),\"\")","v":{"$error":"#N/A"}},{"$f":"IF(BY7=1,IF($BZ$2=1,AX7,IF($BZ$2=2,AX7*0.3346,)),\"\")","v":{"$error":"#N/A"}},{"$f":"K7","v":{"$error":"#N/A"}},{"$f":"IF(DN28=\"\",\"\",DN28+8)","v":{"$error":"#N/A"}},{"$f":"BB7","v":{"$error":"#N/A"}},{"$f":"DQ26","v":{"$error":"#N/A"}}]
["1504511",null,null,1,50,45,11,10.9,0,26,30,38.8,{"v":471.24,"d":"471"},{"v":881.020769215156,"d":"881"},{"v":942.7581061776938,"d":"943"},{"v":1102.4,"d":"1102"},1.5,1.1,1.1,1.1,58,190,203,237,10,33,35,41,{"v":8.2119990949382107E-4,"d":"0.00"},{"v":0.008178675726577817,"d":"0.01"},{"v":0.009164343982816101,"d":"0.01"},{"v":0.012447624825071415,"d":"0.01"},3.969E-4,1.7346,4,0.000574288,{"v":147.5613886319724,"d":"148"},{"v":157.90172054122763,"d":"158"},{"v":184.64,"d":"185"},0.95,0.95,0.95,148,158,185,64,68,80,{"v":0.029519164050592184,"d":"0.03"},{"v":0.03320784702818217,"d":"0.03"},{"v":0.04554266568933894,"d":"0.05"},0.6,3.6,4.1,5.1,null,693,null,{"v":0.68,"d":"68%"},null,null,0,14.2,16.2,21.85,null,1,1,1,148,158,185,null,0,0,0,1,{"$f":"IF(OR(EcoReviva!$L$6=10,EcoReviva!$L$6=15,EcoReviva!$L$6=20),1,IF(EcoReviva!$K$6<51,1,(1-(EcoReviva!$K$6-50)*0.005)))","v":1},{"$nulls":13},"8010",80,10,12.8,14.7,21.85,6.3,6.8,9.1,null,"Lengte 115",{"$nulls":7},{"$f":"DF26","v":75},{"$f":"BM7","v":{"$error":"#N/A"}},{"$f":"ROUND(IF($BZ$2=1,X7,IF($BZ$2=2,X7*3.412141633,)),0)","v":{"$error":"#N/A"}},{"$f":"IF($BZ$2=1,ROUND(AB7,0),IF($BZ$2=2,ROUND(AB7/272.7654,1),))","v":{"$error":"#N/A"}},{"$f":"IF($BZ$2=1,AF7,IF($BZ$2=2,AF7*0.3346,))","v":{"$error":"#N/A"}},{"$f":"IF(BY7=1,ROUND(IF($BZ$2=1,AS7,IF($BZ$2=2,AS7*3.412141633,)),0),\"\")","v":{"$error":"#N/A"}},{"$f":"IF(BY7=1,IF($BZ$2=1,ROUND(AV7,0),IF($BZ$2=2,ROUND(AV7/272.7654,1),)),\"\")","v":{"$error":"#N/A"}},{"$f":"IF(BY7=1,IF($BZ$2=1,AY7,IF($BZ$2=2,AY7*0.3346,)),\"\")","v":{"$error":"#N/A"}},{"$f":"L7","v":{"$error":"#N/A"}},{"$error":"#N/A"},{"$f":"BC7","v":{"$error":"#N/A"}},{"$f":"DQ26","v":{"$error":"#N/A"}}]
["1505510",null,null,1,50,55,10,10.9,0,26,30,{"v":40,"d":"40.0"},{"v":581.4,"d":"581"},{"v":841.6922568781392,"d":"842"},{"v":901.3595094153106,"d":"901"},{"v":1066.38,"d":"1066"},1.5,1.08,1.08,1.08,72,186,199,236,12,32,34,41,{"v":7.535858305041021E-4,"d":"0.00"},{"v":4.9755295488453114E-3,"d":"0.00"},{"v":5.593678232973914E-3,"d":"0.01"},{"v":0.008033119281953913,"d":"0.01"},3.969E-4,1.7346,2,0.000367347,{"v":116.68990721587436,"d":"117"},{"v":124.9620115455649,"d":"125"},{"v":147.84,"d":"148"},0.98,0.98,0.98,117,125,148,50,54,64,{"v":0.011795740168765216,"d":"0.01"},{"v":0.01369262056188473,"d":"0.01"},{"v":0.019035658709034686,"d":"0.02"},0.4,4.8,5.4,6.8,null,646,null,{"v":0.9,"d":"90%"},null,null,0,13.6,15.6,21.85,null,1,1,1,117,125,148,null,0,0,0,1,{"$f":"IF(OR(EcoReviva!$L$6=10,EcoReviva!$L$6=15,EcoReviva!$L$6=20),1,IF(EcoReviva!$K$6<51,1,(1-(EcoReviva!$K$6-50)*0.005)))","v":1},{"$nulls":13},"8015",80,15,11.8,13.7,21.85,6,6.7,9,null,"Lengte 135",{"$nulls":7},85,{"$f":"BJ8","v":{"$error":"#N/A"}},{"$f":"ROUND(IF($BZ$2=1,U8,IF($BZ$2=2,U8*3.412141633,)),0)","v":{"$error":"#N/A"}},{"$f":"IF($BZ$2=1,ROUND(Y8,0),IF($BZ$2=2,ROUND(Y8/272.7654,1),))","v":{"$error":"#N/A"}},{"$f":"IF($BZ$2=1,AC8,IF($BZ$2=2,AC8*0.3346,))","v":{"$error":"#N/A"}},{"$nulls":3},{"v":0,"d":"0.0"},{"v":0,"d":"0.0"},{"v":0,"d":"0.0"},{"$f":"IF($BZ$2=1,AZ8,IF($BZ$2=2,AZ8/4.54609,))","v":{"$error":"#N/A"}}]
["1505511",null,null,1,50,55,11,10.9,0,26,30,{"v":40,"d":"40.0"},{"v":565.76,"d":"566"},{"v":1142.036165791725,"d":"1142"},{"v":1222.9946868592929,"d":"1223"},{"v":1446.9,"d":"1447"},1.5,1.1,1.1,1.1,70,246,263,311,12,42,45,53,{"v":1.2808067138082042E-3,"d":"0.00"},{"v":0.014060032324827457,"d":"0.01"},{"v":0.01605427498413576,"d":"0.02"},{"v":0.021995288801525976,"d":"0.02"},3.969E-4,1.7346,4,0.000574288,191,205,242,0.95,0.95,0.95,191,205,242,82,88,104,{"v":0.05103130148700304,"d":"0.05"},{"v":0.05849049440619054,"d":"0.06"},{"v":0.08079039225520299,"d":"0.08"},0.7,4.8,5.4,6.8,null,832,null,{"v":0.68,"d":"68%"},null,null,0,13.6,15.6,21.85,null,1,1,1,191,205,242,null,0,0,0,1,{"$f":"IF(OR(EcoReviva!$L$6=10,EcoReviva!$L$6=15,EcoReviva!$L$6=20),1,IF(EcoReviva!$K$6<51,1,(1-(EcoReviva!$K$6-50)*0.005)))","v":1},{"$nulls":13},"9010",90,10,12.5,14.7,21.85,6.7,7.4,10.3,null,"Lengte 155",{"$nulls":7},{"$f":"DF30","v":85},{"$f":"BK8","v":{"$error":"#N/A"}},{"$f":"ROUND(IF($BZ$2=1,V8,IF($BZ$2=2,V8*3.412141633,)),0)","v":{"$error":"#N/A"}},{"$f":"IF($BZ$2=1,ROUND(Z8,0),IF($BZ$2=2,ROUND(Z8/272.7654,1),))","v":{"$error":"#N/A"}},{"$f":"IF($BZ$2=1,AD8,IF($BZ$2=2,AD8*0.3346,))","v":{"$error":"#N/A"}},{"$f":"IF(BY8=1,ROUND(IF($BZ$2=1,AQ8,IF($BZ$2=2,AQ8*3.412141633,)),0),\"\")","v":{"$error":"#N/A"}},{"$f":"IF(BY8=1,IF($BZ$2=1,ROUND(AT8,0),IF($BZ$2=2,ROUND(AT8/272.7654,1),)),\"\")","v":{"$error":"#N/A"}},{"$f":"IF(BY8=1,IF($BZ$2=1,AW8,IF($BZ$2=2,AW8*0.3346,)),\"\")","v":{"$error":"#N/A"}},{"$f":"J8","v":{"$error":"#N/A"}},{"$f":"IF(DN31=\"\",\"\",DN31+8)","v":{"$error":"#N/A"}},{"$f":"BA8","v":{"$error":"#N/A"}},{"$f":"DQ30","v":{"$error":"#N/A"}}]
["1505515",null,null,1,50,55,15,15.9,0,26,30,41.1,832,{"v":957.1925835750966,"d":"957"},{"v":1027.5250511543745,"d":"1028"},{"v":1359.96,"d":"1360"},1.5,1.08,1.08,1.08,102,212,227,301,18,36,39,52,{"v":1.7082578397880485E-3,"d":"0.00"},{"v":0.006664579562405365,"d":"0.01"},{"v":7.8011364343750856E-3,"d":"0.01"},{"v":0.013744224459617238,"d":"0.01"},0.0002083,1.724,2,0.000461829,{"v":130.66063061772473,"d":"131"},{"v":140.26129481477255,"d":"140"},{"v":185.64,"d":"186"},1.01,1.01,1.01,131,140,186,56,60,80,{"v":0.01590468255149971,"d":"0.02"},{"v":0.01822087036582554,"d":"0.02"},{"v":0.032131095605837864,"d":"0.03"},0.6,4.8,5.5,7.2,null,1040,null,{"v":0.8,"d":"80%"},null,null,0,12.3,14.4,21.85,null,1,1,1,131,140,186,null,0,0,0,1,{"$f":"IF(OR(EcoReviva!$L$6=10,EcoReviva!$L$6=15,EcoReviva!$L$6=20),1,IF(EcoReviva!$K$6<51,1,(1-(EcoReviva!$K$6-50)*0.005)))","v":1},{"$nulls":13},"9015",90,15,11.3,13.2,21.85,7,7.7,10.7,null,"Lengte 175",{"$nulls":7},{"$f":"DF30","v":85},{"$f":"BL8","v":{"$error":"#N/A"}},{"$f":"ROUND(IF($BZ$2=1,W8,IF($BZ$2=2,W8*3.412141633,)),0)","v":{"$error":"#N/A"}},{"$f":"IF($BZ$2=1,ROUND(AA8,0),IF($BZ$2=2,ROUND(AA8/272.7654,1),))","v":{"$error":"#N/A"}},{"$f":"IF($BZ$2=1,AE8,IF($BZ$2=2,AE8*0.3346,))","v":{"$error":"#N/A"}},{"$f":"IF(BY8=1,ROUND(IF($BZ$2=1,AR8,IF($BZ$2=2,AR8*3.412141633,)),0),\"\")","v":{"$error":"#N/A"}},{"$f":"IF(BY8=1,IF($BZ$2=1,ROUND(AU8,0),IF($BZ$2=2,ROUND(AU8/272.7654,1),)),\"\")","v":{"$error":"#N/A"}},{"$f":"IF(BY8=1,IF($BZ$2=1,AX8,IF($BZ$2=2,AX8*0.3346,)),\"\")","v":{"$error":"#N/A"}},{"$f":"K8","v":{"$error":"#N/A"}},{"$f":"IF(DN32=\"\",\"\",DN32+8)","v":{"$error":"#N/A"}},{"$f":"BB8","v":{"$error":"#N/A"}},{"$f":"DQ30","v":{"$error":"#N/A"}}]
["1505516",null,null,1,50,55,16,15.9,0,26,30,41.1,{"v":774.5200000000001,"d":"775"},{"v":1399.7241764138612,"d":"1400"},{"v":1502.5729206967153,"d":"1503"},{"v":1988.7,"d":"1989"},1.5,1.1,1.1,1.1,95,301,323,428,16,52,56,74,{"v":0.003889071219879793,"d":"0.00"},{"v":0.03992023060883447,"d":"0.04"},{"v":0.046227289429399424,"d":"0.05"},{"v":0.08027834433484426,"d":"0.08"},0.0002083,1.724,4,1.392796E-3,214,230,305,0.95,0.95,0.95,214,230,305,92,99,131,{"v":0.12358364040029295,"d":"0.12"},{"v":0.1429184138994782,"d":"0.14"},{"v":0.24905152894784036,"d":"0.25"},1.1,4.8,5.5,7.2,null,1139,null,{"v":0.68,"d":"68%"},null,null,0,12.3,14.4,21.85,null,1,1,1,214,230,305,null,0,0,0,1,{"$f":"IF(OR(EcoReviva!$L$6=10,EcoReviva!$L$6=15,EcoReviva!$L$6=20),1,IF(EcoReviva!$K$6<51,1,(1-(EcoReviva!$K$6-50)*0.005)))","v":1},{"$nulls":13},"10010",100,10,12.3,14.1,21.85,7.8,8.7,12.2,null,"Lengte 195",{"$nulls":7},{"$f":"DF30","v":85},{"$f":"BM8","v":{"$error":"#N/A"}},{"$f":"ROUND(IF($BZ$2=1,X8,IF($BZ$2=2,X8*3.412141633,)),0)","v":{"$error":"#N/A"}},{"$f":"IF($BZ$2=1,ROUND(AB8,0),IF($BZ$2=2,ROUND(AB8/272.7654,1),))","v":{"$error":"#N/A"}},{"$f":"IF($BZ$2=1,AF8,IF($BZ$2=2,AF8*0.3346,))","v":{"$error":"#N/A"}},{"$f":"IF(BY8=1,ROUND(IF($BZ$2=1,AS8,IF($BZ$2=2,AS8*3.412141633,)),0),\"\")","v":{"$error":"#N/A"}},{"$f":"IF(BY8=1,IF($BZ$2=1,ROUND(AV8,0),IF($BZ$2=2,ROUND(AV8/272.7654,1),)),\"\")","v":{"$error":"#N/A"}},{"$f":"IF(BY8=1,IF($BZ$2=1,AY8,IF($BZ$2=2,AY8*0.3346,)),\"\")","v":{"$error":"#N/A"}},{"$f":"L8","v":{"$error":"#N/A"}},{"$error":"#N/A"},{"$f":"BC8","v":{"$error":"#N/A"}},{"$f":"DQ30","v":{"$error":"#N/A"}}]
["1505520",null,null,1,50,55,20,20.9,0,26,30,41.1,1164,{"v":1346.575008837732,"d":"1347"},{"v":1442.0332127786496,"d":"1442"},{"v":1706.04,"d":"1706"},1.5,1.08,1.08,1.08,143,298,319,378,25,51,55,65,{"v":2.5660084423910325E-3,"d":"0.00"},{"v":0.010484646546563363,"d":"0.01"},{"v":0.012172407430883376,"d":"0.01"},{"v":0.016937235050074707,"d":"0.02"},0.0001276,1.7219,2,3.76611E-4,{"v":166.41571994991173,"d":"166"},{"v":178.21286873827722,"d":"178"},{"v":210.84,"d":"211"},0.95,0.95,0.95,166,178,211,71,77,91,{"v":0.020169541434089434,"d":"0.02"},{"v":0.02368147374256664,"d":"0.02"},{"v":0.0329617283799854,"d":"0.03"},0.7,4.8,5.5,7.2,null,1455,null,{"v":0.8,"d":"80%"},null,null,0,12.3,14.4,21.85,null,1,1,1,166,178,211,null,0,0,0,1,{"$f":"IF(OR(EcoReviva!$L$6=10,EcoReviva!$L$6=15,EcoReviva!$L$6=20),1,IF(EcoReviva!$K$6<51,1,(1-(EcoReviva!$K$6-50)*0.005)))","v":1},{"$nulls":13},"10015",100,15,10.9,12.8,21.85,7,7.7,10.7,null,"Lengte 215",{"$nulls":7},95,{"$f":"BJ9","v":{"$error":"#N/A"}},{"$f":"ROUND(IF($BZ$2=1,U9,IF($BZ$2=2,U9*3.412141633,)),0)","v":{"$error":"#N/A"}},{"$f":"IF($BZ$2=1,ROUND(Y9,0),IF($BZ$2=2,ROUND(Y9/272.7654,1),))","v":{"$error":"#N/A"}},{"$f":"IF($BZ$2=1,AC9,IF($BZ$2=2,AC9*0.3346,))","v":{"$error":"#N/A"}},{"$nulls":3},{"v":0,"d":"0.0"},{"v":0,"d":"0.0"},{"v":0,"d":"0.0"},{"$f":"IF($BZ$2=1,AZ9,IF($BZ$2=2,AZ9/4.54609,))","v":{"$error":"#N/A"}}]
["1505521",null,null,1,50,55,21,20.9,0,26,30,41.1,{"v":1239.2,"d":"1239"},{"v":1802.6437228662567,"d":"1803"},{"v":1935.0981352499616,"d":"1935"},{"v":2561.16,"d":"2561"},1.5,1.05,1.05,1.05,153,416,447,591,26,72,77,102,{"v":0.003961239095674067,"d":"0.00"},{"v":0.02932787593600901,"d":"0.03"},{"v":0.03347482349693328,"d":"0.03"},{"v":0.05826562100024722,"d":"0.06"},0.0001276,1.7219,4,0.000514201,{"v":233.8293185941635,"d":"234"},{"v":251.01059773412922,"d":"251"},{"v":332.22,"d":"332"},0.85,0.85,0.85,234,251,332,101,108,143,{"v":0.057144463494213926,"d":"0.06"},{"v":0.06521879376441546,"d":"0.07"},{"v":0.11349164353337236,"d":"0.11"},1.5,4.8,5.5,7.2,null,1549,null,{"v":0.8,"d":"80%"},null,null,0,12.3,14.4,21.85,null,1,1,1,234,251,332,null,0,0,0,1,{"$f":"IF(OR(EcoReviva!$L$6=10,EcoReviva!$L$6=15,EcoReviva!$L$6=20),1,IF(EcoReviva!$K$6<51,1,(1-(EcoReviva!$K$6-50)*0.005)))","v":1},{"$nulls":13},"11010",110,10,12,13.9,21.85,8.4,9.3,14,null,"Lengte 235",{"$nulls":7},{"$f":"DF34","v":95},{"$f":"BK9","v":{"$error":"#N/A"}},{"$f":"ROUND(IF($BZ$2=1,V9,IF($BZ$2=2,V9*3.412141633,)),0)","v":{"$error":"#N/A"}},{"$f":"IF($BZ$2=1,ROUND(Z9,0),IF($BZ$2=2,ROUND(Z9/272.7654,1),))","v":{"$error":"#N/A"}},{"$f":"IF($BZ$2=1,AD9,IF($BZ$2=2,AD9*0.3346,))","v":{"$error":"#N/A"}},{"$f":"IF(BY9=1,ROUND(IF($BZ$2=1,AQ9,IF($BZ$2=2,AQ9*3.412141633,)),0),\"\")","v":{"$error":"#N/A"}},{"$f":"IF(BY9=1,IF($BZ$2=1,ROUND(AT9,0),IF($BZ$2=2,ROUND(AT9/272.7654,1),)),\"\")","v":{"$error":"#N/A"}},{"$f":"IF(BY9=1,IF($BZ$2=1,AW9,IF($BZ$2=2,AW9*0.3346,)),\"\")","v":{"$error":"#N/A"}},{"$f":"J9","v":{"$error":"#N/A"}},{"$f":"IF(DN35=\"\",\"\",DN35+8)","v":{"$error":"#N/A"}},{"$f":"BA9","v":{"$error":"#N/A"}},{"$f":"DQ34","v":{"$error":"#N/A"}}]
["1506510",null,null,1,50,65,10,10.9,0,26,30,{"v":41,"d":"41.0"},{"v":677.7,"d":"678"},{"v":1029.7403904507714,"d":"1030"},{"v":1104.285963590294,"d":"1104"},{"v":1320.28,"d":"1320"},1.5,1.08,1.08,1.08,83,228,244,292,14,39,42,50,{"v":1.0885671397012971E-3,"d":"0.00"},{"v":0.00773997592862232,"d":"0.01"},{"v":0.008925393189534354,"d":"0.01"},{"v":0.012484345752204924,"d":"0.01"},3.969E-4,1.7346,2,0.000367347,{"v":142.7603849699376,"d":"143"},{"v":153.09517888293954,"d":"153"},{"v":183.04,"d":"183"},0.98,0.98,0.98,143,153,183,61,66,79,{"v":0.01831510057885077,"d":"0.02"},{"v":0.021321466174488813,"d":"0.02"},{"v":0.03017152153380581,"d":"0.03"},0.4,5.5,5.9,7.9,null,753,null,{"v":0.9,"d":"90%"},null,null,0,13.2,15.1,21.85,null,1,1,1,143,153,183,null,0,0,0,1,{"$f":"IF(OR(EcoReviva!$L$6=10,EcoReviva!$L$6=15,EcoReviva!$L$6=20),1,IF(EcoReviva!$K$6<51,1,(1-(EcoReviva!$K$6-50)*0.005)))","v":1},{"$nulls":13},"11015",110,15,10.9,12.8,21.85,7.9,8.8,12.5,{"$nulls":9},{"$f":"DF34","v":95},{"$f":"BL9","v":{"$error":"#N/A"}},{"$f":"ROUND(IF($BZ$2=1,W9,IF($BZ$2=2,W9*3.412141633,)),0)","v":{"$error":"#N/A"}},{"$f":"IF($BZ$2=1,ROUND(AA9,0),IF($BZ$2=2,ROUND(AA9/272.7654,1),))","v":{"$error":"#N/A"}},{"$f":"IF($BZ$2=1,AE9,IF($BZ$2=2,AE9*0.3346,))","v":{"$error":"#N/A"}},{"$f":"IF(BY9=1,ROUND(IF($BZ$2=1,AR9,IF($BZ$2=2,AR9*3.412141633,)),0),\"\")","v":{"$error":"#N/A"}},{"$f":"IF(BY9=1,IF($BZ$2=1,ROUND(AU9,0),IF($BZ$2=2,ROUND(AU9/272.7654,1),)),\"\")","v":{"$error":"#N/A"}},{"$f":"IF(BY9=1,IF($BZ$2=1,AX9,IF($BZ$2=2,AX9*0.3346,)),\"\")","v":{"$error":"#N/A"}},{"$f":"K9","v":{"$error":"#N/A"}},{"$error":"#N/A"},{"$f":"BB9","v":{"$error":"#N/A"}},{"$f":"DQ34","v":{"$error":"#N/A"}}]
["1506511",null,null,1,50,65,11,10.9,0,26,30,{"v":41,"d":"41.0"},{"v":659.6,"d":"660"},{"v":1397.1861540381678,"d":"1397"},{"v":1498.3320774196782,"d":"1498"},{"v":1791.4,"d":"1791"},1.5,1.1,1.1,1.1,81,301,322,386,14,52,55,66,{"v":0.001869026434602594,"d":"0.00"},{"v":0.022677455541119062,"d":"0.02"},{"v":0.02524626289171085,"d":"0.03"},{"v":0.035795392696177625,"d":"0.04"},3.969E-4,1.7346,4,0.000574288,{"v":234.0134719535625,"d":"234"},{"v":250.95431311209123,"d":"251"},{"v":300.04,"d":"300"},0.95,0.95,0.95,234,251,300,101,108,129,{"v":0.08100610640854533,"d":"0.08"},{"v":0.09214822230126632,"d":"0.09"},{"v":0.12972595829346747,"d":"0.13"},0.9,5.5,5.9,7.9,null,970,null,{"v":0.68,"d":"68%"},null,null,0,13.2,15.1,21.85,null,1,1,1,234,251,300,null,0,0,0,1,{"$f":"IF(OR(EcoReviva!$L$6=10,EcoReviva!$L$6=15,EcoReviva!$L$6=20),1,IF(EcoReviva!$K$6<51,1,(1-(EcoReviva!$K$6-50)*0.005)))","v":1},{"$nulls":13},"12010",120,10,11.8,13.7,21.85,8.9,9.9,14.8,{"$nulls":9},{"$f":"DF34","v":95},{"$f":"BM9","v":{"$error":"#N/A"}},{"$f":"ROUND(IF($BZ$2=1,X9,IF($BZ$2=2,X9*3.412141633,)),0)","v":{"$error":"#N/A"}},{"$f":"IF($BZ$2=1,ROUND(AB9,0),IF($BZ$2=2,ROUND(AB9/272.7654,1),))","v":{"$error":"#N/A"}},{"$f":"IF($BZ$2=1,AF9,IF($BZ$2=2,AF9*0.3346,))","v":{"$error":"#N/A"}},{"$f":"IF(BY9=1,ROUND(IF($BZ$2=1,AS9,IF($BZ$2=2,AS9*3.412141633,)),0),\"\")","v":{"$error":"#N/A"}},{"$f":"IF(BY9=1,IF($BZ$2=1,ROUND(AV9,0),IF($BZ$2=2,ROUND(AV9/272.7654,1),)),\"\")","v":{"$error":"#N/A"}},{"$f":"IF(BY9=1,IF($BZ$2=1,AY9,IF($BZ$2=2,AY9*0.3346,)),\"\")","v":{"$error":"#N/A"}},{"$f":"L9","v":{"$error":"#N/A"}},{"$error":"#N/A"},{"$f":"BC9","v":{"$error":"#N/A"}},{"$f":"DQ34","v":{"$error":"#N/A"}}]
["1506515",null,null,1,50,65,15,15.9,0,26,30,41.1,{"v":975.8273541699666,"d":"976"},{"v":1070.8273541699666,"d":"1071"},{"v":1149.5094620994566,"d":"1150"},{"v":1521.41,"d":"1521"},1.5,1.08,1.08,1.08,120,237,254,337,21,41,44,58,{"v":2.3891220818381613E-3,"d":"0.00"},{"v":0.008854127884744335,"d":"0.01"},{"v":0.01016955919673207,"d":"0.01"},{"v":0.01749113498980617,"d":"0.02"},0.0002083,1.724,2,0.000461829,{"v":135.09481491470635,"d":"135"},{"v":145.0212935075816,"d":"145"},{"v":191.94,"d":"192"},1.01,1.01,1.01,135,145,192,58,62,83,{"v":0.01749113498980617,"d":"0.02"},{"v":0.019939673606287497,"d":"0.02"},{"v":0.03538235408356234,"d":"0.04"},0.7,5.1,5.6,7.2,null,1214,null,{"v":0.8,"d":"80%"},null,null,0,12.3,14.4,21.85,null,1,1,1,135,145,192,null,0,0,0,1,{"$f":"IF(OR(EcoReviva!$L$6=10,EcoReviva!$L$6=15,EcoReviva!$L$6=20),1,IF(EcoReviva!$K$6<51,1,(1-(EcoReviva!$K$6-50)*0.005)))","v":1},{"$nulls":13},"12015",120,15,10.6,12.5,21.85,8.7,9.8,14.3,{"$nulls":9},105,{"$f":"BJ10","v":{"$error":"#N/A"}},{"$f":"ROUND(IF($BZ$2=1,U10,IF($BZ$2=2,U10*3.412141633,)),0)","v":{"$error":"#N/A"}},{"$f":"IF($BZ$2=1,ROUND(Y10,0),IF($BZ$2=2,ROUND(Y10/272.7654,1),))","v":{"$error":"#N/A"}},{"$f":"IF($BZ$2=1,AC10,IF($BZ$2=2,AC10*0.3346,))","v":{"$error":"#N/A"}},{"$nulls":3},{"v":0,"d":"0.0"},{"v":0,"d":"0.0"},{"v":0,"d":"0.0"},{"$f":"IF($BZ$2=1,AZ10,IF($BZ$2=2,AZ10/4.54609,))","v":{"$error":"#N/A"}}]
["1506516",null,null,1,50,65,16,15.9,0,26,30,41.1,{"v":903.72,"d":"904"},{"v":1627.62717250317,"d":"1628"},{"v":1747.2217424001376,"d":"1747"},{"v":2312.5,"d":"2313"},1.5,1.1,1.1,1.1,111,350,376,498,19,60,65,86,{"v":5.5891884304954675E-3,"d":"0.01"},{"v":0.053942458064175976,"d":"0.05"},{"v":0.06318426399490239,"d":"0.06"},{"v":0.1098881622852846,"d":"0.11"},0.0002083,1.724,4,1.392796E-3,{"v":219.59769851718443,"d":"220"},{"v":235.7332685962564,"d":"236"},312,0.95,0.95,0.95,220,236,312,95,101,134,{"v":0.13379598795887698,"d":"0.13"},{"v":0.15102922346138206,"d":"0.15"},{"v":0.2642865761747432,"d":"0.26"},1.3,5.1,5.6,7.2,null,1329,null,{"v":0.68,"d":"68%"},null,null,0,12.3,14.4,21.85,null,1,1,1,220,236,312,null,0,0,0,1,{"$f":"IF(OR(EcoReviva!$L$6=10,EcoReviva!$L$6=15,EcoReviva!$L$6=20),1,IF(EcoReviva!$K$6<51,1,(1-(EcoReviva!$K$6-50)*0.005)))","v":1},{"$nulls":13},"14010",140,10,11.5,13.3,21.85,10.1,11.2,17.5,{"$nulls":9},{"$f":"DF38","v":105},{"$f":"BK10","v":{"$error":"#N/A"}},{"$f":"ROUND(IF($BZ$2=1,V10,IF($BZ$2=2,V10*3.412141633,)),0)","v":{"$error":"#N/A"}},{"$f":"IF($BZ$2=1,ROUND(Z10,0),IF($BZ$2=2,ROUND(Z10/272.7654,1),))","v":{"$error":"#N/A"}},{"$f":"IF($BZ$2=1,AD10,IF($BZ$2=2,AD10*0.3346,))","v":{"$error":"#N/A"}},{"$f":"IF(BY10=1,ROUND(IF($BZ$2=1,AQ10,IF($BZ$2=2,AQ10*3.412141633,)),0),\"\")","v":{"$error":"#N/A"}},{"$f":"IF(BY10=1,IF($BZ$2=1,ROUND(AT10,0),IF($BZ$2=2,ROUND(AT10/272.7654,1),)),\"\")","v":{"$error":"#N/A"}},{"$f":"IF(BY10=1,IF($BZ$2=1,AW10,IF($BZ$2=2,AW10*0.3346,)),\"\")","v":{"$error":"#N/A"}},{"$f":"J10","v":{"$error":"#N/A"}},{"$f":"IF(DN39=\"\",\"\",DN39+8)","v":{"$error":"#N/A"}},{"$f":"BA10","v":{"$error":"#N/A"}},{"$f":"DQ38","v":{"$error":"#N/A"}}]
["1506520",null,null,1,50,65,20,20.9,0,26,30,41.1,{"v":1358.4,"d":"1358"},{"v":1509.840819712653,"d":"1510"},{"v":1619.1421060355642,"d":"1619"},{"v":1935.84,"d":"1936"},1.5,1.08,1.08,1.08,167,334,358,428,29,57,62,74,{"v":3.5211679827427426E-3,"d":"0.00"},{"v":0.013327036502126233,"d":"0.01"},{"v":0.015731136675630187,"d":"0.02"},{"v":0.02230432338719338,"d":"0.02"},0.0001276,1.7219,2,3.76611E-4,{"v":170.52628152222005,"d":"171"},{"v":182.87112058001478,"d":"183"},{"v":218.64000000000001,"d":"219"},0.95,0.95,0.95,171,183,219,74,79,94,{"v":0.02230432338719338,"d":"0.02"},{"v":0.025377255551985212,"d":"0.03"},{"v":0.035772521649797925,"d":"0.04"},0.9,5.1,5.6,7.2,null,1698,null,{"v":0.8,"d":"80%"},null,null,0,12.3,14.4,21.85,null,1,1,1,171,183,219,null,0,0,0,1,{"$f":"IF(OR(EcoReviva!$L$6=10,EcoReviva!$L$6=15,EcoReviva!$L$6=20),1,IF(EcoReviva!$K$6<51,1,(1-(EcoReviva!$K$6-50)*0.005)))","v":1},{"$nulls":13},"14015",140,15,10.4,12.2,21.85,9.6,10.5,16.1,{"$nulls":9},{"$f":"DF38","v":105},{"$f":"BL10","v":{"$error":"#N/A"}},{"$f":"ROUND(IF($BZ$2=1,W10,IF($BZ$2=2,W10*3.412141633,)),0)","v":{"$error":"#N/A"}},{"$f":"IF($BZ$2=1,ROUND(AA10,0),IF($BZ$2=2,ROUND(AA10/272.7654,1),))","v":{"$error":"#N/A"}},{"$f":"IF($BZ$2=1,AE10,IF($BZ$2=2,AE10*0.3346,))","v":{"$error":"#N/A"}},{"$f":"IF(BY10=1,ROUND(IF($BZ$2=1,AR10,IF($BZ$2=2,AR10*3.412141633,)),0),\"\")","v":{"$error":"#N/A"}},{"$f":"IF(BY10=1,IF($BZ$2=1,ROUND(AU10,0),IF($BZ$2=2,ROUND(AU10/272.7654,1),)),\"\")","v":{"$error":"#N/A"}},{"$f":"IF(BY10=1,IF($BZ$2=1,AX10,IF($BZ$2=2,AX10*0.3346,)),\"\")","v":{"$error":"#N/A"}},{"$f":"K10","v":{"$error":"#N/A"}},{"$error":"#N/A"},{"$f":"BB10","v":{"$error":"#N/A"}},{"$f":"DQ38","v":{"$error":"#N/A"}}]
["1506521",null,null,1,50,65,21,20.9,0,26,30,41.1,{"v":1445.6000000000001,"d":"1446"},{"v":1977.829194535895,"d":"1978"},{"v":2123.1558613833213,"d":"2123"},{"v":2810.06,"d":"2810"},1.5,1.05,1.05,1.05,178,456,490,648,31,78,84,111,{"v":0.005778614397690776,"d":"0.01"},{"v":0.03524273493342986,"d":"0.04"},{"v":0.04076477528113389,"d":"0.04"},{"v":0.07050406009195628,"d":"0.07"},0.0001276,1.7219,4,0.000514201,{"v":240.30463534531125,"d":"240"},{"v":257.9617069363265,"d":"258"},{"v":341.42,"d":"341"},0.85,0.85,0.85,240,258,341,103,111,147,{"v":0.060859870120218575,"d":"0.06"},{"v":0.07050406009195628,"d":"0.07"},{"v":0.12254325352072776,"d":"0.12"},1.7,5.1,5.6,7.2,null,1807,null,{"v":0.8,"d":"80%"},null,null,0,12.3,14.4,21.85,null,1,1,1,240,258,341,null,0,0,0,1,{"$f":"IF(OR(EcoReviva!$L$6=10,EcoReviva!$L$6=15,EcoReviva!$L$6=20),1,IF(EcoReviva!$K$6<51,1,(1-(EcoReviva!$K$6-50)*0.005)))","v":1},{"$nulls":13},"16010",160,10,11.2,13,21.85,11,12.4,19.2,{"$nulls":9},{"$f":"DF38","v":105},{"$f":"BM10","v":{"$error":"#N/A"}},{"$f":"ROUND(IF($BZ$2=1,X10,IF($BZ$2=2,X10*3.412141633,)),0)","v":{"$error":"#N/A"}},{"$f":"IF($BZ$2=1,ROUND(AB10,0),IF($BZ$2=2,ROUND(AB10/272.7654,1),))","v":{"$error":"#N/A"}},{"$f":"IF($BZ$2=1,AF10,IF($BZ$2=2,AF10*0.3346,))","v":{"$error":"#N/A"}},{"$f":"IF(BY10=1,ROUND(IF($BZ$2=1,AS10,IF($BZ$2=2,AS10*3.412141633,)),0),\"\")","v":{"$error":"#N/A"}},{"$f":"IF(BY10=1,IF($BZ$2=1,ROUND(AV10,0),IF($BZ$2=2,ROUND(AV10/272.7654,1),)),\"\")","v":{"$error":"#N/A"}},{"$f":"IF(BY10=1,IF($BZ$2=1,AY10,IF($BZ$2=2,AY10*0.3346,)),\"\")","v":{"$error":"#N/A"}},{"$f":"L10","v":{"$error":"#N/A"}},{"$error":"#N/A"},{"$f":"BC10","v":{"$error":"#N/A"}},{"$f":"DQ38","v":{"$error":"#N/A"}}]
["1507510",null,null,1,50,75,10,10.9,0,26,30,41.8,{"v":774.9,"d":"775"},{"v":1214.2269940407766,"d":"1214"},{"v":1304.143370405705,"d":"1304"},{"v":1574.18,"d":"1574"},1.5,1.08,1.08,1.08,95,269,289,348,16,46,50,60,{"v":1.4997977957892836E-3,"d":"0.00"},{"v":0.011228618238462114,"d":"0.01"},{"v":0.013172951335644632,"d":"0.01"},{"v":0.01868520599274172,"d":"0.02"},3.969E-4,1.7346,2,0.000367347,{"v":168.33710197020613,"d":"168"},{"v":180.80286190736828,"d":"181"},{"v":218.24,"d":"218"},0.98,0.98,0.98,168,181,218,72,78,94,{"v":0.026517268425687683,"d":"0.03"},{"v":0.030927193385738988,"d":"0.03"},{"v":0.044283364884656395,"d":"0.04"},0.5,6.3,6.8,9.1,null,861,null,{"v":0.9,"d":"90%"},null,null,0,12.8,14.7,21.85,null,1,1,1,168,181,218,null,0,0,0,1,{"$f":"IF(OR(EcoReviva!$L$6=10,EcoReviva!$L$6=15,EcoReviva!$L$6=20),1,IF(EcoReviva!$K$6<51,1,(1-(EcoReviva!$K$6-50)*0.005)))","v":1},{"$nulls":13},"16015",160,15,10,11.8,21.85,11.5,12.8,19.6,{"$nulls":9},115,{"$f":"BJ11","v":{"$error":"#N/A"}},{"$f":"ROUND(IF($BZ$2=1,U11,IF($BZ$2=2,U11*3.412141633,)),0)","v":{"$error":"#N/A"}},{"$f":"IF($BZ$2=1,ROUND(Y11,0),IF($BZ$2=2,ROUND(Y11/272.7654,1),))","v":{"$error":"#N/A"}},{"$f":"IF($BZ$2=1,AC11,IF($BZ$2=2,AC11*0.3346,))","v":{"$error":"#N/A"}},{"$nulls":3},{"v":0,"d":"0.0"},{"v":0,"d":"0.0"},{"v":0,"d":"0.0"},{"$f":"IF($BZ$2=1,AZ11,IF($BZ$2=2,AZ11/4.54609,))","v":{"$error":"#N/A"}}]
["1507511",null,null,1,50,75,11,10.9,0,26,30,41.8,{"v":754.12,"d":"754"},{"v":1647.5037394527276,"d":"1648"},{"v":1769.505282019556,"d":"1770"},{"v":2135.9,"d":"2136"},1.5,1.1,1.1,1.1,93,355,381,460,16,61,66,79,{"v":0.002597169018778567,"d":"0.00"},{"v":0.03272533379240776,"d":"0.03"},{"v":0.03802458777953289,"d":"0.04"},{"v":0.053577350170964114,"d":"0.05"},3.969E-4,1.7346,4,0.000574288,276,296,358,0.95,0.95,0.95,276,296,358,119,127,154,{"v":0.11725479004455569,"d":"0.12"},{"v":0.13281776310602098,"d":"0.13"},{"v":0.192211378234511,"d":"0.19"},{"v":1,"d":"1.0"},6.3,6.8,9.1,null,1109,null,{"v":0.68,"d":"68%"},null,null,0,12.8,14.7,21.85,null,1,1,1,276,296,358,null,0,0,0,1,{"$f":"IF(OR(EcoReviva!$L$6=10,EcoReviva!$L$6=15,EcoReviva!$L$6=20),1,IF(EcoReviva!$K$6<51,1,(1-(EcoReviva!$K$6-50)*0.005)))","v":1},{"$nulls":13},"18010",180,10,10.9,12.7,21.85,12.2,13.7,22,{"$nulls":9},{"$f":"DF42","v":115},{"$f":"BK11","v":{"$error":"#N/A"}},{"$f":"ROUND(IF($BZ$2=1,V11,IF($BZ$2=2,V11*3.412141633,)),0)","v":{"$error":"#N/A"}},{"$f":"IF($BZ$2=1,ROUND(Z11,0),IF($BZ$2=2,ROUND(Z11/272.7654,1),))","v":{"$error":"#N/A"}},{"$f":"IF($BZ$2=1,AD11,IF($BZ$2=2,AD11*0.3346,))","v":{"$error":"#N/A"}},{"$f":"IF(BY11=1,ROUND(IF($BZ$2=1,AQ11,IF($BZ$2=2,AQ11*3.412141633,)),0),\"\")","v":{"$error":"#N/A"}},{"$f":"IF(BY11=1,IF($BZ$2=1,ROUND(AT11,0),IF($BZ$2=2,ROUND(AT11/272.7654,1),)),\"\")","v":{"$error":"#N/A"}},{"$f":"IF(BY11=1,IF($BZ$2=1,AW11,IF($BZ$2=2,AW11*0.3346,)),\"\")","v":{"$error":"#N/A"}},{"$f":"J11","v":{"$error":"#N/A"}},{"$f":"IF(DN43=\"\",\"\",DN43+8)","v":{"$error":"#N/A"}},{"$f":"BA11","v":{"$error":"#N/A"}},{"$f":"DQ42","v":{"$error":"#N/A"}}]
["1507515",null,null,1,50,75,15,15.9,0,26,30,42.4,{"v":1109.6000000000001,"d":"1110"},{"v":1395.33740436932,"d":"1395"},{"v":1496.2563490716184,"d":"1496"},{"v":2007.56,"d":"2008"},1.5,1.08,1.08,1.08,137,309,331,444,24,53,57,76,{"v":3.1997240828258943E-3,"d":"0.00"},{"v":0.015036429956578272,"d":"0.02"},{"v":0.017338305914079213,"d":"0.02"},{"v":0.03046628495114974,"d":"0.03"},0.0002083,1.724,2,0.000461829,{"v":190.4691577304631,"d":"190"},{"v":204.24499885412456,"d":"204"},{"v":274.04,"d":"274"},1.01,1.01,1.01,190,204,274,82,88,118,{"v":0.03536215684854152,"d":"0.04"},{"v":0.04061684502864145,"d":"0.04"},{"v":0.0722519624062192,"d":"0.07"},0.8,6,6.7,9,null,1387,null,{"v":0.8,"d":"80%"},null,null,0,11.8,13.7,21.85,null,1,1,1,190,204,274,null,0,0,0,1,{"$f":"IF(OR(EcoReviva!$L$6=10,EcoReviva!$L$6=15,EcoReviva!$L$6=20),1,IF(EcoReviva!$K$6<51,1,(1-(EcoReviva!$K$6-50)*0.005)))","v":1},{"$nulls":13},"18015",180,15,10,11.8,21.85,11.5,12.8,19.6,{"$nulls":9},{"$f":"DF42","v":115},{"$f":"BL11","v":{"$error":"#N/A"}},{"$f":"ROUND(IF($BZ$2=1,W11,IF($BZ$2=2,W11*3.412141633,)),0)","v":{"$error":"#N/A"}},{"$f":"IF($BZ$2=1,ROUND(AA11,0),IF($BZ$2=2,ROUND(AA11/272.7654,1),))","v":{"$error":"#N/A"}},{"$f":"IF($BZ$2=1,AE11,IF($BZ$2=2,AE11*0.3346,))","v":{"$error":"#N/A"}},{"$f":"IF(BY11=1,ROUND(IF($BZ$2=1,AR11,IF($BZ$2=2,AR11*3.412141633,)),0),\"\")","v":{"$error":"#N/A"}},{"$f":"IF(BY11=1,IF($BZ$2=1,ROUND(AU11,0),IF($BZ$2=2,ROUND(AU11/272.7654,1),)),\"\")","v":{"$error":"#N/A"}},{"$f":"IF(BY11=1,IF($BZ$2=1,AX11,IF($BZ$2=2,AX11*0.3346,)),\"\")","v":{"$error":"#N/A"}},{"$f":"K11","v":{"$error":"#N/A"}},{"$error":"#N/A"},{"$f":"BB11","v":{"$error":"#N/A"}},{"$f":"DQ42","v":{"$error":"#N/A"}}]
["1507516",null,null,1,50,75,16,15.9,0,26,30,42.4,{"v":1032.24,"d":"1032"},{"v":2040.4331716148024,"d":"2040"},{"v":2188.0092071816284,"d":"2188"},{"v":2935.7,"d":"2936"},1.5,1.1,1.1,1.1,127,439,471,632,22,76,81,109,{"v":0.007626743381857311,"d":"0.01"},{"v":0.08748803256469947,"d":"0.09"},{"v":0.09920702599531894,"d":"0.10"},{"v":0.17827392081746637,"d":"0.18"},0.0002083,1.724,4,1.392796E-3,312,335,450,0.95,0.95,0.95,312,335,450,134,144,194,{"v":0.2680806345561549,"d":"0.27"},{"v":0.30906341934920867,"d":"0.31"},{"v":0.557221760020375,"d":"0.56"},1.5,6,6.7,9,null,1518,null,{"v":0.68,"d":"68%"},null,null,0,11.8,13.7,21.85,null,1,1,1,312,335,450,null,0,0,0,1,{"$f":"IF(OR(EcoReviva!$L$6=10,EcoReviva!$L$6=15,EcoReviva!$L$6=20),1,IF(EcoReviva!$K$6<51,1,(1-(EcoReviva!$K$6-50)*0.005)))","v":1},{"$nulls":13},"20010",200,10,10.7,12.5,21.85,13.4,14.8,24,{"$nulls":9},{"$f":"DF42","v":115},{"$f":"BM11","v":{"$error":"#N/A"}},{"$f":"ROUND(IF($BZ$2=1,X11,IF($BZ$2=2,X11*3.412141633,)),0)","v":{"$error":"#N/A"}},{"$f":"IF($BZ$2=1,ROUND(AB11,0),IF($BZ$2=2,ROUND(AB11/272.7654,1),))","v":{"$error":"#N/A"}},{"$f":"IF($BZ$2=1,AF11,IF($BZ$2=2,AF11*0.3346,))","v":{"$error":"#N/A"}},{"$f":"IF(BY11=1,ROUND(IF($BZ$2=1,AS11,IF($BZ$2=2,AS11*3.412141633,)),0),\"\")","v":{"$error":"#N/A"}},{"$f":"IF(BY11=1,IF($BZ$2=1,ROUND(AV11,0),IF($BZ$2=2,ROUND(AV11/272.7654,1),)),\"\")","v":{"$error":"#N/A"}},{"$f":"IF(BY11=1,IF($BZ$2=1,AY11,IF($BZ$2=2,AY11*0.3346,)),\"\")","v":{"$error":"#N/A"}},{"$f":"L11","v":{"$error":"#N/A"}},{"$error":"#N/A"},{"$f":"BC11","v":{"$error":"#N/A"}},{"$f":"DQ42","v":{"$error":"#N/A"}}]
["1507520",null,null,1,50,75,20,20.9,0,26,30,42.4,1552,{"v":1942.5718983039128,"d":"1943"},{"v":2086.4239348515057,"d":"2086"},{"v":2518.44,"d":"2518"},1.5,1.08,1.08,1.08,191,430,462,557,33,74,79,96,{"v":0.00464344600860039,"d":"0.00"},{"v":0.022718072279365984,"d":"0.02"},{"v":0.02584030869273328,"d":"0.03"},{"v":0.037939413743689844,"d":"0.04"},0.0001276,1.7219,2,3.76611E-4,{"v":240.0716624688735,"d":"240"},{"v":257.8495360156218,"d":"258"},{"v":311.24,"d":"311"},0.95,0.95,0.95,240,258,311,103,111,134,{"v":0.04358638450289096,"d":"0.04"},{"v":0.050514085896458796,"d":"0.05"},{"v":0.07324191965292721,"d":"0.07"},{"v":1,"d":"1.0"},6,6.7,9,null,1940,null,{"v":0.8,"d":"80%"},null,null,0,11.8,13.7,21.85,null,1,1,1,240,258,311,null,0,0,0,1,{"$f":"IF(OR(EcoReviva!$L$6=10,EcoReviva!$L$6=15,EcoReviva!$L$6=20),1,IF(EcoReviva!$K$6<51,1,(1-(EcoReviva!$K$6-50)*0.005)))","v":1},{"$nulls":13},"20015",200,15,10,11.4,21.85,13.2,14.7,23.5,{"$nulls":9},135,{"$f":"BJ12","v":{"$error":"#N/A"}},{"$f":"ROUND(IF($BZ$2=1,U12,IF($BZ$2=2,U12*3.412141633,)),0)","v":{"$error":"#N/A"}},{"$f":"IF($BZ$2=1,ROUND(Y12,0),IF($BZ$2=2,ROUND(Y12/272.7654,1),))","v":{"$error":"#N/A"}},{"$f":"IF($BZ$2=1,AC12,IF($BZ$2=2,AC12*0.3346,))","v":{"$error":"#N/A"}},{"$nulls":3},{"v":0,"d":"0.0"},{"v":0,"d":"0.0"},{"v":0,"d":"0.0"},{"$f":"IF($BZ$2=1,AZ12,IF($BZ$2=2,AZ12/4.54609,))","v":{"$error":"#N/A"}}]
["1507521",null,null,1,50,75,21,20.9,0,26,30,42.4,{"v":1652.8000000000002,"d":"1653"},{"v":2627.7848955664344,"d":"2628"},{"v":2817.8416357747774,"d":"2818"},{"v":3780.76,"d":"3781"},1.5,1.05,1.05,1.05,203,606,650,872,35,104,112,150,{"v":0.00755444878363432,"d":"0.01"},{"v":0.06351395685048775,"d":"0.06"},{"v":0.07344799654101183,"d":"0.07"},{"v":0.13030991509050383,"d":"0.13"},0.0001276,1.7219,4,0.000514201,{"v":340.86222571220884,"d":"341"},{"v":365.515371252517,"d":"366"},{"v":490.42,"d":"490"},0.85,0.85,0.85,341,366,490,147,157,211,{"v":0.12524124429395458,"d":"0.13"},{"v":0.14252220957076794,"d":"0.14"},{"v":0.254813187214477,"d":"0.25"},{"v":2,"d":"2.0"},6,6.7,9,null,2066,null,{"v":0.8,"d":"80%"},null,null,0,11.8,13.7,21.85,null,1,1,1,341,366,490,null,0,0,0,1,{"$f":"IF(OR(EcoReviva!$L$6=10,EcoReviva!$L$6=15,EcoReviva!$L$6=20),1,IF(EcoReviva!$K$6<51,1,(1-(EcoReviva!$K$6-50)*0.005)))","v":1},{"$nulls":13},"22010",220,10,10.5,12.3,21.85,13.4,14.8,24,{"$nulls":9},{"$f":"DF46","v":135},{"$f":"BK12","v":{"$error":"#N/A"}},{"$f":"ROUND(IF($BZ$2=1,V12,IF($BZ$2=2,V12*3.412141633,)),0)","v":{"$error":"#N/A"}},{"$f":"IF($BZ$2=1,ROUND(Z12,0),IF($BZ$2=2,ROUND(Z12/272.7654,1),))","v":{"$error":"#N/A"}},{"$f":"IF($BZ$2=1,AD12,IF($BZ$2=2,AD12*0.3346,))","v":{"$error":"#N/A"}},{"$f":"IF(BY12=1,ROUND(IF($BZ$2=1,AQ12,IF($BZ$2=2,AQ12*3.412141633,)),0),\"\")","v":{"$error":"#N/A"}},{"$f":"IF(BY12=1,IF($BZ$2=1,ROUND(AT12,0),IF($BZ$2=2,ROUND(AT12/272.7654,1),)),\"\")","v":{"$error":"#N/A"}},{"$f":"IF(BY12=1,IF($BZ$2=1,AW12,IF($BZ$2=2,AW12*0.3346,)),\"\")","v":{"$error":"#N/A"}},{"$f":"J12","v":{"$error":"#N/A"}},{"$f":"IF(DN47=\"\",\"\",DN47+8)","v":{"$error":"#N/A"}},{"$f":"BA12","v":{"$error":"#N/A"}},{"$f":"DQ46","v":{"$error":"#N/A"}}]
["1508510",null,null,1,50,85,10,10.9,0,26,30,42.4,{"v":871.2,"d":"871"},{"v":1395.6272192501513,"d":"1396"},{"v":1501.3000140389001,"d":"1501"},{"v":1828.08,"d":"1828"},1.5,{"$f":"IF($G48=10,1.08,IF($G48=11,1.1,IF($G48=15,1.08,IF($G48=16,1.1,IF($G48=20,1.08,IF($G48=21,1.05))))))","v":1.08},1.08,1.08,107,309,332,405,18,53,57,70,{"v":0.001992699825121661,"d":"0.00"},{"v":0.015491020847010518,"d":"0.02"},{"v":0.017798545161747774,"d":"0.02"},{"v":0.026354632512084225,"d":"0.03"},3.969E-4,1.7346,2,0.000367347,{"v":193.48593193227777,"d":"193"},{"v":208.1361185276459,"d":"208"},{"v":253.44,"d":"253"},{"$f":"IF($G48=10,0.98,IF($G48=11,0.95,IF($G48=15,1.01,IF($G48=16,0.95,IF($G48=20,0.95,IF($G48=21,0.85))))))","v":0.98},0.98,0.98,193,208,253,83,89,109,{"v":0.036510885040733264,"d":"0.04"},{"v":0.04173324042276832,"d":"0.04"},{"v":0.06155879916657249,"d":"0.06"},0.6,6.7,7.4,10.3,null,968,null,{"v":0.9,"d":"90%"},null,null,0,12.5,14.7,21.85,null,{"$f":"IF((237.3*LN(($AQ$1*EXP(17.27*($AM$3/($AM$3+237.3))))))/(17.27-LN(($AQ$1*EXP(17.27*($AM$3/($AM$3+237.3))))))<(($AM$1+$AM$2)/2),1,IF(1/(1+((2258*((0.622/((101325/(1*611*EXP(17.27*((($AM$1+$AM$2)/2)/((($AM$1+$AM$2)/2)+237.3))))))-1)*1000-(0.622/((101325/($AQ$1*611*EXP(17.27*($AM$3/($AM$3+237.3))))))-1)*1000))/(1005*((($AM$1+$AM$2)/2)-$AM$3))))>1,1,1/(1+((2258*((0.622/((101325/(1*611*EXP(17.27*((($AM$1+$AM$2)/2)/((($AM$1+$AM$2)/2)+237.3))))))-1)*1000-(0.622/((101325/($AQ$1*611*EXP(17.27*($AM$3/($AM$3+237.3))))))-1)*1000))/(1005*((($AM$1+$AM$2)/2)-$AM$3))))))","v":1},1,1,193,208,253,null,0,0,0,1,{"$f":"IF(OR(EcoReviva!$L$6=10,EcoReviva!$L$6=15,EcoReviva!$L$6=20),1,IF(EcoReviva!$K$6<51,1,(1-(EcoReviva!$K$6-50)*0.005)))","v":1},{"$nulls":13},"22015",220,15,10,11.1,21.85,15.5,16.8,27.5,{"$nulls":9},{"$f":"DF46","v":135},{"$f":"BL12","v":{"$error":"#N/A"}},{"$f":"ROUND(IF($BZ$2=1,W12,IF($BZ$2=2,W12*3.412141633,)),0)","v":{"$error":"#N/A"}},{"$f":"IF($BZ$2=1,ROUND(AA12,0),IF($BZ$2=2,ROUND(AA12/272.7654,1),))","v":{"$error":"#N/A"}},{"$f":"IF($BZ$2=1,AE12,IF($BZ$2=2,AE12*0.3346,))","v":{"$error":"#N/A"}},{"$f":"IF(BY12=1,ROUND(IF($BZ$2=1,AR12,IF($BZ$2=2,AR12*3.412141633,)),0),\"\")","v":{"$error":"#N/A"}},{"$f":"IF(BY12=1,IF($BZ$2=1,ROUND(AU12,0),IF($BZ$2=2,ROUND(AU12/272.7654,1),)),\"\")","v":{"$error":"#N/A"}},{"$f":"IF(BY12=1,IF($BZ$2=1,AX12,IF($BZ$2=2,AX12*0.3346,)),\"\")","v":{"$error":"#N/A"}},{"$f":"K12","v":{"$error":"#N/A"}},{"$error":"#N/A"},{"$f":"BB12","v":{"$error":"#N/A"}},{"$f":"DQ46","v":{"$error":"#N/A"}}]
["1508511",null,null,1,50,85,11,10.9,0,26,30,42.4,{"v":847.96,"d":"848"},{"v":1893.633623598571,"d":"1894"},{"v":2037.0140009310799,"d":"2037"},{"v":2480.4,"d":"2480"},1.5,1.1,1.1,1.1,104,408,438,534,18,70,75,92,{"v":3.476078519043321E-3,"d":"0.00"},{"v":0.045006568904168445,"d":"0.05"},{"v":0.05130267581707073,"d":"0.05"},{"v":0.07563559454938021,"d":"0.08"},3.969E-4,1.7346,4,0.000574288,{"v":317.1630191048985,"d":"317"},{"v":341.1776715637832,"d":"341"},{"v":415.44,"d":"415"},0.95,0.95,0.95,317,341,415,136,147,178,{"v":0.15925389557121528,"d":"0.16"},{"v":0.1847408088172763,"d":"0.18"},{"v":0.26629146443369417,"d":"0.27"},1.1,6.7,7.4,10.3,null,1247,null,{"v":0.68,"d":"68%"},null,null,0,12.5,14.7,21.85,null,1,1,1,317,341,415,null,0,0,0,1,{"$f":"IF(OR(EcoReviva!$L$6=10,EcoReviva!$L$6=15,EcoReviva!$L$6=20),1,IF(EcoReviva!$K$6<51,1,(1-(EcoReviva!$K$6-50)*0.005)))","v":1},{"$nulls":13},"24010",240,10,10.4,12.2,21.85,14.8,16.6,28,{"$nulls":9},{"$f":"DF46","v":135},{"$f":"BM12","v":{"$error":"#N/A"}},{"$f":"ROUND(IF($BZ$2=1,X12,IF($BZ$2=2,X12*3.412141633,)),0)","v":{"$error":"#N/A"}},{"$f":"IF($BZ$2=1,ROUND(AB12,0),IF($BZ$2=2,ROUND(AB12/272.7654,1),))","v":{"$error":"#N/A"}},{"$f":"IF($BZ$2=1,AF12,IF($BZ$2=2,AF12*0.3346,))","v":{"$error":"#N/A"}},{"$f":"IF(BY12=1,ROUND(IF($BZ$2=1,AS12,IF($BZ$2=2,AS12*3.412141633,)),0),\"\")","v":{"$error":"#N/A"}},{"$f":"IF(BY12=1,IF($BZ$2=1,ROUND(AV12,0),IF($BZ$2=2,ROUND(AV12/272.7654,1),)),\"\")","v":{"$error":"#N/A"}},{"$f":"IF(BY12=1,IF($BZ$2=1,AY12,IF($BZ$2=2,AY12*0.3346,)),\"\")","v":{"$error":"#N/A"}},{"$f":"L12","v":{"$error":"#N/A"}},{"$error":"#N/A"},{"$f":"BC12","v":{"$error":"#N/A"}},{"$f":"DQ46","v":{"$error":"#N/A"}}]
["1508515",null,null,1,50,85,15,15.9,0,26,30,43.3,{"v":1248.8000000000002,"d":"1249"},{"v":1597.9167676946356,"d":"1598"},{"v":1711.9130538160239,"d":"1712"},{"v":2331.36,"d":"2331"},1.5,1.08,1.08,1.08,154,354,379,516,26,61,65,89,{"v":3.8523255857464567E-3,"d":"0.00"},{"v":0.020289689842679346,"d":"0.02"},{"v":0.022969831330099888,"d":"0.02"},{"v":0.0424643668045612,"d":"0.04"},0.0002083,1.724,2,0.000461829,{"v":218.12205414485143,"d":"218"},{"v":233.68300487544244,"d":"234"},{"v":318.24,"d":"318"},1.01,1.01,1.01,218,234,318,94,101,137,{"v":0.04725919247127702,"d":"0.05"},{"v":0.05439516842211594,"d":"0.05"},{"v":0.09886120911023671,"d":"0.10"},0.9,{"v":7,"d":"7.0"},7.7,10.7,null,1561,null,{"v":0.8,"d":"80%"},null,null,0,11.3,13.2,21.85,null,1,1,1,218,234,318,null,0,0,0,1,{"$f":"IF(OR(EcoReviva!$L$6=10,EcoReviva!$L$6=15,EcoReviva!$L$6=20),1,IF(EcoReviva!$K$6<51,1,(1-(EcoReviva!$K$6-50)*0.005)))","v":1},{"$nulls":13},"24015",240,15,10,10.9,21.85,16.4,17.7,29.7,{"$nulls":9},155,{"$f":"BJ13","v":{"$error":"#N/A"}},{"$f":"ROUND(IF($BZ$2=1,U13,IF($BZ$2=2,U13*3.412141633,)),0)","v":{"$error":"#N/A"}},{"$f":"IF($BZ$2=1,ROUND(Y13,0),IF($BZ$2=2,ROUND(Y13/272.7654,1),))","v":{"$error":"#N/A"}},{"$f":"IF($BZ$2=1,AC13,IF($BZ$2=2,AC13*0.3346,))","v":{"$error":"#N/A"}},{"$nulls":3},{"v":0,"d":"0.0"},{"v":0,"d":"0.0"},{"v":0,"d":"0.0"},{"$f":"IF($BZ$2=1,AZ13,IF($BZ$2=2,AZ13/4.54609,))","v":{"$error":"#N/A"}}]
["1508516",null,null,1,50,85,16,15.9,0,26,30,43.3,{"v":1161.44,"d":"1161"},{"v":2336.669516687492,"d":"2337"},{"v":2503.3688418217644,"d":"2503"},{"v":3409.2,"d":"3409"},1.5,1.1,1.1,1.1,143,503,539,734,25,87,93,126,{"v":0.010012808649686813,"d":"0.01"},{"v":0.1160330210705856,"d":"0.12"},{"v":0.13232434664919263,"d":"0.13"},{"v":0.24078689188077498,"d":"0.24"},0.0002083,1.724,4,1.392796E-3,{"v":357.77938745479025,"d":"358"},{"v":383.3035713454655,"d":"383"},522,0.95,0.95,0.95,358,383,522,154,165,224,{"v":0.35775516318390826,"d":"0.36"},{"v":0.4099511389681995,"d":"0.41"},{"v":0.7498265918859872,"d":"0.75"},1.7,{"v":7,"d":"7.0"},7.7,10.7,null,1708,null,{"v":0.68,"d":"68%"},null,null,0,11.3,13.2,21.85,null,1,1,1,358,383,522,null,0,0,0,1,{"$f":"IF(OR(EcoReviva!$L$6=10,EcoReviva!$L$6=15,EcoReviva!$L$6=20),1,IF(EcoReviva!$K$6<51,1,(1-(EcoReviva!$K$6-50)*0.005)))","v":1},{"$nulls":13},"26010",260,10,10.2,11.9,21.85,16.2,18.6,31.4,{"$nulls":9},{"$f":"DF50","v":155},{"$f":"BK13","v":{"$error":"#N/A"}},{"$f":"ROUND(IF($BZ$2=1,V13,IF($BZ$2=2,V13*3.412141633,)),0)","v":{"$error":"#N/A"}},{"$f":"IF($BZ$2=1,ROUND(Z13,0),IF($BZ$2=2,ROUND(Z13/272.7654,1),))","v":{"$error":"#N/A"}},{"$f":"IF($BZ$2=1,AD13,IF($BZ$2=2,AD13*0.3346,))","v":{"$error":"#N/A"}},{"$f":"IF(BY13=1,ROUND(IF($BZ$2=1,AQ13,IF($BZ$2=2,AQ13*3.412141633,)),0),\"\")","v":{"$error":"#N/A"}},{"$f":"IF(BY13=1,IF($BZ$2=1,ROUND(AT13,0),IF($BZ$2=2,ROUND(AT13/272.7654,1),)),\"\")","v":{"$error":"#N/A"}},{"$f":"IF(BY13=1,IF($BZ$2=1,AW13,IF($BZ$2=2,AW13*0.3346,)),\"\")","v":{"$error":"#N/A"}},{"$f":"J13","v":{"$error":"#N/A"}},{"$f":"IF(DN51=\"\",\"\",DN51+8)","v":{"$error":"#N/A"}},{"$f":"BA13","v":{"$error":"#N/A"}},{"$f":"DQ50","v":{"$error":"#N/A"}}]
["1508520",null,null,1,50,85,20,20.9,0,26,30,43.3,{"v":1746.4,"d":"1746"},{"v":2232.7836804230465,"d":"2233"},{"v":2401.8435041457315,"d":"2402"},{"v":2924.64,"d":"2925"},1.5,1.08,1.08,1.08,215,494,532,647,37,85,92,111,{"v":0.005938207725478628,"d":"0.01"},{"v":0.030374267760031697,"d":"0.03"},{"v":0.03548852239889169,"d":"0.04"},{"v":0.05134575081603946,"d":"0.05"},0.0001276,1.7219,2,3.76611E-4,{"v":275.9373233806916,"d":"276"},{"v":296.8304872184041,"d":"297"},{"v":361.44,"d":"361"},0.95,0.95,0.95,276,297,361,119,128,155,{"v":0.05888429752749112,"d":"0.06"},{"v":0.06797427282305536,"d":"0.07"},{"v":0.09910500308601009,"d":"0.10"},1.1,{"v":7,"d":"7.0"},7.7,10.7,null,2183,null,{"v":0.8,"d":"80%"},null,null,0,11.3,13.2,21.85,null,1,1,1,276,297,361,null,0,0,0,1,{"$f":"IF(OR(EcoReviva!$L$6=10,EcoReviva!$L$6=15,EcoReviva!$L$6=20),1,IF(EcoReviva!$K$6<51,1,(1-(EcoReviva!$K$6-50)*0.005)))","v":1},{"$nulls":13},"26015",260,15,10,10.9,21.85,16.2,18.6,31.4,{"$nulls":9},{"$f":"DF50","v":155},{"$f":"BL13","v":{"$error":"#N/A"}},{"$f":"ROUND(IF($BZ$2=1,W13,IF($BZ$2=2,W13*3.412141633,)),0)","v":{"$error":"#N/A"}},{"$f":"IF($BZ$2=1,ROUND(AA13,0),IF($BZ$2=2,ROUND(AA13/272.7654,1),))","v":{"$error":"#N/A"}},{"$f":"IF($BZ$2=1,AE13,IF($BZ$2=2,AE13*0.3346,))","v":{"$error":"#N/A"}},{"$f":"IF(BY13=1,ROUND(IF($BZ$2=1,AR13,IF($BZ$2=2,AR13*3.412141633,)),0),\"\")","v":{"$error":"#N/A"}},{"$f":"IF(BY13=1,IF($BZ$2=1,ROUND(AU13,0),IF($BZ$2=2,ROUND(AU13/272.7654,1),)),\"\")","v":{"$error":"#N/A"}},{"$f":"IF(BY13=1,IF($BZ$2=1,AX13,IF($BZ$2=2,AX13*0.3346,)),\"\")","v":{"$error":"#N/A"}},{"$f":"K13","v":{"$error":"#N/A"}},{"$error":"#N/A"},{"$f":"BB13","v":{"$error":"#N/A"}},{"$f":"DQ50","v":{"$error":"#N/A"}}]
["1508521",null,null,1,50,85,21,20.9,0,26,30,43.3,{"v":1859.2,"d":"1859"},{"v":3009.294765102498,"d":"3009"},{"v":3223.97955595124,"d":"3224"},{"v":4390.56,"d":"4391"},1.5,1.05,1.05,1.05,229,694,744,1013,39,119,128,174,{"v":0.009603656650984836,"d":"0.01"},{"v":0.08459778652118224,"d":"0.08"},{"v":0.09757056901891073,"d":"0.10"},{"v":0.17803087628378794,"d":"0.18"},0.0001276,1.7219,4,0.000514201,{"v":390.3496489334332,"d":"390"},{"v":418.197413702432,"d":"418"},{"v":569.52,"d":"570"},0.85,0.85,0.85,390,418,570,168,180,245,{"v":0.16619737529757822,"d":"0.17"},{"v":0.19026483730929833,"d":"0.19"},{"v":0.3483797436334536,"d":"0.35"},2.3,{"v":7,"d":"7.0"},7.7,10.7,null,2324,null,{"v":0.8,"d":"80%"},null,null,0,11.3,13.2,21.85,null,1,1,1,390,418,570,null,0,0,0,1,{"$f":"IF(OR(EcoReviva!$L$6=10,EcoReviva!$L$6=15,EcoReviva!$L$6=20),1,IF(EcoReviva!$K$6<51,1,(1-(EcoReviva!$K$6-50)*0.005)))","v":1},{"$nulls":13},"28010",280,10,10.2,11.9,21.85,16.2,18.6,31.4,{"$nulls":9},{"$f":"DF50","v":155},{"$f":"BM13","v":{"$error":"#N/A"}},{"$f":"ROUND(IF($BZ$2=1,X13,IF($BZ$2=2,X13*3.412141633,)),0)","v":{"$error":"#N/A"}},{"$f":"IF($BZ$2=1,ROUND(AB13,0),IF($BZ$2=2,ROUND(AB13/272.7654,1),))","v":{"$error":"#N/A"}},{"$f":"IF($BZ$2=1,AF13,IF($BZ$2=2,AF13*0.3346,))","v":{"$error":"#N/A"}},{"$f":"IF(BY13=1,ROUND(IF($BZ$2=1,AS13,IF($BZ$2=2,AS13*3.412141633,)),0),\"\")","v":{"$error":"#N/A"}},{"$f":"IF(BY13=1,IF($BZ$2=1,ROUND(AV13,0),IF($BZ$2=2,ROUND(AV13/272.7654,1),)),\"\")","v":{"$error":"#N/A"}},{"$f":"IF(BY13=1,IF($BZ$2=1,AY13,IF($BZ$2=2,AY13*0.3346,)),\"\")","v":{"$error":"#N/A"}},{"$f":"L13","v":{"$error":"#N/A"}},{"$error":"#N/A"},{"$f":"BC13","v":{"$error":"#N/A"}},{"$f":"DQ50","v":{"$error":"#N/A"}}]
["1509510",null,null,1,50,95,10,10.9,0,26,30,{"v":43,"d":"43.0"},{"v":968.4,"d":"968"},{"v":1574.3905475253332,"d":"1574"},{"v":1696.1265760133244,"d":"1696"},{"v":2081.98,"d":"2082"},1.5,1.08,1.08,1.08,119,348,375,461,20,60,65,79,{"v":2.5725018876951635E-3,"d":"0.00"},{"v":0.02057471220816803,"d":"0.02"},{"v":0.023958867642405405,"d":"0.02"},{"v":0.03473906172503455,"d":"0.03"},3.969E-4,1.7346,2,0.000367347,{"v":218.26918973175157,"d":"218"},{"v":235.14633901405676,"d":"235"},{"v":288.64,"d":"289"},0.98,0.98,0.98,218,235,289,94,101,124,{"v":0.04840011722229876,"d":"0.05"},{"v":0.05551539250830073,"d":"0.06"},{"v":0.08217748117135597,"d":"0.08"},0.6,7.8,8.7,12.2,null,1076,null,{"v":0.9,"d":"90%"},null,null,0,12.3,14.1,21.85,null,1,1,1,218,235,289,null,0,0,0,1,{"$f":"IF(OR(EcoReviva!$L$6=10,EcoReviva!$L$6=15,EcoReviva!$L$6=20),1,IF(EcoReviva!$K$6<51,1,(1-(EcoReviva!$K$6-50)*0.005)))","v":1},{"$nulls":13},"28015",280,15,10,10.6,21.85,19.3,20.4,34.5,{"$nulls":9},175,{"$f":"BJ14","v":{"$error":"#N/A"}},{"$f":"ROUND(IF($BZ$2=1,U14,IF($BZ$2=2,U14*3.412141633,)),0)","v":{"$error":"#N/A"}},{"$f":"IF($BZ$2=1,ROUND(Y14,0),IF($BZ$2=2,ROUND(Y14/272.7654,1),))","v":{"$error":"#N/A"}},{"$f":"IF($BZ$2=1,AC14,IF($BZ$2=2,AC14*0.3346,))","v":{"$error":"#N/A"}},{"$nulls":3},{"v":0,"d":"0.0"},{"v":0,"d":"0.0"},{"v":0,"d":"0.0"},{"$f":"IF($BZ$2=1,AZ14,IF($BZ$2=2,AZ14/4.54609,))","v":{"$error":"#N/A"}}]
["1509511",null,null,1,50,95,11,10.9,0,26,30,{"v":43,"d":"43.0"},{"v":942.48,"d":"942"},{"v":2136.1856779144437,"d":"2136"},{"v":2301.361187225641,"d":"2301"},{"v":2824.9,"d":"2825"},1.5,1.1,1.1,1.1,116,460,495,608,20,79,85,105,{"v":0.004516212255390326,"d":"0.00"},{"v":0.05966740375926909,"d":"0.06"},{"v":0.06852831063844524,"d":"0.07"},{"v":0.1022518269872987,"d":"0.10"},3.969E-4,1.7346,4,0.000574288,358,385,473,0.95,0.95,0.95,358,385,473,154,166,203,{"v":0.21159659242464665,"d":"0.21"},{"v":0.24406768984283483,"d":"0.24"},{"v":0.35807447221416694,"d":"0.36"},1.3,7.8,8.7,12.2,null,1386,null,{"v":0.68,"d":"68%"},null,null,0,12.3,14.1,21.85,null,1,1,1,358,385,473,null,0,0,0,1,{"$f":"IF(OR(EcoReviva!$L$6=10,EcoReviva!$L$6=15,EcoReviva!$L$6=20),1,IF(EcoReviva!$K$6<51,1,(1-(EcoReviva!$K$6-50)*0.005)))","v":1},{"$nulls":13},"30010",300,10,{"$f":"CQ53","v":10.2},{"$f":"CR53","v":11.9},{"$f":"CS53","v":21.85},16.2,18.6,31.4,{"$nulls":9},{"$f":"DF54","v":175},{"$f":"BK14","v":{"$error":"#N/A"}},{"$f":"ROUND(IF($BZ$2=1,V14,IF($BZ$2=2,V14*3.412141633,)),0)","v":{"$error":"#N/A"}},{"$f":"IF($BZ$2=1,ROUND(Z14,0),IF($BZ$2=2,ROUND(Z14/272.7654,1),))","v":{"$error":"#N/A"}},{"$f":"IF($BZ$2=1,AD14,IF($BZ$2=2,AD14*0.3346,))","v":{"$error":"#N/A"}},{"$f":"IF(BY14=1,ROUND(IF($BZ$2=1,AQ14,IF($BZ$2=2,AQ14*3.412141633,)),0),\"\")","v":{"$error":"#N/A"}},{"$f":"IF(BY14=1,IF($BZ$2=1,ROUND(AT14,0),IF($BZ$2=2,ROUND(AT14/272.7654,1),)),\"\")","v":{"$error":"#N/A"}},{"$f":"IF(BY14=1,IF($BZ$2=1,AW14,IF($BZ$2=2,AW14*0.3346,)),\"\")","v":{"$error":"#N/A"}},{"$f":"J14","v":{"$error":"#N/A"}},{"$f":"IF(DN55=\"\",\"\",DN55+8)","v":{"$error":"#N/A"}},{"$f":"BA14","v":{"$error":"#N/A"}},{"$f":"DQ54","v":{"$error":"#N/A"}}]
["1509515",null,null,1,50,95,15,15.9,0,26,30,44.1,{"v":1387.2,"d":"1387"},{"v":1798.7737222599399,"d":"1799"},{"v":1926.0891717740149,"d":"1926"},{"v":2655.16,"d":"2655"},1.5,1.08,1.08,1.08,171,398,426,588,29,68,73,101,{"v":4.8988854852680935E-3,"d":"0.00"},{"v":0.02567603791283151,"d":"0.03"},{"v":0.02948462937376353,"d":"0.03"},{"v":0.05556035477592839,"d":"0.06"},0.0002083,1.724,2,0.000461829,{"v":245.5398348483303,"d":"246"},{"v":262.9189048561194,"d":"263"},{"v":362.44,"d":"362"},1.01,1.01,1.01,246,263,362,106,113,156,{"v":0.06106050946878845,"d":"0.06"},{"v":0.06918844925610022,"d":"0.07"},{"v":0.13001423299885626,"d":"0.13"},{"v":1,"d":"1.0"},7,7.7,10.7,null,1734,null,{"v":0.8,"d":"80%"},null,null,0,10.9,12.8,21.85,null,1,1,1,246,263,362,null,0,0,0,1,{"$f":"IF(OR(EcoReviva!$L$6=10,EcoReviva!$L$6=15,EcoReviva!$L$6=20),1,IF(EcoReviva!$K$6<51,1,(1-(EcoReviva!$K$6-50)*0.005)))","v":1},{"$nulls":13},"30015",300,15,{"$f":"CQ54","v":10},{"$f":"CR54","v":10.6},21.85,19.3,20.4,34.5,{"$nulls":9},{"$f":"DF54","v":175},{"$f":"BL14","v":{"$error":"#N/A"}},{"$f":"ROUND(IF($BZ$2=1,W14,IF($BZ$2=2,W14*3.412141633,)),0)","v":{"$error":"#N/A"}},{"$f":"IF($BZ$2=1,ROUND(AA14,0),IF($BZ$2=2,ROUND(AA14/272.7654,1),))","v":{"$error":"#N/A"}},{"$f":"IF($BZ$2=1,AE14,IF($BZ$2=2,AE14*0.3346,))","v":{"$error":"#N/A"}},{"$f":"IF(BY14=1,ROUND(IF($BZ$2=1,AR14,IF($BZ$2=2,AR14*3.412141633,)),0),\"\")","v":{"$error":"#N/A"}},{"$f":"IF(BY14=1,IF($BZ$2=1,ROUND(AU14,0),IF($BZ$2=2,ROUND(AU14/272.7654,1),)),\"\")","v":{"$error":"#N/A"}},{"$f":"IF(BY14=1,IF($BZ$2=1,AX14,IF($BZ$2=2,AX14*0.3346,)),\"\")","v":{"$error":"#N/A"}},{"$f":"K14","v":{"$error":"#N/A"}},{"$error":"#N/A"},{"$f":"BB14","v":{"$error":"#N/A"}},{"$f":"DQ54","v":{"$error":"#N/A"}}]
["1509516",null,null,1,50,95,16,15.9,0,26,30,44.1,{"v":1290.64,"d":"1291"},{"v":2630.387144811864,"d":"2630"},{"v":2815.96338120752,"d":"2816"},{"v":3882.7,"d":"3883"},1.5,1.1,1.1,1.1,159,566,606,836,27,97,104,144,{"v":0.011882299240725406,"d":"0.01"},{"v":0.14594603205575019,"d":"0.15"},{"v":0.16738686545518575,"d":"0.17"},{"v":0.3176539950457131,"d":"0.32"},0.0002083,1.724,4,1.392796E-3,403,431,595,0.95,0.95,0.95,403,431,595,173,185,256,{"v":0.4560138189803864,"d":"0.46"},{"v":0.5204737255973791,"d":"0.52"},{"v":0.9878775084227143,"d":"0.99"},1.9,7,7.7,10.7,null,1898,null,{"v":0.68,"d":"68%"},null,null,0,10.9,12.8,21.85,null,1,1,1,403,431,595,null,0,0,0,1,{"$f":"IF(OR(EcoReviva!$L$6=10,EcoReviva!$L$6=15,EcoReviva!$L$6=20),1,IF(EcoReviva!$K$6<51,1,(1-(EcoReviva!$K$6-50)*0.005)))","v":1},{"$nulls":31},{"$f":"DF54","v":175},{"$f":"BM14","v":{"$error":"#N/A"}},{"$f":"ROUND(IF($BZ$2=1,X14,IF($BZ$2=2,X14*3.412141633,)),0)","v":{"$error":"#N/A"}},{"$f":"IF($BZ$2=1,ROUND(AB14,0),IF($BZ$2=2,ROUND(AB14/272.7654,1),))","v":{"$error":"#N/A"}},{"$f":"IF($BZ$2=1,AF14,IF($BZ$2=2,AF14*0.3346,))","v":{"$error":"#N/A"}},{"$f":"IF(BY14=1,ROUND(IF($BZ$2=1,AS14,IF($BZ$2=2,AS14*3.412141633,)),0),\"\")","v":{"$error":"#N/A"}},{"$f":"IF(BY14=1,IF($BZ$2=1,ROUND(AV14,0),IF($BZ$2=2,ROUND(AV14/272.7654,1),)),\"\")","v":{"$error":"#N/A"}},{"$f":"IF(BY14=1,IF($BZ$2=1,AY14,IF($BZ$2=2,AY14*0.3346,)),\"\")","v":{"$error":"#N/A"}},{"$f":"L14","v":{"$error":"#N/A"}},{"$error":"#N/A"},{"$f":"BC14","v":{"$error":"#N/A"}},{"$f":"DQ54","v":{"$error":"#N/A"}}]
["1509520",null,null,1,50,95,20,20.9,0,26,30,44.1,1940,{"v":2518.7768428703835,"d":"2519"},{"v":2713.5353098724395,"d":"2714"},{"v":3330.84,"d":"3331"},1.5,1.08,1.08,1.08,239,557,601,737,41,96,103,127,{"v":0.007410622575084204,"d":"0.01"},{"v":0.039234830700419165,"d":"0.04"},{"v":0.04504870025625431,"d":"0.05"},{"v":0.06798114315416622,"d":"0.07"},0.0001276,1.7219,2,3.76611E-4,{"v":311.2816285378957,"d":"311"},{"v":335.3507448439105,"d":"335"},{"v":411.64,"d":"412"},0.95,0.95,0.95,311,335,412,134,144,177,{"v":0.07554229388267217,"d":"0.08"},{"v":0.08702581586160492,"d":"0.09"},{"v":0.13059886866311132,"d":"0.13"},1.3,7,7.7,10.7,null,2425,null,{"v":0.8,"d":"80%"},null,null,0,10.9,12.8,21.85,null,1,1,1,311,335,412,null,0,0,0,1,{"$f":"IF(OR(EcoReviva!$L$6=10,EcoReviva!$L$6=15,EcoReviva!$L$6=20),1,IF(EcoReviva!$K$6<51,1,(1-(EcoReviva!$K$6-50)*0.005)))","v":1},{"$nulls":31},195,{"$f":"BJ15","v":{"$error":"#N/A"}},{"$f":"ROUND(IF($BZ$2=1,U15,IF($BZ$2=2,U15*3.412141633,)),0)","v":{"$error":"#N/A"}},{"$f":"IF($BZ$2=1,ROUND(Y15,0),IF($BZ$2=2,ROUND(Y15/272.7654,1),))","v":{"$error":"#N/A"}},{"$f":"IF($BZ$2=1,AC15,IF($BZ$2=2,AC15*0.3346,))","v":{"$error":"#N/A"}},{"$nulls":3},{"v":0,"d":"0.0"},{"v":0,"d":"0.0"},{"v":0,"d":"0.0"},{"$f":"IF($BZ$2=1,AZ15,IF($BZ$2=2,AZ15/4.54609,))","v":{"$error":"#N/A"}}]
["1509521",null,null,1,50,95,21,20.9,0,26,30,44.1,{"v":2065.6,"d":"2066"},{"v":3387.5608889256064,"d":"3388"},{"v":3627.3291443724347,"d":"3627"},{"v":5000.36,"d":"5000"},1.5,1.05,1.05,1.05,254,782,837,1154,44,135,144,198,{"v":0.01248062216872971,"d":"0.01"},{"v":0.11061877928243798,"d":"0.11"},{"v":0.12547950505440986,"d":"0.13"},{"v":0.2338717438643225,"d":"0.23"},0.0001276,1.7219,4,0.000514201,{"v":439.4163107806092,"d":"439"},{"v":470.51776864522725,"d":"471"},{"v":648.62,"d":"649"},0.85,0.85,0.85,439,471,649,189,203,279,{"v":0.2135247520208986,"d":"0.21"},{"v":0.24556874906203058,"d":"0.25"},{"v":0.4578017471116067,"d":"0.46"},2.5,7,7.7,10.7,null,2582,null,{"v":0.8,"d":"80%"},null,null,0,10.9,12.8,21.85,null,1,1,1,439,471,649,null,0,0,0,1,{"$f":"IF(OR(EcoReviva!$L$6=10,EcoReviva!$L$6=15,EcoReviva!$L$6=20),1,IF(EcoReviva!$K$6<51,1,(1-(EcoReviva!$K$6-50)*0.005)))","v":1},{"$nulls":31},{"$f":"DF58","v":195},{"$f":"BK15","v":{"$error":"#N/A"}},{"$f":"ROUND(IF($BZ$2=1,V15,IF($BZ$2=2,V15*3.412141633,)),0)","v":{"$error":"#N/A"}},{"$f":"IF($BZ$2=1,ROUND(Z15,0),IF($BZ$2=2,ROUND(Z15/272.7654,1),))","v":{"$error":"#N/A"}},{"$f":"IF($BZ$2=1,AD15,IF($BZ$2=2,AD15*0.3346,))","v":{"$error":"#N/A"}},{"$f":"IF(BY15=1,ROUND(IF($BZ$2=1,AQ15,IF($BZ$2=2,AQ15*3.412141633,)),0),\"\")","v":{"$error":"#N/A"}},{"$f":"IF(BY15=1,IF($BZ$2=1,ROUND(AT15,0),IF($BZ$2=2,ROUND(AT15/272.7654,1),)),\"\")","v":{"$error":"#N/A"}},{"$f":"IF(BY15=1,IF($BZ$2=1,AW15,IF($BZ$2=2,AW15*0.3346,)),\"\")","v":{"$error":"#N/A"}},{"$f":"J15","v":{"$error":"#N/A"}},{"$f":"IF(DN59=\"\",\"\",DN59+8)","v":{"$error":"#N/A"}},{"$f":"BA15","v":{"$error":"#N/A"}},{"$f":"DQ58","v":{"$error":"#N/A"}}]
[{"$f":"CONCATENATE(D60,E60,F60,G60)","v":"15010510"},null,null,1,50,105,10,10.9,0,26,30,43.5,{"$f":"IF($N60-($BE60*$BG60)>100,$BE60*$BG60,$N60-95)","v":{"v":1065.6000000000001,"d":"1066"}},{"v":1766.3893947845202,"d":"1766"},{"v":1902.9712804051933,"d":"1903"},{"v":2335.88,"d":"2336"},1.5,1.08,1.08,1.08,{"$f":"ROUND(M60*POWER(CF_heat,Q60),0)","v":131},{"$f":"ROUND(N60*POWER(CF_heat,R60),0)","v":391},{"$f":"ROUND(O60*POWER(CF_heat,S60),0)","v":421},{"$f":"ROUND(P60*POWER(CF_heat,T60),0)","v":517},{"$f":"ROUND(U60*3600/(4186*ABS($O$1-$O$2)),0)","v":23},{"$f":"ROUND(V60*3600/(4186*ABS($O$1-$O$2)),0)","v":67},{"$f":"ROUND(W60*3600/(4186*ABS($O$1-$O$2)),0)","v":72},{"$f":"ROUND(X60*3600/(4186*ABS($O$1-$O$2)),0)","v":89},{"$f":"(($AG60*(Y60^$AH60)*((($F60-14.4)*$AI60)/100))+($AJ60*(Y60^2)))*0.0098","v":{"v":3.5266528928109063E-3,"d":"0.00"}},{"$f":"(($AG60*(Z60^$AH60)*((($F60-14.4)*$AI60)/100))+($AJ60*(Z60^2)))*0.0098","v":{"v":0.026525531912897235,"d":"0.03"}},{"$f":"(($AG60*(AA60^$AH60)*((($F60-14.4)*$AI60)/100))+($AJ60*(AA60^2)))*0.0098","v":{"v":0.030405815611473666,"d":"0.03"}},{"$f":"(($AG60*(AB60^$AH60)*((($F60-14.4)*$AI60)/100))+($AJ60*(AB60^2)))*0.0098","v":{"v":0.045477613133864156,"d":"0.05"}},{"$f":"IF($G60=$CO$103,CP$103,IF($G60=$CO$104,CP$104,IF($G60=$CO$105,CP$105,IF($G60=$CO$107,CP$107,IF($G60=$CO$108,CP$108,IF($G60=$CO$109,CP$109,IF($G60=$CO$111,CP$111,IF($G60=$CO$112,CP$112,IF($G60=$CO$113,CP$113,IF($G60=$CO$115,CP$115,IF($G60=$CO$116,CP$116,IF($G60=$CO$117,CP$117,IF($G60=$CO$119,CP$119,IF($G60=$CO$120,CP$120,))))))))))))))","v":3.969E-4},{"$f":"IF($G60=$CO$103,CQ$103,IF($G60=$CO$104,CQ$104,IF($G60=$CO$105,CQ$105,IF($G60=$CO$107,CQ$107,IF($G60=$CO$108,CQ$108,IF($G60=$CO$109,CQ$109,IF($G60=$CO$111,CQ$111,IF($G60=$CO$112,CQ$112,IF($G60=$CO$113,CQ$113,IF($G60=$CO$115,CQ$115,IF($G60=$CO$116,CQ$116,IF($G60=$CO$117,CQ$117,IF($G60=$CO$119,CQ$119,IF($G60=$CO$120,CQ$120,))))))))))))))","v":1.7346},{"$f":"IF($G60=$CO$103,CR$103,IF($G60=$CO$104,CR$104,IF($G60=$CO$105,CR$105,IF($G60=$CO$107,CR$107,IF($G60=$CO$108,CR$108,IF($G60=$CO$109,CR$109,IF($G60=$CO$111,CR$111,IF($G60=$CO$112,CR$112,IF($G60=$CO$113,CR$113,IF($G60=$CO$115,CR$115,IF($G60=$CO$116,CR$116,IF($G60=$CO$117,CR$117,IF($G60=$CO$119,CR$119,IF($G60=$CO$120,CR$120,))))))))))))))","v":2},{"$f":"IF($G60=$CO$103,CS$103,IF($G60=$CO$104,CS$104,IF($G60=$CO$105,CS$105,IF($G60=$CO$107,CS$107,IF($G60=$CO$108,CS$108,IF($G60=$CO$109,CS$109,IF($G60=$CO$111,CS$111,IF($G60=$CO$112,CS$112,IF($G60=$CO$113,CS$113,IF($G60=$CO$115,CS$115,IF($G60=$CO$116,CS$116,IF($G60=$CO$117,CS$117,IF($G60=$CO$119,CS$119,IF($G60=$CO$120,CS$120,))))))))))))))","v":0.000367347},{"v":244.88738360147738,"d":"245"},{"v":263.82272182064906,"d":"264"},{"v":323.84,"d":"324"},0.98,0.98,0.98,{"$f":"ROUND(AK60*BZ60*POWER(CF_cool,AN60),0)","v":245},{"$f":"ROUND(AL60*BZ60*POWER(CF_cool,AO60),0)","v":264},{"$f":"ROUND(AM60*BZ60*POWER(CF_cool,AP60),0)","v":324},{"$f":"ROUND(AQ60*3600/(4186*ABS($AM$1-$AM$2)),0)","v":105},{"$f":"ROUND(AR60*3600/(4186*ABS($AM$1-$AM$2)),0)","v":114},{"$f":"ROUND(AS60*3600/(4186*ABS($AM$1-$AM$2)),0)","v":139},{"$f":"(($AG60*(AT60^$AH60)*((($F60-14.4)*$AI60)/100))+($AJ60*(AT60^2)))*0.0098","v":{"v":0.06228542181644704,"d":"0.06"}},{"$f":"(($AG60*(AU60^$AH60)*((($F60-14.4)*$AI60)/100))+($AJ60*(AU60^2)))*0.0098","v":{"v":0.0728454944892387,"d":"0.07"}},{"$f":"(($AG60*(AV60^$AH60)*((($F60-14.4)*$AI60)/100))+($AJ60*(AV60^2)))*0.0098","v":{"v":0.10631250851948267,"d":"0.11"}},{"$f":"ROUND(IF(G60=10,$CO$92*F60,IF(G60=11,$CO$93*F60,IF(G60=15,$CO$94*F60,IF(G60=16,$CO$95*F60,IF(G60=20,$CO$96*F60,IF(G60=21,$CO$97*F60,)))))),1)","v":0.7},8.4,9.3,{"v":14,"d":"14.0"},null,1184,null,{"$f":"IF(G60=10,0.9,IF(G60=11,0.68,IF(G60=15,0.8,IF(G60=16,0.68,IF(G60=20,0.8,IF(G60=21,0.8))))))","v":{"v":0.9,"d":"90%"}},null,null,0,12,13.9,21.85,null,1,1,1,{"$f":"AQ60/BO60","v":245},{"$f":"AR60/BP60","v":264},{"$f":"AS60/BQ60","v":324},null,{"$f":"BR60-AQ60","v":0},{"$f":"BS60-AR60","v":0},{"$f":"BT60-AS60","v":0},{"$f":"IF(SUM(BV60:BX60)=0,1,0)","v":1},{"$f":"IF(OR(EcoReviva!$L$6=10,EcoReviva!$L$6=15,EcoReviva!$L$6=20),1,IF(EcoReviva!$K$6<51,1,(1-(EcoReviva!$K$6-50)*0.005)))","v":1},{"$nulls":13},"L,rail/L,tot","T10","T11","T15","T16","T20","T21","ALS",{"$nulls":10},{"$f":"DF58","v":195},{"$f":"BL15","v":{"$error":"#N/A"}},{"$f":"ROUND(IF($BZ$2=1,W15,IF($BZ$2=2,W15*3.412141633,)),0)","v":{"$error":"#N/A"}},{"$f":"IF($BZ$2=1,ROUND(AA15,0),IF($BZ$2=2,ROUND(AA15/272.7654,1),))","v":{"$error":"#N/A"}},{"$f":"IF($BZ$2=1,AE15,IF($BZ$2=2,AE15*0.3346,))","v":{"$error":"#N/A"}},{"$f":"IF(BY15=1,ROUND(IF($BZ$2=1,AR15,IF($BZ$2=2,AR15*3.412141633,)),0),\"\")","v":{"$error":"#N/A"}},{"$f":"IF(BY15=1,IF($BZ$2=1,ROUND(AU15,0),IF($BZ$2=2,ROUND(AU15/272.7654,1),)),\"\")","v":{"$error":"#N/A"}},{"$f":"IF(BY15=1,IF($BZ$2=1,AX15,IF($BZ$2=2,AX15*0.3346,)),\"\")","v":{"$error":"#N/A"}},{"$f":"K15","v":{"$error":"#N/A"}},{"$error":"#N/A"},{"$f":"BB15","v":{"$error":"#N/A"}},{"$f":"DQ58","v":{"$error":"#N/A"}}]
["15010511",null,null,1,50,105,11,10.9,0,26,30,43.5,1037,{"v":2396.6961264405954,"d":"2397"},{"v":2582.014990545841,"d":"2582"},{"v":3169.4,"d":"3169"},1.5,1.1,1.1,1.1,128,516,556,682,22,89,96,117,{"v":5.727698745661502E-3,"d":"0.01"},{"v":0.0785035821929283,"d":"0.08"},{"v":0.09055289392035802,"d":"0.09"},{"v":0.13156384559279224,"d":"0.13"},3.969E-4,1.7346,4,0.000574288,{"v":401.4205123240127,"d":"401"},{"v":432.4594048025981,"d":"432"},{"v":530.84,"d":"531"},0.95,0.95,0.95,401,432,531,172,186,228,{"v":0.27287525592704986,"d":"0.27"},{"v":0.31654779975785496,"d":"0.32"},{"v":0.46601505764578843,"d":"0.47"},1.4,8.4,9.3,{"v":14,"d":"14.0"},null,1525,null,{"v":0.68,"d":"68%"},null,null,0,12,13.9,21.85,null,1,1,1,401,432,531,null,0,0,0,1,{"$f":"IF(OR(EcoReviva!$L$6=10,EcoReviva!$L$6=15,EcoReviva!$L$6=20),1,IF(EcoReviva!$K$6<51,1,(1-(EcoReviva!$K$6-50)*0.005)))","v":1},{"$nulls":13},1,{"v":0.9,"d":"90%"},{"v":0.68,"d":"68%"},{"v":0.8,"d":"80%"},{"v":0.68,"d":"68%"},{"v":0.8,"d":"80%"},{"v":0.8,"d":"80%"},{"$f":"IF(#REF!/#REF!>data!CN$61,0,IF(#REF!/#REF!=data!CN$61,data!CO$61,IF(#REF!/#REF!>data!CN$62,data!CO$62,IF(#REF!/#REF!>data!CN$63,data!CO$63,IF(#REF!/#REF!>data!CN$64,data!CO$64,IF(#REF!/#REF!>data!CN$65,data!CO$65,IF(#REF!/#REF!>data!CN$66,data!CO$66,IF(#REF!/#REF!=data!CN$66,1,))))))))","v":{"$error":"#REF!"}},"T10",{"$nulls":9},{"$f":"DF58","v":195},{"$f":"BM15","v":{"$error":"#N/A"}},{"$f":"ROUND(IF($BZ$2=1,X15,IF($BZ$2=2,X15*3.412141633,)),0)","v":{"$error":"#N/A"}},{"$f":"IF($BZ$2=1,ROUND(AB15,0),IF($BZ$2=2,ROUND(AB15/272.7654,1),))","v":{"$error":"#N/A"}},{"$f":"IF($BZ$2=1,AF15,IF($BZ$2=2,AF15*0.3346,))","v":{"$error":"#N/A"}},{"$f":"IF(BY15=1,ROUND(IF($BZ$2=1,AS15,IF($BZ$2=2,AS15*3.412141633,)),0),\"\")","v":{"$error":"#N/A"}},{"$f":"IF(BY15=1,IF($BZ$2=1,ROUND(AV15,0),IF($BZ$2=2,ROUND(AV15/272.7654,1),)),\"\")","v":{"$error":"#N/A"}},{"$f":"IF(BY15=1,IF($BZ$2=1,AY15,IF($BZ$2=2,AY15*0.3346,)),\"\")","v":{"$error":"#N/A"}},{"$f":"L15","v":{"$error":"#N/A"}},{"$error":"#N/A"},{"$f":"BC15","v":{"$error":"#N/A"}},{"$f":"DQ58","v":{"$error":"#N/A"}}]
["15010515",null,null,1,50,105,15,15.9,0,26,30,44.1,{"v":1525.6000000000001,"d":"1526"},{"v":1908.150188257796,"d":"1908"},{"v":2043.2071973479594,"d":"2043"},{"v":2816.6099999999997,"d":"2817"},1.5,1.08,1.08,1.08,188,422,452,623,32,73,78,107,{"v":0.006089844947460529,"d":"0.01"},{"v":0.030150383630830967,"d":"0.03"},{"v":0.034297247457426905,"d":"0.03"},{"v":0.06347818201965448,"d":"0.06"},0.0002083,1.724,2,0.000461829,{"v":249.80785427097814,"d":"250"},{"v":267.48901053042016,"d":"267"},{"v":368.74,"d":"369"},1.01,1.01,1.01,250,267,369,108,115,159,{"v":0.06463977259059576,"d":"0.06"},{"v":0.07305968502912433,"d":"0.07"},{"v":0.13750235446624484,"d":"0.14"},1.1,7.9,8.8,12.5,null,1907,null,{"v":0.8,"d":"80%"},null,null,0,10.9,12.8,21.85,null,1,1,1,250,267,369,null,0,0,0,1,{"$f":"IF(OR(EcoReviva!$L$6=10,EcoReviva!$L$6=15,EcoReviva!$L$6=20),1,IF(EcoReviva!$K$6<51,1,(1-(EcoReviva!$K$6-50)*0.005)))","v":1},{"$nulls":13},0.8,{"$f":"CO$66-((CO$66-CO$61)*$CN62)","v":{"v":0.92,"d":"92%"}},{"$f":"CP$66-((CP$66-CP$61)*$CN62)","v":{"v":0.744,"d":"74%"}},{"v":0.8400000000000001,"d":"84%"},{"v":0.744,"d":"74%"},{"v":0.8400000000000001,"d":"84%"},{"v":0.8400000000000001,"d":"84%"},{"$f":"IF(#REF!/#REF!>data!CN$61,0,IF(#REF!/#REF!=data!CN$61,data!CP$61,IF(#REF!/#REF!>data!CN$62,data!CP$62,IF(#REF!/#REF!>data!CN$63,data!CP$63,IF(#REF!/#REF!>data!CN$64,data!CP$64,IF(#REF!/#REF!>data!CN$65,data!CP$65,IF(#REF!/#REF!>data!CN$66,data!CP$66,IF(#REF!/#REF!=data!CN$66,1,))))))))","v":{"$error":"#REF!"}},"T11",{"$nulls":9},215,{"$f":"BJ16","v":{"$error":"#N/A"}},{"$f":"ROUND(IF($BZ$2=1,U16,IF($BZ$2=2,U16*3.412141633,)),0)","v":{"$error":"#N/A"}},{"$f":"IF($BZ$2=1,ROUND(Y16,0),IF($BZ$2=2,ROUND(Y16/272.7654,1),))","v":{"$error":"#N/A"}},{"$f":"IF($BZ$2=1,AC16,IF($BZ$2=2,AC16*0.3346,))","v":{"$error":"#N/A"}},{"$nulls":3},{"v":0,"d":"0.0"},{"v":0,"d":"0.0"},{"v":0,"d":"0.0"},{"$f":"IF($BZ$2=1,AZ16,IF($BZ$2=2,AZ16/4.54609,))","v":{"$error":"#N/A"}}]
["15010516",null,null,1,50,105,16,15.9,0,26,30,44.1,{"v":1419.8400000000001,"d":"1420"},{"v":2849.7497938679544,"d":"2850"},{"v":3051.4523045945984,"d":"3051"},{"v":4206.5,"d":"4207"},1.5,1.1,1.1,1.1,175,613,657,905,30,105,113,156,{"v":0.01488857823023232,"d":"0.01"},{"v":0.17305996232227613,"d":"0.17"},{"v":0.1999110657396367,"d":"0.20"},{"v":0.37684535521593787,"d":"0.38"},0.0002083,1.724,4,1.392796E-3,{"v":407.83296705301524,"d":"408"},{"v":436.69898665540194,"d":"437"},602,0.95,0.95,0.95,408,437,602,175,188,259,{"v":0.47247584564558287,"d":"0.47"},{"v":0.5440486747207209,"d":"0.54"},{"v":1.0226767095546243,"d":"1.02"},2.1,7.9,8.8,12.5,null,2088,null,{"v":0.68,"d":"68%"},null,null,0,10.9,12.8,21.85,null,1,1,1,408,437,602,null,0,0,0,1,{"$f":"IF(OR(EcoReviva!$L$6=10,EcoReviva!$L$6=15,EcoReviva!$L$6=20),1,IF(EcoReviva!$K$6<51,1,(1-(EcoReviva!$K$6-50)*0.005)))","v":1},{"$nulls":13},0.6,{"$f":"CO$66-((CO$66-CO$61)*$CN63)","v":{"v":0.9400000000000001,"d":"94%"}},{"v":0.808,"d":"81%"},{"v":0.88,"d":"88%"},{"v":0.808,"d":"81%"},{"v":0.88,"d":"88%"},{"v":0.88,"d":"88%"},{"$f":"IF(#REF!/#REF!>data!CN$61,0,IF(#REF!/#REF!=data!CN$61,data!CQ$61,IF(#REF!/#REF!>data!CN$62,data!CQ$62,IF(#REF!/#REF!>data!CN$63,data!CQ$63,IF(#REF!/#REF!>data!CN$64,data!CQ$64,IF(#REF!/#REF!>data!CN$65,data!CQ$65,IF(#REF!/#REF!>data!CN$66,data!CQ$66,IF(#REF!/#REF!=data!CN$66,1,))))))))","v":{"$error":"#REF!"}},"T15",{"$nulls":9},{"$f":"DF62","v":215},{"$f":"BK16","v":{"$error":"#N/A"}},{"$f":"ROUND(IF($BZ$2=1,V16,IF($BZ$2=2,V16*3.412141633,)),0)","v":{"$error":"#N/A"}},{"$f":"IF($BZ$2=1,ROUND(Z16,0),IF($BZ$2=2,ROUND(Z16/272.7654,1),))","v":{"$error":"#N/A"}},{"$f":"IF($BZ$2=1,AD16,IF($BZ$2=2,AD16*0.3346,))","v":{"$error":"#N/A"}},{"$f":"IF(BY16=1,ROUND(IF($BZ$2=1,AQ16,IF($BZ$2=2,AQ16*3.412141633,)),0),\"\")","v":{"$error":"#N/A"}},{"$f":"IF(BY16=1,IF($BZ$2=1,ROUND(AT16,0),IF($BZ$2=2,ROUND(AT16/272.7654,1),)),\"\")","v":{"$error":"#N/A"}},{"$f":"IF(BY16=1,IF($BZ$2=1,AW16,IF($BZ$2=2,AW16*0.3346,)),\"\")","v":{"$error":"#N/A"}},{"$f":"J16","v":{"$error":"#N/A"}},{"$error":"#N/A"},{"$f":"BA16","v":{"$error":"#N/A"}},{"$f":"DQ62","v":{"$error":"#N/A"}}]
["15010520",null,null,1,50,105,20,20.9,0,26,30,44.1,{"v":2134.4,"d":"2134"},{"v":2692.551301713082,"d":"2693"},{"v":2900.746468081386,"d":"2901"},{"v":3560.6400000000003,"d":"3561"},1.5,1.08,1.08,1.08,263,596,642,788,45,103,110,136,{"v":0.009065693202517202,"d":"0.01"},{"v":0.04577985813293599,"d":"0.05"},{"v":0.05207691121976978,"d":"0.05"},{"v":0.07895475907746309,"d":"0.08"},0.0001276,1.7219,2,3.76611E-4,{"v":317.1799783158463,"d":"317"},{"v":341.7051705794622,"d":"342"},{"v":419.44,"d":"419"},0.95,0.95,0.95,317,342,419,136,147,180,{"v":0.07895475907746309,"d":"0.08"},{"v":0.09197613177291752,"d":"0.09"},{"v":0.13690315122503133,"d":"0.14"},1.4,7.9,8.8,12.5,null,2668,null,{"v":0.8,"d":"80%"},null,null,0,10.9,12.8,21.85,null,1,1,1,317,342,419,null,0,0,0,1,{"$f":"IF(OR(EcoReviva!$L$6=10,EcoReviva!$L$6=15,EcoReviva!$L$6=20),1,IF(EcoReviva!$K$6<51,1,(1-(EcoReviva!$K$6-50)*0.005)))","v":1},{"$nulls":13},0.4,{"v":0.96,"d":"96%"},{"v":0.872,"d":"87%"},{"v":0.92,"d":"92%"},{"v":0.872,"d":"87%"},{"v":0.92,"d":"92%"},{"v":0.92,"d":"92%"},{"$f":"IF(#REF!/#REF!>data!CN$61,0,IF(#REF!/#REF!=data!CN$61,data!CR$61,IF(#REF!/#REF!>data!CN$62,data!CR$62,IF(#REF!/#REF!>data!CN$63,data!CR$63,IF(#REF!/#REF!>data!CN$64,data!CR$64,IF(#REF!/#REF!>data!CN$65,data!CR$65,IF(#REF!/#REF!>data!CN$66,data!CR$66,IF(#REF!/#REF!=data!CN$66,1,))))))))","v":{"$error":"#REF!"}},"T16",{"$nulls":9},{"$f":"DF62","v":215},{"$f":"BL16","v":{"$error":"#N/A"}},{"$f":"ROUND(IF($BZ$2=1,W16,IF($BZ$2=2,W16*3.412141633,)),0)","v":{"$error":"#N/A"}},{"$f":"IF($BZ$2=1,ROUND(AA16,0),IF($BZ$2=2,ROUND(AA16/272.7654,1),))","v":{"$error":"#N/A"}},{"$f":"IF($BZ$2=1,AE16,IF($BZ$2=2,AE16*0.3346,))","v":{"$error":"#N/A"}},{"$f":"IF(BY16=1,ROUND(IF($BZ$2=1,AR16,IF($BZ$2=2,AR16*3.412141633,)),0),\"\")","v":{"$error":"#N/A"}},{"$f":"IF(BY16=1,IF($BZ$2=1,ROUND(AU16,0),IF($BZ$2=2,ROUND(AU16/272.7654,1),)),\"\")","v":{"$error":"#N/A"}},{"$f":"IF(BY16=1,IF($BZ$2=1,AX16,IF($BZ$2=2,AX16*0.3346,)),\"\")","v":{"$error":"#N/A"}},{"$f":"K16","v":{"$error":"#N/A"}},{"$error":"#N/A"},{"$f":"BB16","v":{"$error":"#N/A"}},{"$f":"DQ62","v":{"$error":"#N/A"}}]
["15010521",null,null,1,50,105,21,20.9,0,26,30,44.1,2272,{"v":3556.1815292902165,"d":"3556"},{"v":3807.8845891872675,"d":"3808"},{"v":5249.259999999999,"d":"5249"},1.5,1.05,1.05,1.05,280,821,879,1211,48,141,151,208,{"v":0.015168151219401333,"d":"0.02"},{"v":0.12293498827709315,"d":"0.12"},{"v":0.1404984277018061,"d":"0.14"},{"v":0.2624509734775697,"d":"0.26"},0.0001276,1.7219,4,0.000514201,{"v":445.6489740644759,"d":"446"},{"v":477.1915737569045,"d":"477"},{"v":657.82,"d":"658"},0.85,0.85,0.85,446,477,658,192,205,283,{"v":0.2244791392513344,"d":"0.22"},{"v":0.25510961450419195,"d":"0.26"},{"v":0.4790905978356112,"d":"0.48"},2.8,7.9,8.8,12.5,null,2840,null,{"v":0.8,"d":"80%"},null,null,0,10.9,12.8,21.85,null,1,1,1,446,477,658,null,0,0,0,1,{"$f":"IF(OR(EcoReviva!$L$6=10,EcoReviva!$L$6=15,EcoReviva!$L$6=20),1,IF(EcoReviva!$K$6<51,1,(1-(EcoReviva!$K$6-50)*0.005)))","v":1},{"$nulls":13},0.2,{"v":0.98,"d":"98%"},{"v":0.936,"d":"94%"},{"v":0.96,"d":"96%"},{"v":0.936,"d":"94%"},{"v":0.96,"d":"96%"},{"v":0.96,"d":"96%"},{"$f":"IF(#REF!/#REF!>data!CN$61,0,IF(#REF!/#REF!=data!CN$61,data!CS$61,IF(#REF!/#REF!>data!CN$62,data!CS$62,IF(#REF!/#REF!>data!CN$63,data!CS$63,IF(#REF!/#REF!>data!CN$64,data!CS$64,IF(#REF!/#REF!>data!CN$65,data!CS$65,IF(#REF!/#REF!>data!CN$66,data!CS$66,IF(#REF!/#REF!=data!CN$66,1,))))))))","v":{"$error":"#REF!"}},"T20",{"$nulls":9},{"$f":"DF62","v":215},{"$f":"BM16","v":{"$error":"#N/A"}},{"$f":"ROUND(IF($BZ$2=1,X16,IF($BZ$2=2,X16*3.412141633,)),0)","v":{"$error":"#N/A"}},{"$f":"IF($BZ$2=1,ROUND(AB16,0),IF($BZ$2=2,ROUND(AB16/272.7654,1),))","v":{"$error":"#N/A"}},{"$f":"IF($BZ$2=1,AF16,IF($BZ$2=2,AF16*0.3346,))","v":{"$error":"#N/A"}},{"$f":"IF(BY16=1,ROUND(IF($BZ$2=1,AS16,IF($BZ$2=2,AS16*3.412141633,)),0),\"\")","v":{"$error":"#N/A"}},{"$f":"IF(BY16=1,IF($BZ$2=1,ROUND(AV16,0),IF($BZ$2=2,ROUND(AV16/272.7654,1),)),\"\")","v":{"$error":"#N/A"}},{"$f":"IF(BY16=1,IF($BZ$2=1,AY16,IF($BZ$2=2,AY16*0.3346,)),\"\")","v":{"$error":"#N/A"}},{"$f":"L16","v":{"$error":"#N/A"}},{"$error":"#N/A"},{"$f":"BC16","v":{"$error":"#N/A"}},{"$f":"DQ62","v":{"$error":"#N/A"}}]
["15011510",null,null,1,50,115,10,10.9,0,26,30,{"v":44,"d":"44.0"},{"v":1161.9,"d":"1162"},{"v":1924.9914127028867,"d":"1925"},{"v":2079.6202422788024,"d":"2080"},{"v":2589.78,"d":"2590"},1.5,1.08,1.08,1.08,143,426,460,573,25,73,79,99,{"v":0.004331622475004566,"d":"0.00"},{"v":0.03253974428568901,"d":"0.03"},{"v":0.03778408851918704,"d":"0.04"},{"v":0.05793860029983873,"d":"0.06"},3.969E-4,1.7346,2,0.000367347,{"v":266.87553260000635,"d":"267"},{"v":288.31284965818764,"d":"288"},{"v":359.04,"d":"359"},0.98,0.98,0.98,267,288,359,115,124,154,{"v":0.07698796723734505,"d":"0.08"},{"v":0.08883352880057582,"d":"0.09"},{"v":0.13413142791779115,"d":"0.13"},0.8,8.9,9.9,14.8,null,1291,null,{"v":0.9,"d":"90%"},null,null,0,11.8,13.7,21.85,null,1,1,1,267,288,359,null,0,0,0,1,{"$f":"IF(OR(EcoReviva!$L$6=10,EcoReviva!$L$6=15,EcoReviva!$L$6=20),1,IF(EcoReviva!$K$6<51,1,(1-(EcoReviva!$K$6-50)*0.005)))","v":1},{"$nulls":13},0,{"v":1,"d":"100%"},{"v":1,"d":"100%"},{"v":1,"d":"100%"},{"v":1,"d":"100%"},{"v":1,"d":"100%"},{"v":1,"d":"100%"},{"$f":"IF(#REF!/#REF!>data!CN$61,0,IF(#REF!/#REF!=data!CN$61,data!CT$61,IF(#REF!/#REF!>data!CN$62,data!CT$62,IF(#REF!/#REF!>data!CN$63,data!CT$63,IF(#REF!/#REF!>data!CN$64,data!CT$64,IF(#REF!/#REF!>data!CN$65,data!CT$65,IF(#REF!/#REF!>data!CN$66,data!CT$66,IF(#REF!/#REF!=data!CN$66,1,))))))))","v":{"$error":"#REF!"}},"T21",{"$nulls":9},235,{"$f":"BJ17","v":{"$error":"#N/A"}},{"$f":"ROUND(IF($BZ$2=1,U17,IF($BZ$2=2,U17*3.412141633,)),0)","v":{"$error":"#N/A"}},{"$f":"IF($BZ$2=1,ROUND(Y17,0),IF($BZ$2=2,ROUND(Y17/272.7654,1),))","v":{"$error":"#N/A"}},{"$f":"IF($BZ$2=1,AC17,IF($BZ$2=2,AC17*0.3346,))","v":{"$error":"#N/A"}},{"$nulls":3},{"v":0,"d":"0.0"},{"v":0,"d":"0.0"},{"v":0,"d":"0.0"},{"$f":"IF($BZ$2=1,AZ17,IF($BZ$2=2,AZ17/4.54609,))","v":{"$error":"#N/A"}}]
["15011511",null,null,1,50,115,11,10.9,0,26,30,{"v":44,"d":"44.0"},{"v":1130.8400000000001,"d":"1131"},{"v":2611.892641497221,"d":"2612"},{"v":2821.6982019103875,"d":"2822"},{"v":3513.9,"d":"3514"},1.5,1.1,1.1,1.1,139,562,607,756,24,97,104,130,{"v":7.1203817467563445E-3,"d":"0.01"},{"v":0.09668808252860915,"d":"0.10"},{"v":0.11022541980712858,"d":"0.11"},{"v":0.16779297056025558,"d":"0.17"},3.969E-4,1.7346,4,0.000574288,437,473,589,0.95,0.95,0.95,437,473,589,188,203,253,{"v":0.33673907888573174,"d":"0.34"},{"v":0.3893770273339106,"d":"0.39"},{"v":0.5909283669618398,"d":"0.59"},1.5,8.9,9.9,14.8,null,1663,null,{"v":0.68,"d":"68%"},null,null,0,11.8,13.7,21.85,null,1,1,1,437,473,589,null,0,0,0,1,{"$f":"IF(OR(EcoReviva!$L$6=10,EcoReviva!$L$6=15,EcoReviva!$L$6=20),1,IF(EcoReviva!$K$6<51,1,(1-(EcoReviva!$K$6-50)*0.005)))","v":1},{"$nulls":31},{"$f":"DF66","v":235},{"$f":"BK17","v":{"$error":"#N/A"}},{"$f":"ROUND(IF($BZ$2=1,V17,IF($BZ$2=2,V17*3.412141633,)),0)","v":{"$error":"#N/A"}},{"$f":"IF($BZ$2=1,ROUND(Z17,0),IF($BZ$2=2,ROUND(Z17/272.7654,1),))","v":{"$error":"#N/A"}},{"$f":"IF($BZ$2=1,AD17,IF($BZ$2=2,AD17*0.3346,))","v":{"$error":"#N/A"}},{"$f":"IF(BY17=1,ROUND(IF($BZ$2=1,AQ17,IF($BZ$2=2,AQ17*3.412141633,)),0),\"\")","v":{"$error":"#N/A"}},{"$f":"IF(BY17=1,IF($BZ$2=1,ROUND(AT17,0),IF($BZ$2=2,ROUND(AT17/272.7654,1),)),\"\")","v":{"$error":"#N/A"}},{"$f":"IF(BY17=1,IF($BZ$2=1,AW17,IF($BZ$2=2,AW17*0.3346,)),\"\")","v":{"$error":"#N/A"}},{"$f":"J17","v":{"$error":"#N/A"}},{"$error":"#N/A"},{"$f":"BA17","v":{"$error":"#N/A"}},{"$f":"DQ66","v":{"$error":"#N/A"}}]
["15011515",null,null,1,50,115,15,15.9,0,26,30,44.8,{"v":1664.8000000000002,"d":"1665"},{"v":2216.907386575515,"d":"2217"},{"v":2373.994898330778,"d":"2374"},{"v":3302.76,"d":"3303"},1.5,{"$f":"IF($G68=10,1.08,IF($G68=11,1.1,IF($G68=15,1.08,IF($G68=16,1.1,IF($G68=20,1.08,IF($G68=21,1.05))))))","v":1.08},1.08,1.08,205,491,525,731,35,84,90,126,{"v":0.007430148329736049,"d":"0.01"},{"v":0.04046593822997934,"d":"0.04"},{"v":0.0462685261497506,"d":"0.05"},{"v":0.08901613549484791,"d":"0.09"},0.0002083,1.724,2,0.000461829,{"v":302.61675876046246,"d":"303"},{"v":324.0598347937627,"d":"324"},{"v":450.84,"d":"451"},{"$f":"IF($G68=10,0.98,IF($G68=11,0.95,IF($G68=15,1.01,IF($G68=16,0.95,IF($G68=20,0.95,IF($G68=21,0.85))))))","v":1.01},1.01,1.01,303,324,451,130,139,194,{"v":0.09460075506253648,"d":"0.09"},{"v":0.10777367100026078,"d":"0.11"},{"v":0.20645483581549412,"d":"0.21"},1.2,8.7,9.8,14.3,null,2081,null,{"v":0.8,"d":"80%"},null,null,0,10.6,12.5,21.85,null,{"$f":"IF((237.3*LN(($AQ$1*EXP(17.27*($AM$3/($AM$3+237.3))))))/(17.27-LN(($AQ$1*EXP(17.27*($AM$3/($AM$3+237.3))))))<(($AM$1+$AM$2)/2),1,IF(1/(1+((2258*((0.622/((101325/(1*611*EXP(17.27*((($AM$1+$AM$2)/2)/((($AM$1+$AM$2)/2)+237.3))))))-1)*1000-(0.622/((101325/($AQ$1*611*EXP(17.27*($AM$3/($AM$3+237.3))))))-1)*1000))/(1005*((($AM$1+$AM$2)/2)-$AM$3))))>1,1,1/(1+((2258*((0.622/((101325/(1*611*EXP(17.27*((($AM$1+$AM$2)/2)/((($AM$1+$AM$2)/2)+237.3))))))-1)*1000-(0.622/((101325/($AQ$1*611*EXP(17.27*($AM$3/($AM$3+237.3))))))-1)*1000))/(1005*((($AM$1+$AM$2)/2)-$AM$3))))))","v":1},1,1,303,324,451,null,0,0,0,1,{"$f":"IF(OR(EcoReviva!$L$6=10,EcoReviva!$L$6=15,EcoReviva!$L$6=20),1,IF(EcoReviva!$K$6<51,1,(1-(EcoReviva!$K$6-50)*0.005)))","v":1},{"$nulls":31},{"$f":"DF66","v":235},{"$f":"BL17","v":{"$error":"#N/A"}},{"$f":"ROUND(IF($BZ$2=1,W17,IF($BZ$2=2,W17*3.412141633,)),0)","v":{"$error":"#N/A"}},{"$f":"IF($BZ$2=1,ROUND(AA17,0),IF($BZ$2=2,ROUND(AA17/272.7654,1),))","v":{"$error":"#N/A"}},{"$f":"IF($BZ$2=1,AE17,IF($BZ$2=2,AE17*0.3346,))","v":{"$error":"#N/A"}},{"$f":"IF(BY17=1,ROUND(IF($BZ$2=1,AR17,IF($BZ$2=2,AR17*3.412141633,)),0),\"\")","v":{"$error":"#N/A"}},{"$f":"IF(BY17=1,IF($BZ$2=1,ROUND(AU17,0),IF($BZ$2=2,ROUND(AU17/272.7654,1),)),\"\")","v":{"$error":"#N/A"}},{"$f":"IF(BY17=1,IF($BZ$2=1,AX17,IF($BZ$2=2,AX17*0.3346,)),\"\")","v":{"$error":"#N/A"}},{"$f":"K17","v":{"$error":"#N/A"}},{"$error":"#N/A"},{"$f":"BB17","v":{"$error":"#N/A"}},{"$f":"DQ66","v":{"$error":"#N/A"}}]
["15011516",null,null,1,50,115,16,15.9,0,26,30,44.8,{"v":1549.0400000000002,"d":"1549"},{"v":3241.8333772189817,"d":"3242"},{"v":3471.5459677567114,"d":"3472"},{"v":4829.7,"d":"4830"},1.5,1.1,1.1,1.1,191,698,747,1039,33,120,128,179,{"v":0.01827213284174343,"d":"0.02"},{"v":0.2281073597843264,"d":"0.23"},{"v":0.2589016077517186,"d":"0.26"},{"v":0.500217469957959,"d":"0.50"},0.0002083,1.724,4,1.392796E-3,496,532,740,0.95,0.95,0.95,496,532,740,213,229,318,{"v":0.7041190252811008,"d":"0.70"},{"v":0.8119338882847967,"d":"0.81"},{"v":1.5496212723230742,"d":"1.55"},2.3,8.7,9.8,14.3,null,2278,null,{"v":0.68,"d":"68%"},null,null,0,10.6,12.5,21.85,null,1,1,1,496,532,740,null,0,0,0,1,{"$f":"IF(OR(EcoReviva!$L$6=10,EcoReviva!$L$6=15,EcoReviva!$L$6=20),1,IF(EcoReviva!$K$6<51,1,(1-(EcoReviva!$K$6-50)*0.005)))","v":1},{"$nulls":31},{"$f":"DF66","v":235},{"$f":"BM17","v":{"$error":"#N/A"}},{"$f":"ROUND(IF($BZ$2=1,X17,IF($BZ$2=2,X17*3.412141633,)),0)","v":{"$error":"#N/A"}},{"$f":"IF($BZ$2=1,ROUND(AB17,0),IF($BZ$2=2,ROUND(AB17/272.7654,1),))","v":{"$error":"#N/A"}},{"$f":"IF($BZ$2=1,AF17,IF($BZ$2=2,AF17*0.3346,))","v":{"$error":"#N/A"}},{"$f":"IF(BY17=1,ROUND(IF($BZ$2=1,AS17,IF($BZ$2=2,AS17*3.412141633,)),0),\"\")","v":{"$error":"#N/A"}},{"$f":"IF(BY17=1,IF($BZ$2=1,ROUND(AV17,0),IF($BZ$2=2,ROUND(AV17/272.7654,1),)),\"\")","v":{"$error":"#N/A"}},{"$f":"IF(BY17=1,IF($BZ$2=1,AY17,IF($BZ$2=2,AY17*0.3346,)),\"\")","v":{"$error":"#N/A"}},{"$f":"L17","v":{"$error":"#N/A"}},{"$error":"#N/A"},{"$f":"BC17","v":{"$error":"#N/A"}},{"$f":"DQ66","v":{"$error":"#N/A"}}]
["15011520",null,null,1,50,115,20,20.9,0,26,30,44.8,2328,{"v":3079.6829926739365,"d":"3080"},{"v":3327.0647594078355,"d":"3327"},{"v":4143.24,"d":"4143"},1.5,1.08,1.08,1.08,287,682,736,917,49,117,127,158,{"v":0.010908277582588994,"d":"0.01"},{"v":0.0596835841483045,"d":"0.06"},{"v":0.07007851951346304,"d":"0.07"},{"v":0.1075032347929955,"d":"0.11"},0.0001276,1.7219,2,3.76611E-4,{"v":380.6009016056908,"d":"381"},{"v":411.1734390011653,"d":"411"},{"v":512.04,"d":"512"},0.95,0.95,0.95,381,411,512,164,177,220,{"v":0.11565234954222373,"d":"0.12"},{"v":0.1343135529501861,"d":"0.13"},{"v":0.2058061754840721,"d":"0.21"},1.5,8.7,9.8,14.3,null,2910,null,{"v":0.8,"d":"80%"},null,null,0,10.6,12.5,21.85,null,1,1,1,381,411,512,null,0,0,0,1,{"$f":"IF(OR(EcoReviva!$L$6=10,EcoReviva!$L$6=15,EcoReviva!$L$6=20),1,IF(EcoReviva!$K$6<51,1,(1-(EcoReviva!$K$6-50)*0.005)))","v":1},{"$nulls":13},"Lengths","Calculation factors for lower fan settings",{"$nulls":16},240,{"$f":"BJ18","v":{"v":0,"d":"0.0"}},{"$f":"ROUND(IF($BZ$2=1,U18,IF($BZ$2=2,U18*3.412141633,)),0)","v":0},{"$f":"IF($BZ$2=1,ROUND(Y18,0),IF($BZ$2=2,ROUND(Y18/272.7654,1),))","v":0},{"$f":"IF($BZ$2=1,AC18,IF($BZ$2=2,AC18*0.3346,))","v":{"v":0,"d":"0.00"}},{"$nulls":3},{"v":0,"d":"0.0"},{"v":0,"d":"0.0"},{"v":0,"d":"0.0"},{"$f":"IF($BZ$2=1,AZ18,IF($BZ$2=2,AZ18/4.54609,))","v":{"v":0,"d":"0.0"}}]
["15011521",null,null,1,50,115,21,20.9,0,26,30,44.8,{"v":2478.4,"d":"2478"},{"v":4175.015825613802,"d":"4175"},{"v":4470.852652878654,"d":"4471"},{"v":6219.96,"d":"6220"},1.5,1.05,1.05,1.05,305,963,1032,1435,52,166,178,247,{"v":0.01816032611215074,"d":"0.02"},{"v":0.17232035707442075,"d":"0.17"},{"v":0.19739506280621905,"d":"0.20"},{"v":0.3737661778772866,"d":"0.37"},0.0001276,1.7219,4,0.000514201,{"v":541.5607605871626,"d":"542"},{"v":579.9351342123673,"d":"580"},{"v":806.82,"d":"807"},0.85,0.85,0.85,542,580,807,233,249,347,{"v":0.3335623209163444,"d":"0.33"},{"v":0.3796925624194228,"d":"0.38"},{"v":0.725865862025585,"d":"0.73"},3.1,8.7,9.8,14.3,null,3098,null,{"v":0.8,"d":"80%"},null,null,0,10.6,12.5,21.85,null,1,1,1,542,580,807,null,0,0,0,1,{"$f":"IF(OR(EcoReviva!$L$6=10,EcoReviva!$L$6=15,EcoReviva!$L$6=20),1,IF(EcoReviva!$K$6<51,1,(1-(EcoReviva!$K$6-50)*0.005)))","v":1},{"$nulls":14},"T10",null,"T11",null,"T15",null,"T16",null,"T20",null,"T21",{"$nulls":6},{"$f":"DF70","v":240},{"$f":"BK18","v":{"v":0,"d":"0.0"}},{"$f":"ROUND(IF($BZ$2=1,V18,IF($BZ$2=2,V18*3.412141633,)),0)","v":0},{"$f":"IF($BZ$2=1,ROUND(Z18,0),IF($BZ$2=2,ROUND(Z18/272.7654,1),))","v":0},{"$f":"IF($BZ$2=1,AD18,IF($BZ$2=2,AD18*0.3346,))","v":{"v":0,"d":"0.00"}},{"$f":"IF(BY18=1,ROUND(IF($BZ$2=1,AQ18,IF($BZ$2=2,AQ18*3.412141633,)),0),\"\")","v":""},{"$f":"IF(BY18=1,IF($BZ$2=1,ROUND(AT18,0),IF($BZ$2=2,ROUND(AT18/272.7654,1),)),\"\")","v":""},{"$f":"IF(BY18=1,IF($BZ$2=1,AW18,IF($BZ$2=2,AW18*0.3346,)),\"\")","v":""},{"$f":"J18","v":{"v":0,"d":"0.0"}},{"$f":"DN71+8","v":{"v":8,"d":"8.0"}},{"$f":"IF($CB$9=2,\"\",BA57)","v":{"v":7,"d":"7.0"}},{"$f":"DQ70","v":{"v":0,"d":"0.0"}}]
["15013510",null,null,1,50,135,10,10.9,0,26,30,44.8,{"v":1355.4,"d":"1355"},{"v":2267.7915432376717,"d":"2268"},{"v":2456.1428225151312,"d":"2456"},{"v":3097.58,"d":"3098"},1.5,1.08,1.08,1.08,167,502,544,685,29,86,94,118,{"v":6.2557976208621946E-3,"d":"0.01"},{"v":0.0479004047085845,"d":"0.05"},{"v":0.05663362189758351,"d":"0.06"},{"v":0.08695380403171954,"d":"0.09"},3.969E-4,1.7346,2,0.000367347,{"v":314.40040300104783,"d":"314"},{"v":340.5129080446342,"d":"341"},{"v":429.44,"d":"429"},0.98,0.98,0.98,314,341,429,135,147,184,{"v":0.11212162736276841,"d":"0.11"},{"v":0.1317078496279111,"d":"0.13"},{"v":0.2014677662370523,"d":"0.20"},0.9,10.1,11.2,17.5,null,1506,null,{"v":0.9,"d":"90%"},null,null,0,11.5,13.3,21.85,null,1,1,1,314,341,429,null,0,0,0,1,{"$f":"IF(OR(EcoReviva!$L$6=10,EcoReviva!$L$6=15,EcoReviva!$L$6=20),1,IF(EcoReviva!$K$6<51,1,(1-(EcoReviva!$K$6-50)*0.005)))","v":1},{"$nulls":14},"S2","S1","S2","S1","S2","S1","S2","S1","S2","S1","S2","S1",{"$nulls":5},{"$f":"DF70","v":240},{"$f":"BL18","v":{"v":0,"d":"0.0"}},{"$f":"ROUND(IF($BZ$2=1,W18,IF($BZ$2=2,W18*3.412141633,)),0)","v":0},{"$f":"IF($BZ$2=1,ROUND(AA18,0),IF($BZ$2=2,ROUND(AA18/272.7654,1),))","v":0},{"$f":"IF($BZ$2=1,AE18,IF($BZ$2=2,AE18*0.3346,))","v":{"v":0,"d":"0.00"}},{"$f":"IF(BY18=1,ROUND(IF($BZ$2=1,AR18,IF($BZ$2=2,AR18*3.412141633,)),0),\"\")","v":""},{"$f":"IF(BY18=1,IF($BZ$2=1,ROUND(AU18,0),IF($BZ$2=2,ROUND(AU18/272.7654,1),)),\"\")","v":""},{"$f":"IF(BY18=1,IF($BZ$2=1,AX18,IF($BZ$2=2,AX18*0.3346,)),\"\")","v":""},{"$f":"K18","v":{"v":0,"d":"0.0"}},{"$f":"DN72+8","v":{"v":8,"d":"8.0"}},{"$f":"IF($CB$9=2,\"\",BA58)","v":{"v":7,"d":"7.0"}},{"$f":"DQ70","v":{"v":0,"d":"0.0"}}]
["15013511",null,null,1,50,135,11,10.9,0,26,30,44.8,{"v":1319.2,"d":"1319"},{"v":3077.015307780141,"d":"3077"},{"v":3332.5766142436496,"d":"3333"},{"v":4202.9,"d":"4203"},1.5,1.1,1.1,1.1,162,662,717,904,28,114,123,155,{"v":0.010487488639142438,"d":"0.01"},{"v":0.14251975560072289,"d":"0.14"},{"v":0.16429871303218344,"d":"0.16"},{"v":0.2534258566554006,"d":"0.25"},3.969E-4,1.7346,4,0.000574288,515,558,704,0.95,0.95,0.95,515,558,704,221,240,303,{"v":0.49360268122527073,"d":"0.49"},{"v":0.5765389567599557,"d":"0.58"},{"v":0.894818936295003,"d":"0.89"},1.8,10.1,11.2,17.5,null,1940,null,{"v":0.68,"d":"68%"},null,null,0,11.5,13.3,21.85,null,1,1,1,515,558,704,null,0,0,0,1,{"$f":"IF(OR(EcoReviva!$L$6=10,EcoReviva!$L$6=15,EcoReviva!$L$6=20),1,IF(EcoReviva!$K$6<51,1,(1-(EcoReviva!$K$6-50)*0.005)))","v":1},{"$nulls":13},50,0.8551869613368048,0.7991842971835594,0.8551869613368048,0.7991842971835594,{"$nulls":13},{"$f":"DF70","v":240},{"$f":"BM18","v":{"v":0,"d":"0.0"}},{"$f":"ROUND(IF($BZ$2=1,X18,IF($BZ$2=2,X18*3.412141633,)),0)","v":0},{"$f":"IF($BZ$2=1,ROUND(AB18,0),IF($BZ$2=2,ROUND(AB18/272.7654,1),))","v":0},{"$f":"IF($BZ$2=1,AF18,IF($BZ$2=2,AF18*0.3346,))","v":{"v":0,"d":"0.00"}},{"$f":"IF(BY18=1,ROUND(IF($BZ$2=1,AS18,IF($BZ$2=2,AS18*3.412141633,)),0),\"\")","v":""},{"$f":"IF(BY18=1,IF($BZ$2=1,ROUND(AV18,0),IF($BZ$2=2,ROUND(AV18/272.7654,1),)),\"\")","v":""},{"$f":"IF(BY18=1,IF($BZ$2=1,AY18,IF($BZ$2=2,AY18*0.3346,)),\"\")","v":""},{"$f":"L18","v":{"v":0,"d":"0.0"}},{"$f":"DN73+8","v":{"v":8,"d":"8.0"}},{"v":7,"d":"7.0"},{"$f":"DQ70","v":{"v":0,"d":"0.0"}}]
["15013515",null,null,1,50,135,15,15.9,0,26,30,45.4,{"v":1942.4,"d":"1942"},{"v":2628.9846104428207,"d":"2629"},{"v":2815.458457495267,"d":"2815"},{"v":3950.36,"d":"3950"},1.5,1.08,1.08,1.08,239,582,623,874,41,100,107,150,{"v":0.010577911507631753,"d":"0.01"},{"v":0.059072389492821196,"d":"0.06"},{"v":0.06733939918980497,"d":"0.07"},{"v":0.12962236238655525,"d":"0.13"},0.0002083,1.724,2,0.000461829,{"v":358.86695423586366,"d":"359"},{"v":384.32138301819265,"d":"384"},{"v":539.24,"d":"539"},1.01,1.01,1.01,359,384,539,154,165,232,{"v":0.13641574496756584,"d":"0.14"},{"v":0.15597007093350468,"d":"0.16"},{"v":0.3025411460903596,"d":"0.30"},1.4,9.6,10.5,16.1,null,2428,null,{"v":0.8,"d":"80%"},null,null,0,10.4,12.2,21.85,null,1,1,1,359,384,539,null,0,0,0,1,{"$f":"IF(OR(EcoReviva!$L$6=10,EcoReviva!$L$6=15,EcoReviva!$L$6=20),1,IF(EcoReviva!$K$6<51,1,(1-(EcoReviva!$K$6-50)*0.005)))","v":1},{"$nulls":13},60,0.8452517014716241,0.78929861482599,0.8452517014716241,0.78929861482599,0.7555553480649244,0.7038387772986681,0.7555553480649244,0.7038387772986681,0.8452517014716241,0.78929861482599,0.7555553480649244,0.7038387772986681,{"$nulls":5},260,{"$f":"BJ19","v":{"v":0,"d":"0.0"}},{"$f":"ROUND(IF($BZ$2=1,U19,IF($BZ$2=2,U19*3.412141633,)),0)","v":0},{"$f":"IF($BZ$2=1,ROUND(Y19,0),IF($BZ$2=2,ROUND(Y19/272.7654,1),))","v":0},{"$f":"IF($BZ$2=1,AC19,IF($BZ$2=2,AC19*0.3346,))","v":{"v":0,"d":"0.00"}},{"$nulls":3},{"v":0,"d":"0.0"},{"v":0,"d":"0.0"},{"v":0,"d":"0.0"},{"$f":"IF($BZ$2=1,AZ19,IF($BZ$2=2,AZ19/4.54609,))","v":{"v":0,"d":"0.0"}}]
["15013516",null,null,1,50,135,16,15.9,0,26,30,45.4,{"v":1806.7600000000002,"d":"1807"},{"v":3844.4231409656436,"d":"3844"},{"v":4117.108028486747,"d":"4117"},{"v":5776.7,"d":"5777"},1.5,1.1,1.1,1.1,222,827,886,1243,38,142,152,214,{"v":0.024920116761230845,"d":"0.02"},{"v":0.32579358311873086,"d":"0.33"},{"v":0.37221760674257065,"d":"0.37"},{"v":0.727642758569442,"d":"0.73"},0.0002083,1.724,4,1.392796E-3,589,630,885,0.95,0.95,0.95,589,630,885,253,271,381,{"v":1.0105526540622616,"d":"1.01"},{"v":1.156511119413675,"d":"1.16"},{"v":2.2585888042081117,"d":"2.26"},2.7,9.6,10.5,16.1,null,2657,null,{"v":0.68,"d":"68%"},null,null,0,10.4,12.2,21.85,null,1,1,1,589,630,885,null,0,0,0,1,{"$f":"IF(OR(EcoReviva!$L$6=10,EcoReviva!$L$6=15,EcoReviva!$L$6=20),1,IF(EcoReviva!$K$6<51,1,(1-(EcoReviva!$K$6-50)*0.005)))","v":1},{"$nulls":13},70,0.8364028566594162,0.7799409143899563,0.8364028566594162,0.7799409143899563,0.7555553480649244,0.7038387772986681,0.7555553480649244,0.7038387772986681,0.8364028566594162,0.7799409143899563,0.7555553480649244,0.7038387772986681,{"$nulls":5},{"$f":"DF74","v":260},{"$f":"BK19","v":{"v":0,"d":"0.0"}},{"$f":"ROUND(IF($BZ$2=1,V19,IF($BZ$2=2,V19*3.412141633,)),0)","v":0},{"$f":"IF($BZ$2=1,ROUND(Z19,0),IF($BZ$2=2,ROUND(Z19/272.7654,1),))","v":0},{"$f":"IF($BZ$2=1,AD19,IF($BZ$2=2,AD19*0.3346,))","v":{"v":0,"d":"0.00"}},{"$f":"IF(BY19=1,ROUND(IF($BZ$2=1,AQ19,IF($BZ$2=2,AQ19*3.412141633,)),0),\"\")","v":""},{"$f":"IF(BY19=1,IF($BZ$2=1,ROUND(AT19,0),IF($BZ$2=2,ROUND(AT19/272.7654,1),)),\"\")","v":""},{"$f":"IF(BY19=1,IF($BZ$2=1,AW19,IF($BZ$2=2,AW19*0.3346,)),\"\")","v":""},{"$f":"J19","v":{"v":0,"d":"0.0"}},{"$f":"DN75+8","v":{"v":8,"d":"8.0"}},{"$f":"IF($CB$9=2,\"\",BA61)","v":8.4},{"$f":"DQ74","v":{"v":0,"d":"0.0"}}]
["15013520",null,null,1,50,135,20,20.9,0,26,30,45.4,2716,{"v":3628.109195995047,"d":"3628"},{"v":3929.4415695377957,"d":"3929"},{"v":4955.64,"d":"4956"},1.5,1.08,1.08,1.08,334,803,870,1097,57,138,150,189,{"v":0.015174797090956997,"d":"0.02"},{"v":0.08487926312179407,"d":"0.08"},{"v":0.09988751516678847,"d":"0.10"},{"v":0.15691667350981048,"d":"0.16"},0.0001276,1.7219,2,3.76611E-4,{"v":448.3778474617217,"d":"448"},{"v":485.6178404500181,"d":"486"},{"v":612.44,"d":"612"},0.95,0.95,0.95,448,486,612,193,209,263,{"v":0.1634770673542249,"d":"0.16"},{"v":0.1910377347802372,"d":"0.19"},{"v":0.29958525862946667,"d":"0.30"},1.8,9.6,10.5,16.1,null,3395,null,{"v":0.8,"d":"80%"},null,null,0,10.4,12.2,21.85,null,1,1,1,448,486,612,null,0,0,0,1,{"$f":"IF(OR(EcoReviva!$L$6=10,EcoReviva!$L$6=15,EcoReviva!$L$6=20),1,IF(EcoReviva!$K$6<51,1,(1-(EcoReviva!$K$6-50)*0.005)))","v":1},{"$nulls":13},80,0.8284588613790702,0.7713393602007246,0.8284588613790702,0.7713393602007246,0.7453108993363179,0.6950414455205922,0.7453108993363179,0.6950414455205922,0.8284588613790702,0.7713393602007246,0.7453108993363179,0.6950414455205922,{"$nulls":5},{"$f":"DF74","v":260},{"$f":"BL19","v":{"v":0,"d":"0.0"}},{"$f":"ROUND(IF($BZ$2=1,W19,IF($BZ$2=2,W19*3.412141633,)),0)","v":0},{"$f":"IF($BZ$2=1,ROUND(AA19,0),IF($BZ$2=2,ROUND(AA19/272.7654,1),))","v":0},{"$f":"IF($BZ$2=1,AE19,IF($BZ$2=2,AE19*0.3346,))","v":{"v":0,"d":"0.00"}},{"$f":"IF(BY19=1,ROUND(IF($BZ$2=1,AR19,IF($BZ$2=2,AR19*3.412141633,)),0),\"\")","v":""},{"$f":"IF(BY19=1,IF($BZ$2=1,ROUND(AU19,0),IF($BZ$2=2,ROUND(AU19/272.7654,1),)),\"\")","v":""},{"$f":"IF(BY19=1,IF($BZ$2=1,AX19,IF($BZ$2=2,AX19*0.3346,)),\"\")","v":""},{"$f":"K19","v":{"v":0,"d":"0.0"}},{"$f":"DN76+8","v":{"v":8,"d":"8.0"}},7.9,{"$f":"DQ74","v":{"v":0,"d":"0.0"}}]
["15013521",null,null,1,50,135,21,20.9,0,26,30,45.4,2892,{"v":4951.064902557233,"d":"4951"},{"v":5302.243877024749,"d":"5302"},{"v":7439.56,"d":"7440"},1.5,1.05,1.05,1.05,356,1143,1224,1717,61,197,211,295,{"v":0.02590630859237793,"d":"0.03"},{"v":0.2494324700605055,"d":"0.25"},{"v":0.28497586894584037,"d":"0.28"},{"v":0.5464956666383335,"d":"0.55"},0.0001276,1.7219,4,0.000514201,{"v":642.2257031687062,"d":"642"},{"v":687.778764632105,"d":"688"},{"v":965.02,"d":"965"},0.85,0.85,0.85,642,688,965,276,296,415,{"v":0.4801325630611483,"d":"0.48"},{"v":0.5501047550033473,"d":"0.55"},{"v":1.0621836653582812,"d":"1.06"},3.6,9.6,10.5,16.1,null,3615,null,{"v":0.8,"d":"80%"},null,null,0,10.4,12.2,21.85,null,1,1,1,642,688,965,null,0,0,0,1,{"$f":"IF(OR(EcoReviva!$L$6=10,EcoReviva!$L$6=15,EcoReviva!$L$6=20),1,IF(EcoReviva!$K$6<51,1,(1-(EcoReviva!$K$6-50)*0.005)))","v":1},{"$nulls":13},90,0.8212441545440573,0.7634388097075354,0.8212441545440573,0.7634388097075354,0.7342980293974435,0.6854011253923185,0.7342980293974435,0.6854011253923185,0.8212441545440573,0.7634388097075354,0.7342980293974435,0.6854011253923185,{"$nulls":5},{"$f":"DF74","v":260},{"$f":"BM19","v":{"v":0,"d":"0.0"}},{"$f":"ROUND(IF($BZ$2=1,X19,IF($BZ$2=2,X19*3.412141633,)),0)","v":0},{"$f":"IF($BZ$2=1,ROUND(AB19,0),IF($BZ$2=2,ROUND(AB19/272.7654,1),))","v":0},{"$f":"IF($BZ$2=1,AF19,IF($BZ$2=2,AF19*0.3346,))","v":{"v":0,"d":"0.00"}},{"$f":"IF(BY19=1,ROUND(IF($BZ$2=1,AS19,IF($BZ$2=2,AS19*3.412141633,)),0),\"\")","v":""},{"$f":"IF(BY19=1,IF($BZ$2=1,ROUND(AV19,0),IF($BZ$2=2,ROUND(AV19/272.7654,1),)),\"\")","v":""},{"$f":"IF(BY19=1,IF($BZ$2=1,AY19,IF($BZ$2=2,AY19*0.3346,)),\"\")","v":""},{"$f":"L19","v":{"v":0,"d":"0.0"}},{"$f":"DN77+8","v":{"v":8,"d":"8.0"}},7.9,{"$f":"DQ74","v":{"v":0,"d":"0.0"}}]
["15015510",null,null,1,50,155,10,10.9,0,26,30,45.5,{"v":1549.8,"d":"1550"},{"v":2603.9362232520607,"d":"2604"},{"v":2826.698800652902,"d":"2827"},{"v":3605.38,"d":"3605"},1.5,1.08,1.08,1.08,191,576,626,798,33,99,108,137,{"v":0.00862948827131963,"d":"0.01"},{"v":0.06694655036713047,"d":"0.07"},{"v":0.0788117256277467,"d":"0.08"},{"v":0.12319443114982649,"d":"0.12"},3.969E-4,1.7346,2,0.000367347,{"v":361.00257998610687,"d":"361"},{"v":391.8857730720053,"d":"392"},{"v":499.84,"d":"500"},0.98,0.98,0.98,361,392,500,155,169,215,{"v":0.1553983649973107,"d":"0.16"},{"v":0.1828794665271352,"d":"0.18"},{"v":0.2879643044592029,"d":"0.29"},{"v":1,"d":"1.0"},11,12.4,19.2,null,1722,null,{"v":0.9,"d":"90%"},null,null,0,11.2,13,21.85,null,1,1,1,361,392,500,null,0,0,0,1,{"$f":"IF(OR(EcoReviva!$L$6=10,EcoReviva!$L$6=15,EcoReviva!$L$6=20),1,IF(EcoReviva!$K$6<51,1,(1-(EcoReviva!$K$6-50)*0.005)))","v":1},{"$nulls":13},100,0.8146699660963719,0.7561986894808467,0.8146699660963719,0.7561986894808467,0.7254135990953521,0.6774634004202911,0.7254135990953521,0.6774634004202911,0.8146699660963719,0.7561986894808467,0.7254135990953521,0.6774634004202911,{"$nulls":5},280,{"$f":"BJ20","v":{"v":0,"d":"0.0"}},{"$f":"ROUND(IF($BZ$2=1,U20,IF($BZ$2=2,U20*3.412141633,)),0)","v":0},{"$f":"IF($BZ$2=1,ROUND(Y20,0),IF($BZ$2=2,ROUND(Y20/272.7654,1),))","v":0},{"$f":"IF($BZ$2=1,AC20,IF($BZ$2=2,AC20*0.3346,))","v":{"v":0,"d":"0.00"}},{"$nulls":3},{"v":0,"d":"0.0"},{"v":0,"d":"0.0"},{"v":0,"d":"0.0"},{"$f":"IF($BZ$2=1,AZ20,IF($BZ$2=2,AZ20/4.54609,))","v":{"v":0,"d":"0.0"}}]
["15015511",null,null,1,50,155,11,10.9,0,26,30,45.5,{"v":1508.24,"d":"1508"},{"v":3533.107636511756,"d":"3533"},{"v":3835.359341571188,"d":"3835"},{"v":4891.9,"d":"4892"},1.5,1.1,1.1,1.1,186,760,825,1053,32,131,142,181,{"v":0.0146917416461227,"d":"0.01"},{"v":0.1995194376670524,"d":"0.20"},{"v":0.23187257903921685,"d":"0.23"},{"v":0.36473196568803634,"d":"0.36"},3.969E-4,1.7346,4,0.000574288,592,642,819,0.95,0.95,0.95,592,642,819,255,276,352,{"v":0.6928035727362534,"d":"0.69"},{"v":0.8036529870147973,"d":"0.80"},{"v":1.2690571277508063,"d":"1.27"},2.1,11,12.4,19.2,null,2218,null,{"v":0.68,"d":"68%"},null,null,0,11.2,13,21.85,null,1,1,1,592,642,819,null,0,0,0,1,{"$f":"IF(OR(EcoReviva!$L$6=10,EcoReviva!$L$6=15,EcoReviva!$L$6=20),1,IF(EcoReviva!$K$6<51,1,(1-(EcoReviva!$K$6-50)*0.005)))","v":1},{"$nulls":13},110,0.8146699660963719,0.7561986894808467,0.8146699660963719,0.7561986894808467,0.7254135990953521,0.6774634004202911,0.7254135990953521,0.6774634004202911,0.8146699660963719,0.7561986894808467,0.7254135990953521,0.6774634004202911,{"$nulls":5},{"$f":"DF78","v":280},{"$f":"BK20","v":{"v":0,"d":"0.0"}},{"$f":"ROUND(IF($BZ$2=1,V20,IF($BZ$2=2,V20*3.412141633,)),0)","v":0},{"$f":"IF($BZ$2=1,ROUND(Z20,0),IF($BZ$2=2,ROUND(Z20/272.7654,1),))","v":0},{"$f":"IF($BZ$2=1,AD20,IF($BZ$2=2,AD20*0.3346,))","v":{"v":0,"d":"0.00"}},{"$f":"IF(BY20=1,ROUND(IF($BZ$2=1,AQ20,IF($BZ$2=2,AQ20*3.412141633,)),0),\"\")","v":""},{"$f":"IF(BY20=1,IF($BZ$2=1,ROUND(AT20,0),IF($BZ$2=2,ROUND(AT20/272.7654,1),)),\"\")","v":""},{"$f":"IF(BY20=1,IF($BZ$2=1,AW20,IF($BZ$2=2,AW20*0.3346,)),\"\")","v":""},{"$f":"J20","v":{"v":0,"d":"0.0"}},{"$f":"DN79+8","v":{"v":8,"d":"8.0"}},{"$f":"IF($CB$9=2,\"\",BA65)","v":7.9},{"$f":"DQ78","v":{"v":0,"d":"0.0"}}]
["15015515",null,null,1,50,155,15,15.9,0,26,30,46.4,{"v":2219.2000000000003,"d":"2219"},{"v":3021.1783832091446,"d":"3021"},{"v":3225.612044188012,"d":"3226"},{"v":4597.96,"d":"4598"},1.5,1.08,1.08,1.08,273,669,714,1018,47,115,123,175,{"v":0.014379312492643853,"d":"0.01"},{"v":0.08034684699608036,"d":"0.08"},{"v":0.09148326118368806,"d":"0.09"},{"v":0.1808663084708552,"d":"0.18"},0.0002083,1.724,2,0.000461829,{"v":412.4029788074249,"d":"412"},{"v":440.3089942962018,"d":"440"},{"v":627.64,"d":"628"},1.01,1.01,1.01,412,440,628,177,189,270,{"v":0.1848886406265397,"d":"0.18"},{"v":0.20992648196133484,"d":"0.21"},{"v":0.41918855209215083,"d":"0.42"},1.6,11.5,12.8,19.6,null,2774,null,{"v":0.8,"d":"80%"},null,null,0,10,11.8,21.85,null,1,1,1,412,440,628,null,0,0,0,1,{"$f":"IF(OR(EcoReviva!$L$6=10,EcoReviva!$L$6=15,EcoReviva!$L$6=20),1,IF(EcoReviva!$K$6<51,1,(1-(EcoReviva!$K$6-50)*0.005)))","v":1},{"$nulls":13},120,0.8030103878625993,0.7433030653966308,0.8030103878625993,0.7433030653966308,0.718791222592855,0.671228725846115,0.718791222592855,0.671228725846115,0.8030103878625993,0.7433030653966308,0.718791222592855,0.671228725846115,{"$nulls":5},{"$f":"DF78","v":280},{"$f":"BL20","v":{"v":0,"d":"0.0"}},{"$f":"ROUND(IF($BZ$2=1,W20,IF($BZ$2=2,W20*3.412141633,)),0)","v":0},{"$f":"IF($BZ$2=1,ROUND(AA20,0),IF($BZ$2=2,ROUND(AA20/272.7654,1),))","v":0},{"$f":"IF($BZ$2=1,AE20,IF($BZ$2=2,AE20*0.3346,))","v":{"v":0,"d":"0.00"}},{"$f":"IF(BY20=1,ROUND(IF($BZ$2=1,AR20,IF($BZ$2=2,AR20*3.412141633,)),0),\"\")","v":""},{"$f":"IF(BY20=1,IF($BZ$2=1,ROUND(AU20,0),IF($BZ$2=2,ROUND(AU20/272.7654,1),)),\"\")","v":""},{"$f":"IF(BY20=1,IF($BZ$2=1,AX20,IF($BZ$2=2,AX20*0.3346,)),\"\")","v":""},{"$f":"K20","v":{"v":0,"d":"0.0"}},{"$f":"DN80+8","v":{"v":8,"d":"8.0"}},8.9,{"$f":"DQ78","v":{"v":0,"d":"0.0"}}]
["15015516",null,null,1,50,155,16,15.9,0,26,30,46.4,{"v":2065.1600000000003,"d":"2065"},{"v":4417.936888355559,"d":"4418"},{"v":4716.8848144627045,"d":"4717"},{"v":6723.7,"d":"6724"},1.5,1.1,1.1,1.1,254,951,1015,1447,44,164,175,249,{"v":0.03424643419155924,"d":"0.03"},{"v":0.442684637058036,"d":"0.44"},{"v":0.5025326591917104,"d":"0.50"},{"v":1.0015181783173397,"d":"1.00"},0.0002083,1.724,4,1.392796E-3,676,722,1030,0.95,0.95,0.95,676,722,1030,291,310,443,{"v":1.3589459600894553,"d":"1.36"},{"v":1.538207422863809,"d":"1.54"},{"v":3.0978227753303362,"d":"3.10"},3.1,11.5,12.8,19.6,null,3037,null,{"v":0.68,"d":"68%"},null,null,0,10,11.8,21.85,null,1,1,1,676,722,1030,null,0,0,0,1,{"$f":"IF(OR(EcoReviva!$L$6=10,EcoReviva!$L$6=15,EcoReviva!$L$6=20),1,IF(EcoReviva!$K$6<51,1,(1-(EcoReviva!$K$6-50)*0.005)))","v":1},{"$nulls":13},140,0.7929231278982726,0.732117182845212,0.7929231278982726,0.732117182845212,0.7127093372490777,0.6655050705360576,0.7127093372490777,0.6655050705360576,0.7929231278982726,0.732117182845212,0.7127093372490777,0.6655050705360576,{"$nulls":5},{"$f":"DF78","v":280},{"$f":"BM20","v":{"v":0,"d":"0.0"}},{"$f":"ROUND(IF($BZ$2=1,X20,IF($BZ$2=2,X20*3.412141633,)),0)","v":0},{"$f":"IF($BZ$2=1,ROUND(AB20,0),IF($BZ$2=2,ROUND(AB20/272.7654,1),))","v":0},{"$f":"IF($BZ$2=1,AF20,IF($BZ$2=2,AF20*0.3346,))","v":{"v":0,"d":"0.00"}},{"$f":"IF(BY20=1,ROUND(IF($BZ$2=1,AS20,IF($BZ$2=2,AS20*3.412141633,)),0),\"\")","v":""},{"$f":"IF(BY20=1,IF($BZ$2=1,ROUND(AV20,0),IF($BZ$2=2,ROUND(AV20/272.7654,1),)),\"\")","v":""},{"$f":"IF(BY20=1,IF($BZ$2=1,AY20,IF($BZ$2=2,AY20*0.3346,)),\"\")","v":""},{"$f":"L20","v":{"v":0,"d":"0.0"}},{"$f":"DN81+8","v":{"v":8,"d":"8.0"}},8.9,{"$f":"DQ78","v":{"v":0,"d":"0.0"}}]
["15015520",null,null,1,50,155,20,20.9,0,26,30,46.4,3104,{"v":4165.887726998767,"d":"4166"},{"v":4522.2727563025155,"d":"4522"},{"v":5768.04,"d":"5768"},1.5,1.08,1.08,1.08,382,922,1001,1276,66,159,172,219,{"v":0.020854176457967447,"d":"0.02"},{"v":0.11501770376199791,"d":"0.12"},{"v":0.1340452540748947,"d":"0.13"},{"v":0.2146931703638457,"d":"0.21"},0.0001276,1.7219,2,3.76611E-4,{"v":514.838906684732,"d":"515"},{"v":558.8825513697349,"d":"559"},{"v":712.84,"d":"713"},0.95,0.95,0.95,515,559,713,221,240,307,{"v":0.21853552634356715,"d":"0.22"},{"v":0.25670351589891377,"d":"0.26"},{"v":0.415258606018881,"d":"0.42"},2.1,11.5,12.8,19.6,null,3880,null,{"v":0.8,"d":"80%"},null,null,0,10,11.8,21.85,null,1,1,1,515,559,713,null,0,0,0,1,{"$f":"IF(OR(EcoReviva!$L$6=10,EcoReviva!$L$6=15,EcoReviva!$L$6=20),1,IF(EcoReviva!$K$6<51,1,(1-(EcoReviva!$K$6-50)*0.005)))","v":1},{"$nulls":13},160,0.7840224333226739,0.7222362755803995,0.7840224333226739,0.7222362755803995,0.7015311234086448,0.657069305346098,0.7015311234086448,0.657069305346098,0.7840224333226739,0.7222362755803995,0.7015311234086448,0.657069305346098,{"$nulls":5},300,{"$f":"BJ21","v":{"v":0,"d":"0.0"}},{"$f":"ROUND(IF($BZ$2=1,U21,IF($BZ$2=2,U21*3.412141633,)),0)","v":0},{"$f":"IF($BZ$2=1,ROUND(Y21,0),IF($BZ$2=2,ROUND(Y21/272.7654,1),))","v":0},{"$f":"IF($BZ$2=1,AC21,IF($BZ$2=2,AC21*0.3346,))","v":{"v":0,"d":"0.00"}},{"$nulls":3},{"v":0,"d":"0.0"},{"v":0,"d":"0.0"},{"v":16,"d":"16.0"},{"$f":"IF($BZ$2=1,AZ21,IF($BZ$2=2,AZ21/4.54609,))","v":{"v":0,"d":"0.0"}}]
["15015521",null,null,1,50,155,21,20.9,0,26,30,46.4,{"v":3304.8,"d":"3305"},{"v":5689.668246080718,"d":"5690"},{"v":6074.6702425752,"d":"6075"},{"v":8659.16,"d":"8659"},1.5,1.05,1.05,1.05,407,1313,1402,1998,70,226,241,344,{"v":0.03526488685927898,"d":"0.04"},{"v":0.33693451992101536,"d":"0.34"},{"v":0.3815422511591232,"d":"0.38"},{"v":0.7603069640621711,"d":"0.76"},0.0001276,1.7219,4,0.000514201,{"v":738.0333851508442,"d":"738"},{"v":787.9737884350579,"d":"788"},{"v":1123.22,"d":"1123"},0.85,0.85,0.85,738,788,1123,317,339,483,{"v":0.6488421396637938,"d":"0.65"},{"v":0.7390154381179331,"d":"0.74"},{"v":1.4697611784582456,"d":"1.47"},4.1,11.5,12.8,19.6,null,4131,null,{"v":0.8,"d":"80%"},null,null,0,10,11.8,21.85,null,1,1,1,738,788,1123,null,0,0,0,1,{"$f":"IF(OR(EcoReviva!$L$6=10,EcoReviva!$L$6=15,EcoReviva!$L$6=20),1,IF(EcoReviva!$K$6<51,1,(1-(EcoReviva!$K$6-50)*0.005)))","v":1},{"$nulls":13},180,0.7840224333226739,0.7222362755803995,0.7840224333226739,0.7222362755803995,0.7015311234086448,0.657069305346098,0.7015311234086448,0.657069305346098,0.7840224333226739,0.7222362755803995,0.7015311234086448,0.657069305346098,{"$nulls":5},{"$f":"DF82","v":300},{"$f":"BK21","v":{"v":0,"d":"0.0"}},{"$f":"ROUND(IF($BZ$2=1,V21,IF($BZ$2=2,V21*3.412141633,)),0)","v":0},{"$f":"IF($BZ$2=1,ROUND(Z21,0),IF($BZ$2=2,ROUND(Z21/272.7654,1),))","v":0},{"$f":"IF($BZ$2=1,AD21,IF($BZ$2=2,AD21*0.3346,))","v":{"v":0,"d":"0.00"}},{"$f":"IF(BY21=1,ROUND(IF($BZ$2=1,AQ21,IF($BZ$2=2,AQ21*3.412141633,)),0),\"\")","v":""},{"$f":"IF(BY21=1,IF($BZ$2=1,ROUND(AT21,0),IF($BZ$2=2,ROUND(AT21/272.7654,1),)),\"\")","v":""},{"$f":"IF(BY21=1,IF($BZ$2=1,AW21,IF($BZ$2=2,AW21*0.3346,)),\"\")","v":""},{"$f":"J21","v":{"v":0,"d":"0.0"}},{"$f":"DN83+8","v":{"v":8,"d":"8.0"}},{"$f":"IF($CB$9=2,\"\",BA69)","v":8.7},{"$f":"DQ82","v":{"v":0,"d":"0.0"}}]
["15017510",null,null,1,50,175,10,10.9,0,26,30,{"v":46,"d":"46.0"},{"v":1743.3,"d":"1743"},{"v":2970.687803991788,"d":"2971"},{"v":3224.825392294156,"d":"3225"},{"v":4113.18,"d":"4113"},1.5,1.08,1.08,1.08,215,657,714,910,37,113,123,157,{"v":0.011488122630178964,"d":"0.01"},{"v":0.09146224592117046,"d":"0.09"},{"v":0.10716701836470889,"d":"0.11"},{"v":0.16921683740640409,"d":"0.17"},3.969E-4,1.7346,2,0.000367347,{"v":411.848013786967,"d":"412"},{"v":447.08095237792156,"d":"447"},{"v":570.24,"d":"570"},0.98,0.98,0.98,412,447,570,177,192,245,{"v":0.21187152359216083,"d":"0.21"},{"v":0.24681341146769734,"d":"0.25"},{"v":0.3902427316662112,"d":"0.39"},1.2,12.2,13.7,{"v":22,"d":"22.0"},null,1937,null,{"v":0.9,"d":"90%"},null,null,0,10.9,12.7,21.85,null,1,1,1,412,447,570,null,0,0,0,1,{"$f":"IF(OR(EcoReviva!$L$6=10,EcoReviva!$L$6=15,EcoReviva!$L$6=20),1,IF(EcoReviva!$K$6<51,1,(1-(EcoReviva!$K$6-50)*0.005)))","v":1},{"$nulls":13},200,0.7688559120374613,0.7053868583882835,0.7688559120374613,0.7053868583882835,0.6929174768045717,0.6576204296006558,0.6929174768045717,0.6576204296006558,0.7688559120374613,0.7053868583882835,0.6929174768045717,0.6576204296006558,{"$nulls":5},{"$f":"DF82","v":300},{"$f":"BL21","v":{"v":0,"d":"0.0"}},{"$f":"ROUND(IF($BZ$2=1,W21,IF($BZ$2=2,W21*3.412141633,)),0)","v":0},{"$f":"IF($BZ$2=1,ROUND(AA21,0),IF($BZ$2=2,ROUND(AA21/272.7654,1),))","v":0},{"$f":"IF($BZ$2=1,AE21,IF($BZ$2=2,AE21*0.3346,))","v":{"v":0,"d":"0.00"}},{"$f":"IF(BY21=1,ROUND(IF($BZ$2=1,AR21,IF($BZ$2=2,AR21*3.412141633,)),0),\"\")","v":""},{"$f":"IF(BY21=1,IF($BZ$2=1,ROUND(AU21,0),IF($BZ$2=2,ROUND(AU21/272.7654,1),)),\"\")","v":""},{"$f":"IF(BY21=1,IF($BZ$2=1,AX21,IF($BZ$2=2,AX21*0.3346,)),\"\")","v":""},{"$f":"K21","v":{"v":0,"d":"0.0"}},{"$f":"DN84+8","v":{"v":8,"d":"8.0"}},8.7,{"$f":"DQ82","v":{"v":0,"d":"0.0"}}]
["15017511",null,null,1,50,175,11,10.9,0,26,30,{"v":46,"d":"46.0"},{"v":1696.6000000000001,"d":"1697"},{"v":4030.7284303866513,"d":"4031"},{"v":4375.55079813051,"d":"4376"},{"v":5580.9,"d":"5581"},1.5,1.1,1.1,1.1,209,867,942,1201,36,149,162,207,{"v":0.019804427327621655,"d":"0.02"},{"v":0.27194917173953453,"d":"0.27"},{"v":0.31765819159709485,"d":"0.32"},{"v":0.5011680156381679,"d":"0.50"},3.969E-4,1.7346,4,0.000574288,{"v":675.1031362360226,"d":"675"},{"v":732.8571293240361,"d":"733"},{"v":934.74,"d":"935"},0.95,0.95,0.95,675,733,935,290,315,402,{"v":0.9399634644962125,"d":"0.94"},{"v":1.0970601727827367,"d":"1.10"},{"v":1.731759675528546,"d":"1.73"},2.3,12.2,13.7,{"v":22,"d":"22.0"},null,2495,null,{"v":0.68,"d":"68%"},null,null,0,10.9,12.7,21.85,null,1,1,1,675,733,935,null,0,0,0,1,{"$f":"IF(OR(EcoReviva!$L$6=10,EcoReviva!$L$6=15,EcoReviva!$L$6=20),1,IF(EcoReviva!$K$6<51,1,(1-(EcoReviva!$K$6-50)*0.005)))","v":1},{"$nulls":13},220,0.7585639347228863,0.6942595523857338,0.7585639347228863,0.6942595523857338,0.6852107186854955,0.6578068517992561,0.6852107186854955,0.6578068517992561,0.7585639347228863,0.6942595523857338,0.6852107186854955,0.6578068517992561,{"$nulls":5},{"$f":"DF82","v":300},{"$f":"BM21","v":{"v":0,"d":"0.0"}},{"$f":"ROUND(IF($BZ$2=1,X21,IF($BZ$2=2,X21*3.412141633,)),0)","v":0},{"$f":"IF($BZ$2=1,ROUND(AB21,0),IF($BZ$2=2,ROUND(AB21/272.7654,1),))","v":0},{"$f":"IF($BZ$2=1,AF21,IF($BZ$2=2,AF21*0.3346,))","v":{"v":0,"d":"0.00"}},{"$f":"IF(BY21=1,ROUND(IF($BZ$2=1,AS21,IF($BZ$2=2,AS21*3.412141633,)),0),\"\")","v":""},{"$f":"IF(BY21=1,IF($BZ$2=1,ROUND(AV21,0),IF($BZ$2=2,ROUND(AV21/272.7654,1),)),\"\")","v":""},{"$f":"IF(BY21=1,IF($BZ$2=1,AY21,IF($BZ$2=2,AY21*0.3346,)),\"\")","v":""},{"$f":"L21","v":{"v":0,"d":"0.0"}},{"$f":"DN85+8","v":{"v":8,"d":"8.0"}},8.7,{"$f":"DQ82","v":{"v":0,"d":"0.0"}}]
["15017515",null,null,1,50,175,15,15.9,0,26,30,46.4,{"v":2496.8,"d":"2497"},{"v":3233.3460619053994,"d":"3233"},{"v":3452.1364439366635,"d":"3452"},{"v":4920.86,"d":"4921"},1.5,1.08,1.08,1.08,307,716,764,1089,53,123,131,187,{"v":0.01886994295786255,"d":"0.02"},{"v":0.0947564552038713,"d":"0.09"},{"v":0.10696931608459759,"d":"0.11"},{"v":0.21238555096907746,"d":"0.21"},0.0002083,1.724,2,0.000461829,{"v":420.6820520547858,"d":"421"},{"v":449.14828645115074,"d":"449"},{"v":640.24,"d":"640"},1.01,1.01,1.01,421,449,640,181,193,275,{"v":0.19943359179701772,"d":"0.20"},{"v":0.22573291978445517,"d":"0.23"},{"v":0.44749353826938965,"d":"0.45"},1.8,11.5,12.8,19.6,null,3121,null,{"v":0.8,"d":"80%"},null,null,0,10,11.8,21.85,null,1,1,1,421,449,640,null,0,0,0,1,{"$f":"IF(OR(EcoReviva!$L$6=10,EcoReviva!$L$6=15,EcoReviva!$L$6=20),1,IF(EcoReviva!$K$6<51,1,(1-(EcoReviva!$K$6-50)*0.005)))","v":1},{"$nulls":13},240,0.750275090099452,0.6848867351465859,0.750275090099452,0.6848867351465859,0.681904401633284,0.6579686139337618,0.681904401633284,0.6579686139337618,0.750275090099452,0.6848867351465859,0.681904401633284,0.6579686139337618,{"$nulls":16},"v2020-09-17"]
["15017516",null,null,1,50,175,16,15.9,0,26,30,46.4,{"v":2322.88,"d":"2323"},{"v":4843.454970497693,"d":"4843"},{"v":5171.196369982144,"d":"5171"},{"v":7371.3,"d":"7371"},1.5,1.1,1.1,1.1,286,1042,1113,1586,49,179,191,273,{"v":0.043527421947133306,"d":"0.04"},{"v":0.5377186740882726,"d":"0.54"},{"v":0.6102031095124034,"d":"0.61"},{"v":1.225085636710383,"d":"1.23"},0.0002083,1.724,4,1.392796E-3,{"v":686.3088894339993,"d":"686"},{"v":732.7492584003295,"d":"733"},{"v":1044.5,"d":"1045"},0.95,0.95,0.95,686,733,1045,295,315,449,{"v":1.4253557405288249,"d":"1.43"},{"v":1.6203168636402805,"d":"1.62"},{"v":3.241730018482426,"d":"3.24"},3.5,11.5,12.8,19.6,null,3416,null,{"v":0.68,"d":"68%"},null,null,0,10,11.8,21.85,null,1,1,1,686,733,1045,null,0,0,0,1,{"$f":"IF(OR(EcoReviva!$L$6=10,EcoReviva!$L$6=15,EcoReviva!$L$6=20),1,IF(EcoReviva!$K$6<51,1,(1-(EcoReviva!$K$6-50)*0.005)))","v":1},{"$nulls":13},260,0.75,0.68,0.75,0.68,0.681904493845304,0.6579686139337618,0.681904493845304,0.6579686139337618,0.75,0.68,0.681904493845304,0.6579686139337618,{"$nulls":5},"*",{"$f":"IF($J$4=data!$CC$3,NL!DI6,IF($J$4=data!$CC$4,EN!DI6,IF($J$4=data!$CC$5,FR!DI6,IF($J$4=data!$CC$6,DE!DI6,IF($J$4=data!$CC$7,NR!DI6,IF($J$4=data!$CC$8,SP!DI6,IF($J$4=data!$CC$9,SW!DI6,)))))))","v":0}]
["15017520",null,null,1,50,175,20,20.9,0,26,30,46.4,3492,{"v":4497.827519255519,"d":"4498"},{"v":4882.609466657616,"d":"4883"},{"v":6227.64,"d":"6228"},1.5,{"$f":"IF($G88=10,1.08,IF($G88=11,1.1,IF($G88=15,1.08,IF($G88=16,1.1,IF($G88=20,1.08,IF($G88=21,1.05))))))","v":1.08},1.08,1.08,430,995,1081,1378,74,171,186,237,{"v":0.02685556120109203,"d":"0.03"},{"v":0.13603151334766564,"d":"0.14"},{"v":0.1601747676873074,"d":"0.16"},{"v":0.25661745813690784,"d":"0.26"},0.0001276,1.7219,2,3.76611E-4,{"v":526.1057925837863,"d":"526"},{"v":571.1133013295686,"d":"571"},{"v":728.44,"d":"728"},{"$f":"IF($G88=10,0.98,IF($G88=11,0.95,IF($G88=15,1.01,IF($G88=16,0.95,IF($G88=20,0.95,IF($G88=21,0.85))))))","v":0.95},0.95,0.95,526,571,728,226,246,313,{"v":0.23394579020666978,"d":"0.23"},{"v":0.2759296401136928,"d":"0.28"},{"v":0.4411859084208805,"d":"0.44"},2.3,11.5,12.8,19.6,null,4365,null,{"v":0.8,"d":"80%"},null,null,0,10,11.8,21.85,null,{"$f":"IF((237.3*LN(($AQ$1*EXP(17.27*($AM$3/($AM$3+237.3))))))/(17.27-LN(($AQ$1*EXP(17.27*($AM$3/($AM$3+237.3))))))<(($AM$1+$AM$2)/2),1,IF(1/(1+((2258*((0.622/((101325/(1*611*EXP(17.27*((($AM$1+$AM$2)/2)/((($AM$1+$AM$2)/2)+237.3))))))-1)*1000-(0.622/((101325/($AQ$1*611*EXP(17.27*($AM$3/($AM$3+237.3))))))-1)*1000))/(1005*((($AM$1+$AM$2)/2)-$AM$3))))>1,1,1/(1+((2258*((0.622/((101325/(1*611*EXP(17.27*((($AM$1+$AM$2)/2)/((($AM$1+$AM$2)/2)+237.3))))))-1)*1000-(0.622/((101325/($AQ$1*611*EXP(17.27*($AM$3/($AM$3+237.3))))))-1)*1000))/(1005*((($AM$1+$AM$2)/2)-$AM$3))))))","v":1},1,1,526,571,728,null,0,0,0,1,{"$f":"IF(OR(EcoReviva!$L$6=10,EcoReviva!$L$6=15,EcoReviva!$L$6=20),1,IF(EcoReviva!$K$6<51,1,(1-(EcoReviva!$K$6-50)*0.005)))","v":1},{"$nulls":13},280,0.7507794609544182,0.68,0.7507794609544182,0.68,0.6729424377054166,0.6582099452827469,0.6729424377054166,0.6582099452827469,0.7507794609544182,0.68,0.6729424377054166,0.6582099452827469,{"$nulls":5},"**",{"$f":"IF($J$4=data!$CC$3,NL!DF20,IF($J$4=data!$CC$4,EN!DF20,IF($J$4=data!$CC$5,FR!DF20,IF($J$4=data!$CC$6,DE!DF20,IF($J$4=data!$CC$7,NR!DF20,IF($J$4=data!$CC$8,SP!DF20,IF($J$4=data!$CC$9,SW!DF20,)))))))","v":0}]
["15017521",null,null,1,50,175,21,20.9,0,26,30,46.4,{"v":3718.4,"d":"3718"},{"v":6016.757346282005,"d":"6017"},{"v":6423.892435808023,"d":"6424"},{"v":9156.96,"d":"9157"},1.5,1.05,1.05,1.05,458,1388,1482,2113,79,239,255,363,{"v":0.04632272560262789,"d":"0.05"},{"v":0.3878989920778337,"d":"0.39"},{"v":0.43953948698427403,"d":"0.44"},{"v":0.8694939086831923,"d":"0.87"},0.0001276,1.7219,4,0.000514201,{"v":750.1234603692125,"d":"750"},{"v":800.8819611057771,"d":"801"},{"v":1141.6200000000001,"d":"1142"},0.85,0.85,0.85,750,801,1142,323,344,491,{"v":0.6937968656044174,"d":"0.69"},{"v":0.7836343846324941,"d":"0.78"},{"v":1.560513170934631,"d":"1.56"},4.7,11.5,12.8,19.6,null,4648,null,{"v":0.8,"d":"80%"},null,null,0,10,11.8,21.85,null,1,1,1,750,801,1142,null,0,0,0,1,{"$f":"IF(OR(EcoReviva!$L$6=10,EcoReviva!$L$6=15,EcoReviva!$L$6=20),1,IF(EcoReviva!$K$6<51,1,(1-(EcoReviva!$K$6-50)*0.005)))","v":1},{"$nulls":13},300,0.7507794609544182,0.68,0.7507794609544182,0.68,0.6729424377054166,0.6582099452827469,0.6729424377054166,0.6582099452827469,0.7507794609544182,0.68,0.6729424377054166,0.6582099452827469,{"$nulls":5},"***",{"$f":"IF($J$4=data!$CC$3,NL!DF21,IF($J$4=data!$CC$4,EN!DF21,IF($J$4=data!$CC$5,FR!DF21,IF($J$4=data!$CC$6,DE!DF21,IF($J$4=data!$CC$7,NR!DF21,IF($J$4=data!$CC$8,SP!DF21,IF($J$4=data!$CC$9,SW!DF21,)))))))","v":0}]
["15019510",null,null,1,50,195,10,10.9,0,26,30,46.5,{"v":1936.8,"d":"1937"},{"v":3259.5785648750903,"d":"3260"},{"v":3552.8677924068675,"d":"3553"},{"v":4620.98,"d":"4621"},1.5,1.08,1.08,1.08,238,721,786,1023,41,124,135,176,{"v":0.014865940914208784,"d":"0.01"},{"v":0.1154577193174552,"d":"0.12"},{"v":0.13526173503827507,"d":"0.14"},{"v":0.22185062322681873,"d":"0.22"},3.969E-4,1.7346,2,0.000367347,{"v":451.89903695786995,"d":"452"},{"v":492.55985148767917,"d":"493"},{"v":640.64,"d":"641"},0.98,0.98,0.98,452,493,641,194,212,276,{"v":0.2661295098530522,"d":"0.27"},{"v":0.3141746135609563,"d":"0.31"},{"v":0.5150332727775593,"d":"0.52"},1.3,13.4,14.8,24,null,2152,null,{"v":0.9,"d":"90%"},null,null,0,10.7,12.5,21.85,null,1,1,1,452,493,641,null,0,0,0,1,{"$f":"IF(OR(EcoReviva!$L$6=10,EcoReviva!$L$6=15,EcoReviva!$L$6=20),1,IF(EcoReviva!$K$6<51,1,(1-(EcoReviva!$K$6-50)*0.005)))","v":1},{"$nulls":31},"****",{"$f":"IF($J$4=data!$CC$3,NL!DF22,IF($J$4=data!$CC$4,EN!DF22,IF($J$4=data!$CC$5,FR!DF22,IF($J$4=data!$CC$6,DE!DF22,IF($J$4=data!$CC$7,NR!DF22,IF($J$4=data!$CC$8,SP!DF22,IF($J$4=data!$CC$9,SW!DF22,)))))))","v":0}]
["15019511",null,null,1,50,195,11,10.9,0,26,30,46.5,{"v":1884.96,"d":"1885"},{"v":4422.705063408698,"d":"4423"},{"v":4820.649682883678,"d":"4821"},{"v":6269.9,"d":"6270"},1.5,1.1,1.1,1.1,232,952,1037,1349,40,164,178,232,{"v":0.025894389509106948,"d":"0.03"},{"v":0.34660421086462084,"d":"0.35"},{"v":0.40336019387180144,"d":"0.40"},{"v":0.6592592273240652,"d":"0.66"},3.969E-4,1.7346,4,0.000574288,741,807,1050,0.95,0.95,0.95,741,807,1050,319,347,452,{"v":1.1918123702233998,"d":"1.19"},{"v":1.3940395448919163,"d":"1.39"},{"v":2.2829791525639824,"d":"2.28"},2.6,13.4,14.8,24,null,2772,null,{"v":0.68,"d":"68%"},null,null,0,10.7,12.5,21.85,null,1,1,1,741,807,1050,null,0,0,0,1,{"$f":"IF(OR(EcoReviva!$L$6=10,EcoReviva!$L$6=15,EcoReviva!$L$6=20),1,IF(EcoReviva!$K$6<51,1,(1-(EcoReviva!$K$6-50)*0.005)))","v":1},{"$nulls":13},"Type,ww","L/cm"]
[{"$f":"CONCATENATE(D92,E92,F92,G92)","v":"15019515"},null,null,1,50,195,15,15.9,0,26,30,47.1,{"$f":"IF($N92-($BE92*$BG92)>100,$BE92*$BG92,$N92-95)","v":{"v":2774.4,"d":"2774"}},{"v":3875.4624109054007,"d":"3875"},{"v":4083.4735576056296,"d":"4083"},{"v":5893.16,"d":"5893"},1.5,1.08,1.08,1.08,{"$f":"ROUND(M92*POWER(CF_heat,Q92),0)","v":342},{"$f":"ROUND(N92*POWER(CF_heat,R92),0)","v":858},{"$f":"ROUND(O92*POWER(CF_heat,S92),0)","v":904},{"$f":"ROUND(P92*POWER(CF_heat,T92),0)","v":1304},{"$f":"ROUND(U92*3600/(4186*ABS($O$1-$O$2)),0)","v":59},{"$f":"ROUND(V92*3600/(4186*ABS($O$1-$O$2)),0)","v":148},{"$f":"ROUND(W92*3600/(4186*ABS($O$1-$O$2)),0)","v":155},{"$f":"ROUND(X92*3600/(4186*ABS($O$1-$O$2)),0)","v":224},{"$f":"(($AG92*(Y92^$AH92)*((($F92-14.4)*$AI92)/100))+($AJ92*(Y92^2)))*0.0098","v":{"v":0.024084108323357358,"d":"0.02"}},{"$f":"(($AG92*(Z92^$AH92)*((($F92-14.4)*$AI92)/100))+($AJ92*(Z92^2)))*0.0098","v":{"v":0.1397983631827597,"d":"0.14"}},{"$f":"(($AG92*(AA92^$AH92)*((($F92-14.4)*$AI92)/100))+($AJ92*(AA92^2)))*0.0098","v":{"v":0.15277001805621887,"d":"0.15"}},{"$f":"(($AG92*(AB92^$AH92)*((($F92-14.4)*$AI92)/100))+($AJ92*(AB92^2)))*0.0098","v":{"v":0.3101716598868261,"d":"0.31"}},{"$f":"IF($G92=$CO$103,CP$103,IF($G92=$CO$104,CP$104,IF($G92=$CO$105,CP$105,IF($G92=$CO$107,CP$107,IF($G92=$CO$108,CP$108,IF($G92=$CO$109,CP$109,IF($G92=$CO$111,CP$111,IF($G92=$CO$112,CP$112,IF($G92=$CO$113,CP$113,IF($G92=$CO$115,CP$115,IF($G92=$CO$116,CP$116,IF($G92=$CO$117,CP$117,IF($G92=$CO$119,CP$119,IF($G92=$CO$120,CP$120,))))))))))))))","v":0.0002083},{"$f":"IF($G92=$CO$103,CQ$103,IF($G92=$CO$104,CQ$104,IF($G92=$CO$105,CQ$105,IF($G92=$CO$107,CQ$107,IF($G92=$CO$108,CQ$108,IF($G92=$CO$109,CQ$109,IF($G92=$CO$111,CQ$111,IF($G92=$CO$112,CQ$112,IF($G92=$CO$113,CQ$113,IF($G92=$CO$115,CQ$115,IF($G92=$CO$116,CQ$116,IF($G92=$CO$117,CQ$117,IF($G92=$CO$119,CQ$119,IF($G92=$CO$120,CQ$120,))))))))))))))","v":1.724},{"$f":"IF($G92=$CO$103,CR$103,IF($G92=$CO$104,CR$104,IF($G92=$CO$105,CR$105,IF($G92=$CO$107,CR$107,IF($G92=$CO$108,CR$108,IF($G92=$CO$109,CR$109,IF($G92=$CO$111,CR$111,IF($G92=$CO$112,CR$112,IF($G92=$CO$113,CR$113,IF($G92=$CO$115,CR$115,IF($G92=$CO$116,CR$116,IF($G92=$CO$117,CR$117,IF($G92=$CO$119,CR$119,IF($G92=$CO$120,CR$120,))))))))))))))","v":2},{"$f":"IF($G92=$CO$103,CS$103,IF($G92=$CO$104,CS$104,IF($G92=$CO$105,CS$105,IF($G92=$CO$107,CS$107,IF($G92=$CO$108,CS$108,IF($G92=$CO$109,CS$109,IF($G92=$CO$111,CS$111,IF($G92=$CO$112,CS$112,IF($G92=$CO$113,CS$113,IF($G92=$CO$115,CS$115,IF($G92=$CO$116,CS$116,IF($G92=$CO$117,CS$117,IF($G92=$CO$119,CS$119,IF($G92=$CO$120,CS$120,))))))))))))))","v":0.000461829},{"v":529.0161783879516,"d":"529"},{"v":557.4105350406697,"d":"557"},{"v":804.44,"d":"804"},1.01,1.01,1.01,{"$f":"ROUND(AK92*BZ92*POWER(CF_cool,AN92),0)","v":529},{"$f":"ROUND(AL92*BZ92*POWER(CF_cool,AO92),0)","v":557},{"$f":"ROUND(AM92*BZ92*POWER(CF_cool,AP92),0)","v":804},{"$f":"ROUND(AQ92*3600/(4186*ABS($AM$1-$AM$2)),0)","v":227},{"$f":"ROUND(AR92*3600/(4186*ABS($AM$1-$AM$2)),0)","v":240},{"$f":"ROUND(AS92*3600/(4186*ABS($AM$1-$AM$2)),0)","v":346},{"$f":"(($AG92*(AT92^$AH92)*((($F92-14.4)*$AI92)/100))+($AJ92*(AT92^2)))*0.0098","v":{"v":0.3182227560837612,"d":"0.32"}},{"$f":"(($AG92*(AU92^$AH92)*((($F92-14.4)*$AI92)/100))+($AJ92*(AU92^2)))*0.0098","v":{"v":0.354265526046999,"d":"0.35"}},{"$f":"(($AG92*(AV92^$AH92)*((($F92-14.4)*$AI92)/100))+($AJ92*(AV92^2)))*0.0098","v":{"v":0.7176301606418809,"d":"0.72"}},{"$f":"ROUND(IF(G92=10,$CO$92*F92,IF(G92=11,$CO$93*F92,IF(G92=15,$CO$94*F92,IF(G92=16,$CO$95*F92,IF(G92=20,$CO$96*F92,IF(G92=21,$CO$97*F92,)))))),1)","v":{"v":2,"d":"2.0"}},13.2,14.7,23.5,null,3468,null,{"$f":"IF(G92=10,0.9,IF(G92=11,0.68,IF(G92=15,0.8,IF(G92=16,0.68,IF(G92=20,0.8,IF(G92=21,0.8))))))","v":{"v":0.8,"d":"80%"}},null,null,0,10,11.4,21.85,null,1,1,1,{"$f":"AQ92/BO92","v":529},{"$f":"AR92/BP92","v":557},{"$f":"AS92/BQ92","v":804},null,{"$f":"BR92-AQ92","v":0},{"$f":"BS92-AR92","v":0},{"$f":"BT92-AS92","v":0},{"$f":"IF(SUM(BV92:BX92)=0,1,0)","v":1},{"$f":"IF(OR(EcoReviva!$L$6=10,EcoReviva!$L$6=15,EcoReviva!$L$6=20),1,IF(EcoReviva!$K$6<51,1,(1-(EcoReviva!$K$6-50)*0.005)))","v":1},{"$nulls":13},10,{"$f":"0.4/60","v":{"v":0.006666666666666667,"d":"0.0067"}}]
["15019516",null,null,1,50,195,16,15.9,0,26,30,47.1,{"v":2581.28,"d":"2581"},{"v":5667.175576169572,"d":"5667"},{"v":5971.354939858758,"d":"5971"},{"v":8617.7,"d":"8618"},1.5,1.1,1.1,1.1,318,1220,1285,1855,55,210,221,319,{"v":0.056049165606214625,"d":"0.06"},{"v":0.7506002931682605,"d":"0.75"},{"v":0.8289903176175389,"d":"0.83"},{"v":1.6946293635687202,"d":"1.69"},0.0002083,1.724,4,1.392796E-3,868,914,1320,0.95,0.95,0.95,868,914,1320,373,393,568,{"v":2.299266211294055,"d":"2.30"},{"v":2.5460876242946204,"d":"2.55"},{"v":5.230022961595538,"d":"5.23"},3.9,13.2,14.7,23.5,null,3796,null,{"v":0.68,"d":"68%"},null,null,0,10,11.4,21.85,null,1,1,1,868,914,1320,null,0,0,0,1,{"$f":"IF(OR(EcoReviva!$L$6=10,EcoReviva!$L$6=15,EcoReviva!$L$6=20),1,IF(EcoReviva!$K$6<51,1,(1-(EcoReviva!$K$6-50)*0.005)))","v":1},{"$nulls":13},11,{"$f":"CO92*2","v":{"v":0.013333333333333334,"d":"0.0133"}}]
["15019520",null,null,1,50,195,20,20.9,0,26,30,47.1,3880,{"v":5214.8121821672385,"d":"5215"},{"v":5684.028740747025,"d":"5684"},{"v":7392.84,"d":"7393"},1.5,1.08,1.08,1.08,478,1154,1258,1636,82,198,216,281,{"v":0.03373389407375187,"d":"0.03"},{"v":0.1853803276850035,"d":"0.19"},{"v":0.2194602999364007,"d":"0.22"},{"v":0.36577331912898303,"d":"0.37"},0.0001276,1.7219,2,3.76611E-4,{"v":644.4696492978713,"d":"644"},{"v":702.4575154739061,"d":"702"},{"v":913.64,"d":"914"},0.95,0.95,0.95,644,702,914,277,302,393,{"v":0.3557225828978226,"d":"0.36"},{"v":0.42078288943511216,"d":"0.42"},{"v":0.7025058885567323,"d":"0.70"},2.6,13.2,14.7,23.5,null,4850,null,{"v":0.8,"d":"80%"},null,null,0,10,11.4,21.85,null,1,1,1,644,702,914,null,0,0,0,1,{"$f":"IF(OR(EcoReviva!$L$6=10,EcoReviva!$L$6=15,EcoReviva!$L$6=20),1,IF(EcoReviva!$K$6<51,1,(1-(EcoReviva!$K$6-50)*0.005)))","v":1},{"$nulls":13},15,{"$f":"CO92*1.5","v":{"v":0.01,"d":"0.0100"}}]
["15019521",null,null,1,50,195,21,20.9,0,26,30,47.1,{"v":4131.2,"d":"4131"},{"v":7298.508271062735,"d":"7299"},{"v":7690.247607868787,"d":"7690"},{"v":11098.36,"d":"11098"},1.5,1.05,1.05,1.05,509,1684,1775,2561,88,290,305,440,{"v":0.059163318611510064,"d":"0.06"},{"v":0.5807789787110935,"d":"0.58"},{"v":0.6399950345973359,"d":"0.64"},{"v":1.297405215140312,"d":"1.30"},0.0001276,1.7219,4,0.000514201,{"v":946.7235228616961,"d":"947"},{"v":997.5378579573975,"d":"998"},{"v":1439.62,"d":"1440"},0.85,0.85,0.85,947,998,1440,407,429,619,{"v":1.1161276116120857,"d":"1.12"},{"v":1.2355074647295776,"d":"1.24"},{"v":2.5100641046151924,"d":"2.51"},5.2,13.2,14.7,23.5,null,5164,null,{"v":0.8,"d":"80%"},null,null,0,10,11.4,21.85,null,1,1,1,947,998,1440,null,0,0,0,1,{"$f":"IF(OR(EcoReviva!$L$6=10,EcoReviva!$L$6=15,EcoReviva!$L$6=20),1,IF(EcoReviva!$K$6<51,1,(1-(EcoReviva!$K$6-50)*0.005)))","v":1},{"$nulls":13},16,{"$f":"CO94*2","v":0.02}]
["15021510",null,null,1,50,215,10,10.9,0,26,30,46.9,{"$f":"IF($N96-($BE96*$BG96)>100,$BE96*$BG96,$N96-95)","v":{"v":1987.0173913043475,"d":"1987"}},{"v":3560.7045070849035,"d":"3561"},{"v":3890.5075371280445,"d":"3891"},{"v":5128.78,"d":"5129"},1.5,1.08,1.08,1.08,245,788,861,1135,42,136,148,195,{"v":0.016558769072343694,"d":"0.02"},{"v":0.14494746271317752,"d":"0.14"},{"v":0.1695955195815624,"d":"0.17"},{"v":0.2832971219755923,"d":"0.28"},3.969E-4,1.7346,2,0.000367347,{"v":493.6463121283521,"d":"494"},{"v":539.3693001453611,"d":"539"},{"v":711.04,"d":"711"},0.98,0.98,0.98,494,539,711,212,232,306,{"v":0.33104905282945635,"d":"0.33"},{"v":0.39166541308923086,"d":"0.39"},{"v":0.6569795246266605,"d":"0.66"},1.4,13.4,14.8,{"v":24,"d":"24.0"},null,{"v":2207.797101449275,"d":"2208"},null,{"v":0.9,"d":"90%"},null,null,0,10.5,12.3,21.85,null,1,1,1,494,539,711,null,0,0,0,1,{"$f":"IF(OR(EcoReviva!$L$6=10,EcoReviva!$L$6=15,EcoReviva!$L$6=20),1,IF(EcoReviva!$K$6<51,1,(1-(EcoReviva!$K$6-50)*0.005)))","v":1},{"$nulls":13},20,{"$f":"CO92*2","v":{"v":0.013333333333333334,"d":"0.0133"}}]
["15021511",null,null,1,50,215,11,10.9,0,26,30,46.9,{"v":1933.9002898550727,"d":"1934"},{"v":4831.282799097083,"d":"4831"},{"v":5278.770565343093,"d":"5279"},{"v":6958.9,"d":"6959"},1.5,1.1,1.1,1.1,238,1040,1136,1498,41,179,195,258,{"v":0.02904162021769039,"d":"0.03"},{"v":0.43273188939660306,"d":"0.43"},{"v":0.5068197500811846,"d":"0.51"},{"v":0.8504995012838927,"d":"0.85"},3.969E-4,1.7346,4,0.000574288,{"v":809.1872786876681,"d":"809"},{"v":884.1366084769129,"d":"884"},{"v":1165.54,"d":"1166"},0.95,0.95,0.95,809,884,1166,348,380,501,{"v":1.4812656304883716,"d":"1.48"},{"v":1.7442032977392243,"d":"1.74"},{"v":2.9172931461244427,"d":"2.92"},2.9,13.4,14.8,{"v":24,"d":"24.0"},null,{"v":2843.971014492754,"d":"2844"},null,{"v":0.68,"d":"68%"},null,null,0,10.5,12.3,21.85,null,1,1,1,809,884,1166,null,0,0,0,1,{"$f":"IF(OR(EcoReviva!$L$6=10,EcoReviva!$L$6=15,EcoReviva!$L$6=20),1,IF(EcoReviva!$K$6<51,1,(1-(EcoReviva!$K$6-50)*0.005)))","v":1},{"$nulls":13},21,{"$f":"CO96*2","v":0.02666666666666667}]
["15021515",null,null,1,50,215,15,15.9,0,26,30,47.8,{"v":2847.0492753623193,"d":"2847"},{"v":4302.556743974503,"d":"4303"},{"v":4481.798860349342,"d":"4482"},{"v":6540.76,"d":"6541"},1.5,1.08,1.08,1.08,350,952,992,1447,60,164,171,249,{"v":0.025817099906024713,"d":"0.03"},{"v":0.17563897577584564,"d":"0.18"},{"v":0.1902802913732955,"d":"0.19"},{"v":0.3913567796346477,"d":"0.39"},0.0002083,1.724,2,0.000461829,{"v":587.3162695604478,"d":"587"},{"v":611.7835380711579,"d":"612"},{"v":892.84,"d":"893"},1.01,1.01,1.01,587,612,893,252,263,384,{"v":0.40046955799660794,"d":"0.40"},{"v":0.4347506812490687,"d":"0.43"},{"v":0.901077147934384,"d":"0.90"},2.2,15.5,16.8,27.5,null,{"v":3558.811594202899,"d":"3559"},null,{"v":0.8,"d":"80%"},null,null,0,10,11.1,21.85,null,1,1,1,587,612,893,null,0,0,0,1,{"$f":"IF(OR(EcoReviva!$L$6=10,EcoReviva!$L$6=15,EcoReviva!$L$6=20),1,IF(EcoReviva!$K$6<51,1,(1-(EcoReviva!$K$6-50)*0.005)))","v":1}]
["15021516",null,null,1,50,215,16,15.9,0,26,30,47.8,{"v":2648.5014492753626,"d":"2649"},{"v":6291.725195404346,"d":"6292"},{"v":6553.83496101116,"d":"6554"},{"v":9564.7,"d":"9565"},1.5,1.1,1.1,1.1,326,1354,1410,2058,56,233,243,354,{"v":0.05971603236772226,"d":"0.06"},{"v":0.9385399593733962,"d":"0.94"},{"v":1.0183526435274326,"d":"1.02"},{"v":2.116733180250427,"d":"2.12"},0.0002083,1.724,4,1.392796E-3,{"v":963.3581344600107,"d":"963"},{"v":1003.4910975149082,"d":"1003"},{"v":1464.5,"d":"1465"},0.95,0.95,0.95,963,1003,1465,414,431,630,{"v":2.8715791582678296,"d":"2.87"},{"v":3.1058811138641853,"d":"3.11"},{"v":6.514858338831252,"d":"6.51"},4.3,15.5,16.8,27.5,null,{"v":3894.855072463768,"d":"3895"},null,{"v":0.68,"d":"68%"},null,null,0,10,11.1,21.85,null,1,1,1,963,1003,1465,null,0,0,0,1,{"$f":"IF(OR(EcoReviva!$L$6=10,EcoReviva!$L$6=15,EcoReviva!$L$6=20),1,IF(EcoReviva!$K$6<51,1,(1-(EcoReviva!$K$6-50)*0.005)))","v":1}]
["15021520",null,null,1,50,215,20,20.9,0,26,30,47.8,{"v":3981.2173913043475,"d":"3981"},{"v":5696.566249617518,"d":"5697"},{"v":6224.199139745616,"d":"6224"},{"v":8205.24,"d":"8205"},1.5,1.08,1.08,1.08,490,1261,1377,1816,84,217,237,312,{"v":0.03636634565721677,"d":"0.04"},{"v":0.22671158985502807,"d":"0.23"},{"v":0.26889880264468063,"d":"0.27"},{"v":0.45815923792911134,"d":"0.46"},0.0001276,1.7219,2,3.76611E-4,{"v":704.0069565012294,"d":"704"},{"v":769.2141723663956,"d":"769"},{"v":1014.04,"d":"1014"},0.95,0.95,0.95,704,769,1014,303,331,436,{"v":0.43287045752449693,"d":"0.43"},{"v":0.51384506816238,"d":"0.51"},{"v":0.8775459716375524,"d":"0.88"},2.9,15.5,16.8,27.5,null,{"v":4976.521739130434,"d":"4977"},null,{"v":0.8,"d":"80%"},null,null,0,10,11.1,21.85,null,1,1,1,704,769,1014,null,0,0,0,1,{"$f":"IF(OR(EcoReviva!$L$6=10,EcoReviva!$L$6=15,EcoReviva!$L$6=20),1,IF(EcoReviva!$K$6<51,1,(1-(EcoReviva!$K$6-50)*0.005)))","v":1},{"$nulls":13},"Niveaus","Type","k1","n","t","k2"]
["15021521",null,null,1,50,215,21,20.9,0,26,30,47.8,{"v":4239.107246376811,"d":"4239"},{"v":8102.838488189164,"d":"8103"},{"v":8440.398224339186,"d":"8440"},{"v":12317.96,"d":"12318"},1.5,1.05,1.05,1.05,522,1870,1948,2843,90,322,335,489,{"v":0.06407021410044475,"d":"0.06"},{"v":0.7312881093202477,"d":"0.73"},{"v":0.789054179040885,"d":"0.79"},{"v":1.6337059819579927,"d":"1.63"},0.0001276,1.7219,4,0.000514201,{"v":1051.0569439418873,"d":"1051"},{"v":1094.8433905300585,"d":"1095"},{"v":1597.82,"d":"1598"},0.85,0.85,0.85,1051,1095,1598,452,471,687,{"v":1.4039352205232198,"d":"1.40"},{"v":1.5198170147897951,"d":"1.52"},{"v":3.148212707770823,"d":"3.15"},5.7,15.5,16.8,27.5,null,{"v":5298.884057971014,"d":"5299"},null,{"v":0.8,"d":"80%"},null,null,0,10,11.1,21.85,null,1,1,1,1051,1095,1598,null,0,0,0,1,{"$f":"IF(OR(EcoReviva!$L$6=10,EcoReviva!$L$6=15,EcoReviva!$L$6=20),1,IF(EcoReviva!$K$6<51,1,(1-(EcoReviva!$K$6-50)*0.005)))","v":1}]
["15023510",null,null,1,50,235,10,10.9,0,26,30,47.2,{"v":2323.8,"d":"2324"},{"v":3860.418873592543,"d":"3860"},{"v":4228.985567352769,"d":"4229"},{"v":5636.58,"d":"5637"},1.5,1.08,1.08,1.08,286,854,936,1247,49,147,161,214,{"v":0.02331112514590033,"d":"0.02"},{"v":0.17641385017725697,"d":"0.18"},{"v":0.20879456995520349,"d":"0.21"},{"v":0.354047016397689,"d":"0.35"},3.969E-4,1.7346,2,0.000367347,{"v":535.1978903129482,"d":"535"},{"v":586.2949664073159,"d":"586"},{"v":781.44,"d":"781"},0.98,0.98,0.98,535,586,781,230,252,336,{"v":0.4048257165056765,"d":"0.40"},{"v":0.479810054573992,"d":"0.48"},{"v":0.8201687913828726,"d":"0.82"},1.6,14.8,16.6,28,null,2582,null,{"v":0.9,"d":"90%"},null,null,0,10.4,12.2,21.85,null,1,1,1,535,586,781,null,0,0,0,1,{"$f":"IF(OR(EcoReviva!$L$6=10,EcoReviva!$L$6=15,EcoReviva!$L$6=20),1,IF(EcoReviva!$K$6<51,1,(1-(EcoReviva!$K$6-50)*0.005)))","v":1},{"$nulls":13},"1 row"]
["15023511",null,null,1,50,235,11,10.9,0,26,30,47.2,{"v":2261.6800000000003,"d":"2262"},{"v":5237.945261727575,"d":"5238"},{"v":5738.028861571599,"d":"5738"},{"v":7647.9,"d":"7648"},1.5,1.1,1.1,1.1,278,1127,1235,1646,48,194,212,283,{"v":0.041271348703873084,"d":"0.04"},{"v":0.5309653001281537,"d":"0.53"},{"v":0.625195969008713,"d":"0.63"},{"v":1.0651288475703307,"d":"1.07"},3.969E-4,1.7346,4,0.000574288,877,961,1281,0.95,0.95,0.95,877,961,1281,377,413,551,{"v":1.8103076212218832,"d":"1.81"},{"v":2.1435516462501534,"d":"2.14"},{"v":3.6601987598910664,"d":"3.66"},3.1,14.8,16.6,28,null,3326,null,{"v":0.68,"d":"68%"},null,null,0,10.4,12.2,21.85,null,1,1,1,877,961,1281,null,0,0,0,1,{"$f":"IF(OR(EcoReviva!$L$6=10,EcoReviva!$L$6=15,EcoReviva!$L$6=20),1,IF(EcoReviva!$K$6<51,1,(1-(EcoReviva!$K$6-50)*0.005)))","v":1},{"$nulls":13},1,4,1.3823338826853E-3,1.723172227894,1,0.00033290816326531]
["15023515",null,null,1,50,235,15,15.9,0,26,30,48.1,{"v":3329.6000000000004,"d":"3330"},{"v":4729.715265656896,"d":"4730"},{"v":4901.774324524634,"d":"4902"},{"v":7188.36,"d":"7188"},1.5,1.08,1.08,1.08,410,1047,1085,1591,71,180,187,274,{"v":0.0368149326752956,"d":"0.04"},{"v":0.21624497780116844,"d":"0.22"},{"v":0.2326041714993181,"d":"0.23"},{"v":0.4834142039559028,"d":"0.48"},0.0002083,1.724,2,0.000461829,{"v":645.6251227363645,"d":"646"},{"v":669.1118750586436,"d":"669"},{"v":981.24,"d":"981"},1.01,1.01,1.01,646,669,981,278,288,422,{"v":0.49704128222139476,"d":"0.50"},{"v":0.5319087638476202,"d":"0.53"},{"v":1.1084000663263307,"d":"1.11"},2.4,16.4,17.7,29.7,null,4162,null,{"v":0.8,"d":"80%"},null,null,0,10,10.9,21.85,null,1,1,1,646,669,981,null,0,0,0,1,{"$f":"IF(OR(EcoReviva!$L$6=10,EcoReviva!$L$6=15,EcoReviva!$L$6=20),1,IF(EcoReviva!$K$6<51,1,(1-(EcoReviva!$K$6-50)*0.005)))","v":1},{"$nulls":13},2,5,0.000937,1.789,2,4.46E-4]
["15023516",null,null,1,50,235,16,15.9,0,26,30,48.1,{"v":3097.4,"d":"3097"},{"v":6916.3686790875245,"d":"6916"},{"v":7167.974498648592,"d":"7168"},{"v":10511.7,"d":"10512"},1.5,1.1,1.1,1.1,381,1488,1543,2262,66,256,265,389,{"v":0.08414414646374319,"d":"0.08"},{"v":1.1500245662781485,"d":"1.15"},{"v":1.2297085938103174,"d":"1.23"},{"v":2.5910392855850644,"d":"2.59"},0.0002083,1.724,4,1.392796E-3,1059,1098,1610,0.95,0.95,0.95,1059,1098,1610,455,472,692,{"v":3.514407593219634,"d":"3.51"},{"v":3.774463932288843,"d":"3.77"},{"v":7.9550150675814635,"d":"7.96"},4.7,16.4,17.7,29.7,null,4555,null,{"v":0.68,"d":"68%"},null,null,0,10,10.9,21.85,null,1,1,1,1059,1098,1610,null,0,0,0,1,{"$f":"IF(OR(EcoReviva!$L$6=10,EcoReviva!$L$6=15,EcoReviva!$L$6=20),1,IF(EcoReviva!$K$6<51,1,(1-(EcoReviva!$K$6-50)*0.005)))","v":1},{"$nulls":13},4,6,0.000937,1.789,4,1.39E-3]
["15023520",null,null,1,50,235,20,20.9,0,26,30,48.1,4656,{"v":6176.062018327259,"d":"6176"},{"v":6765.710663484422,"d":"6766"},{"v":9017.64,"d":"9018"},1.5,1.08,1.08,1.08,573,1367,1497,1996,99,235,257,343,{"v":0.051239360313204495,"d":"0.05"},{"v":0.2705741767505304,"d":"0.27"},{"v":0.3216439056346119,"d":"0.32"},{"v":0.5622249300111019,"d":"0.56"},0.0001276,1.7219,2,3.76611E-4,{"v":763.2651731167613,"d":"763"},{"v":836.1365714104334,"d":"836"},{"v":1114.44,"d":"1114"},0.95,0.95,0.95,763,836,1114,328,359,479,{"v":0.5155907469397677,"d":"0.52"},{"v":0.6141340348974352,"d":"0.61"},{"v":1.0743183439893964,"d":"1.07"},3.1,16.4,17.7,29.7,null,5820,null,{"v":0.8,"d":"80%"},null,null,0,10,10.9,21.85,null,1,1,1,763,836,1114,null,0,0,0,1,{"$f":"IF(OR(EcoReviva!$L$6=10,EcoReviva!$L$6=15,EcoReviva!$L$6=20),1,IF(EcoReviva!$K$6<51,1,(1-(EcoReviva!$K$6-50)*0.005)))","v":1},{"$nulls":13},"2 rows"]
["15023521",null,null,1,50,235,21,20.9,0,26,30,48.1,{"v":4957.6,"d":"4958"},{"v":8907.289589245136,"d":"8907"},{"v":9231.32175137468,"d":"9231"},{"v":13537.56,"d":"13538"},1.5,1.05,1.05,1.05,610,2056,2130,3124,105,354,366,537,{"v":0.08890164602280966,"d":"0.09"},{"v":0.9018041134609538,"d":"0.90"},{"v":0.9613131746482465,"d":"0.96"},{"v":2.0071087306288797,"d":"2.01"},0.0001276,1.7219,4,0.000514201,{"v":1155.4060454399644,"d":"1155"},{"v":1197.4377673560793,"d":"1197"},{"v":1756.02,"d":"1756"},0.85,0.85,0.85,1155,1197,1756,497,515,755,{"v":1.7295601510253096,"d":"1.73"},{"v":1.8519834808144915,"d":"1.85"},{"v":3.868498099636455,"d":"3.87"},6.3,16.4,17.7,29.7,null,6197,null,{"v":0.8,"d":"80%"},null,null,0,10,10.9,21.85,null,1,1,1,1155,1197,1756,null,0,0,0,1,{"$f":"IF(OR(EcoReviva!$L$6=10,EcoReviva!$L$6=15,EcoReviva!$L$6=20),1,IF(EcoReviva!$K$6<51,1,(1-(EcoReviva!$K$6-50)*0.005)))","v":1},{"$nulls":13},1,9,0.00080534470601597,1.813864715518,2,0.00039795050474944]
["2405510",null,null,2,40,55,10,10.9,{"$f":"\"\"","v":""},{"$f":"\"\"","v":""},{"$f":"\"\"","v":""},{"$f":"\"\"","v":""},{"v":411.59999999999997,"d":"412"},{"v":411.59999999999997,"d":"412"},{"v":411.59999999999997,"d":"412"},{"v":411.59999999999997,"d":"412"},1.4027,1.4027,1.4027,1.4027,58,58,58,58,10,10,10,10,{"v":5.3142073616746954E-4,"d":"0.00"},{"v":5.3142073616746954E-4,"d":"0.00"},{"v":5.3142073616746954E-4,"d":"0.00"},{"v":5.3142073616746954E-4,"d":"0.00"},3.969E-4,1.7346,2,0.000367347,{"$f":"\"\"","v":""},{"$f":"\"\"","v":""},{"$f":"\"\"","v":""},{"$nulls":12},0.4,{"$f":"\"\"","v":""},{"$f":"\"\"","v":""},{"$f":"\"\"","v":""},{"$nulls":3},{"v":0.9,"d":"90%"},{"$nulls":32},2,10,3.969E-4,1.7346,2,0.000367347]
["2406510",null,null,2,40,65,10,10.9,{"$f":"\"\"","v":""},{"$f":"\"\"","v":""},{"$f":"\"\"","v":""},{"$f":"\"\"","v":""},{"v":509.6,"d":"510"},{"v":509.6,"d":"510"},{"v":509.6,"d":"510"},{"v":509.6,"d":"510"},1.4027,1.4027,1.4027,1.4027,72,72,72,72,12,12,12,12,{"v":8.1151335368245239E-4,"d":"0.00"},{"v":8.1151335368245239E-4,"d":"0.00"},{"v":8.1151335368245239E-4,"d":"0.00"},{"v":8.1151335368245239E-4,"d":"0.00"},3.969E-4,1.7346,2,0.000367347,{"$f":"\"\"","v":""},{"$f":"\"\"","v":""},{"$f":"\"\"","v":""},{"$nulls":12},0.4,{"$f":"\"\"","v":""},{"$f":"\"\"","v":""},{"$f":"\"\"","v":""},{"$nulls":3},{"v":0.9,"d":"90%"},{"$nulls":32},4,11,3.969E-4,1.7346,4,0.000574288]
["2407510",null,null,2,40,75,10,10.9,{"$f":"\"\"","v":""},{"$f":"\"\"","v":""},{"$f":"\"\"","v":""},{"$f":"\"\"","v":""},{"v":607.6,"d":"608"},{"v":607.6,"d":"608"},{"v":607.6,"d":"608"},{"v":607.6,"d":"608"},1.4027,1.4027,1.4027,1.4027,86,86,86,86,15,15,15,15,{"v":1.3269610297997237E-3,"d":"0.00"},{"v":1.3269610297997237E-3,"d":"0.00"},{"v":1.3269610297997237E-3,"d":"0.00"},{"v":1.3269610297997237E-3,"d":"0.00"},3.969E-4,1.7346,2,0.000367347,{"$f":"\"\"","v":""},{"$f":"\"\"","v":""},{"$f":"\"\"","v":""},{"$nulls":12},0.5,{"$f":"\"\"","v":""},{"$f":"\"\"","v":""},{"$f":"\"\"","v":""},{"$nulls":3},{"v":0.9,"d":"90%"},{"$nulls":32},"3 rows"]
["2408510",null,null,2,40,85,10,10.9,{"$f":"\"\"","v":""},{"$f":"\"\"","v":""},{"$f":"\"\"","v":""},{"$f":"\"\"","v":""},{"v":705.6,"d":"706"},{"v":705.6,"d":"706"},{"v":705.6,"d":"706"},{"v":705.6,"d":"706"},1.4027,1.4027,1.4027,1.4027,99,99,99,99,17,17,17,17,{"v":0.001788705041158261,"d":"0.00"},{"v":0.001788705041158261,"d":"0.00"},{"v":0.001788705041158261,"d":"0.00"},{"v":0.001788705041158261,"d":"0.00"},3.969E-4,1.7346,2,0.000367347,{"$f":"\"\"","v":""},{"$f":"\"\"","v":""},{"$f":"\"\"","v":""},{"$nulls":12},0.6,{"$f":"\"\"","v":""},{"$f":"\"\"","v":""},{"$f":"\"\"","v":""},{"$nulls":3},{"v":0.9,"d":"90%"},{"$nulls":32},1,14,0.00255823982887,1.4942747715062,3,0.00056161694684148]
["2409510",null,null,2,40,95,10,10.9,{"$f":"\"\"","v":""},{"$f":"\"\"","v":""},{"$f":"\"\"","v":""},{"$f":"\"\"","v":""},{"v":803.5999999999999,"d":"804"},{"v":803.5999999999999,"d":"804"},{"v":803.5999999999999,"d":"804"},{"v":803.5999999999999,"d":"804"},1.4027,1.4027,1.4027,1.4027,113,113,113,113,19,19,19,19,{"v":0.002335691949147889,"d":"0.00"},{"v":0.002335691949147889,"d":"0.00"},{"v":0.002335691949147889,"d":"0.00"},{"v":0.002335691949147889,"d":"0.00"},3.969E-4,1.7346,2,0.000367347,{"$f":"\"\"","v":""},{"$f":"\"\"","v":""},{"$f":"\"\"","v":""},{"$nulls":12},0.6,{"$f":"\"\"","v":""},{"$f":"\"\"","v":""},{"$f":"\"\"","v":""},{"$nulls":3},{"v":0.9,"d":"90%"},{"$nulls":32},2,15,0.0002083,1.724,2,0.000461829]
["24010510",null,null,2,40,105,10,10.9,{"$f":"\"\"","v":""},{"$f":"\"\"","v":""},{"$f":"\"\"","v":""},{"$f":"\"\"","v":""},{"v":901.6,"d":"902"},{"v":901.6,"d":"902"},{"v":901.6,"d":"902"},{"v":901.6,"d":"902"},1.4027,1.4027,1.4027,1.4027,127,127,127,127,22,22,22,22,{"v":0.003244268242430751,"d":"0.00"},{"v":0.003244268242430751,"d":"0.00"},{"v":0.003244268242430751,"d":"0.00"},{"v":0.003244268242430751,"d":"0.00"},3.969E-4,1.7346,2,0.000367347,{"$f":"\"\"","v":""},{"$f":"\"\"","v":""},{"$f":"\"\"","v":""},{"$nulls":12},0.7,{"$f":"\"\"","v":""},{"$f":"\"\"","v":""},{"$f":"\"\"","v":""},{"$nulls":3},{"v":0.9,"d":"90%"},{"$nulls":32},4,16,0.0002083,1.724,4,1.392796E-3]
["24011510",null,null,2,40,115,10,10.9,{"$f":"\"\"","v":""},{"$f":"\"\"","v":""},{"$f":"\"\"","v":""},{"$f":"\"\"","v":""},{"v":999.6,"d":"1000"},{"v":999.6,"d":"1000"},{"v":999.6,"d":"1000"},{"v":999.6,"d":"1000"},1.4027,1.4027,1.4027,1.4027,141,141,141,141,24,24,24,24,{"v":4.0129207677781715E-3,"d":"0.00"},{"v":4.0129207677781715E-3,"d":"0.00"},{"v":4.0129207677781715E-3,"d":"0.00"},{"v":4.0129207677781715E-3,"d":"0.00"},3.969E-4,1.7346,2,0.000367347,{"$f":"\"\"","v":""},{"$f":"\"\"","v":""},{"$f":"\"\"","v":""},{"$nulls":12},0.8,{"$f":"\"\"","v":""},{"$f":"\"\"","v":""},{"$f":"\"\"","v":""},{"$nulls":3},{"v":0.9,"d":"90%"},{"$nulls":32},"4 rows"]
["24013510",null,null,2,40,135,10,10.9,{"$f":"\"\"","v":""},{"$f":"\"\"","v":""},{"$f":"\"\"","v":""},{"$f":"\"\"","v":""},{"v":1195.6,"d":"1196"},{"v":1195.6,"d":"1196"},{"v":1195.6,"d":"1196"},{"v":1195.6,"d":"1196"},1.4027,1.4027,1.4027,1.4027,169,169,169,169,29,29,29,29,{"v":6.2557976208621946E-3,"d":"0.01"},{"v":6.2557976208621946E-3,"d":"0.01"},{"v":6.2557976208621946E-3,"d":"0.01"},{"v":6.2557976208621946E-3,"d":"0.01"},3.969E-4,1.7346,2,0.000367347,{"$f":"\"\"","v":""},{"$f":"\"\"","v":""},{"$f":"\"\"","v":""},{"$f":"\"\"","v":""},{"$f":"\"\"","v":""},{"$f":"\"\"","v":""},{"$f":"\"\"","v":""},{"$f":"\"\"","v":""},{"$f":"\"\"","v":""},{"$f":"\"\"","v":""},{"$f":"\"\"","v":""},{"$f":"\"\"","v":""},{"$f":"\"\"","v":""},{"$f":"\"\"","v":""},{"$f":"\"\"","v":""},0.9,{"$f":"\"\"","v":""},{"$f":"\"\"","v":""},{"$f":"\"\"","v":""},{"$nulls":3},{"v":0.9,"d":"90%"},{"$nulls":32},1,19,0.011616292894075,1.5869346821791,1,0.0016553227470232]
["24015510",null,null,2,40,155,10,10.9,{"$f":"\"\"","v":""},{"$f":"\"\"","v":""},{"$f":"\"\"","v":""},{"$f":"\"\"","v":""},{"v":1391.6,"d":"1392"},{"v":1391.6,"d":"1392"},{"v":1391.6,"d":"1392"},{"v":1391.6,"d":"1392"},1.4027,1.4027,1.4027,1.4027,196,196,196,196,34,34,34,34,{"v":0.009120962812712616,"d":"0.01"},{"v":0.009120962812712616,"d":"0.01"},{"v":0.009120962812712616,"d":"0.01"},{"v":0.009120962812712616,"d":"0.01"},3.969E-4,1.7346,2,0.000367347,{"$f":"\"\"","v":""},{"$f":"\"\"","v":""},{"$f":"\"\"","v":""},{"$f":"\"\"","v":""},{"$f":"\"\"","v":""},{"$f":"\"\"","v":""},{"$f":"\"\"","v":""},{"$f":"\"\"","v":""},{"$f":"\"\"","v":""},{"$f":"\"\"","v":""},{"$f":"\"\"","v":""},{"$f":"\"\"","v":""},{"$f":"\"\"","v":""},{"$f":"\"\"","v":""},{"$f":"\"\"","v":""},{"v":1,"d":"1.0"},{"$f":"\"\"","v":""},{"$f":"\"\"","v":""},{"$f":"\"\"","v":""},{"$nulls":3},{"v":0.9,"d":"90%"},{"$nulls":32},2,20,0.0001276,1.7219,2,3.76611E-4]
["24017510",null,null,2,40,175,10,10.9,{"$f":"\"\"","v":""},{"$f":"\"\"","v":""},{"$f":"\"\"","v":""},{"$f":"\"\"","v":""},{"v":1587.6000000000001,"d":"1588"},{"v":1587.6000000000001,"d":"1588"},{"v":1587.6000000000001,"d":"1588"},{"v":1587.6000000000001,"d":"1588"},1.4027,1.4027,1.4027,1.4027,224,224,224,224,39,39,39,39,{"v":0.01266253031127954,"d":"0.01"},{"v":0.01266253031127954,"d":"0.01"},{"v":0.01266253031127954,"d":"0.01"},{"v":0.01266253031127954,"d":"0.01"},3.969E-4,1.7346,2,0.000367347,{"$f":"\"\"","v":""},{"$f":"\"\"","v":""},{"$f":"\"\"","v":""},{"$f":"\"\"","v":""},{"$f":"\"\"","v":""},{"$f":"\"\"","v":""},{"$f":"\"\"","v":""},{"$f":"\"\"","v":""},{"$f":"\"\"","v":""},{"$f":"\"\"","v":""},{"$f":"\"\"","v":""},{"$f":"\"\"","v":""},{"$f":"\"\"","v":""},{"$f":"\"\"","v":""},{"$f":"\"\"","v":""},1.2,{"$f":"\"\"","v":""},{"$f":"\"\"","v":""},{"$f":"\"\"","v":""},{"$nulls":3},{"v":0.9,"d":"90%"},{"$nulls":32},4,21,0.0001276,1.7219,4,0.000514201]
["24019510",null,null,2,40,195,10,10.9,{"$f":"\"\"","v":""},{"$f":"\"\"","v":""},{"$f":"\"\"","v":""},{"$f":"\"\"","v":""},{"v":1783.6000000000001,"d":"1784"},{"v":1783.6000000000001,"d":"1784"},{"v":1783.6000000000001,"d":"1784"},{"v":1783.6000000000001,"d":"1784"},1.4027,1.4027,1.4027,1.4027,252,252,252,252,43,43,43,43,{"v":0.016229869314968396,"d":"0.02"},{"v":0.016229869314968396,"d":"0.02"},{"v":0.016229869314968396,"d":"0.02"},{"v":0.016229869314968396,"d":"0.02"},3.969E-4,1.7346,2,0.000367347,{"$f":"\"\"","v":""},{"$f":"\"\"","v":""},{"$f":"\"\"","v":""},{"$f":"\"\"","v":""},{"$f":"\"\"","v":""},{"$f":"\"\"","v":""},{"$f":"\"\"","v":""},{"$f":"\"\"","v":""},{"$f":"\"\"","v":""},{"$f":"\"\"","v":""},{"$f":"\"\"","v":""},{"$f":"\"\"","v":""},{"$f":"\"\"","v":""},{"$f":"\"\"","v":""},{"$f":"\"\"","v":""},1.3,{"$f":"\"\"","v":""},{"$f":"\"\"","v":""},{"$f":"\"\"","v":""},{"$nulls":3},{"v":0.9,"d":"90%"}]
["24021510",null,null,2,40,215,10,10.9,{"$f":"\"\"","v":""},{"$f":"\"\"","v":""},{"$f":"\"\"","v":""},{"$f":"\"\"","v":""},{"v":1979.6,"d":"1980"},{"v":1979.6,"d":"1980"},{"v":1979.6,"d":"1980"},{"v":1979.6,"d":"1980"},1.4027,1.4027,1.4027,1.4027,279,279,279,279,48,48,48,48,{"v":0.021163530235326522,"d":"0.02"},{"v":0.021163530235326522,"d":"0.02"},{"v":0.021163530235326522,"d":"0.02"},{"v":0.021163530235326522,"d":"0.02"},3.969E-4,1.7346,2,0.000367347,{"$f":"\"\"","v":""},{"$f":"\"\"","v":""},{"$f":"\"\"","v":""},{"$f":"\"\"","v":""},{"$f":"\"\"","v":""},{"$f":"\"\"","v":""},{"$f":"\"\"","v":""},{"$f":"\"\"","v":""},{"$f":"\"\"","v":""},{"$f":"\"\"","v":""},{"$f":"\"\"","v":""},{"$f":"\"\"","v":""},{"$f":"\"\"","v":""},{"$f":"\"\"","v":""},{"$f":"\"\"","v":""},1.4,{"$f":"\"\"","v":""},{"$f":"\"\"","v":""},{"$f":"\"\"","v":""},{"$nulls":3},{"v":0.9,"d":"90%"},{"$nulls":32},{"$f":"CN111","v":1},7,{"$f":"CP111","v":0.00255823982887},{"$f":"CQ111","v":1.4942747715062},{"$f":"CR111","v":3},{"$f":"CS111","v":0.00056161694684148}]
["24023510",null,null,2,40,235,10,10.9,{"$f":"\"\"","v":""},{"$f":"\"\"","v":""},{"$f":"\"\"","v":""},{"$f":"\"\"","v":""},{"v":2175.6000000000004,"d":"2176"},{"v":2175.6000000000004,"d":"2176"},{"v":2175.6000000000004,"d":"2176"},{"v":2175.6000000000004,"d":"2176"},1.4027,1.4027,1.4027,1.4027,307,307,307,307,53,53,53,53,{"v":0.026918681955248172,"d":"0.03"},{"v":0.026918681955248172,"d":"0.03"},{"v":0.026918681955248172,"d":"0.03"},{"v":0.026918681955248172,"d":"0.03"},3.969E-4,1.7346,2,0.000367347,{"$f":"\"\"","v":""},{"$f":"\"\"","v":""},{"$f":"\"\"","v":""},{"$f":"\"\"","v":""},{"$f":"\"\"","v":""},{"$f":"\"\"","v":""},{"$f":"\"\"","v":""},{"$f":"\"\"","v":""},{"$f":"\"\"","v":""},{"$f":"\"\"","v":""},{"$f":"\"\"","v":""},{"$f":"\"\"","v":""},{"$f":"\"\"","v":""},{"$f":"\"\"","v":""},{"$f":"\"\"","v":""},1.6,{"$f":"\"\"","v":""},{"$f":"\"\"","v":""},{"$f":"\"\"","v":""},{"$nulls":3},{"v":0.9,"d":"90%"},{"$nulls":32},{"$f":"CN105","v":4},8,{"$f":"CP105","v":0.000937},{"$f":"CQ105","v":1.789},{"$f":"CR105","v":4},{"$f":"CS105","v":1.39E-3}]
["2455510",null,null,2,45,55,10,10.9,{"$f":"\"\"","v":""},{"$f":"\"\"","v":""},{"$f":"\"\"","v":""},{"$f":"\"\"","v":""},{"v":432.18,"d":"432"},{"v":432.18,"d":"432"},{"v":432.18,"d":"432"},{"v":432.18,"d":"432"},1.3915,1.3915,1.3915,1.3915,62,62,62,62,11,11,11,11,{"v":6.3783816283657642E-4,"d":"0.00"},{"v":6.3783816283657642E-4,"d":"0.00"},{"v":6.3783816283657642E-4,"d":"0.00"},{"v":6.3783816283657642E-4,"d":"0.00"},3.969E-4,1.7346,2,0.000367347,{"$f":"\"\"","v":""},{"$f":"\"\"","v":""},{"$f":"\"\"","v":""},{"$f":"\"\"","v":""},{"$f":"\"\"","v":""},{"$f":"\"\"","v":""},{"$f":"\"\"","v":""},{"$f":"\"\"","v":""},{"$f":"\"\"","v":""},{"$f":"\"\"","v":""},{"$f":"\"\"","v":""},{"$f":"\"\"","v":""},{"$f":"\"\"","v":""},{"$f":"\"\"","v":""},{"$f":"\"\"","v":""},0.4,{"$f":"\"\"","v":""},{"$f":"\"\"","v":""},{"$f":"\"\"","v":""},{"$nulls":3},{"v":0.9,"d":"90%"}]
["2456510",null,null,2,45,65,10,10.9,{"$f":"\"\"","v":""},{"$f":"\"\"","v":""},{"$f":"\"\"","v":""},{"$f":"\"\"","v":""},{"v":535.08,"d":"535"},{"v":535.08,"d":"535"},{"v":535.08,"d":"535"},{"v":535.08,"d":"535"},1.3915,1.3915,1.3915,1.3915,77,77,77,77,13,13,13,13,{"v":9.4517043414064016E-4,"d":"0.00"},{"v":9.4517043414064016E-4,"d":"0.00"},{"v":9.4517043414064016E-4,"d":"0.00"},{"v":9.4517043414064016E-4,"d":"0.00"},3.969E-4,1.7346,2,0.000367347,{"$f":"\"\"","v":""},{"$f":"\"\"","v":""},{"$f":"\"\"","v":""},{"$f":"\"\"","v":""},{"$f":"\"\"","v":""},{"$f":"\"\"","v":""},{"$f":"\"\"","v":""},{"$f":"\"\"","v":""},{"$f":"\"\"","v":""},{"$f":"\"\"","v":""},{"$f":"\"\"","v":""},{"$f":"\"\"","v":""},{"$f":"\"\"","v":""},{"$f":"\"\"","v":""},{"$f":"\"\"","v":""},0.4,{"$f":"\"\"","v":""},{"$f":"\"\"","v":""},{"$f":"\"\"","v":""}]
["2457510",null,null,2,45,75,10,10.9,{"$f":"\"\"","v":""},{"$f":"\"\"","v":""},{"$f":"\"\"","v":""},{"$f":"\"\"","v":""},{"v":637.98,"d":"638"},{"v":637.98,"d":"638"},{"v":637.98,"d":"638"},{"v":637.98,"d":"638"},1.3915,1.3915,1.3915,1.3915,91,91,91,91,16,16,16,16,{"v":1.4997977957892836E-3,"d":"0.00"},{"v":1.4997977957892836E-3,"d":"0.00"},{"v":1.4997977957892836E-3,"d":"0.00"},{"v":1.4997977957892836E-3,"d":"0.00"},3.969E-4,1.7346,2,0.000367347,{"$f":"\"\"","v":""},{"$f":"\"\"","v":""},{"$f":"\"\"","v":""},{"$f":"\"\"","v":""},{"$f":"\"\"","v":""},{"$f":"\"\"","v":""},{"$f":"\"\"","v":""},{"$f":"\"\"","v":""},{"$f":"\"\"","v":""},{"$f":"\"\"","v":""},{"$f":"\"\"","v":""},{"$f":"\"\"","v":""},{"$f":"\"\"","v":""},{"$f":"\"\"","v":""},{"$f":"\"\"","v":""},0.5,{"$f":"\"\"","v":""},{"$f":"\"\"","v":""},{"$f":"\"\"","v":""}]
["2458510",null,null,2,45,85,10,10.9,{"$f":"\"\"","v":""},{"$f":"\"\"","v":""},{"$f":"\"\"","v":""},{"$f":"\"\"","v":""},{"v":740.88,"d":"741"},{"v":740.88,"d":"741"},{"v":740.88,"d":"741"},{"v":740.88,"d":"741"},1.3915,1.3915,1.3915,1.3915,106,106,106,106,18,18,18,18,{"v":0.001992699825121661,"d":"0.00"},{"v":0.001992699825121661,"d":"0.00"},{"v":0.001992699825121661,"d":"0.00"},{"v":0.001992699825121661,"d":"0.00"},3.969E-4,1.7346,2,0.000367347,{"$f":"\"\"","v":""},{"$f":"\"\"","v":""},{"$f":"\"\"","v":""},{"$f":"\"\"","v":""},{"$f":"\"\"","v":""},{"$f":"\"\"","v":""},{"$f":"\"\"","v":""},{"$f":"\"\"","v":""},{"$f":"\"\"","v":""},{"$f":"\"\"","v":""},{"$f":"\"\"","v":""},{"$f":"\"\"","v":""},{"$f":"\"\"","v":""},{"$f":"\"\"","v":""},{"$f":"\"\"","v":""},0.6,{"$f":"\"\"","v":""},{"$f":"\"\"","v":""},{"$f":"\"\"","v":""}]
["2459510",null,null,2,45,95,10,10.9,{"$f":"\"\"","v":""},{"$f":"\"\"","v":""},{"$f":"\"\"","v":""},{"$f":"\"\"","v":""},{"v":843.78,"d":"844"},{"v":843.78,"d":"844"},{"v":843.78,"d":"844"},{"v":843.78,"d":"844"},1.3915,1.3915,1.3915,1.3915,121,121,121,121,21,21,21,21,{"v":0.002820119769222187,"d":"0.00"},{"v":0.002820119769222187,"d":"0.00"},{"v":0.002820119769222187,"d":"0.00"},{"v":0.002820119769222187,"d":"0.00"},3.969E-4,1.7346,2,0.000367347,{"$f":"\"\"","v":""},{"$f":"\"\"","v":""},{"$f":"\"\"","v":""},{"$f":"\"\"","v":""},{"$f":"\"\"","v":""},{"$f":"\"\"","v":""},{"$f":"\"\"","v":""},{"$f":"\"\"","v":""},{"$f":"\"\"","v":""},{"$f":"\"\"","v":""},{"$f":"\"\"","v":""},{"$f":"\"\"","v":""},{"$f":"\"\"","v":""},{"$f":"\"\"","v":""},{"$f":"\"\"","v":""},0.6,{"$f":"\"\"","v":""},{"$f":"\"\"","v":""},{"$f":"\"\"","v":""}]
["24510510",null,null,2,45,105,10,10.9,{"$f":"\"\"","v":""},{"$f":"\"\"","v":""},{"$f":"\"\"","v":""},{"$f":"\"\"","v":""},{"v":946.6800000000001,"d":"947"},{"v":946.6800000000001,"d":"947"},{"v":946.6800000000001,"d":"947"},{"v":946.6800000000001,"d":"947"},1.3915,1.3915,1.3915,1.3915,136,136,136,136,23,23,23,23,{"v":3.5266528928109063E-3,"d":"0.00"},{"v":3.5266528928109063E-3,"d":"0.00"},{"v":3.5266528928109063E-3,"d":"0.00"},{"v":3.5266528928109063E-3,"d":"0.00"},3.969E-4,1.7346,2,0.000367347,{"$f":"\"\"","v":""},{"$f":"\"\"","v":""},{"$f":"\"\"","v":""},{"$f":"\"\"","v":""},{"$f":"\"\"","v":""},{"$f":"\"\"","v":""},{"$f":"\"\"","v":""},{"$f":"\"\"","v":""},{"$f":"\"\"","v":""},{"$f":"\"\"","v":""},{"$f":"\"\"","v":""},{"$f":"\"\"","v":""},{"$f":"\"\"","v":""},{"$f":"\"\"","v":""},{"$f":"\"\"","v":""},0.7,{"$f":"\"\"","v":""},{"$f":"\"\"","v":""},{"$f":"\"\"","v":""}]
["24511510",null,null,2,45,115,10,10.9,{"$f":"\"\"","v":""},{"$f":"\"\"","v":""},{"$f":"\"\"","v":""},{"$f":"\"\"","v":""},{"v":1049.58,"d":"1050"},{"v":1049.58,"d":"1050"},{"v":1049.58,"d":"1050"},{"v":1049.58,"d":"1050"},1.3915,1.3915,1.3915,1.3915,150,150,150,150,26,26,26,26,{"v":0.004661768341916272,"d":"0.00"},{"v":0.004661768341916272,"d":"0.00"},{"v":0.004661768341916272,"d":"0.00"},{"v":0.004661768341916272,"d":"0.00"},3.969E-4,1.7346,2,0.000367347,{"$f":"\"\"","v":""},{"$f":"\"\"","v":""},{"$f":"\"\"","v":""},{"$f":"\"\"","v":""},{"$f":"\"\"","v":""},{"$f":"\"\"","v":""},{"$f":"\"\"","v":""},{"$f":"\"\"","v":""},{"$f":"\"\"","v":""},{"$f":"\"\"","v":""},{"$f":"\"\"","v":""},{"$f":"\"\"","v":""},{"$f":"\"\"","v":""},{"$f":"\"\"","v":""},{"$f":"\"\"","v":""},0.8,{"$f":"\"\"","v":""},{"$f":"\"\"","v":""},{"$f":"\"\"","v":""}]
["24513510",null,null,2,45,135,10,10.9,{"$f":"\"\"","v":""},{"$f":"\"\"","v":""},{"$f":"\"\"","v":""},{"$f":"\"\"","v":""},{"v":1255.3799999999999,"d":"1255"},{"v":1255.3799999999999,"d":"1255"},{"v":1255.3799999999999,"d":"1255"},{"v":1255.3799999999999,"d":"1255"},1.3915,1.3915,1.3915,1.3915,180,180,180,180,31,31,31,31,{"v":0.007083703075951025,"d":"0.01"},{"v":0.007083703075951025,"d":"0.01"},{"v":0.007083703075951025,"d":"0.01"},{"v":0.007083703075951025,"d":"0.01"},3.969E-4,1.7346,2,0.000367347,{"$f":"\"\"","v":""},{"$f":"\"\"","v":""},{"$f":"\"\"","v":""},{"$f":"\"\"","v":""},{"$f":"\"\"","v":""},{"$f":"\"\"","v":""},{"$f":"\"\"","v":""},{"$f":"\"\"","v":""},{"$f":"\"\"","v":""},{"$f":"\"\"","v":""},{"$f":"\"\"","v":""},{"$f":"\"\"","v":""},{"$f":"\"\"","v":""},{"$f":"\"\"","v":""},{"$f":"\"\"","v":""},0.9,{"$f":"\"\"","v":""},{"$f":"\"\"","v":""},{"$f":"\"\"","v":""}]
["24515510",null,null,2,45,155,10,10.9,{"$f":"\"\"","v":""},{"$f":"\"\"","v":""},{"$f":"\"\"","v":""},{"$f":"\"\"","v":""},{"v":1461.1799999999998,"d":"1461"},{"v":1461.1799999999998,"d":"1461"},{"v":1461.1799999999998,"d":"1461"},{"v":1461.1799999999998,"d":"1461"},1.3915,1.3915,1.3915,1.3915,209,209,209,209,36,36,36,36,{"v":0.010141870228999018,"d":"0.01"},{"v":0.010141870228999018,"d":"0.01"},{"v":0.010141870228999018,"d":"0.01"},{"v":0.010141870228999018,"d":"0.01"},3.969E-4,1.7346,2,0.000367347,{"$f":"\"\"","v":""},{"$f":"\"\"","v":""},{"$f":"\"\"","v":""},{"$f":"\"\"","v":""},{"$f":"\"\"","v":""},{"$f":"\"\"","v":""},{"$f":"\"\"","v":""},{"$f":"\"\"","v":""},{"$f":"\"\"","v":""},{"$f":"\"\"","v":""},{"$f":"\"\"","v":""},{"$f":"\"\"","v":""},{"$f":"\"\"","v":""},{"$f":"\"\"","v":""},{"$f":"\"\"","v":""},{"v":1,"d":"1.0"},{"$f":"\"\"","v":""},{"$f":"\"\"","v":""},{"$f":"\"\"","v":""}]
["24517510",null,null,2,45,175,10,10.9,{"$f":"\"\"","v":""},{"$f":"\"\"","v":""},{"$f":"\"\"","v":""},{"$f":"\"\"","v":""},{"v":1666.98,"d":"1667"},{"v":1666.98,"d":"1667"},{"v":1666.98,"d":"1667"},{"v":1666.98,"d":"1667"},1.3915,1.3915,1.3915,1.3915,239,239,239,239,41,41,41,41,{"v":0.013889823538172376,"d":"0.01"},{"v":0.013889823538172376,"d":"0.01"},{"v":0.013889823538172376,"d":"0.01"},{"v":0.013889823538172376,"d":"0.01"},3.969E-4,1.7346,2,0.000367347,{"$f":"\"\"","v":""},{"$f":"\"\"","v":""},{"$f":"\"\"","v":""},{"$f":"\"\"","v":""},{"$f":"\"\"","v":""},{"$f":"\"\"","v":""},{"$f":"\"\"","v":""},{"$f":"\"\"","v":""},{"$f":"\"\"","v":""},{"$f":"\"\"","v":""},{"$f":"\"\"","v":""},{"$f":"\"\"","v":""},{"$f":"\"\"","v":""},{"$f":"\"\"","v":""},{"$f":"\"\"","v":""},1.2,{"$f":"\"\"","v":""},{"$f":"\"\"","v":""},{"$f":"\"\"","v":""}]
["24519510",null,null,2,45,195,10,10.9,{"$f":"\"\"","v":""},{"$f":"\"\"","v":""},{"$f":"\"\"","v":""},{"$f":"\"\"","v":""},{"v":1872.78,"d":"1873"},{"v":1872.78,"d":"1873"},{"v":1872.78,"d":"1873"},{"v":1872.78,"d":"1873"},1.3915,1.3915,1.3915,1.3915,268,268,268,268,46,46,46,46,{"v":0.01837914688967422,"d":"0.02"},{"v":0.01837914688967422,"d":"0.02"},{"v":0.01837914688967422,"d":"0.02"},{"v":0.01837914688967422,"d":"0.02"},3.969E-4,1.7346,2,0.000367347,{"$f":"\"\"","v":""},{"$f":"\"\"","v":""},{"$f":"\"\"","v":""},{"$f":"\"\"","v":""},{"$f":"\"\"","v":""},{"$f":"\"\"","v":""},{"$f":"\"\"","v":""},{"$f":"\"\"","v":""},{"$f":"\"\"","v":""},{"$f":"\"\"","v":""},{"$f":"\"\"","v":""},{"$f":"\"\"","v":""},{"$f":"\"\"","v":""},{"$f":"\"\"","v":""},{"$f":"\"\"","v":""},1.3,{"$f":"\"\"","v":""},{"$f":"\"\"","v":""},{"$f":"\"\"","v":""}]
["24521510",null,null,2,45,215,10,10.9,{"$f":"\"\"","v":""},{"$f":"\"\"","v":""},{"$f":"\"\"","v":""},{"$f":"\"\"","v":""},{"v":2078.58,"d":"2079"},{"v":2078.58,"d":"2079"},{"v":2078.58,"d":"2079"},{"v":2078.58,"d":"2079"},1.3915,1.3915,1.3915,1.3915,298,298,298,298,51,51,51,51,{"v":0.023659759135803864,"d":"0.02"},{"v":0.023659759135803864,"d":"0.02"},{"v":0.023659759135803864,"d":"0.02"},{"v":0.023659759135803864,"d":"0.02"},3.969E-4,1.7346,2,0.000367347,{"$f":"\"\"","v":""},{"$f":"\"\"","v":""},{"$f":"\"\"","v":""},{"$f":"\"\"","v":""},{"$f":"\"\"","v":""},{"$f":"\"\"","v":""},{"$f":"\"\"","v":""},{"$f":"\"\"","v":""},{"$f":"\"\"","v":""},{"$f":"\"\"","v":""},{"$f":"\"\"","v":""},{"$f":"\"\"","v":""},{"$f":"\"\"","v":""},{"$f":"\"\"","v":""},{"$f":"\"\"","v":""},1.4,{"$f":"\"\"","v":""},{"$f":"\"\"","v":""},{"$f":"\"\"","v":""}]
["24523510",null,null,2,45,235,10,10.9,{"$f":"\"\"","v":""},{"$f":"\"\"","v":""},{"$f":"\"\"","v":""},{"$f":"\"\"","v":""},{"v":2284.38,"d":"2284"},{"v":2284.38,"d":"2284"},{"v":2284.38,"d":"2284"},{"v":2284.38,"d":"2284"},1.3915,1.3915,1.3915,1.3915,327,327,327,327,56,56,56,56,{"v":0.0297801433921566,"d":"0.03"},{"v":0.0297801433921566,"d":"0.03"},{"v":0.0297801433921566,"d":"0.03"},{"v":0.0297801433921566,"d":"0.03"},3.969E-4,1.7346,2,0.000367347,{"$f":"\"\"","v":""},{"$f":"\"\"","v":""},{"$f":"\"\"","v":""},{"$f":"\"\"","v":""},{"$f":"\"\"","v":""},{"$f":"\"\"","v":""},{"$f":"\"\"","v":""},{"$f":"\"\"","v":""},{"$f":"\"\"","v":""},{"$f":"\"\"","v":""},{"$f":"\"\"","v":""},{"$f":"\"\"","v":""},{"$f":"\"\"","v":""},{"$f":"\"\"","v":""},{"$f":"\"\"","v":""},1.6,{"$f":"\"\"","v":""},{"$f":"\"\"","v":""},{"$f":"\"\"","v":""}]
["2505510",null,null,2,50,55,10,10.9,{"$f":"\"\"","v":""},{"$f":"\"\"","v":""},{"$f":"\"\"","v":""},{"$f":"\"\"","v":""},{"v":450.65999999999997,"d":"451"},{"v":450.65999999999997,"d":"451"},{"v":450.65999999999997,"d":"451"},{"v":450.65999999999997,"d":"451"},1.3803,1.3803,1.3803,1.3803,66,66,66,66,11,11,11,11,{"v":6.3783816283657642E-4,"d":"0.00"},{"v":6.3783816283657642E-4,"d":"0.00"},{"v":6.3783816283657642E-4,"d":"0.00"},{"v":6.3783816283657642E-4,"d":"0.00"},3.969E-4,1.7346,2,0.000367347,{"$f":"\"\"","v":""},{"$f":"\"\"","v":""},{"$f":"\"\"","v":""},{"$f":"\"\"","v":""},{"$f":"\"\"","v":""},{"$f":"\"\"","v":""},{"$f":"\"\"","v":""},{"$f":"\"\"","v":""},{"$f":"\"\"","v":""},{"$f":"\"\"","v":""},{"$f":"\"\"","v":""},{"$f":"\"\"","v":""},{"$f":"\"\"","v":""},{"$f":"\"\"","v":""},{"$f":"\"\"","v":""},0.4,{"$f":"\"\"","v":""},{"$f":"\"\"","v":""},{"$f":"\"\"","v":""}]
["2506510",null,null,2,50,65,10,10.9,{"$f":"\"\"","v":""},{"$f":"\"\"","v":""},{"$f":"\"\"","v":""},{"$f":"\"\"","v":""},{"v":557.96,"d":"558"},{"v":557.96,"d":"558"},{"v":557.96,"d":"558"},{"v":557.96,"d":"558"},1.3803,1.3803,1.3803,1.3803,81,81,81,81,14,14,14,14,{"v":1.0885671397012971E-3,"d":"0.00"},{"v":1.0885671397012971E-3,"d":"0.00"},{"v":1.0885671397012971E-3,"d":"0.00"},{"v":1.0885671397012971E-3,"d":"0.00"},3.969E-4,1.7346,2,0.000367347,{"$f":"\"\"","v":""},{"$f":"\"\"","v":""},{"$f":"\"\"","v":""},{"$f":"\"\"","v":""},{"$f":"\"\"","v":""},{"$f":"\"\"","v":""},{"$f":"\"\"","v":""},{"$f":"\"\"","v":""},{"$f":"\"\"","v":""},{"$f":"\"\"","v":""},{"$f":"\"\"","v":""},{"$f":"\"\"","v":""},{"$f":"\"\"","v":""},{"$f":"\"\"","v":""},{"$f":"\"\"","v":""},0.4,{"$f":"\"\"","v":""},{"$f":"\"\"","v":""},{"$f":"\"\"","v":""}]
["2507510",null,null,2,50,75,10,10.9,{"$f":"\"\"","v":""},{"$f":"\"\"","v":""},{"$f":"\"\"","v":""},{"$f":"\"\"","v":""},{"v":665.26,"d":"665"},{"v":665.26,"d":"665"},{"v":665.26,"d":"665"},{"v":665.26,"d":"665"},1.3803,1.3803,1.3803,1.3803,97,97,97,97,17,17,17,17,{"v":1.6827128502576575E-3,"d":"0.00"},{"v":1.6827128502576575E-3,"d":"0.00"},{"v":1.6827128502576575E-3,"d":"0.00"},{"v":1.6827128502576575E-3,"d":"0.00"},3.969E-4,1.7346,2,0.000367347,{"$f":"\"\"","v":""},{"$f":"\"\"","v":""},{"$f":"\"\"","v":""},{"$f":"\"\"","v":""},{"$f":"\"\"","v":""},{"$f":"\"\"","v":""},{"$f":"\"\"","v":""},{"$f":"\"\"","v":""},{"$f":"\"\"","v":""},{"$f":"\"\"","v":""},{"$f":"\"\"","v":""},{"$f":"\"\"","v":""},{"$f":"\"\"","v":""},{"$f":"\"\"","v":""},{"$f":"\"\"","v":""},0.5,{"$f":"\"\"","v":""},{"$f":"\"\"","v":""},{"$f":"\"\"","v":""}]
["2508510",null,null,2,50,85,10,10.9,{"$f":"\"\"","v":""},{"$f":"\"\"","v":""},{"$f":"\"\"","v":""},{"$f":"\"\"","v":""},{"v":772.56,"d":"773"},{"v":772.56,"d":"773"},{"v":772.56,"d":"773"},{"v":772.56,"d":"773"},1.3803,1.3803,1.3803,1.3803,112,112,112,112,19,19,19,19,{"v":2.2071445877895903E-3,"d":"0.00"},{"v":2.2071445877895903E-3,"d":"0.00"},{"v":2.2071445877895903E-3,"d":"0.00"},{"v":2.2071445877895903E-3,"d":"0.00"},3.969E-4,1.7346,2,0.000367347,{"$f":"\"\"","v":""},{"$f":"\"\"","v":""},{"$f":"\"\"","v":""},{"$f":"\"\"","v":""},{"$f":"\"\"","v":""},{"$f":"\"\"","v":""},{"$f":"\"\"","v":""},{"$f":"\"\"","v":""},{"$f":"\"\"","v":""},{"$f":"\"\"","v":""},{"$f":"\"\"","v":""},{"$f":"\"\"","v":""},{"$f":"\"\"","v":""},{"$f":"\"\"","v":""},{"$f":"\"\"","v":""},0.6,{"$f":"\"\"","v":""},{"$f":"\"\"","v":""},{"$f":"\"\"","v":""}]
["2509510",null,null,2,50,95,10,10.9,{"$f":"\"\"","v":""},{"$f":"\"\"","v":""},{"$f":"\"\"","v":""},{"$f":"\"\"","v":""},{"v":879.8599999999999,"d":"880"},{"v":879.8599999999999,"d":"880"},{"v":879.8599999999999,"d":"880"},{"v":879.8599999999999,"d":"880"},1.3803,1.3803,1.3803,1.3803,128,128,128,128,22,22,22,22,{"v":3.0784991528026327E-3,"d":"0.00"},{"v":3.0784991528026327E-3,"d":"0.00"},{"v":3.0784991528026327E-3,"d":"0.00"},{"v":3.0784991528026327E-3,"d":"0.00"},3.969E-4,1.7346,2,0.000367347,{"$f":"\"\"","v":""},{"$f":"\"\"","v":""},{"$f":"\"\"","v":""},{"$f":"\"\"","v":""},{"$f":"\"\"","v":""},{"$f":"\"\"","v":""},{"$f":"\"\"","v":""},{"$f":"\"\"","v":""},{"$f":"\"\"","v":""},{"$f":"\"\"","v":""},{"$f":"\"\"","v":""},{"$f":"\"\"","v":""},{"$f":"\"\"","v":""},{"$f":"\"\"","v":""},{"$f":"\"\"","v":""},0.6,{"$f":"\"\"","v":""},{"$f":"\"\"","v":""},{"$f":"\"\"","v":""}]
["25010510",null,null,2,50,105,10,10.9,{"$f":"\"\"","v":""},{"$f":"\"\"","v":""},{"$f":"\"\"","v":""},{"$f":"\"\"","v":""},{"v":987.1600000000001,"d":"987"},{"v":987.1600000000001,"d":"987"},{"v":987.1600000000001,"d":"987"},{"v":987.1600000000001,"d":"987"},1.3803,1.3803,1.3803,1.3803,144,144,144,144,25,25,25,25,{"v":4.1247017891194206E-3,"d":"0.00"},{"v":4.1247017891194206E-3,"d":"0.00"},{"v":4.1247017891194206E-3,"d":"0.00"},{"v":4.1247017891194206E-3,"d":"0.00"},3.969E-4,1.7346,2,0.000367347,{"$f":"\"\"","v":""},{"$f":"\"\"","v":""},{"$f":"\"\"","v":""},{"$f":"\"\"","v":""},{"$f":"\"\"","v":""},{"$f":"\"\"","v":""},{"$f":"\"\"","v":""},{"$f":"\"\"","v":""},{"$f":"\"\"","v":""},{"$f":"\"\"","v":""},{"$f":"\"\"","v":""},{"$f":"\"\"","v":""},{"$f":"\"\"","v":""},{"$f":"\"\"","v":""},{"$f":"\"\"","v":""},0.7,{"$f":"\"\"","v":""},{"$f":"\"\"","v":""},{"$f":"\"\"","v":""}]
["25011510",null,null,2,50,115,10,10.9,{"$f":"\"\"","v":""},{"$f":"\"\"","v":""},{"$f":"\"\"","v":""},{"$f":"\"\"","v":""},{"v":1094.46,"d":"1094"},{"v":1094.46,"d":"1094"},{"v":1094.46,"d":"1094"},{"v":1094.46,"d":"1094"},1.3803,1.3803,1.3803,1.3803,159,159,159,159,27,27,27,27,{"v":0.005003314405249391,"d":"0.01"},{"v":0.005003314405249391,"d":"0.01"},{"v":0.005003314405249391,"d":"0.01"},{"v":0.005003314405249391,"d":"0.01"},3.969E-4,1.7346,2,0.000367347,{"$f":"\"\"","v":""},{"$f":"\"\"","v":""},{"$f":"\"\"","v":""},{"$f":"\"\"","v":""},{"$f":"\"\"","v":""},{"$f":"\"\"","v":""},{"$f":"\"\"","v":""},{"$f":"\"\"","v":""},{"$f":"\"\"","v":""},{"$f":"\"\"","v":""},{"$f":"\"\"","v":""},{"$f":"\"\"","v":""},{"$f":"\"\"","v":""},{"$f":"\"\"","v":""},{"$f":"\"\"","v":""},0.8,{"$f":"\"\"","v":""},{"$f":"\"\"","v":""},{"$f":"\"\"","v":""}]
["25013510",null,null,2,50,135,10,10.9,{"$f":"\"\"","v":""},{"$f":"\"\"","v":""},{"$f":"\"\"","v":""},{"$f":"\"\"","v":""},{"v":1309.06,"d":"1309"},{"v":1309.06,"d":"1309"},{"v":1309.06,"d":"1309"},{"v":1309.06,"d":"1309"},1.3803,1.3803,1.3803,1.3803,190,190,190,190,33,33,33,33,{"v":0.007959632280150408,"d":"0.01"},{"v":0.007959632280150408,"d":"0.01"},{"v":0.007959632280150408,"d":"0.01"},{"v":0.007959632280150408,"d":"0.01"},3.969E-4,1.7346,2,0.000367347,{"$f":"\"\"","v":""},{"$f":"\"\"","v":""},{"$f":"\"\"","v":""},{"$f":"\"\"","v":""},{"$f":"\"\"","v":""},{"$f":"\"\"","v":""},{"$f":"\"\"","v":""},{"$f":"\"\"","v":""},{"$f":"\"\"","v":""},{"$f":"\"\"","v":""},{"$f":"\"\"","v":""},{"$f":"\"\"","v":""},{"$f":"\"\"","v":""},{"$f":"\"\"","v":""},{"$f":"\"\"","v":""},0.9,{"$f":"\"\"","v":""},{"$f":"\"\"","v":""},{"$f":"\"\"","v":""}]
["25015510",null,null,2,50,155,10,10.9,{"$f":"\"\"","v":""},{"$f":"\"\"","v":""},{"$f":"\"\"","v":""},{"$f":"\"\"","v":""},{"v":1523.6599999999999,"d":"1524"},{"v":1523.6599999999999,"d":"1524"},{"v":1523.6599999999999,"d":"1524"},{"v":1523.6599999999999,"d":"1524"},1.3803,1.3803,1.3803,1.3803,222,222,222,222,38,38,38,38,{"v":0.011213116752687036,"d":"0.01"},{"v":0.011213116752687036,"d":"0.01"},{"v":0.011213116752687036,"d":"0.01"},{"v":0.011213116752687036,"d":"0.01"},3.969E-4,1.7346,2,0.000367347,{"$f":"\"\"","v":""},{"$f":"\"\"","v":""},{"$f":"\"\"","v":""},{"$f":"\"\"","v":""},{"$f":"\"\"","v":""},{"$f":"\"\"","v":""},{"$f":"\"\"","v":""},{"$f":"\"\"","v":""},{"$f":"\"\"","v":""},{"$f":"\"\"","v":""},{"$f":"\"\"","v":""},{"$f":"\"\"","v":""},{"$f":"\"\"","v":""},{"$f":"\"\"","v":""},{"$f":"\"\"","v":""},{"v":1,"d":"1.0"},{"$f":"\"\"","v":""},{"$f":"\"\"","v":""},{"$f":"\"\"","v":""}]
["25017510",null,null,2,50,175,10,10.9,{"$f":"\"\"","v":""},{"$f":"\"\"","v":""},{"$f":"\"\"","v":""},{"$f":"\"\"","v":""},{"v":1738.2600000000002,"d":"1738"},{"v":1738.2600000000002,"d":"1738"},{"v":1738.2600000000002,"d":"1738"},{"v":1738.2600000000002,"d":"1738"},1.3803,1.3803,1.3803,1.3803,253,253,253,253,44,44,44,44,{"v":0.015829233992764,"d":"0.02"},{"v":0.015829233992764,"d":"0.02"},{"v":0.015829233992764,"d":"0.02"},{"v":0.015829233992764,"d":"0.02"},3.969E-4,1.7346,2,0.000367347,{"$f":"\"\"","v":""},{"$f":"\"\"","v":""},{"$f":"\"\"","v":""},{"$f":"\"\"","v":""},{"$f":"\"\"","v":""},{"$f":"\"\"","v":""},{"$f":"\"\"","v":""},{"$f":"\"\"","v":""},{"$f":"\"\"","v":""},{"$f":"\"\"","v":""},{"$f":"\"\"","v":""},{"$f":"\"\"","v":""},{"$f":"\"\"","v":""},{"$f":"\"\"","v":""},{"$f":"\"\"","v":""},1.2,{"$f":"\"\"","v":""},{"$f":"\"\"","v":""},{"$f":"\"\"","v":""}]
["25019510",null,null,2,50,195,10,10.9,{"$f":"\"\"","v":""},{"$f":"\"\"","v":""},{"$f":"\"\"","v":""},{"$f":"\"\"","v":""},{"v":1952.8600000000001,"d":"1953"},{"v":1952.8600000000001,"d":"1953"},{"v":1952.8600000000001,"d":"1953"},{"v":1952.8600000000001,"d":"1953"},1.3803,1.3803,1.3803,1.3803,284,284,284,284,49,49,49,49,{"v":0.02065155602435902,"d":"0.02"},{"v":0.02065155602435902,"d":"0.02"},{"v":0.02065155602435902,"d":"0.02"},{"v":0.02065155602435902,"d":"0.02"},3.969E-4,1.7346,2,0.000367347,{"$f":"\"\"","v":""},{"$f":"\"\"","v":""},{"$f":"\"\"","v":""},{"$f":"\"\"","v":""},{"$f":"\"\"","v":""},{"$f":"\"\"","v":""},{"$f":"\"\"","v":""},{"$f":"\"\"","v":""},{"$f":"\"\"","v":""},{"$f":"\"\"","v":""},{"$f":"\"\"","v":""},{"$f":"\"\"","v":""},{"$f":"\"\"","v":""},{"$f":"\"\"","v":""},{"$f":"\"\"","v":""},1.3,{"$f":"\"\"","v":""},{"$f":"\"\"","v":""},{"$f":"\"\"","v":""}]
["25021510",null,null,2,50,215,10,10.9,{"$f":"\"\"","v":""},{"$f":"\"\"","v":""},{"$f":"\"\"","v":""},{"$f":"\"\"","v":""},{"v":2167.46,"d":"2167"},{"v":2167.46,"d":"2167"},{"v":2167.46,"d":"2167"},{"v":2167.46,"d":"2167"},1.3803,1.3803,1.3803,1.3803,315,315,315,315,54,54,54,54,{"v":0.026283827703893516,"d":"0.03"},{"v":0.026283827703893516,"d":"0.03"},{"v":0.026283827703893516,"d":"0.03"},{"v":0.026283827703893516,"d":"0.03"},3.969E-4,1.7346,2,0.000367347,{"$f":"\"\"","v":""},{"$f":"\"\"","v":""},{"$f":"\"\"","v":""},{"$f":"\"\"","v":""},{"$f":"\"\"","v":""},{"$f":"\"\"","v":""},{"$f":"\"\"","v":""},{"$f":"\"\"","v":""},{"$f":"\"\"","v":""},{"$f":"\"\"","v":""},{"$f":"\"\"","v":""},{"$f":"\"\"","v":""},{"$f":"\"\"","v":""},{"$f":"\"\"","v":""},{"$f":"\"\"","v":""},1.4,{"$f":"\"\"","v":""},{"$f":"\"\"","v":""},{"$f":"\"\"","v":""}]
["25023510",null,null,2,50,235,10,10.9,{"$f":"\"\"","v":""},{"$f":"\"\"","v":""},{"$f":"\"\"","v":""},{"$f":"\"\"","v":""},{"v":2382.0600000000004,"d":"2382"},{"v":2382.0600000000004,"d":"2382"},{"v":2382.0600000000004,"d":"2382"},{"v":2382.0600000000004,"d":"2382"},1.3803,1.3803,1.3803,1.3803,347,347,347,347,60,60,60,60,{"v":0.0338012557161522,"d":"0.03"},{"v":0.0338012557161522,"d":"0.03"},{"v":0.0338012557161522,"d":"0.03"},{"v":0.0338012557161522,"d":"0.03"},3.969E-4,1.7346,2,0.000367347,{"$f":"\"\"","v":""},{"$f":"\"\"","v":""},{"$f":"\"\"","v":""},{"$f":"\"\"","v":""},{"$f":"\"\"","v":""},{"$f":"\"\"","v":""},{"$f":"\"\"","v":""},{"$f":"\"\"","v":""},{"$f":"\"\"","v":""},{"$f":"\"\"","v":""},{"$f":"\"\"","v":""},{"$f":"\"\"","v":""},{"$f":"\"\"","v":""},{"$f":"\"\"","v":""},{"$f":"\"\"","v":""},1.6,{"$f":"\"\"","v":""},{"$f":"\"\"","v":""},{"$f":"\"\"","v":""}]
["2555510",null,null,2,55,55,10,10.9,{"$f":"\"\"","v":""},{"$f":"\"\"","v":""},{"$f":"\"\"","v":""},{"$f":"\"\"","v":""},{"v":467.46,"d":"467"},{"v":467.46,"d":"467"},{"v":467.46,"d":"467"},{"v":467.46,"d":"467"},1.369,1.369,1.369,1.369,69,69,69,69,12,12,12,12,{"v":7.535858305041021E-4,"d":"0.00"},{"v":7.535858305041021E-4,"d":"0.00"},{"v":7.535858305041021E-4,"d":"0.00"},{"v":7.535858305041021E-4,"d":"0.00"},3.969E-4,1.7346,2,0.000367347,{"$f":"\"\"","v":""},{"$f":"\"\"","v":""},{"$f":"\"\"","v":""},{"$f":"\"\"","v":""},{"$f":"\"\"","v":""},{"$f":"\"\"","v":""},{"$f":"\"\"","v":""},{"$f":"\"\"","v":""},{"$f":"\"\"","v":""},{"$f":"\"\"","v":""},{"$f":"\"\"","v":""},{"$f":"\"\"","v":""},{"$f":"\"\"","v":""},{"$f":"\"\"","v":""},{"$f":"\"\"","v":""},0.4,{"$f":"\"\"","v":""},{"$f":"\"\"","v":""},{"$f":"\"\"","v":""}]
["2556510",null,null,2,55,65,10,10.9,{"$f":"\"\"","v":""},{"$f":"\"\"","v":""},{"$f":"\"\"","v":""},{"$f":"\"\"","v":""},{"v":578.76,"d":"579"},{"v":578.76,"d":"579"},{"v":578.76,"d":"579"},{"v":578.76,"d":"579"},1.369,1.369,1.369,1.369,86,86,86,86,15,15,15,15,{"v":1.2416539514499341E-3,"d":"0.00"},{"v":1.2416539514499341E-3,"d":"0.00"},{"v":1.2416539514499341E-3,"d":"0.00"},{"v":1.2416539514499341E-3,"d":"0.00"},3.969E-4,1.7346,2,0.000367347,{"$f":"\"\"","v":""},{"$f":"\"\"","v":""},{"$f":"\"\"","v":""},{"$f":"\"\"","v":""},{"$f":"\"\"","v":""},{"$f":"\"\"","v":""},{"$f":"\"\"","v":""},{"$f":"\"\"","v":""},{"$f":"\"\"","v":""},{"$f":"\"\"","v":""},{"$f":"\"\"","v":""},{"$f":"\"\"","v":""},{"$f":"\"\"","v":""},{"$f":"\"\"","v":""},{"$f":"\"\"","v":""},0.4,{"$f":"\"\"","v":""},{"$f":"\"\"","v":""},{"$f":"\"\"","v":""}]
["2557510",null,null,2,55,75,10,10.9,{"$f":"\"\"","v":""},{"$f":"\"\"","v":""},{"$f":"\"\"","v":""},{"$f":"\"\"","v":""},{"v":690.06,"d":"690"},{"v":690.06,"d":"690"},{"v":690.06,"d":"690"},{"v":690.06,"d":"690"},1.369,1.369,1.369,1.369,102,102,102,102,18,18,18,18,{"v":1.8756602173707173E-3,"d":"0.00"},{"v":1.8756602173707173E-3,"d":"0.00"},{"v":1.8756602173707173E-3,"d":"0.00"},{"v":1.8756602173707173E-3,"d":"0.00"},3.969E-4,1.7346,2,0.000367347,{"$f":"\"\"","v":""},{"$f":"\"\"","v":""},{"$f":"\"\"","v":""},{"$f":"\"\"","v":""},{"$f":"\"\"","v":""},{"$f":"\"\"","v":""},{"$f":"\"\"","v":""},{"$f":"\"\"","v":""},{"$f":"\"\"","v":""},{"$f":"\"\"","v":""},{"$f":"\"\"","v":""},{"$f":"\"\"","v":""},{"$f":"\"\"","v":""},{"$f":"\"\"","v":""},{"$f":"\"\"","v":""},0.5,{"$f":"\"\"","v":""},{"$f":"\"\"","v":""},{"$f":"\"\"","v":""}]
["2558510",null,null,2,55,85,10,10.9,{"$f":"\"\"","v":""},{"$f":"\"\"","v":""},{"$f":"\"\"","v":""},{"$f":"\"\"","v":""},{"v":801.36,"d":"801"},{"v":801.36,"d":"801"},{"v":801.36,"d":"801"},{"v":801.36,"d":"801"},1.369,1.369,1.369,1.369,118,118,118,118,20,20,20,20,{"v":2.4319929984029597E-3,"d":"0.00"},{"v":2.4319929984029597E-3,"d":"0.00"},{"v":2.4319929984029597E-3,"d":"0.00"},{"v":2.4319929984029597E-3,"d":"0.00"},3.969E-4,1.7346,2,0.000367347,{"$f":"\"\"","v":""},{"$f":"\"\"","v":""},{"$f":"\"\"","v":""},{"$f":"\"\"","v":""},{"$f":"\"\"","v":""},{"$f":"\"\"","v":""},{"$f":"\"\"","v":""},{"$f":"\"\"","v":""},{"$f":"\"\"","v":""},{"$f":"\"\"","v":""},{"$f":"\"\"","v":""},{"$f":"\"\"","v":""},{"$f":"\"\"","v":""},{"$f":"\"\"","v":""},{"$f":"\"\"","v":""},0.6,{"$f":"\"\"","v":""},{"$f":"\"\"","v":""},{"$f":"\"\"","v":""}]
["2559510",null,null,2,55,95,10,10.9,{"$f":"\"\"","v":""},{"$f":"\"\"","v":""},{"$f":"\"\"","v":""},{"$f":"\"\"","v":""},{"v":912.66,"d":"913"},{"v":912.66,"d":"913"},{"v":912.66,"d":"913"},{"v":912.66,"d":"913"},1.369,1.369,1.369,1.369,135,135,135,135,23,23,23,23,{"v":3.3475963171584883E-3,"d":"0.00"},{"v":3.3475963171584883E-3,"d":"0.00"},{"v":3.3475963171584883E-3,"d":"0.00"},{"v":3.3475963171584883E-3,"d":"0.00"},3.969E-4,1.7346,2,0.000367347,{"$f":"\"\"","v":""},{"$f":"\"\"","v":""},{"$f":"\"\"","v":""},{"$f":"\"\"","v":""},{"$f":"\"\"","v":""},{"$f":"\"\"","v":""},{"$f":"\"\"","v":""},{"$f":"\"\"","v":""},{"$f":"\"\"","v":""},{"$f":"\"\"","v":""},{"$f":"\"\"","v":""},{"$f":"\"\"","v":""},{"$f":"\"\"","v":""},{"$f":"\"\"","v":""},{"$f":"\"\"","v":""},0.6,{"$f":"\"\"","v":""},{"$f":"\"\"","v":""},{"$f":"\"\"","v":""}]
["25510510",null,null,2,55,105,10,10.9,{"$f":"\"\"","v":""},{"$f":"\"\"","v":""},{"$f":"\"\"","v":""},{"$f":"\"\"","v":""},{"v":1023.96,"d":"1024"},{"v":1023.96,"d":"1024"},{"v":1023.96,"d":"1024"},{"v":1023.96,"d":"1024"},1.369,1.369,1.369,1.369,151,151,151,151,26,26,26,26,{"v":0.004440280475483243,"d":"0.00"},{"v":0.004440280475483243,"d":"0.00"},{"v":0.004440280475483243,"d":"0.00"},{"v":0.004440280475483243,"d":"0.00"},3.969E-4,1.7346,2,0.000367347,{"$f":"\"\"","v":""},{"$f":"\"\"","v":""},{"$f":"\"\"","v":""},{"$f":"\"\"","v":""},{"$f":"\"\"","v":""},{"$f":"\"\"","v":""},{"$f":"\"\"","v":""},{"$f":"\"\"","v":""},{"$f":"\"\"","v":""},{"$f":"\"\"","v":""},{"$f":"\"\"","v":""},{"$f":"\"\"","v":""},{"$f":"\"\"","v":""},{"$f":"\"\"","v":""},{"$f":"\"\"","v":""},0.7,{"$f":"\"\"","v":""},{"$f":"\"\"","v":""},{"$f":"\"\"","v":""}]
["25511510",null,null,2,55,115,10,10.9,{"$f":"\"\"","v":""},{"$f":"\"\"","v":""},{"$f":"\"\"","v":""},{"$f":"\"\"","v":""},{"v":1135.26,"d":"1135"},{"v":1135.26,"d":"1135"},{"v":1135.26,"d":"1135"},{"v":1135.26,"d":"1135"},1.369,1.369,1.369,1.369,168,168,168,168,29,29,29,29,{"v":5.720441548513572E-3,"d":"0.01"},{"v":5.720441548513572E-3,"d":"0.01"},{"v":5.720441548513572E-3,"d":"0.01"},{"v":5.720441548513572E-3,"d":"0.01"},3.969E-4,1.7346,2,0.000367347,{"$f":"\"\"","v":""},{"$f":"\"\"","v":""},{"$f":"\"\"","v":""},{"$f":"\"\"","v":""},{"$f":"\"\"","v":""},{"$f":"\"\"","v":""},{"$f":"\"\"","v":""},{"$f":"\"\"","v":""},{"$f":"\"\"","v":""},{"$f":"\"\"","v":""},{"$f":"\"\"","v":""},{"$f":"\"\"","v":""},{"$f":"\"\"","v":""},{"$f":"\"\"","v":""},{"$f":"\"\"","v":""},0.8,{"$f":"\"\"","v":""},{"$f":"\"\"","v":""},{"$f":"\"\"","v":""}]
["25513510",null,null,2,55,135,10,10.9,{"$f":"\"\"","v":""},{"$f":"\"\"","v":""},{"$f":"\"\"","v":""},{"$f":"\"\"","v":""},{"v":1357.86,"d":"1358"},{"v":1357.86,"d":"1358"},{"v":1357.86,"d":"1358"},{"v":1357.86,"d":"1358"},1.369,1.369,1.369,1.369,201,201,201,201,35,35,35,35,{"v":0.008883268628196434,"d":"0.01"},{"v":0.008883268628196434,"d":"0.01"},{"v":0.008883268628196434,"d":"0.01"},{"v":0.008883268628196434,"d":"0.01"},3.969E-4,1.7346,2,0.000367347,{"$f":"\"\"","v":""},{"$f":"\"\"","v":""},{"$f":"\"\"","v":""},{"$f":"\"\"","v":""},{"$f":"\"\"","v":""},{"$f":"\"\"","v":""},{"$f":"\"\"","v":""},{"$f":"\"\"","v":""},{"$f":"\"\"","v":""},{"$f":"\"\"","v":""},{"$f":"\"\"","v":""},{"$f":"\"\"","v":""},{"$f":"\"\"","v":""},{"$f":"\"\"","v":""},{"$f":"\"\"","v":""},0.9,{"$f":"\"\"","v":""},{"$f":"\"\"","v":""},{"$f":"\"\"","v":""}]
["25515510",null,null,2,55,155,10,10.9,{"$f":"\"\"","v":""},{"$f":"\"\"","v":""},{"$f":"\"\"","v":""},{"$f":"\"\"","v":""},{"v":1580.4599999999998,"d":"1580"},{"v":1580.4599999999998,"d":"1580"},{"v":1580.4599999999998,"d":"1580"},{"v":1580.4599999999998,"d":"1580"},1.369,1.369,1.369,1.369,234,234,234,234,40,40,40,40,{"v":0.012334395328428673,"d":"0.01"},{"v":0.012334395328428673,"d":"0.01"},{"v":0.012334395328428673,"d":"0.01"},{"v":0.012334395328428673,"d":"0.01"},3.969E-4,1.7346,2,0.000367347,{"$f":"\"\"","v":""},{"$f":"\"\"","v":""},{"$f":"\"\"","v":""},{"$f":"\"\"","v":""},{"$f":"\"\"","v":""},{"$f":"\"\"","v":""},{"$f":"\"\"","v":""},{"$f":"\"\"","v":""},{"$f":"\"\"","v":""},{"$f":"\"\"","v":""},{"$f":"\"\"","v":""},{"$f":"\"\"","v":""},{"$f":"\"\"","v":""},{"$f":"\"\"","v":""},{"$f":"\"\"","v":""},{"v":1,"d":"1.0"},{"$f":"\"\"","v":""},{"$f":"\"\"","v":""},{"$f":"\"\"","v":""}]
[{"$f":"CONCATENATE(D156,E156,F156,G156)","v":"25517510"},null,null,2,55,175,10,10.9,{"$f":"\"\"","v":""},{"$f":"\"\"","v":""},{"$f":"\"\"","v":""},{"$f":"\"\"","v":""},{"v":1803.0600000000002,"d":"1803"},{"v":1803.0600000000002,"d":"1803"},{"v":1803.0600000000002,"d":"1803"},{"v":1803.0600000000002,"d":"1803"},1.369,1.369,1.369,1.369,{"$f":"ROUND(M156*POWER(CF_heat,Q156),0)","v":267},267,267,267,{"$f":"ROUND(U156*3600/(4186*ABS($O$1-$O$2)),0)","v":46},46,46,46,{"$f":"(($AG156*(Y156^$AH156)*((($F156-14.4)*$AI156)/100))+($AJ156*(Y156^2)))*0.0098","v":{"v":0.017187392114472202,"d":"0.02"}},{"v":0.017187392114472202,"d":"0.02"},{"v":0.017187392114472202,"d":"0.02"},{"v":0.017187392114472202,"d":"0.02"},{"$f":"IF($G156=$CO$103,CP$103,IF($G156=$CO$104,CP$104,IF($G156=$CO$105,CP$105,IF($G156=$CO$107,CP$107,IF($G156=$CO$108,CP$108,IF($G156=$CO$109,CP$109,IF($G156=$CO$111,CP$111,IF($G156=$CO$112,CP$112,IF($G156=$CO$113,CP$113,IF($G156=$CO$115,CP$115,IF($G156=$CO$116,CP$116,IF($G156=$CO$117,CP$117,IF($G156=$CO$119,CP$119,IF($G156=$CO$120,CP$120,))))))))))))))","v":3.969E-4},1.7346,2,0.000367347,{"$f":"\"\"","v":""},{"$f":"\"\"","v":""},{"$f":"\"\"","v":""},{"$f":"\"\"","v":""},{"$f":"\"\"","v":""},{"$f":"\"\"","v":""},{"$f":"\"\"","v":""},{"$f":"\"\"","v":""},{"$f":"\"\"","v":""},{"$f":"\"\"","v":""},{"$f":"\"\"","v":""},{"$f":"\"\"","v":""},{"$f":"\"\"","v":""},{"$f":"\"\"","v":""},{"$f":"\"\"","v":""},{"$f":"ROUND(IF(G156=10,$CO$92*F156,IF(G156=11,$CO$93*F156,IF(G156=15,$CO$94*F156,IF(G156=16,$CO$95*F156,IF(G156=20,$CO$96*F156,IF(G156=21,$CO$97*F156,)))))),1)","v":1.2},{"$f":"\"\"","v":""},{"$f":"\"\"","v":""},{"$f":"\"\"","v":""}]
["25519510",null,null,2,55,195,10,10.9,{"$f":"\"\"","v":""},{"$f":"\"\"","v":""},{"$f":"\"\"","v":""},{"$f":"\"\"","v":""},{"v":2025.66,"d":"2026"},{"v":2025.66,"d":"2026"},{"v":2025.66,"d":"2026"},{"v":2025.66,"d":"2026"},1.369,1.369,1.369,1.369,299,299,299,299,51,51,51,51,{"v":0.022234419397498397,"d":"0.02"},{"v":0.022234419397498397,"d":"0.02"},{"v":0.022234419397498397,"d":"0.02"},{"v":0.022234419397498397,"d":"0.02"},3.969E-4,1.7346,2,0.000367347,{"$f":"\"\"","v":""},{"$f":"\"\"","v":""},{"$f":"\"\"","v":""},{"$f":"\"\"","v":""},{"$f":"\"\"","v":""},{"$f":"\"\"","v":""},{"$f":"\"\"","v":""},{"$f":"\"\"","v":""},{"$f":"\"\"","v":""},{"$f":"\"\"","v":""},{"$f":"\"\"","v":""},{"$f":"\"\"","v":""},{"$f":"\"\"","v":""},{"$f":"\"\"","v":""},{"$f":"\"\"","v":""},1.3,{"$f":"\"\"","v":""},{"$f":"\"\"","v":""},{"$f":"\"\"","v":""}]
["25521510",null,null,2,55,215,10,10.9,{"$f":"\"\"","v":""},{"$f":"\"\"","v":""},{"$f":"\"\"","v":""},{"$f":"\"\"","v":""},{"v":2248.26,"d":"2248"},{"v":2248.26,"d":"2248"},{"v":2248.26,"d":"2248"},{"v":2248.26,"d":"2248"},1.369,1.369,1.369,1.369,332,332,332,332,57,57,57,57,{"v":0.029034786204314492,"d":"0.03"},{"v":0.029034786204314492,"d":"0.03"},{"v":0.029034786204314492,"d":"0.03"},{"v":0.029034786204314492,"d":"0.03"},3.969E-4,1.7346,2,0.000367347,{"$f":"\"\"","v":""},{"$f":"\"\"","v":""},{"$f":"\"\"","v":""},{"$f":"\"\"","v":""},{"$f":"\"\"","v":""},{"$f":"\"\"","v":""},{"$f":"\"\"","v":""},{"$f":"\"\"","v":""},{"$f":"\"\"","v":""},{"$f":"\"\"","v":""},{"$f":"\"\"","v":""},{"$f":"\"\"","v":""},{"$f":"\"\"","v":""},{"$f":"\"\"","v":""},{"$f":"\"\"","v":""},1.4,{"$f":"\"\"","v":""},{"$f":"\"\"","v":""},{"$f":"\"\"","v":""}]
["25523510",null,null,2,55,235,10,10.9,{"$f":"\"\"","v":""},{"$f":"\"\"","v":""},{"$f":"\"\"","v":""},{"$f":"\"\"","v":""},{"v":2470.86,"d":"2471"},{"v":2470.86,"d":"2471"},{"v":2470.86,"d":"2471"},{"v":2470.86,"d":"2471"},1.369,1.369,1.369,1.369,365,365,365,365,63,63,63,63,{"v":0.03697026916809484,"d":"0.04"},{"v":0.03697026916809484,"d":"0.04"},{"v":0.03697026916809484,"d":"0.04"},{"v":0.03697026916809484,"d":"0.04"},3.969E-4,1.7346,2,0.000367347,{"$f":"\"\"","v":""},{"$f":"\"\"","v":""},{"$f":"\"\"","v":""},{"$f":"\"\"","v":""},{"$f":"\"\"","v":""},{"$f":"\"\"","v":""},{"$f":"\"\"","v":""},{"$f":"\"\"","v":""},{"$f":"\"\"","v":""},{"$f":"\"\"","v":""},{"$f":"\"\"","v":""},{"$f":"\"\"","v":""},{"$f":"\"\"","v":""},{"$f":"\"\"","v":""},{"$f":"\"\"","v":""},1.6,{"$f":"\"\"","v":""},{"$f":"\"\"","v":""},{"$f":"\"\"","v":""}]
["2605510",null,null,2,60,55,10,10.9,{"$f":"\"\"","v":""},{"$f":"\"\"","v":""},{"$f":"\"\"","v":""},{"$f":"\"\"","v":""},{"v":482.58,"d":"483"},{"v":482.58,"d":"483"},{"v":482.58,"d":"483"},{"v":482.58,"d":"483"},1.3578,1.3578,1.3578,1.3578,72,72,72,72,12,12,12,12,{"v":7.535858305041021E-4,"d":"0.00"},{"v":7.535858305041021E-4,"d":"0.00"},{"v":7.535858305041021E-4,"d":"0.00"},{"v":7.535858305041021E-4,"d":"0.00"},3.969E-4,1.7346,2,0.000367347,{"$f":"\"\"","v":""},{"$f":"\"\"","v":""},{"$f":"\"\"","v":""},{"$f":"\"\"","v":""},{"$f":"\"\"","v":""},{"$f":"\"\"","v":""},{"$f":"\"\"","v":""},{"$f":"\"\"","v":""},{"$f":"\"\"","v":""},{"$f":"\"\"","v":""},{"$f":"\"\"","v":""},{"$f":"\"\"","v":""},{"$f":"\"\"","v":""},{"$f":"\"\"","v":""},{"$f":"\"\"","v":""},0.4,{"$f":"\"\"","v":""},{"$f":"\"\"","v":""},{"$f":"\"\"","v":""}]
["2606510",null,null,2,60,65,10,10.9,{"$f":"\"\"","v":""},{"$f":"\"\"","v":""},{"$f":"\"\"","v":""},{"$f":"\"\"","v":""},{"v":597.48,"d":"597"},{"v":597.48,"d":"597"},{"v":597.48,"d":"597"},{"v":597.48,"d":"597"},1.3578,1.3578,1.3578,1.3578,90,90,90,90,15,15,15,15,{"v":1.2416539514499341E-3,"d":"0.00"},{"v":1.2416539514499341E-3,"d":"0.00"},{"v":1.2416539514499341E-3,"d":"0.00"},{"v":1.2416539514499341E-3,"d":"0.00"},3.969E-4,1.7346,2,0.000367347,{"$f":"\"\"","v":""},{"$f":"\"\"","v":""},{"$f":"\"\"","v":""},{"$f":"\"\"","v":""},{"$f":"\"\"","v":""},{"$f":"\"\"","v":""},{"$f":"\"\"","v":""},{"$f":"\"\"","v":""},{"$f":"\"\"","v":""},{"$f":"\"\"","v":""},{"$f":"\"\"","v":""},{"$f":"\"\"","v":""},{"$f":"\"\"","v":""},{"$f":"\"\"","v":""},{"$f":"\"\"","v":""},0.4,{"$f":"\"\"","v":""},{"$f":"\"\"","v":""},{"$f":"\"\"","v":""}]
["2607510",null,null,2,60,75,10,10.9,{"$f":"\"\"","v":""},{"$f":"\"\"","v":""},{"$f":"\"\"","v":""},{"$f":"\"\"","v":""},{"v":712.38,"d":"712"},{"v":712.38,"d":"712"},{"v":712.38,"d":"712"},{"v":712.38,"d":"712"},1.3578,1.3578,1.3578,1.3578,107,107,107,107,18,18,18,18,{"v":1.8756602173707173E-3,"d":"0.00"},{"v":1.8756602173707173E-3,"d":"0.00"},{"v":1.8756602173707173E-3,"d":"0.00"},{"v":1.8756602173707173E-3,"d":"0.00"},3.969E-4,1.7346,2,0.000367347,{"$f":"\"\"","v":""},{"$f":"\"\"","v":""},{"$f":"\"\"","v":""},{"$f":"\"\"","v":""},{"$f":"\"\"","v":""},{"$f":"\"\"","v":""},{"$f":"\"\"","v":""},{"$f":"\"\"","v":""},{"$f":"\"\"","v":""},{"$f":"\"\"","v":""},{"$f":"\"\"","v":""},{"$f":"\"\"","v":""},{"$f":"\"\"","v":""},{"$f":"\"\"","v":""},{"$f":"\"\"","v":""},0.5,{"$f":"\"\"","v":""},{"$f":"\"\"","v":""},{"$f":"\"\"","v":""}]
["2608510",null,null,2,60,85,10,10.9,{"$f":"\"\"","v":""},{"$f":"\"\"","v":""},{"$f":"\"\"","v":""},{"$f":"\"\"","v":""},{"v":827.28,"d":"827"},{"v":827.28,"d":"827"},{"v":827.28,"d":"827"},{"v":827.28,"d":"827"},1.3578,1.3578,1.3578,1.3578,124,124,124,124,21,21,21,21,{"v":2.6672017165395336E-3,"d":"0.00"},{"v":2.6672017165395336E-3,"d":"0.00"},{"v":2.6672017165395336E-3,"d":"0.00"},{"v":2.6672017165395336E-3,"d":"0.00"},3.969E-4,1.7346,2,0.000367347,{"$f":"\"\"","v":""},{"$f":"\"\"","v":""},{"$f":"\"\"","v":""},{"$f":"\"\"","v":""},{"$f":"\"\"","v":""},{"$f":"\"\"","v":""},{"$f":"\"\"","v":""},{"$f":"\"\"","v":""},{"$f":"\"\"","v":""},{"$f":"\"\"","v":""},{"$f":"\"\"","v":""},{"$f":"\"\"","v":""},{"$f":"\"\"","v":""},{"$f":"\"\"","v":""},{"$f":"\"\"","v":""},0.6,{"$f":"\"\"","v":""},{"$f":"\"\"","v":""},{"$f":"\"\"","v":""}]
["2609510",null,null,2,60,95,10,10.9,{"$f":"\"\"","v":""},{"$f":"\"\"","v":""},{"$f":"\"\"","v":""},{"$f":"\"\"","v":""},{"v":942.18,"d":"942"},{"v":942.18,"d":"942"},{"v":942.18,"d":"942"},{"v":942.18,"d":"942"},1.3578,1.3578,1.3578,1.3578,141,141,141,141,24,24,24,24,{"v":3.62736998802108E-3,"d":"0.00"},{"v":3.62736998802108E-3,"d":"0.00"},{"v":3.62736998802108E-3,"d":"0.00"},{"v":3.62736998802108E-3,"d":"0.00"},3.969E-4,1.7346,2,0.000367347,{"$f":"\"\"","v":""},{"$f":"\"\"","v":""},{"$f":"\"\"","v":""},{"$f":"\"\"","v":""},{"$f":"\"\"","v":""},{"$f":"\"\"","v":""},{"$f":"\"\"","v":""},{"$f":"\"\"","v":""},{"$f":"\"\"","v":""},{"$f":"\"\"","v":""},{"$f":"\"\"","v":""},{"$f":"\"\"","v":""},{"$f":"\"\"","v":""},{"$f":"\"\"","v":""},{"$f":"\"\"","v":""},0.6,{"$f":"\"\"","v":""},{"$f":"\"\"","v":""},{"$f":"\"\"","v":""}]
["26010510",null,null,2,60,105,10,10.9,{"$f":"\"\"","v":""},{"$f":"\"\"","v":""},{"$f":"\"\"","v":""},{"$f":"\"\"","v":""},{"v":1057.08,"d":"1057"},{"v":1057.08,"d":"1057"},{"v":1057.08,"d":"1057"},{"v":1057.08,"d":"1057"},1.3578,1.3578,1.3578,1.3578,159,159,159,159,27,27,27,27,{"v":0.004766841843832951,"d":"0.00"},{"v":0.004766841843832951,"d":"0.00"},{"v":0.004766841843832951,"d":"0.00"},{"v":0.004766841843832951,"d":"0.00"},3.969E-4,1.7346,2,0.000367347,{"$f":"\"\"","v":""},{"$f":"\"\"","v":""},{"$f":"\"\"","v":""},{"$f":"\"\"","v":""},{"$f":"\"\"","v":""},{"$f":"\"\"","v":""},{"$f":"\"\"","v":""},{"$f":"\"\"","v":""},{"$f":"\"\"","v":""},{"$f":"\"\"","v":""},{"$f":"\"\"","v":""},{"$f":"\"\"","v":""},{"$f":"\"\"","v":""},{"$f":"\"\"","v":""},{"$f":"\"\"","v":""},0.7,{"$f":"\"\"","v":""},{"$f":"\"\"","v":""},{"$f":"\"\"","v":""}]
["26011510",null,null,2,60,115,10,10.9,{"$f":"\"\"","v":""},{"$f":"\"\"","v":""},{"$f":"\"\"","v":""},{"$f":"\"\"","v":""},{"v":1171.98,"d":"1172"},{"v":1171.98,"d":"1172"},{"v":1171.98,"d":"1172"},{"v":1171.98,"d":"1172"},1.3578,1.3578,1.3578,1.3578,176,176,176,176,30,30,30,30,{"v":0.006095944487244932,"d":"0.01"},{"v":0.006095944487244932,"d":"0.01"},{"v":0.006095944487244932,"d":"0.01"},{"v":0.006095944487244932,"d":"0.01"},3.969E-4,1.7346,2,0.000367347,{"$f":"\"\"","v":""},{"$f":"\"\"","v":""},{"$f":"\"\"","v":""},{"$f":"\"\"","v":""},{"$f":"\"\"","v":""},{"$f":"\"\"","v":""},{"$f":"\"\"","v":""},{"$f":"\"\"","v":""},{"$f":"\"\"","v":""},{"$f":"\"\"","v":""},{"$f":"\"\"","v":""},{"$f":"\"\"","v":""},{"$f":"\"\"","v":""},{"$f":"\"\"","v":""},{"$f":"\"\"","v":""},0.8,{"$f":"\"\"","v":""},{"$f":"\"\"","v":""},{"$f":"\"\"","v":""}]
["26013510",null,null,2,60,135,10,10.9,{"$f":"\"\"","v":""},{"$f":"\"\"","v":""},{"$f":"\"\"","v":""},{"$f":"\"\"","v":""},{"v":1401.78,"d":"1402"},{"v":1401.78,"d":"1402"},{"v":1401.78,"d":"1402"},{"v":1401.78,"d":"1402"},1.3578,1.3578,1.3578,1.3578,210,210,210,210,36,36,36,36,{"v":0.00936288453178721,"d":"0.01"},{"v":0.00936288453178721,"d":"0.01"},{"v":0.00936288453178721,"d":"0.01"},{"v":0.00936288453178721,"d":"0.01"},3.969E-4,1.7346,2,0.000367347,{"$f":"\"\"","v":""},{"$f":"\"\"","v":""},{"$f":"\"\"","v":""},{"$f":"\"\"","v":""},{"$f":"\"\"","v":""},{"$f":"\"\"","v":""},{"$f":"\"\"","v":""},{"$f":"\"\"","v":""},{"$f":"\"\"","v":""},{"$f":"\"\"","v":""},{"$f":"\"\"","v":""},{"$f":"\"\"","v":""},{"$f":"\"\"","v":""},{"$f":"\"\"","v":""},{"$f":"\"\"","v":""},0.9,{"$f":"\"\"","v":""},{"$f":"\"\"","v":""},{"$f":"\"\"","v":""}]
["26015510",null,null,2,60,155,10,10.9,{"$f":"\"\"","v":""},{"$f":"\"\"","v":""},{"$f":"\"\"","v":""},{"$f":"\"\"","v":""},{"v":1631.58,"d":"1632"},{"v":1631.58,"d":"1632"},{"v":1631.58,"d":"1632"},{"v":1631.58,"d":"1632"},1.3578,1.3578,1.3578,1.3578,245,245,245,245,42,42,42,42,{"v":0.01350541871921996,"d":"0.01"},{"v":0.01350541871921996,"d":"0.01"},{"v":0.01350541871921996,"d":"0.01"},{"v":0.01350541871921996,"d":"0.01"},3.969E-4,1.7346,2,0.000367347,{"$f":"\"\"","v":""},{"$f":"\"\"","v":""},{"$f":"\"\"","v":""},{"$f":"\"\"","v":""},{"$f":"\"\"","v":""},{"$f":"\"\"","v":""},{"$f":"\"\"","v":""},{"$f":"\"\"","v":""},{"$f":"\"\"","v":""},{"$f":"\"\"","v":""},{"$f":"\"\"","v":""},{"$f":"\"\"","v":""},{"$f":"\"\"","v":""},{"$f":"\"\"","v":""},{"$f":"\"\"","v":""},{"v":1,"d":"1.0"},{"$f":"\"\"","v":""},{"$f":"\"\"","v":""},{"$f":"\"\"","v":""}]
["26017510",null,null,2,60,175,10,10.9,{"$f":"\"\"","v":""},{"$f":"\"\"","v":""},{"$f":"\"\"","v":""},{"$f":"\"\"","v":""},{"v":1861.38,"d":"1861"},{"v":1861.38,"d":"1861"},{"v":1861.38,"d":"1861"},{"v":1861.38,"d":"1861"},1.3578,1.3578,1.3578,1.3578,279,279,279,279,48,48,48,48,{"v":0.018597402846906478,"d":"0.02"},{"v":0.018597402846906478,"d":"0.02"},{"v":0.018597402846906478,"d":"0.02"},{"v":0.018597402846906478,"d":"0.02"},3.969E-4,1.7346,2,0.000367347,{"$f":"\"\"","v":""},{"$f":"\"\"","v":""},{"$f":"\"\"","v":""},{"$f":"\"\"","v":""},{"$f":"\"\"","v":""},{"$f":"\"\"","v":""},{"$f":"\"\"","v":""},{"$f":"\"\"","v":""},{"$f":"\"\"","v":""},{"$f":"\"\"","v":""},{"$f":"\"\"","v":""},{"$f":"\"\"","v":""},{"$f":"\"\"","v":""},{"$f":"\"\"","v":""},{"$f":"\"\"","v":""},1.2,{"$f":"\"\"","v":""},{"$f":"\"\"","v":""},{"$f":"\"\"","v":""}]
["26019510",null,null,2,60,195,10,10.9,{"$f":"\"\"","v":""},{"$f":"\"\"","v":""},{"$f":"\"\"","v":""},{"$f":"\"\"","v":""},{"v":2091.18,"d":"2091"},{"v":2091.18,"d":"2091"},{"v":2091.18,"d":"2091"},{"v":2091.18,"d":"2091"},1.3578,1.3578,1.3578,1.3578,314,314,314,314,54,54,54,54,{"v":0.02470992681114242,"d":"0.02"},{"v":0.02470992681114242,"d":"0.02"},{"v":0.02470992681114242,"d":"0.02"},{"v":0.02470992681114242,"d":"0.02"},3.969E-4,1.7346,2,0.000367347,{"$f":"\"\"","v":""},{"$f":"\"\"","v":""},{"$f":"\"\"","v":""},{"$f":"\"\"","v":""},{"$f":"\"\"","v":""},{"$f":"\"\"","v":""},{"$f":"\"\"","v":""},{"$f":"\"\"","v":""},{"$f":"\"\"","v":""},{"$f":"\"\"","v":""},{"$f":"\"\"","v":""},{"$f":"\"\"","v":""},{"$f":"\"\"","v":""},{"$f":"\"\"","v":""},{"$f":"\"\"","v":""},1.3,{"$f":"\"\"","v":""},{"$f":"\"\"","v":""},{"$f":"\"\"","v":""}]
["26021510",null,null,2,60,215,10,10.9,{"$f":"\"\"","v":""},{"$f":"\"\"","v":""},{"$f":"\"\"","v":""},{"$f":"\"\"","v":""},{"v":2320.98,"d":"2321"},{"v":2320.98,"d":"2321"},{"v":2320.98,"d":"2321"},{"v":2320.98,"d":"2321"},1.3578,1.3578,1.3578,1.3578,348,348,348,348,60,60,60,60,{"v":0.03191174950072589,"d":"0.03"},{"v":0.03191174950072589,"d":"0.03"},{"v":0.03191174950072589,"d":"0.03"},{"v":0.03191174950072589,"d":"0.03"},3.969E-4,1.7346,2,0.000367347,{"$f":"\"\"","v":""},{"$f":"\"\"","v":""},{"$f":"\"\"","v":""},{"$f":"\"\"","v":""},{"$f":"\"\"","v":""},{"$f":"\"\"","v":""},{"$f":"\"\"","v":""},{"$f":"\"\"","v":""},{"$f":"\"\"","v":""},{"$f":"\"\"","v":""},{"$f":"\"\"","v":""},{"$f":"\"\"","v":""},{"$f":"\"\"","v":""},{"$f":"\"\"","v":""},{"$f":"\"\"","v":""},1.4,{"$f":"\"\"","v":""},{"$f":"\"\"","v":""},{"$f":"\"\"","v":""}]
["26023510",null,null,2,60,235,10,10.9,{"$f":"\"\"","v":""},{"$f":"\"\"","v":""},{"$f":"\"\"","v":""},{"$f":"\"\"","v":""},{"v":2550.78,"d":"2551"},{"v":2550.78,"d":"2551"},{"v":2550.78,"d":"2551"},{"v":2550.78,"d":"2551"},1.3578,1.3578,1.3578,1.3578,383,383,383,383,66,66,66,66,{"v":0.04026962438300854,"d":"0.04"},{"v":0.04026962438300854,"d":"0.04"},{"v":0.04026962438300854,"d":"0.04"},{"v":0.04026962438300854,"d":"0.04"},3.969E-4,1.7346,2,0.000367347,{"$f":"\"\"","v":""},{"$f":"\"\"","v":""},{"$f":"\"\"","v":""},{"$f":"\"\"","v":""},{"$f":"\"\"","v":""},{"$f":"\"\"","v":""},{"$f":"\"\"","v":""},{"$f":"\"\"","v":""},{"$f":"\"\"","v":""},{"$f":"\"\"","v":""},{"$f":"\"\"","v":""},{"$f":"\"\"","v":""},{"$f":"\"\"","v":""},{"$f":"\"\"","v":""},{"$f":"\"\"","v":""},1.6,{"$f":"\"\"","v":""},{"$f":"\"\"","v":""},{"$f":"\"\"","v":""}]
["2655510",null,null,2,65,55,10,10.9,{"$f":"\"\"","v":""},{"$f":"\"\"","v":""},{"$f":"\"\"","v":""},{"$f":"\"\"","v":""},{"v":496.02,"d":"496"},{"v":496.02,"d":"496"},{"v":496.02,"d":"496"},{"v":496.02,"d":"496"},1.3466,1.3466,1.3466,1.3466,76,76,76,76,13,13,13,13,{"v":8.7861503241324094E-4,"d":"0.00"},{"v":8.7861503241324094E-4,"d":"0.00"},{"v":8.7861503241324094E-4,"d":"0.00"},{"v":8.7861503241324094E-4,"d":"0.00"},3.969E-4,1.7346,2,0.000367347,{"$f":"\"\"","v":""},{"$f":"\"\"","v":""},{"$f":"\"\"","v":""},{"$f":"\"\"","v":""},{"$f":"\"\"","v":""},{"$f":"\"\"","v":""},{"$f":"\"\"","v":""},{"$f":"\"\"","v":""},{"$f":"\"\"","v":""},{"$f":"\"\"","v":""},{"$f":"\"\"","v":""},{"$f":"\"\"","v":""},{"$f":"\"\"","v":""},{"$f":"\"\"","v":""},{"$f":"\"\"","v":""},0.4,{"$f":"\"\"","v":""},{"$f":"\"\"","v":""},{"$f":"\"\"","v":""}]
["2656510",null,null,2,65,65,10,10.9,{"$f":"\"\"","v":""},{"$f":"\"\"","v":""},{"$f":"\"\"","v":""},{"$f":"\"\"","v":""},{"v":614.12,"d":"614"},{"v":614.12,"d":"614"},{"v":614.12,"d":"614"},{"v":614.12,"d":"614"},1.3466,1.3466,1.3466,1.3466,94,94,94,94,16,16,16,16,{"v":1.4043856436128344E-3,"d":"0.00"},{"v":1.4043856436128344E-3,"d":"0.00"},{"v":1.4043856436128344E-3,"d":"0.00"},{"v":1.4043856436128344E-3,"d":"0.00"},3.969E-4,1.7346,2,0.000367347,{"$f":"\"\"","v":""},{"$f":"\"\"","v":""},{"$f":"\"\"","v":""},{"$f":"\"\"","v":""},{"$f":"\"\"","v":""},{"$f":"\"\"","v":""},{"$f":"\"\"","v":""},{"$f":"\"\"","v":""},{"$f":"\"\"","v":""},{"$f":"\"\"","v":""},{"$f":"\"\"","v":""},{"$f":"\"\"","v":""},{"$f":"\"\"","v":""},{"$f":"\"\"","v":""},{"$f":"\"\"","v":""},0.4,{"$f":"\"\"","v":""},{"$f":"\"\"","v":""},{"$f":"\"\"","v":""}]
["2657510",null,null,2,65,75,10,10.9,{"$f":"\"\"","v":""},{"$f":"\"\"","v":""},{"$f":"\"\"","v":""},{"$f":"\"\"","v":""},{"v":732.22,"d":"732"},{"v":732.22,"d":"732"},{"v":732.22,"d":"732"},{"v":732.22,"d":"732"},1.3466,1.3466,1.3466,1.3466,112,112,112,112,19,19,19,19,{"v":2.0785972264312914E-3,"d":"0.00"},{"v":2.0785972264312914E-3,"d":"0.00"},{"v":2.0785972264312914E-3,"d":"0.00"},{"v":2.0785972264312914E-3,"d":"0.00"},3.969E-4,1.7346,2,0.000367347,{"$f":"\"\"","v":""},{"$f":"\"\"","v":""},{"$f":"\"\"","v":""},{"$f":"\"\"","v":""},{"$f":"\"\"","v":""},{"$f":"\"\"","v":""},{"$f":"\"\"","v":""},{"$f":"\"\"","v":""},{"$f":"\"\"","v":""},{"$f":"\"\"","v":""},{"$f":"\"\"","v":""},{"$f":"\"\"","v":""},{"$f":"\"\"","v":""},{"$f":"\"\"","v":""},{"$f":"\"\"","v":""},0.5,{"$f":"\"\"","v":""},{"$f":"\"\"","v":""},{"$f":"\"\"","v":""}]
["2658510",null,null,2,65,85,10,10.9,{"$f":"\"\"","v":""},{"$f":"\"\"","v":""},{"$f":"\"\"","v":""},{"$f":"\"\"","v":""},{"v":850.32,"d":"850"},{"v":850.32,"d":"850"},{"v":850.32,"d":"850"},{"v":850.32,"d":"850"},1.3466,1.3466,1.3466,1.3466,130,130,130,130,22,22,22,22,{"v":2.9127300631745143E-3,"d":"0.00"},{"v":2.9127300631745143E-3,"d":"0.00"},{"v":2.9127300631745143E-3,"d":"0.00"},{"v":2.9127300631745143E-3,"d":"0.00"},3.969E-4,1.7346,2,0.000367347,{"$f":"\"\"","v":""},{"$f":"\"\"","v":""},{"$f":"\"\"","v":""},{"$f":"\"\"","v":""},{"$f":"\"\"","v":""},{"$f":"\"\"","v":""},{"$f":"\"\"","v":""},{"$f":"\"\"","v":""},{"$f":"\"\"","v":""},{"$f":"\"\"","v":""},{"$f":"\"\"","v":""},{"$f":"\"\"","v":""},{"$f":"\"\"","v":""},{"$f":"\"\"","v":""},{"$f":"\"\"","v":""},0.6,{"$f":"\"\"","v":""},{"$f":"\"\"","v":""},{"$f":"\"\"","v":""}]
["2659510",null,null,2,65,95,10,10.9,{"$f":"\"\"","v":""},{"$f":"\"\"","v":""},{"$f":"\"\"","v":""},{"$f":"\"\"","v":""},{"v":968.42,"d":"968"},{"v":968.42,"d":"968"},{"v":968.42,"d":"968"},{"v":968.42,"d":"968"},1.3466,1.3466,1.3466,1.3466,148,148,148,148,25,25,25,25,{"v":0.003917781103234275,"d":"0.00"},{"v":0.003917781103234275,"d":"0.00"},{"v":0.003917781103234275,"d":"0.00"},{"v":0.003917781103234275,"d":"0.00"},3.969E-4,1.7346,2,0.000367347,{"$f":"\"\"","v":""},{"$f":"\"\"","v":""},{"$f":"\"\"","v":""},{"$f":"\"\"","v":""},{"$f":"\"\"","v":""},{"$f":"\"\"","v":""},{"$f":"\"\"","v":""},{"$f":"\"\"","v":""},{"$f":"\"\"","v":""},{"$f":"\"\"","v":""},{"$f":"\"\"","v":""},{"$f":"\"\"","v":""},{"$f":"\"\"","v":""},{"$f":"\"\"","v":""},{"$f":"\"\"","v":""},0.6,{"$f":"\"\"","v":""},{"$f":"\"\"","v":""},{"$f":"\"\"","v":""}]
["26510510",null,null,2,65,105,10,10.9,{"$f":"\"\"","v":""},{"$f":"\"\"","v":""},{"$f":"\"\"","v":""},{"$f":"\"\"","v":""},{"v":1086.52,"d":"1087"},{"v":1086.52,"d":"1087"},{"v":1086.52,"d":"1087"},{"v":1086.52,"d":"1087"},1.3466,1.3466,1.3466,1.3466,166,166,166,166,29,29,29,29,{"v":0.005452763512339261,"d":"0.01"},{"v":0.005452763512339261,"d":"0.01"},{"v":0.005452763512339261,"d":"0.01"},{"v":0.005452763512339261,"d":"0.01"},3.969E-4,1.7346,2,0.000367347,{"$f":"\"\"","v":""},{"$f":"\"\"","v":""},{"$f":"\"\"","v":""},{"$f":"\"\"","v":""},{"$f":"\"\"","v":""},{"$f":"\"\"","v":""},{"$f":"\"\"","v":""},{"$f":"\"\"","v":""},{"$f":"\"\"","v":""},{"$f":"\"\"","v":""},{"$f":"\"\"","v":""},{"$f":"\"\"","v":""},{"$f":"\"\"","v":""},{"$f":"\"\"","v":""},{"$f":"\"\"","v":""},0.7,{"$f":"\"\"","v":""},{"$f":"\"\"","v":""},{"$f":"\"\"","v":""}]
["26511510",null,null,2,65,115,10,10.9,{"$f":"\"\"","v":""},{"$f":"\"\"","v":""},{"$f":"\"\"","v":""},{"$f":"\"\"","v":""},{"v":1204.62,"d":"1205"},{"v":1204.62,"d":"1205"},{"v":1204.62,"d":"1205"},{"v":1204.62,"d":"1205"},1.3466,1.3466,1.3466,1.3466,184,184,184,184,32,32,32,32,{"v":6.8806462007349346E-3,"d":"0.01"},{"v":6.8806462007349346E-3,"d":"0.01"},{"v":6.8806462007349346E-3,"d":"0.01"},{"v":6.8806462007349346E-3,"d":"0.01"},3.969E-4,1.7346,2,0.000367347,{"$f":"\"\"","v":""},{"$f":"\"\"","v":""},{"$f":"\"\"","v":""},{"$f":"\"\"","v":""},{"$f":"\"\"","v":""},{"$f":"\"\"","v":""},{"$f":"\"\"","v":""},{"$f":"\"\"","v":""},{"$f":"\"\"","v":""},{"$f":"\"\"","v":""},{"$f":"\"\"","v":""},{"$f":"\"\"","v":""},{"$f":"\"\"","v":""},{"$f":"\"\"","v":""},{"$f":"\"\"","v":""},0.8,{"$f":"\"\"","v":""},{"$f":"\"\"","v":""},{"$f":"\"\"","v":""}]
["26513510",null,null,2,65,135,10,10.9,{"$f":"\"\"","v":""},{"$f":"\"\"","v":""},{"$f":"\"\"","v":""},{"$f":"\"\"","v":""},{"v":1440.82,"d":"1441"},{"v":1440.82,"d":"1441"},{"v":1440.82,"d":"1441"},{"v":1440.82,"d":"1441"},1.3466,1.3466,1.3466,1.3466,220,220,220,220,38,38,38,38,{"v":0.010357538390484044,"d":"0.01"},{"v":0.010357538390484044,"d":"0.01"},{"v":0.010357538390484044,"d":"0.01"},{"v":0.010357538390484044,"d":"0.01"},3.969E-4,1.7346,2,0.000367347,{"$f":"\"\"","v":""},{"$f":"\"\"","v":""},{"$f":"\"\"","v":""},{"$f":"\"\"","v":""},{"$f":"\"\"","v":""},{"$f":"\"\"","v":""},{"$f":"\"\"","v":""},{"$f":"\"\"","v":""},{"$f":"\"\"","v":""},{"$f":"\"\"","v":""},{"$f":"\"\"","v":""},{"$f":"\"\"","v":""},{"$f":"\"\"","v":""},{"$f":"\"\"","v":""},{"$f":"\"\"","v":""},0.9,{"$f":"\"\"","v":""},{"$f":"\"\"","v":""},{"$f":"\"\"","v":""}]
["26515510",null,null,2,65,155,10,10.9,{"$f":"\"\"","v":""},{"$f":"\"\"","v":""},{"$f":"\"\"","v":""},{"$f":"\"\"","v":""},{"v":1677.02,"d":"1677"},{"v":1677.02,"d":"1677"},{"v":1677.02,"d":"1677"},{"v":1677.02,"d":"1677"},1.3466,1.3466,1.3466,1.3466,256,256,256,256,44,44,44,44,{"v":0.014725917326367485,"d":"0.01"},{"v":0.014725917326367485,"d":"0.01"},{"v":0.014725917326367485,"d":"0.01"},{"v":0.014725917326367485,"d":"0.01"},3.969E-4,1.7346,2,0.000367347,{"$f":"\"\"","v":""},{"$f":"\"\"","v":""},{"$f":"\"\"","v":""},{"$f":"\"\"","v":""},{"$f":"\"\"","v":""},{"$f":"\"\"","v":""},{"$f":"\"\"","v":""},{"$f":"\"\"","v":""},{"$f":"\"\"","v":""},{"$f":"\"\"","v":""},{"$f":"\"\"","v":""},{"$f":"\"\"","v":""},{"$f":"\"\"","v":""},{"$f":"\"\"","v":""},{"$f":"\"\"","v":""},{"v":1,"d":"1.0"},{"$f":"\"\"","v":""},{"$f":"\"\"","v":""},{"$f":"\"\"","v":""}]
["26517510",null,null,2,65,175,10,10.9,{"$f":"\"\"","v":""},{"$f":"\"\"","v":""},{"$f":"\"\"","v":""},{"$f":"\"\"","v":""},{"v":1913.22,"d":"1913"},{"v":1913.22,"d":"1913"},{"v":1913.22,"d":"1913"},{"v":1913.22,"d":"1913"},1.3466,1.3466,1.3466,1.3466,292,292,292,292,50,50,50,50,{"v":0.020059007170041714,"d":"0.02"},{"v":0.020059007170041714,"d":"0.02"},{"v":0.020059007170041714,"d":"0.02"},{"v":0.020059007170041714,"d":"0.02"},3.969E-4,1.7346,2,0.000367347,{"$f":"\"\"","v":""},{"$f":"\"\"","v":""},{"$f":"\"\"","v":""},{"$f":"\"\"","v":""},{"$f":"\"\"","v":""},{"$f":"\"\"","v":""},{"$f":"\"\"","v":""},{"$f":"\"\"","v":""},{"$f":"\"\"","v":""},{"$f":"\"\"","v":""},{"$f":"\"\"","v":""},{"$f":"\"\"","v":""},{"$f":"\"\"","v":""},{"$f":"\"\"","v":""},{"$f":"\"\"","v":""},1.2,{"$f":"\"\"","v":""},{"$f":"\"\"","v":""},{"$f":"\"\"","v":""}]
["26519510",null,null,2,65,195,10,10.9,{"$f":"\"\"","v":""},{"$f":"\"\"","v":""},{"$f":"\"\"","v":""},{"$f":"\"\"","v":""},{"v":2149.42,"d":"2149"},{"v":2149.42,"d":"2149"},{"v":2149.42,"d":"2149"},{"v":2149.42,"d":"2149"},1.3466,1.3466,1.3466,1.3466,328,328,328,328,56,56,56,56,{"v":0.02642737067945368,"d":"0.03"},{"v":0.02642737067945368,"d":"0.03"},{"v":0.02642737067945368,"d":"0.03"},{"v":0.02642737067945368,"d":"0.03"},3.969E-4,1.7346,2,0.000367347,{"$f":"\"\"","v":""},{"$f":"\"\"","v":""},{"$f":"\"\"","v":""},{"$f":"\"\"","v":""},{"$f":"\"\"","v":""},{"$f":"\"\"","v":""},{"$f":"\"\"","v":""},{"$f":"\"\"","v":""},{"$f":"\"\"","v":""},{"$f":"\"\"","v":""},{"$f":"\"\"","v":""},{"$f":"\"\"","v":""},{"$f":"\"\"","v":""},{"$f":"\"\"","v":""},{"$f":"\"\"","v":""},1.3,{"$f":"\"\"","v":""},{"$f":"\"\"","v":""},{"$f":"\"\"","v":""}]
["26521510",null,null,2,65,215,10,10.9,{"$f":"\"\"","v":""},{"$f":"\"\"","v":""},{"$f":"\"\"","v":""},{"$f":"\"\"","v":""},{"v":2385.62,"d":"2386"},{"v":2385.62,"d":"2386"},{"v":2385.62,"d":"2386"},{"v":2385.62,"d":"2386"},1.3466,1.3466,1.3466,1.3466,364,364,364,364,63,63,63,63,{"v":0.034913889586345524,"d":"0.03"},{"v":0.034913889586345524,"d":"0.03"},{"v":0.034913889586345524,"d":"0.03"},{"v":0.034913889586345524,"d":"0.03"},3.969E-4,1.7346,2,0.000367347,{"$f":"\"\"","v":""},{"$f":"\"\"","v":""},{"$f":"\"\"","v":""},{"$f":"\"\"","v":""},{"$f":"\"\"","v":""},{"$f":"\"\"","v":""},{"$f":"\"\"","v":""},{"$f":"\"\"","v":""},{"$f":"\"\"","v":""},{"$f":"\"\"","v":""},{"$f":"\"\"","v":""},{"$f":"\"\"","v":""},{"$f":"\"\"","v":""},{"$f":"\"\"","v":""},{"$f":"\"\"","v":""},1.4,{"$f":"\"\"","v":""},{"$f":"\"\"","v":""},{"$f":"\"\"","v":""}]
["26523510",null,null,2,65,235,10,10.9,{"$f":"\"\"","v":""},{"$f":"\"\"","v":""},{"$f":"\"\"","v":""},{"$f":"\"\"","v":""},{"v":2621.82,"d":"2622"},{"v":2621.82,"d":"2622"},{"v":2621.82,"d":"2622"},{"v":2621.82,"d":"2622"},1.3466,1.3466,1.3466,1.3466,400,400,400,400,69,69,69,69,{"v":0.04369851676494194,"d":"0.04"},{"v":0.04369851676494194,"d":"0.04"},{"v":0.04369851676494194,"d":"0.04"},{"v":0.04369851676494194,"d":"0.04"},3.969E-4,1.7346,2,0.000367347,{"$f":"\"\"","v":""},{"$f":"\"\"","v":""},{"$f":"\"\"","v":""},{"$f":"\"\"","v":""},{"$f":"\"\"","v":""},{"$f":"\"\"","v":""},{"$f":"\"\"","v":""},{"$f":"\"\"","v":""},{"$f":"\"\"","v":""},{"$f":"\"\"","v":""},{"$f":"\"\"","v":""},{"$f":"\"\"","v":""},{"$f":"\"\"","v":""},{"$f":"\"\"","v":""},{"$f":"\"\"","v":""},1.6,{"$f":"\"\"","v":""},{"$f":"\"\"","v":""},{"$f":"\"\"","v":""}]
["2705510",null,null,2,70,55,10,10.9,{"$f":"\"\"","v":""},{"$f":"\"\"","v":""},{"$f":"\"\"","v":""},{"$f":"\"\"","v":""},{"v":508.2,"d":"508"},{"v":508.2,"d":"508"},{"v":508.2,"d":"508"},{"v":508.2,"d":"508"},1.3354,1.3354,1.3354,1.3354,79,79,79,79,14,14,14,14,{"v":1.0128819574678392E-3,"d":"0.00"},{"v":1.0128819574678392E-3,"d":"0.00"},{"v":1.0128819574678392E-3,"d":"0.00"},{"v":1.0128819574678392E-3,"d":"0.00"},3.969E-4,1.7346,2,0.000367347,{"$f":"\"\"","v":""},{"$f":"\"\"","v":""},{"$f":"\"\"","v":""},{"$f":"\"\"","v":""},{"$f":"\"\"","v":""},{"$f":"\"\"","v":""},{"$f":"\"\"","v":""},{"$f":"\"\"","v":""},{"$f":"\"\"","v":""},{"$f":"\"\"","v":""},{"$f":"\"\"","v":""},{"$f":"\"\"","v":""},{"$f":"\"\"","v":""},{"$f":"\"\"","v":""},{"$f":"\"\"","v":""},0.4,{"$f":"\"\"","v":""},{"$f":"\"\"","v":""},{"$f":"\"\"","v":""}]
["2706510",null,null,2,70,65,10,10.9,{"$f":"\"\"","v":""},{"$f":"\"\"","v":""},{"$f":"\"\"","v":""},{"$f":"\"\"","v":""},{"v":629.2,"d":"629"},{"v":629.2,"d":"629"},{"v":629.2,"d":"629"},{"v":629.2,"d":"629"},1.3354,1.3354,1.3354,1.3354,97,97,97,97,17,17,17,17,{"v":1.576720659357054E-3,"d":"0.00"},{"v":1.576720659357054E-3,"d":"0.00"},{"v":1.576720659357054E-3,"d":"0.00"},{"v":1.576720659357054E-3,"d":"0.00"},3.969E-4,1.7346,2,0.000367347,{"$f":"\"\"","v":""},{"$f":"\"\"","v":""},{"$f":"\"\"","v":""},{"$f":"\"\"","v":""},{"$f":"\"\"","v":""},{"$f":"\"\"","v":""},{"$f":"\"\"","v":""},{"$f":"\"\"","v":""},{"$f":"\"\"","v":""},{"$f":"\"\"","v":""},{"$f":"\"\"","v":""},{"$f":"\"\"","v":""},{"$f":"\"\"","v":""},{"$f":"\"\"","v":""},{"$f":"\"\"","v":""},0.4,{"$f":"\"\"","v":""},{"$f":"\"\"","v":""},{"$f":"\"\"","v":""}]
["2707510",null,null,2,70,75,10,10.9,{"$f":"\"\"","v":""},{"$f":"\"\"","v":""},{"$f":"\"\"","v":""},{"$f":"\"\"","v":""},{"v":750.2,"d":"750"},{"v":750.2,"d":"750"},{"v":750.2,"d":"750"},{"v":750.2,"d":"750"},1.3354,1.3354,1.3354,1.3354,116,116,116,116,20,20,20,20,{"v":2.2914841091107555E-3,"d":"0.00"},{"v":2.2914841091107555E-3,"d":"0.00"},{"v":2.2914841091107555E-3,"d":"0.00"},{"v":2.2914841091107555E-3,"d":"0.00"},3.969E-4,1.7346,2,0.000367347,{"$f":"\"\"","v":""},{"$f":"\"\"","v":""},{"$f":"\"\"","v":""},{"$f":"\"\"","v":""},{"$f":"\"\"","v":""},{"$f":"\"\"","v":""},{"$f":"\"\"","v":""},{"$f":"\"\"","v":""},{"$f":"\"\"","v":""},{"$f":"\"\"","v":""},{"$f":"\"\"","v":""},{"$f":"\"\"","v":""},{"$f":"\"\"","v":""},{"$f":"\"\"","v":""},{"$f":"\"\"","v":""},0.5,{"$f":"\"\"","v":""},{"$f":"\"\"","v":""},{"$f":"\"\"","v":""}]
["2708510",null,null,2,70,85,10,10.9,{"$f":"\"\"","v":""},{"$f":"\"\"","v":""},{"$f":"\"\"","v":""},{"$f":"\"\"","v":""},{"v":871.2,"d":"871"},{"v":871.2,"d":"871"},{"v":871.2,"d":"871"},{"v":871.2,"d":"871"},1.3354,1.3354,1.3354,1.3354,135,135,135,135,23,23,23,23,{"v":3.1685397415060703E-3,"d":"0.00"},{"v":3.1685397415060703E-3,"d":"0.00"},{"v":3.1685397415060703E-3,"d":"0.00"},{"v":3.1685397415060703E-3,"d":"0.00"},3.969E-4,1.7346,2,0.000367347,{"$f":"\"\"","v":""},{"$f":"\"\"","v":""},{"$f":"\"\"","v":""},{"$f":"\"\"","v":""},{"$f":"\"\"","v":""},{"$f":"\"\"","v":""},{"$f":"\"\"","v":""},{"$f":"\"\"","v":""},{"$f":"\"\"","v":""},{"$f":"\"\"","v":""},{"$f":"\"\"","v":""},{"$f":"\"\"","v":""},{"$f":"\"\"","v":""},{"$f":"\"\"","v":""},{"$f":"\"\"","v":""},0.6,{"$f":"\"\"","v":""},{"$f":"\"\"","v":""},{"$f":"\"\"","v":""}]
["2709510",null,null,2,70,95,10,10.9,{"$f":"\"\"","v":""},{"$f":"\"\"","v":""},{"$f":"\"\"","v":""},{"$f":"\"\"","v":""},{"v":992.2,"d":"992"},{"v":992.2,"d":"992"},{"v":992.2,"d":"992"},{"v":992.2,"d":"992"},1.3354,1.3354,1.3354,1.3354,154,154,154,154,26,26,26,26,{"v":0.004218792609050214,"d":"0.00"},{"v":0.004218792609050214,"d":"0.00"},{"v":0.004218792609050214,"d":"0.00"},{"v":0.004218792609050214,"d":"0.00"},3.969E-4,1.7346,2,0.000367347,{"$f":"\"\"","v":""},{"$f":"\"\"","v":""},{"$f":"\"\"","v":""},{"$f":"\"\"","v":""},{"$f":"\"\"","v":""},{"$f":"\"\"","v":""},{"$f":"\"\"","v":""},{"$f":"\"\"","v":""},{"$f":"\"\"","v":""},{"$f":"\"\"","v":""},{"$f":"\"\"","v":""},{"$f":"\"\"","v":""},{"$f":"\"\"","v":""},{"$f":"\"\"","v":""},{"$f":"\"\"","v":""},0.6,{"$f":"\"\"","v":""},{"$f":"\"\"","v":""},{"$f":"\"\"","v":""}]
["27010510",null,null,2,70,105,10,10.9,{"$f":"\"\"","v":""},{"$f":"\"\"","v":""},{"$f":"\"\"","v":""},{"$f":"\"\"","v":""},{"v":1113.2,"d":"1113"},{"v":1113.2,"d":"1113"},{"v":1113.2,"d":"1113"},{"v":1113.2,"d":"1113"},1.3354,1.3354,1.3354,1.3354,172,172,172,172,30,30,30,30,{"v":0.005812053438811042,"d":"0.01"},{"v":0.005812053438811042,"d":"0.01"},{"v":0.005812053438811042,"d":"0.01"},{"v":0.005812053438811042,"d":"0.01"},3.969E-4,1.7346,2,0.000367347,{"$f":"\"\"","v":""},{"$f":"\"\"","v":""},{"$f":"\"\"","v":""},{"$f":"\"\"","v":""},{"$f":"\"\"","v":""},{"$f":"\"\"","v":""},{"$f":"\"\"","v":""},{"$f":"\"\"","v":""},{"$f":"\"\"","v":""},{"$f":"\"\"","v":""},{"$f":"\"\"","v":""},{"$f":"\"\"","v":""},{"$f":"\"\"","v":""},{"$f":"\"\"","v":""},{"$f":"\"\"","v":""},0.7,{"$f":"\"\"","v":""},{"$f":"\"\"","v":""},{"$f":"\"\"","v":""}]
["27011510",null,null,2,70,115,10,10.9,{"$f":"\"\"","v":""},{"$f":"\"\"","v":""},{"$f":"\"\"","v":""},{"$f":"\"\"","v":""},{"v":1234.2,"d":"1234"},{"v":1234.2,"d":"1234"},{"v":1234.2,"d":"1234"},{"v":1234.2,"d":"1234"},1.3354,1.3354,1.3354,1.3354,191,191,191,191,33,33,33,33,{"v":0.007289776288981186,"d":"0.01"},{"v":0.007289776288981186,"d":"0.01"},{"v":0.007289776288981186,"d":"0.01"},{"v":0.007289776288981186,"d":"0.01"},3.969E-4,1.7346,2,0.000367347,{"$f":"\"\"","v":""},{"$f":"\"\"","v":""},{"$f":"\"\"","v":""},{"$f":"\"\"","v":""},{"$f":"\"\"","v":""},{"$f":"\"\"","v":""},{"$f":"\"\"","v":""},{"$f":"\"\"","v":""},{"$f":"\"\"","v":""},{"$f":"\"\"","v":""},{"$f":"\"\"","v":""},{"$f":"\"\"","v":""},{"$f":"\"\"","v":""},{"$f":"\"\"","v":""},{"$f":"\"\"","v":""},0.8,{"$f":"\"\"","v":""},{"$f":"\"\"","v":""},{"$f":"\"\"","v":""}]
["27013510",null,null,2,70,135,10,10.9,{"$f":"\"\"","v":""},{"$f":"\"\"","v":""},{"$f":"\"\"","v":""},{"$f":"\"\"","v":""},{"v":1476.2,"d":"1476"},{"v":1476.2,"d":"1476"},{"v":1476.2,"d":"1476"},{"v":1476.2,"d":"1476"},1.3354,1.3354,1.3354,1.3354,229,229,229,229,39,39,39,39,{"v":0.010872510535767823,"d":"0.01"},{"v":0.010872510535767823,"d":"0.01"},{"v":0.010872510535767823,"d":"0.01"},{"v":0.010872510535767823,"d":"0.01"},3.969E-4,1.7346,2,0.000367347,{"$f":"\"\"","v":""},{"$f":"\"\"","v":""},{"$f":"\"\"","v":""},{"$f":"\"\"","v":""},{"$f":"\"\"","v":""},{"$f":"\"\"","v":""},{"$f":"\"\"","v":""},{"$f":"\"\"","v":""},{"$f":"\"\"","v":""},{"$f":"\"\"","v":""},{"$f":"\"\"","v":""},{"$f":"\"\"","v":""},{"$f":"\"\"","v":""},{"$f":"\"\"","v":""},{"$f":"\"\"","v":""},0.9,{"$f":"\"\"","v":""},{"$f":"\"\"","v":""},{"$f":"\"\"","v":""}]
["27015510",null,null,2,70,155,10,10.9,{"$f":"\"\"","v":""},{"$f":"\"\"","v":""},{"$f":"\"\"","v":""},{"$f":"\"\"","v":""},{"v":1718.2,"d":"1718"},{"v":1718.2,"d":"1718"},{"v":1718.2,"d":"1718"},{"v":1718.2,"d":"1718"},1.3354,1.3354,1.3354,1.3354,266,266,266,266,46,46,46,46,{"v":0.015995637339270185,"d":"0.02"},{"v":0.015995637339270185,"d":"0.02"},{"v":0.015995637339270185,"d":"0.02"},{"v":0.015995637339270185,"d":"0.02"},3.969E-4,1.7346,2,0.000367347,{"$f":"\"\"","v":""},{"$f":"\"\"","v":""},{"$f":"\"\"","v":""},{"$f":"\"\"","v":""},{"$f":"\"\"","v":""},{"$f":"\"\"","v":""},{"$f":"\"\"","v":""},{"$f":"\"\"","v":""},{"$f":"\"\"","v":""},{"$f":"\"\"","v":""},{"$f":"\"\"","v":""},{"$f":"\"\"","v":""},{"$f":"\"\"","v":""},{"$f":"\"\"","v":""},{"$f":"\"\"","v":""},{"v":1,"d":"1.0"},{"$f":"\"\"","v":""},{"$f":"\"\"","v":""},{"$f":"\"\"","v":""}]
["27017510",null,null,2,70,175,10,10.9,{"$f":"\"\"","v":""},{"$f":"\"\"","v":""},{"$f":"\"\"","v":""},{"$f":"\"\"","v":""},{"v":1960.2,"d":"1960"},{"v":1960.2,"d":"1960"},{"v":1960.2,"d":"1960"},{"v":1960.2,"d":"1960"},1.3354,1.3354,1.3354,1.3354,304,304,304,304,52,52,52,52,{"v":0.021571959381549818,"d":"0.02"},{"v":0.021571959381549818,"d":"0.02"},{"v":0.021571959381549818,"d":"0.02"},{"v":0.021571959381549818,"d":"0.02"},3.969E-4,1.7346,2,0.000367347,{"$f":"\"\"","v":""},{"$f":"\"\"","v":""},{"$f":"\"\"","v":""},{"$f":"\"\"","v":""},{"$f":"\"\"","v":""},{"$f":"\"\"","v":""},{"$f":"\"\"","v":""},{"$f":"\"\"","v":""},{"$f":"\"\"","v":""},{"$f":"\"\"","v":""},{"$f":"\"\"","v":""},{"$f":"\"\"","v":""},{"$f":"\"\"","v":""},{"$f":"\"\"","v":""},{"$f":"\"\"","v":""},1.2,{"$f":"\"\"","v":""},{"$f":"\"\"","v":""},{"$f":"\"\"","v":""}]
["27019510",null,null,2,70,195,10,10.9,{"$f":"\"\"","v":""},{"$f":"\"\"","v":""},{"$f":"\"\"","v":""},{"$f":"\"\"","v":""},{"v":2202.2,"d":"2202"},{"v":2202.2,"d":"2202"},{"v":2202.2,"d":"2202"},{"v":2202.2,"d":"2202"},1.3354,1.3354,1.3354,1.3354,341,341,341,341,59,59,59,59,{"v":0.02910359792968671,"d":"0.03"},{"v":0.02910359792968671,"d":"0.03"},{"v":0.02910359792968671,"d":"0.03"},{"v":0.02910359792968671,"d":"0.03"},3.969E-4,1.7346,2,0.000367347,{"$f":"\"\"","v":""},{"$f":"\"\"","v":""},{"$f":"\"\"","v":""},{"$f":"\"\"","v":""},{"$f":"\"\"","v":""},{"$f":"\"\"","v":""},{"$f":"\"\"","v":""},{"$f":"\"\"","v":""},{"$f":"\"\"","v":""},{"$f":"\"\"","v":""},{"$f":"\"\"","v":""},{"$f":"\"\"","v":""},{"$f":"\"\"","v":""},{"$f":"\"\"","v":""},{"$f":"\"\"","v":""},1.3,{"$f":"\"\"","v":""},{"$f":"\"\"","v":""},{"$f":"\"\"","v":""}]
["27021510",null,null,2,70,215,10,10.9,{"$f":"\"\"","v":""},{"$f":"\"\"","v":""},{"$f":"\"\"","v":""},{"$f":"\"\"","v":""},{"v":2444.2,"d":"2444"},{"v":2444.2,"d":"2444"},{"v":2444.2,"d":"2444"},{"v":2444.2,"d":"2444"},1.3354,1.3354,1.3354,1.3354,379,379,379,379,65,65,65,65,{"v":0.036984473261371276,"d":"0.04"},{"v":0.036984473261371276,"d":"0.04"},{"v":0.036984473261371276,"d":"0.04"},{"v":0.036984473261371276,"d":"0.04"},3.969E-4,1.7346,2,0.000367347,{"$f":"\"\"","v":""},{"$f":"\"\"","v":""},{"$f":"\"\"","v":""},{"$f":"\"\"","v":""},{"$f":"\"\"","v":""},{"$f":"\"\"","v":""},{"$f":"\"\"","v":""},{"$f":"\"\"","v":""},{"$f":"\"\"","v":""},{"$f":"\"\"","v":""},{"$f":"\"\"","v":""},{"$f":"\"\"","v":""},{"$f":"\"\"","v":""},{"$f":"\"\"","v":""},{"$f":"\"\"","v":""},1.4,{"$f":"\"\"","v":""},{"$f":"\"\"","v":""},{"$f":"\"\"","v":""}]
["27023510",null,null,2,70,235,10,10.9,{"$f":"\"\"","v":""},{"$f":"\"\"","v":""},{"$f":"\"\"","v":""},{"$f":"\"\"","v":""},{"v":2686.2,"d":"2686"},{"v":2686.2,"d":"2686"},{"v":2686.2,"d":"2686"},{"v":2686.2,"d":"2686"},1.3354,1.3354,1.3354,1.3354,416,416,416,416,72,72,72,72,{"v":0.04725618674987959,"d":"0.05"},{"v":0.04725618674987959,"d":"0.05"},{"v":0.04725618674987959,"d":"0.05"},{"v":0.04725618674987959,"d":"0.05"},3.969E-4,1.7346,2,0.000367347,{"$f":"\"\"","v":""},{"$f":"\"\"","v":""},{"$f":"\"\"","v":""},{"$f":"\"\"","v":""},{"$f":"\"\"","v":""},{"$f":"\"\"","v":""},{"$f":"\"\"","v":""},{"$f":"\"\"","v":""},{"$f":"\"\"","v":""},{"$f":"\"\"","v":""},{"$f":"\"\"","v":""},{"$f":"\"\"","v":""},{"$f":"\"\"","v":""},{"$f":"\"\"","v":""},{"$f":"\"\"","v":""},1.6,{"$f":"\"\"","v":""},{"$f":"\"\"","v":""},{"$f":"\"\"","v":""}]
["2755510",null,null,2,75,55,10,10.9,{"$f":"\"\"","v":""},{"$f":"\"\"","v":""},{"$f":"\"\"","v":""},{"$f":"\"\"","v":""},{"v":519.12,"d":"519"},{"v":519.12,"d":"519"},{"v":519.12,"d":"519"},{"v":519.12,"d":"519"},1.3298,1.3298,1.3298,1.3298,81,81,81,81,14,14,14,14,{"v":1.0128819574678392E-3,"d":"0.00"},{"v":1.0128819574678392E-3,"d":"0.00"},{"v":1.0128819574678392E-3,"d":"0.00"},{"v":1.0128819574678392E-3,"d":"0.00"},3.969E-4,1.7346,2,0.000367347,{"$f":"\"\"","v":""},{"$f":"\"\"","v":""},{"$f":"\"\"","v":""},{"$f":"\"\"","v":""},{"$f":"\"\"","v":""},{"$f":"\"\"","v":""},{"$f":"\"\"","v":""},{"$f":"\"\"","v":""},{"$f":"\"\"","v":""},{"$f":"\"\"","v":""},{"$f":"\"\"","v":""},{"$f":"\"\"","v":""},{"$f":"\"\"","v":""},{"$f":"\"\"","v":""},{"$f":"\"\"","v":""},0.4,{"$f":"\"\"","v":""},{"$f":"\"\"","v":""},{"$f":"\"\"","v":""}]
["2756510",null,null,2,75,65,10,10.9,{"$f":"\"\"","v":""},{"$f":"\"\"","v":""},{"$f":"\"\"","v":""},{"$f":"\"\"","v":""},{"v":642.72,"d":"643"},{"v":642.72,"d":"643"},{"v":642.72,"d":"643"},{"v":642.72,"d":"643"},1.3298,1.3298,1.3298,1.3298,100,100,100,100,17,17,17,17,{"v":1.576720659357054E-3,"d":"0.00"},{"v":1.576720659357054E-3,"d":"0.00"},{"v":1.576720659357054E-3,"d":"0.00"},{"v":1.576720659357054E-3,"d":"0.00"},3.969E-4,1.7346,2,0.000367347,{"$f":"\"\"","v":""},{"$f":"\"\"","v":""},{"$f":"\"\"","v":""},{"$f":"\"\"","v":""},{"$f":"\"\"","v":""},{"$f":"\"\"","v":""},{"$f":"\"\"","v":""},{"$f":"\"\"","v":""},{"$f":"\"\"","v":""},{"$f":"\"\"","v":""},{"$f":"\"\"","v":""},{"$f":"\"\"","v":""},{"$f":"\"\"","v":""},{"$f":"\"\"","v":""},{"$f":"\"\"","v":""},0.4,{"$f":"\"\"","v":""},{"$f":"\"\"","v":""},{"$f":"\"\"","v":""}]
["2757510",null,null,2,75,75,10,10.9,{"$f":"\"\"","v":""},{"$f":"\"\"","v":""},{"$f":"\"\"","v":""},{"$f":"\"\"","v":""},{"v":766.32,"d":"766"},{"v":766.32,"d":"766"},{"v":766.32,"d":"766"},{"v":766.32,"d":"766"},1.3298,1.3298,1.3298,1.3298,120,120,120,120,21,21,21,21,{"v":2.51428366385688E-3,"d":"0.00"},{"v":2.51428366385688E-3,"d":"0.00"},{"v":2.51428366385688E-3,"d":"0.00"},{"v":2.51428366385688E-3,"d":"0.00"},3.969E-4,1.7346,2,0.000367347,{"$f":"\"\"","v":""},{"$f":"\"\"","v":""},{"$f":"\"\"","v":""},{"$f":"\"\"","v":""},{"$f":"\"\"","v":""},{"$f":"\"\"","v":""},{"$f":"\"\"","v":""},{"$f":"\"\"","v":""},{"$f":"\"\"","v":""},{"$f":"\"\"","v":""},{"$f":"\"\"","v":""},{"$f":"\"\"","v":""},{"$f":"\"\"","v":""},{"$f":"\"\"","v":""},{"$f":"\"\"","v":""},0.5,{"$f":"\"\"","v":""},{"$f":"\"\"","v":""},{"$f":"\"\"","v":""}]
["2758510",null,null,2,75,85,10,10.9,{"$f":"\"\"","v":""},{"$f":"\"\"","v":""},{"$f":"\"\"","v":""},{"$f":"\"\"","v":""},{"v":889.92,"d":"890"},{"v":889.92,"d":"890"},{"v":889.92,"d":"890"},{"v":889.92,"d":"890"},1.3298,1.3298,1.3298,1.3298,139,139,139,139,24,24,24,24,{"v":3.4345945981425346E-3,"d":"0.00"},{"v":3.4345945981425346E-3,"d":"0.00"},{"v":3.4345945981425346E-3,"d":"0.00"},{"v":3.4345945981425346E-3,"d":"0.00"},3.969E-4,1.7346,2,0.000367347,{"$f":"\"\"","v":""},{"$f":"\"\"","v":""},{"$f":"\"\"","v":""},{"$f":"\"\"","v":""},{"$f":"\"\"","v":""},{"$f":"\"\"","v":""},{"$f":"\"\"","v":""},{"$f":"\"\"","v":""},{"$f":"\"\"","v":""},{"$f":"\"\"","v":""},{"$f":"\"\"","v":""},{"$f":"\"\"","v":""},{"$f":"\"\"","v":""},{"$f":"\"\"","v":""},{"$f":"\"\"","v":""},0.6,{"$f":"\"\"","v":""},{"$f":"\"\"","v":""},{"$f":"\"\"","v":""}]
["2759510",null,null,2,75,95,10,10.9,{"$f":"\"\"","v":""},{"$f":"\"\"","v":""},{"$f":"\"\"","v":""},{"$f":"\"\"","v":""},{"v":1013.52,"d":"1014"},{"v":1013.52,"d":"1014"},{"v":1013.52,"d":"1014"},{"v":1013.52,"d":"1014"},1.3298,1.3298,1.3298,1.3298,158,158,158,158,27,27,27,27,{"v":4.5303692824165106E-3,"d":"0.00"},{"v":4.5303692824165106E-3,"d":"0.00"},{"v":4.5303692824165106E-3,"d":"0.00"},{"v":4.5303692824165106E-3,"d":"0.00"},3.969E-4,1.7346,2,0.000367347,{"$f":"\"\"","v":""},{"$f":"\"\"","v":""},{"$f":"\"\"","v":""},{"$f":"\"\"","v":""},{"$f":"\"\"","v":""},{"$f":"\"\"","v":""},{"$f":"\"\"","v":""},{"$f":"\"\"","v":""},{"$f":"\"\"","v":""},{"$f":"\"\"","v":""},{"$f":"\"\"","v":""},{"$f":"\"\"","v":""},{"$f":"\"\"","v":""},{"$f":"\"\"","v":""},{"$f":"\"\"","v":""},0.6,{"$f":"\"\"","v":""},{"$f":"\"\"","v":""},{"$f":"\"\"","v":""}]
["27510510",null,null,2,75,105,10,10.9,{"$f":"\"\"","v":""},{"$f":"\"\"","v":""},{"$f":"\"\"","v":""},{"$f":"\"\"","v":""},{"v":1137.12,"d":"1137"},{"v":1137.12,"d":"1137"},{"v":1137.12,"d":"1137"},{"v":1137.12,"d":"1137"},1.3298,1.3298,1.3298,1.3298,178,178,178,178,31,31,31,31,{"v":0.00618218504128659,"d":"0.01"},{"v":0.00618218504128659,"d":"0.01"},{"v":0.00618218504128659,"d":"0.01"},{"v":0.00618218504128659,"d":"0.01"},3.969E-4,1.7346,2,0.000367347,{"$f":"\"\"","v":""},{"$f":"\"\"","v":""},{"$f":"\"\"","v":""},{"$f":"\"\"","v":""},{"$f":"\"\"","v":""},{"$f":"\"\"","v":""},{"$f":"\"\"","v":""},{"$f":"\"\"","v":""},{"$f":"\"\"","v":""},{"$f":"\"\"","v":""},{"$f":"\"\"","v":""},{"$f":"\"\"","v":""},{"$f":"\"\"","v":""},{"$f":"\"\"","v":""},{"$f":"\"\"","v":""},0.7,{"$f":"\"\"","v":""},{"$f":"\"\"","v":""},{"$f":"\"\"","v":""}]
["27511510",null,null,2,75,115,10,10.9,{"$f":"\"\"","v":""},{"$f":"\"\"","v":""},{"$f":"\"\"","v":""},{"$f":"\"\"","v":""},{"v":1260.72,"d":"1261"},{"v":1260.72,"d":"1261"},{"v":1260.72,"d":"1261"},{"v":1260.72,"d":"1261"},1.3298,1.3298,1.3298,1.3298,197,197,197,197,34,34,34,34,{"v":7.7100489808171364E-3,"d":"0.01"},{"v":7.7100489808171364E-3,"d":"0.01"},{"v":7.7100489808171364E-3,"d":"0.01"},{"v":7.7100489808171364E-3,"d":"0.01"},3.969E-4,1.7346,2,0.000367347,{"$f":"\"\"","v":""},{"$f":"\"\"","v":""},{"$f":"\"\"","v":""},{"$f":"\"\"","v":""},{"$f":"\"\"","v":""},{"$f":"\"\"","v":""},{"$f":"\"\"","v":""},{"$f":"\"\"","v":""},{"$f":"\"\"","v":""},{"$f":"\"\"","v":""},{"$f":"\"\"","v":""},{"$f":"\"\"","v":""},{"$f":"\"\"","v":""},{"$f":"\"\"","v":""},{"$f":"\"\"","v":""},0.8,{"$f":"\"\"","v":""},{"$f":"\"\"","v":""},{"$f":"\"\"","v":""}]
["27513510",null,null,2,75,135,10,10.9,{"$f":"\"\"","v":""},{"$f":"\"\"","v":""},{"$f":"\"\"","v":""},{"$f":"\"\"","v":""},{"v":1507.92,"d":"1508"},{"v":1507.92,"d":"1508"},{"v":1507.92,"d":"1508"},{"v":1507.92,"d":"1508"},1.3298,1.3298,1.3298,1.3298,235,235,235,235,40,40,40,40,{"v":0.011399204095366273,"d":"0.01"},{"v":0.011399204095366273,"d":"0.01"},{"v":0.011399204095366273,"d":"0.01"},{"v":0.011399204095366273,"d":"0.01"},3.969E-4,1.7346,2,0.000367347,{"$f":"\"\"","v":""},{"$f":"\"\"","v":""},{"$f":"\"\"","v":""},{"$f":"\"\"","v":""},{"$f":"\"\"","v":""},{"$f":"\"\"","v":""},{"$f":"\"\"","v":""},{"$f":"\"\"","v":""},{"$f":"\"\"","v":""},{"$f":"\"\"","v":""},{"$f":"\"\"","v":""},{"$f":"\"\"","v":""},{"$f":"\"\"","v":""},{"$f":"\"\"","v":""},{"$f":"\"\"","v":""},0.9,{"$f":"\"\"","v":""},{"$f":"\"\"","v":""},{"$f":"\"\"","v":""}]
["27515510",null,null,2,75,155,10,10.9,{"$f":"\"\"","v":""},{"$f":"\"\"","v":""},{"$f":"\"\"","v":""},{"$f":"\"\"","v":""},{"v":1755.12,"d":"1755"},{"v":1755.12,"d":"1755"},{"v":1755.12,"d":"1755"},{"v":1755.12,"d":"1755"},1.3298,1.3298,1.3298,1.3298,274,274,274,274,47,47,47,47,{"v":0.016648879979952926,"d":"0.02"},{"v":0.016648879979952926,"d":"0.02"},{"v":0.016648879979952926,"d":"0.02"},{"v":0.016648879979952926,"d":"0.02"},3.969E-4,1.7346,2,0.000367347,{"$f":"\"\"","v":""},{"$f":"\"\"","v":""},{"$f":"\"\"","v":""},{"$f":"\"\"","v":""},{"$f":"\"\"","v":""},{"$f":"\"\"","v":""},{"$f":"\"\"","v":""},{"$f":"\"\"","v":""},{"$f":"\"\"","v":""},{"$f":"\"\"","v":""},{"$f":"\"\"","v":""},{"$f":"\"\"","v":""},{"$f":"\"\"","v":""},{"$f":"\"\"","v":""},{"$f":"\"\"","v":""},{"v":1,"d":"1.0"},{"$f":"\"\"","v":""},{"$f":"\"\"","v":""},{"$f":"\"\"","v":""}]
["27517510",null,null,2,75,175,10,10.9,{"$f":"\"\"","v":""},{"$f":"\"\"","v":""},{"$f":"\"\"","v":""},{"$f":"\"\"","v":""},{"v":2002.32,"d":"2002"},{"v":2002.32,"d":"2002"},{"v":2002.32,"d":"2002"},{"v":2002.32,"d":"2002"},1.3298,1.3298,1.3298,1.3298,313,313,313,313,54,54,54,54,{"v":0.02313602591839132,"d":"0.02"},{"v":0.02313602591839132,"d":"0.02"},{"v":0.02313602591839132,"d":"0.02"},{"v":0.02313602591839132,"d":"0.02"},3.969E-4,1.7346,2,0.000367347,{"$f":"\"\"","v":""},{"$f":"\"\"","v":""},{"$f":"\"\"","v":""},{"$f":"\"\"","v":""},{"$f":"\"\"","v":""},{"$f":"\"\"","v":""},{"$f":"\"\"","v":""},{"$f":"\"\"","v":""},{"$f":"\"\"","v":""},{"$f":"\"\"","v":""},{"$f":"\"\"","v":""},{"$f":"\"\"","v":""},{"$f":"\"\"","v":""},{"$f":"\"\"","v":""},{"$f":"\"\"","v":""},1.2,{"$f":"\"\"","v":""},{"$f":"\"\"","v":""},{"$f":"\"\"","v":""}]
["27519510",null,null,2,75,195,10,10.9,{"$f":"\"\"","v":""},{"$f":"\"\"","v":""},{"$f":"\"\"","v":""},{"$f":"\"\"","v":""},{"v":2249.52,"d":"2250"},{"v":2249.52,"d":"2250"},{"v":2249.52,"d":"2250"},{"v":2249.52,"d":"2250"},1.3298,1.3298,1.3298,1.3298,351,351,351,351,60,60,60,60,{"v":0.030022243285299576,"d":"0.03"},{"v":0.030022243285299576,"d":"0.03"},{"v":0.030022243285299576,"d":"0.03"},{"v":0.030022243285299576,"d":"0.03"},3.969E-4,1.7346,2,0.000367347,{"$f":"\"\"","v":""},{"$f":"\"\"","v":""},{"$f":"\"\"","v":""},{"$f":"\"\"","v":""},{"$f":"\"\"","v":""},{"$f":"\"\"","v":""},{"$f":"\"\"","v":""},{"$f":"\"\"","v":""},{"$f":"\"\"","v":""},{"$f":"\"\"","v":""},{"$f":"\"\"","v":""},{"$f":"\"\"","v":""},{"$f":"\"\"","v":""},{"$f":"\"\"","v":""},{"$f":"\"\"","v":""},1.3,{"$f":"\"\"","v":""},{"$f":"\"\"","v":""},{"$f":"\"\"","v":""}]
["27521510",null,null,2,75,215,10,10.9,{"$f":"\"\"","v":""},{"$f":"\"\"","v":""},{"$f":"\"\"","v":""},{"$f":"\"\"","v":""},{"v":2496.72,"d":"2497"},{"v":2496.72,"d":"2497"},{"v":2496.72,"d":"2497"},{"v":2496.72,"d":"2497"},1.3298,1.3298,1.3298,1.3298,390,390,390,390,67,67,67,67,{"v":0.03911012588800425,"d":"0.04"},{"v":0.03911012588800425,"d":"0.04"},{"v":0.03911012588800425,"d":"0.04"},{"v":0.03911012588800425,"d":"0.04"},3.969E-4,1.7346,2,0.000367347,{"$f":"\"\"","v":""},{"$f":"\"\"","v":""},{"$f":"\"\"","v":""},{"$f":"\"\"","v":""},{"$f":"\"\"","v":""},{"$f":"\"\"","v":""},{"$f":"\"\"","v":""},{"$f":"\"\"","v":""},{"$f":"\"\"","v":""},{"$f":"\"\"","v":""},{"$f":"\"\"","v":""},{"$f":"\"\"","v":""},{"$f":"\"\"","v":""},{"$f":"\"\"","v":""},{"$f":"\"\"","v":""},1.4,{"$f":"\"\"","v":""},{"$f":"\"\"","v":""},{"$f":"\"\"","v":""}]
["27523510",null,null,2,75,235,10,10.9,{"$f":"\"\"","v":""},{"$f":"\"\"","v":""},{"$f":"\"\"","v":""},{"$f":"\"\"","v":""},{"v":2743.92,"d":"2744"},{"v":2743.92,"d":"2744"},{"v":2743.92,"d":"2744"},{"v":2743.92,"d":"2744"},1.3298,1.3298,1.3298,1.3298,428,428,428,428,74,74,74,74,{"v":0.049699153303820555,"d":"0.05"},{"v":0.049699153303820555,"d":"0.05"},{"v":0.049699153303820555,"d":"0.05"},{"v":0.049699153303820555,"d":"0.05"},3.969E-4,1.7346,2,0.000367347,{"$f":"\"\"","v":""},{"$f":"\"\"","v":""},{"$f":"\"\"","v":""},{"$f":"\"\"","v":""},{"$f":"\"\"","v":""},{"$f":"\"\"","v":""},{"$f":"\"\"","v":""},{"$f":"\"\"","v":""},{"$f":"\"\"","v":""},{"$f":"\"\"","v":""},{"$f":"\"\"","v":""},{"$f":"\"\"","v":""},{"$f":"\"\"","v":""},{"$f":"\"\"","v":""},{"$f":"\"\"","v":""},1.6,{"$f":"\"\"","v":""},{"$f":"\"\"","v":""},{"$f":"\"\"","v":""}]
["2805510",null,null,2,80,55,10,10.9,{"$f":"\"\"","v":""},{"$f":"\"\"","v":""},{"$f":"\"\"","v":""},{"$f":"\"\"","v":""},{"v":528.78,"d":"529"},{"v":528.78,"d":"529"},{"v":528.78,"d":"529"},{"v":528.78,"d":"529"},1.3242,1.3242,1.3242,1.3242,83,83,83,83,14,14,14,14,{"v":1.0128819574678392E-3,"d":"0.00"},{"v":1.0128819574678392E-3,"d":"0.00"},{"v":1.0128819574678392E-3,"d":"0.00"},{"v":1.0128819574678392E-3,"d":"0.00"},3.969E-4,1.7346,2,0.000367347,{"$f":"\"\"","v":""},{"$f":"\"\"","v":""},{"$f":"\"\"","v":""},{"$f":"\"\"","v":""},{"$f":"\"\"","v":""},{"$f":"\"\"","v":""},{"$f":"\"\"","v":""},{"$f":"\"\"","v":""},{"$f":"\"\"","v":""},{"$f":"\"\"","v":""},{"$f":"\"\"","v":""},{"$f":"\"\"","v":""},{"$f":"\"\"","v":""},{"$f":"\"\"","v":""},{"$f":"\"\"","v":""},0.4,{"$f":"\"\"","v":""},{"$f":"\"\"","v":""},{"$f":"\"\"","v":""}]
["2806510",null,null,2,80,65,10,10.9,{"$f":"\"\"","v":""},{"$f":"\"\"","v":""},{"$f":"\"\"","v":""},{"$f":"\"\"","v":""},{"v":654.68,"d":"655"},{"v":654.68,"d":"655"},{"v":654.68,"d":"655"},{"v":654.68,"d":"655"},1.3242,1.3242,1.3242,1.3242,103,103,103,103,18,18,18,18,{"v":1.758620609619774E-3,"d":"0.00"},{"v":1.758620609619774E-3,"d":"0.00"},{"v":1.758620609619774E-3,"d":"0.00"},{"v":1.758620609619774E-3,"d":"0.00"},3.969E-4,1.7346,2,0.000367347,{"$f":"\"\"","v":""},{"$f":"\"\"","v":""},{"$f":"\"\"","v":""},{"$f":"\"\"","v":""},{"$f":"\"\"","v":""},{"$f":"\"\"","v":""},{"$f":"\"\"","v":""},{"$f":"\"\"","v":""},{"$f":"\"\"","v":""},{"$f":"\"\"","v":""},{"$f":"\"\"","v":""},{"$f":"\"\"","v":""},{"$f":"\"\"","v":""},{"$f":"\"\"","v":""},{"$f":"\"\"","v":""},0.4,{"$f":"\"\"","v":""},{"$f":"\"\"","v":""},{"$f":"\"\"","v":""}]
["2807510",null,null,2,80,75,10,10.9,{"$f":"\"\"","v":""},{"$f":"\"\"","v":""},{"$f":"\"\"","v":""},{"$f":"\"\"","v":""},{"v":780.58,"d":"781"},{"v":780.58,"d":"781"},{"v":780.58,"d":"781"},{"v":780.58,"d":"781"},1.3242,1.3242,1.3242,1.3242,123,123,123,123,21,21,21,21,{"v":2.51428366385688E-3,"d":"0.00"},{"v":2.51428366385688E-3,"d":"0.00"},{"v":2.51428366385688E-3,"d":"0.00"},{"v":2.51428366385688E-3,"d":"0.00"},3.969E-4,1.7346,2,0.000367347,{"$f":"\"\"","v":""},{"$f":"\"\"","v":""},{"$f":"\"\"","v":""},{"$f":"\"\"","v":""},{"$f":"\"\"","v":""},{"$f":"\"\"","v":""},{"$f":"\"\"","v":""},{"$f":"\"\"","v":""},{"$f":"\"\"","v":""},{"$f":"\"\"","v":""},{"$f":"\"\"","v":""},{"$f":"\"\"","v":""},{"$f":"\"\"","v":""},{"$f":"\"\"","v":""},{"$f":"\"\"","v":""},0.5,{"$f":"\"\"","v":""},{"$f":"\"\"","v":""},{"$f":"\"\"","v":""}]
["2808510",null,null,2,80,85,10,10.9,{"$f":"\"\"","v":""},{"$f":"\"\"","v":""},{"$f":"\"\"","v":""},{"$f":"\"\"","v":""},{"v":906.48,"d":"906"},{"v":906.48,"d":"906"},{"v":906.48,"d":"906"},{"v":906.48,"d":"906"},1.3242,1.3242,1.3242,1.3242,143,143,143,143,25,25,25,25,{"v":0.003710860417349129,"d":"0.00"},{"v":0.003710860417349129,"d":"0.00"},{"v":0.003710860417349129,"d":"0.00"},{"v":0.003710860417349129,"d":"0.00"},3.969E-4,1.7346,2,0.000367347,{"$f":"\"\"","v":""},{"$f":"\"\"","v":""},{"$f":"\"\"","v":""},{"$f":"\"\"","v":""},{"$f":"\"\"","v":""},{"$f":"\"\"","v":""},{"$f":"\"\"","v":""},{"$f":"\"\"","v":""},{"$f":"\"\"","v":""},{"$f":"\"\"","v":""},{"$f":"\"\"","v":""},{"$f":"\"\"","v":""},{"$f":"\"\"","v":""},{"$f":"\"\"","v":""},{"$f":"\"\"","v":""},0.6,{"$f":"\"\"","v":""},{"$f":"\"\"","v":""},{"$f":"\"\"","v":""}]
["2809510",null,null,2,80,95,10,10.9,{"$f":"\"\"","v":""},{"$f":"\"\"","v":""},{"$f":"\"\"","v":""},{"$f":"\"\"","v":""},{"v":1032.38,"d":"1032"},{"v":1032.38,"d":"1032"},{"v":1032.38,"d":"1032"},{"v":1032.38,"d":"1032"},1.3242,1.3242,1.3242,1.3242,162,162,162,162,28,28,28,28,{"v":0.00485247757508458,"d":"0.00"},{"v":0.00485247757508458,"d":"0.00"},{"v":0.00485247757508458,"d":"0.00"},{"v":0.00485247757508458,"d":"0.00"},3.969E-4,1.7346,2,0.000367347,{"$f":"\"\"","v":""},{"$f":"\"\"","v":""},{"$f":"\"\"","v":""},{"$f":"\"\"","v":""},{"$f":"\"\"","v":""},{"$f":"\"\"","v":""},{"$f":"\"\"","v":""},{"$f":"\"\"","v":""},{"$f":"\"\"","v":""},{"$f":"\"\"","v":""},{"$f":"\"\"","v":""},{"$f":"\"\"","v":""},{"$f":"\"\"","v":""},{"$f":"\"\"","v":""},{"$f":"\"\"","v":""},0.6,{"$f":"\"\"","v":""},{"$f":"\"\"","v":""},{"$f":"\"\"","v":""}]
["28010510",null,null,2,80,105,10,10.9,{"$f":"\"\"","v":""},{"$f":"\"\"","v":""},{"$f":"\"\"","v":""},{"$f":"\"\"","v":""},{"v":1158.28,"d":"1158"},{"v":1158.28,"d":"1158"},{"v":1158.28,"d":"1158"},{"v":1158.28,"d":"1158"},1.3242,1.3242,1.3242,1.3242,182,182,182,182,31,31,31,31,{"v":0.00618218504128659,"d":"0.01"},{"v":0.00618218504128659,"d":"0.01"},{"v":0.00618218504128659,"d":"0.01"},{"v":0.00618218504128659,"d":"0.01"},3.969E-4,1.7346,2,0.000367347,{"$f":"\"\"","v":""},{"$f":"\"\"","v":""},{"$f":"\"\"","v":""},{"$f":"\"\"","v":""},{"$f":"\"\"","v":""},{"$f":"\"\"","v":""},{"$f":"\"\"","v":""},{"$f":"\"\"","v":""},{"$f":"\"\"","v":""},{"$f":"\"\"","v":""},{"$f":"\"\"","v":""},{"$f":"\"\"","v":""},{"$f":"\"\"","v":""},{"$f":"\"\"","v":""},{"$f":"\"\"","v":""},0.7,{"$f":"\"\"","v":""},{"$f":"\"\"","v":""},{"$f":"\"\"","v":""}]
["28011510",null,null,2,80,115,10,10.9,{"$f":"\"\"","v":""},{"$f":"\"\"","v":""},{"$f":"\"\"","v":""},{"$f":"\"\"","v":""},{"v":1284.18,"d":"1284"},{"v":1284.18,"d":"1284"},{"v":1284.18,"d":"1284"},{"v":1284.18,"d":"1284"},1.3242,1.3242,1.3242,1.3242,202,202,202,202,35,35,35,35,{"v":8.141433156687904E-3,"d":"0.01"},{"v":8.141433156687904E-3,"d":"0.01"},{"v":8.141433156687904E-3,"d":"0.01"},{"v":8.141433156687904E-3,"d":"0.01"},3.969E-4,1.7346,2,0.000367347,{"$f":"\"\"","v":""},{"$f":"\"\"","v":""},{"$f":"\"\"","v":""},{"$f":"\"\"","v":""},{"$f":"\"\"","v":""},{"$f":"\"\"","v":""},{"$f":"\"\"","v":""},{"$f":"\"\"","v":""},{"$f":"\"\"","v":""},{"$f":"\"\"","v":""},{"$f":"\"\"","v":""},{"$f":"\"\"","v":""},{"$f":"\"\"","v":""},{"$f":"\"\"","v":""},{"$f":"\"\"","v":""},0.8,{"$f":"\"\"","v":""},{"$f":"\"\"","v":""},{"$f":"\"\"","v":""}]
["28013510",null,null,2,80,135,10,10.9,{"$f":"\"\"","v":""},{"$f":"\"\"","v":""},{"$f":"\"\"","v":""},{"$f":"\"\"","v":""},{"v":1535.98,"d":"1536"},{"v":1535.98,"d":"1536"},{"v":1535.98,"d":"1536"},{"v":1535.98,"d":"1536"},1.3242,1.3242,1.3242,1.3242,242,242,242,{"$f":"ROUND(P219*POWER(CF_heat,T219),0)","v":242},42,42,42,{"$f":"ROUND(X219*3600/(4186*ABS($O$1-$O$2)),0)","v":42},{"v":0.012487635268178712,"d":"0.01"},{"v":0.012487635268178712,"d":"0.01"},{"v":0.012487635268178712,"d":"0.01"},{"$f":"(($AG219*(AB219^$AH219)*((($F219-14.4)*$AI219)/100))+($AJ219*(AB219^2)))*0.0098","v":{"v":0.012487635268178712,"d":"0.01"}},3.969E-4,1.7346,2,{"$f":"IF($G219=$CO$103,CS$103,IF($G219=$CO$104,CS$104,IF($G219=$CO$105,CS$105,IF($G219=$CO$107,CS$107,IF($G219=$CO$108,CS$108,IF($G219=$CO$109,CS$109,IF($G219=$CO$111,CS$111,IF($G219=$CO$112,CS$112,IF($G219=$CO$113,CS$113,IF($G219=$CO$115,CS$115,IF($G219=$CO$116,CS$116,IF($G219=$CO$117,CS$117,IF($G219=$CO$119,CS$119,IF($G219=$CO$120,CS$120,))))))))))))))","v":0.000367347},{"$f":"\"\"","v":""},{"$f":"\"\"","v":""},{"$f":"\"\"","v":""},{"$f":"\"\"","v":""},{"$f":"\"\"","v":""},{"$f":"\"\"","v":""},{"$f":"\"\"","v":""},{"$f":"\"\"","v":""},{"$f":"\"\"","v":""},{"$f":"\"\"","v":""},{"$f":"\"\"","v":""},{"$f":"\"\"","v":""},{"$f":"\"\"","v":""},{"$f":"\"\"","v":""},{"$f":"\"\"","v":""},0.9,{"$f":"\"\"","v":""},{"$f":"\"\"","v":""},{"$f":"\"\"","v":""}]
[{"$f":"CONCATENATE(D220,E220,F220,G220)","v":"28015510"},null,null,2,80,155,10,10.9,{"$f":"\"\"","v":""},{"$f":"\"\"","v":""},{"$f":"\"\"","v":""},{"$f":"\"\"","v":""},{"v":1787.78,"d":"1788"},{"v":1787.78,"d":"1788"},{"v":1787.78,"d":"1788"},{"v":1787.78,"d":"1788"},1.3242,1.3242,1.3242,1.3242,{"$f":"ROUND(M220*POWER(CF_heat,Q220),0)","v":281},281,281,281,{"$f":"ROUND(U220*3600/(4186*ABS($O$1-$O$2)),0)","v":48},48,48,48,{"$f":"(($AG220*(Y220^$AH220)*((($F220-14.4)*$AI220)/100))+($AJ220*(Y220^2)))*0.0098","v":{"v":0.017314339152696454,"d":"0.02"}},{"v":0.017314339152696454,"d":"0.02"},{"v":0.017314339152696454,"d":"0.02"},{"v":0.017314339152696454,"d":"0.02"},{"$f":"IF($G220=$CO$103,CP$103,IF($G220=$CO$104,CP$104,IF($G220=$CO$105,CP$105,IF($G220=$CO$107,CP$107,IF($G220=$CO$108,CP$108,IF($G220=$CO$109,CP$109,IF($G220=$CO$111,CP$111,IF($G220=$CO$112,CP$112,IF($G220=$CO$113,CP$113,IF($G220=$CO$115,CP$115,IF($G220=$CO$116,CP$116,IF($G220=$CO$117,CP$117,IF($G220=$CO$119,CP$119,IF($G220=$CO$120,CP$120,))))))))))))))","v":3.969E-4},1.7346,2,0.000367347,{"$f":"\"\"","v":""},{"$f":"\"\"","v":""},{"$f":"\"\"","v":""},{"$f":"\"\"","v":""},{"$f":"\"\"","v":""},{"$f":"\"\"","v":""},{"$f":"\"\"","v":""},{"$f":"\"\"","v":""},{"$f":"\"\"","v":""},{"$f":"\"\"","v":""},{"$f":"\"\"","v":""},{"$f":"\"\"","v":""},{"$f":"\"\"","v":""},{"$f":"\"\"","v":""},{"$f":"\"\"","v":""},{"$f":"ROUND(IF(G220=10,$CO$92*F220,IF(G220=11,$CO$93*F220,IF(G220=15,$CO$94*F220,IF(G220=16,$CO$95*F220,IF(G220=20,$CO$96*F220,IF(G220=21,$CO$97*F220,)))))),1)","v":{"v":1,"d":"1.0"}},{"$f":"\"\"","v":""},{"$f":"\"\"","v":""},{"$f":"\"\"","v":""}]
["28017510",null,null,2,80,175,10,10.9,{"$f":"\"\"","v":""},{"$f":"\"\"","v":""},{"$f":"\"\"","v":""},{"$f":"\"\"","v":""},{"v":2039.58,"d":"2040"},{"v":2039.58,"d":"2040"},{"v":2039.58,"d":"2040"},{"v":2039.58,"d":"2040"},1.3242,1.3242,1.3242,1.3242,321,321,321,321,55,55,55,55,{"v":0.023937157132715048,"d":"0.02"},{"v":0.023937157132715048,"d":"0.02"},{"v":0.023937157132715048,"d":"0.02"},{"v":0.023937157132715048,"d":"0.02"},3.969E-4,1.7346,2,0.000367347,{"$f":"\"\"","v":""},{"$f":"\"\"","v":""},{"$f":"\"\"","v":""},{"$f":"\"\"","v":""},{"$f":"\"\"","v":""},{"$f":"\"\"","v":""},{"$f":"\"\"","v":""},{"$f":"\"\"","v":""},{"$f":"\"\"","v":""},{"$f":"\"\"","v":""},{"$f":"\"\"","v":""},{"$f":"\"\"","v":""},{"$f":"\"\"","v":""},{"$f":"\"\"","v":""},{"$f":"\"\"","v":""},1.2,{"$f":"\"\"","v":""},{"$f":"\"\"","v":""},{"$f":"\"\"","v":""}]
["28019510",null,null,2,80,195,10,10.9,{"$f":"\"\"","v":""},{"$f":"\"\"","v":""},{"$f":"\"\"","v":""},{"$f":"\"\"","v":""},{"v":2291.38,"d":"2291"},{"v":2291.38,"d":"2291"},{"v":2291.38,"d":"2291"},{"v":2291.38,"d":"2291"},1.3242,1.3242,1.3242,1.3242,361,361,361,361,62,62,62,62,{"v":0.03189922548851686,"d":"0.03"},{"v":0.03189922548851686,"d":"0.03"},{"v":0.03189922548851686,"d":"0.03"},{"v":0.03189922548851686,"d":"0.03"},3.969E-4,1.7346,2,0.000367347,{"$f":"\"\"","v":""},{"$f":"\"\"","v":""},{"$f":"\"\"","v":""},{"$f":"\"\"","v":""},{"$f":"\"\"","v":""},{"$f":"\"\"","v":""},{"$f":"\"\"","v":""},{"$f":"\"\"","v":""},{"$f":"\"\"","v":""},{"$f":"\"\"","v":""},{"$f":"\"\"","v":""},{"$f":"\"\"","v":""},{"$f":"\"\"","v":""},{"$f":"\"\"","v":""},{"$f":"\"\"","v":""},1.3,{"$f":"\"\"","v":""},{"$f":"\"\"","v":""},{"$f":"\"\"","v":""}]
["28021510",null,null,2,80,215,10,10.9,{"$f":"\"\"","v":""},{"$f":"\"\"","v":""},{"$f":"\"\"","v":""},{"$f":"\"\"","v":""},{"v":2543.18,"d":"2543"},{"v":2543.18,"d":"2543"},{"v":2543.18,"d":"2543"},{"v":2543.18,"d":"2543"},1.3242,1.3242,1.3242,1.3242,400,400,400,400,69,69,69,69,{"v":0.04129063699084023,"d":"0.04"},{"v":0.04129063699084023,"d":"0.04"},{"v":0.04129063699084023,"d":"0.04"},{"v":0.04129063699084023,"d":"0.04"},3.969E-4,1.7346,2,0.000367347,{"$f":"\"\"","v":""},{"$f":"\"\"","v":""},{"$f":"\"\"","v":""},{"$f":"\"\"","v":""},{"$f":"\"\"","v":""},{"$f":"\"\"","v":""},{"$f":"\"\"","v":""},{"$f":"\"\"","v":""},{"$f":"\"\"","v":""},{"$f":"\"\"","v":""},{"$f":"\"\"","v":""},{"$f":"\"\"","v":""},{"$f":"\"\"","v":""},{"$f":"\"\"","v":""},{"$f":"\"\"","v":""},1.4,{"$f":"\"\"","v":""},{"$f":"\"\"","v":""},{"$f":"\"\"","v":""}]
["28023510",null,null,2,80,235,10,10.9,{"$f":"\"\"","v":""},{"$f":"\"\"","v":""},{"$f":"\"\"","v":""},{"$f":"\"\"","v":""},{"v":2794.98,"d":"2795"},{"v":2794.98,"d":"2795"},{"v":2794.98,"d":"2795"},{"v":2794.98,"d":"2795"},1.3242,1.3242,1.3242,1.3242,440,440,440,440,76,76,76,76,{"v":0.05219883036901612,"d":"0.05"},{"v":0.05219883036901612,"d":"0.05"},{"v":0.05219883036901612,"d":"0.05"},{"v":0.05219883036901612,"d":"0.05"},3.969E-4,1.7346,2,0.000367347,{"$f":"\"\"","v":""},{"$f":"\"\"","v":""},{"$f":"\"\"","v":""},{"$f":"\"\"","v":""},{"$f":"\"\"","v":""},{"$f":"\"\"","v":""},{"$f":"\"\"","v":""},{"$f":"\"\"","v":""},{"$f":"\"\"","v":""},{"$f":"\"\"","v":""},{"$f":"\"\"","v":""},{"$f":"\"\"","v":""},{"$f":"\"\"","v":""},{"$f":"\"\"","v":""},{"$f":"\"\"","v":""},1.6,{"$f":"\"\"","v":""},{"$f":"\"\"","v":""},{"$f":"\"\"","v":""}]
["2855510",null,null,2,85,55,10,10.9,{"$f":"\"\"","v":""},{"$f":"\"\"","v":""},{"$f":"\"\"","v":""},{"$f":"\"\"","v":""},{"v":538.02,"d":"538"},{"v":538.02,"d":"538"},{"v":538.02,"d":"538"},{"v":538.02,"d":"538"},1.3186,1.3186,1.3186,1.3186,85,85,85,85,15,15,15,15,{"v":0.001156346873100145,"d":"0.00"},{"v":0.001156346873100145,"d":"0.00"},{"v":0.001156346873100145,"d":"0.00"},{"v":0.001156346873100145,"d":"0.00"},3.969E-4,1.7346,2,0.000367347,{"$f":"\"\"","v":""},{"$f":"\"\"","v":""},{"$f":"\"\"","v":""},{"$f":"\"\"","v":""},{"$f":"\"\"","v":""},{"$f":"\"\"","v":""},{"$f":"\"\"","v":""},{"$f":"\"\"","v":""},{"$f":"\"\"","v":""},{"$f":"\"\"","v":""},{"$f":"\"\"","v":""},{"$f":"\"\"","v":""},{"$f":"\"\"","v":""},{"$f":"\"\"","v":""},{"$f":"\"\"","v":""},0.4,{"$f":"\"\"","v":""},{"$f":"\"\"","v":""},{"$f":"\"\"","v":""}]
["2856510",null,null,2,85,65,10,10.9,{"$f":"\"\"","v":""},{"$f":"\"\"","v":""},{"$f":"\"\"","v":""},{"$f":"\"\"","v":""},{"v":666.12,"d":"666"},{"v":666.12,"d":"666"},{"v":666.12,"d":"666"},{"v":666.12,"d":"666"},1.3186,1.3186,1.3186,1.3186,106,106,106,106,18,18,18,18,{"v":1.758620609619774E-3,"d":"0.00"},{"v":1.758620609619774E-3,"d":"0.00"},{"v":1.758620609619774E-3,"d":"0.00"},{"v":1.758620609619774E-3,"d":"0.00"},3.969E-4,1.7346,2,0.000367347,{"$f":"\"\"","v":""},{"$f":"\"\"","v":""},{"$f":"\"\"","v":""},{"$f":"\"\"","v":""},{"$f":"\"\"","v":""},{"$f":"\"\"","v":""},{"$f":"\"\"","v":""},{"$f":"\"\"","v":""},{"$f":"\"\"","v":""},{"$f":"\"\"","v":""},{"$f":"\"\"","v":""},{"$f":"\"\"","v":""},{"$f":"\"\"","v":""},{"$f":"\"\"","v":""},{"$f":"\"\"","v":""},0.4,{"$f":"\"\"","v":""},{"$f":"\"\"","v":""},{"$f":"\"\"","v":""}]
["2857510",null,null,2,85,75,10,10.9,{"$f":"\"\"","v":""},{"$f":"\"\"","v":""},{"$f":"\"\"","v":""},{"$f":"\"\"","v":""},{"v":794.22,"d":"794"},{"v":794.22,"d":"794"},{"v":794.22,"d":"794"},{"v":794.22,"d":"794"},1.3186,1.3186,1.3186,1.3186,126,126,126,126,22,22,22,22,{"v":2.746960973546396E-3,"d":"0.00"},{"v":2.746960973546396E-3,"d":"0.00"},{"v":2.746960973546396E-3,"d":"0.00"},{"v":2.746960973546396E-3,"d":"0.00"},3.969E-4,1.7346,2,0.000367347,{"$f":"\"\"","v":""},{"$f":"\"\"","v":""},{"$f":"\"\"","v":""},{"$f":"\"\"","v":""},{"$f":"\"\"","v":""},{"$f":"\"\"","v":""},{"$f":"\"\"","v":""},{"$f":"\"\"","v":""},{"$f":"\"\"","v":""},{"$f":"\"\"","v":""},{"$f":"\"\"","v":""},{"$f":"\"\"","v":""},{"$f":"\"\"","v":""},{"$f":"\"\"","v":""},{"$f":"\"\"","v":""},0.5,{"$f":"\"\"","v":""},{"$f":"\"\"","v":""},{"$f":"\"\"","v":""}]
["2858510",null,null,2,85,85,10,10.9,{"$f":"\"\"","v":""},{"$f":"\"\"","v":""},{"$f":"\"\"","v":""},{"$f":"\"\"","v":""},{"v":922.32,"d":"922"},{"v":922.32,"d":"922"},{"v":922.32,"d":"922"},{"v":922.32,"d":"922"},1.3186,1.3186,1.3186,1.3186,146,146,146,146,25,25,25,25,{"v":0.003710860417349129,"d":"0.00"},{"v":0.003710860417349129,"d":"0.00"},{"v":0.003710860417349129,"d":"0.00"},{"v":0.003710860417349129,"d":"0.00"},3.969E-4,1.7346,2,0.000367347,{"$f":"\"\"","v":""},{"$f":"\"\"","v":""},{"$f":"\"\"","v":""},{"$f":"\"\"","v":""},{"$f":"\"\"","v":""},{"$f":"\"\"","v":""},{"$f":"\"\"","v":""},{"$f":"\"\"","v":""},{"$f":"\"\"","v":""},{"$f":"\"\"","v":""},{"$f":"\"\"","v":""},{"$f":"\"\"","v":""},{"$f":"\"\"","v":""},{"$f":"\"\"","v":""},{"$f":"\"\"","v":""},0.6,{"$f":"\"\"","v":""},{"$f":"\"\"","v":""},{"$f":"\"\"","v":""}]
["2859510",null,null,2,85,95,10,10.9,{"$f":"\"\"","v":""},{"$f":"\"\"","v":""},{"$f":"\"\"","v":""},{"$f":"\"\"","v":""},{"v":1050.42,"d":"1050"},{"v":1050.42,"d":"1050"},{"v":1050.42,"d":"1050"},{"v":1050.42,"d":"1050"},1.3186,1.3186,1.3186,1.3186,167,167,167,167,29,29,29,29,{"v":5.1850854761649485E-3,"d":"0.01"},{"v":5.1850854761649485E-3,"d":"0.01"},{"v":5.1850854761649485E-3,"d":"0.01"},{"v":5.1850854761649485E-3,"d":"0.01"},3.969E-4,1.7346,2,0.000367347,{"$f":"\"\"","v":""},{"$f":"\"\"","v":""},{"$f":"\"\"","v":""},{"$f":"\"\"","v":""},{"$f":"\"\"","v":""},{"$f":"\"\"","v":""},{"$f":"\"\"","v":""},{"$f":"\"\"","v":""},{"$f":"\"\"","v":""},{"$f":"\"\"","v":""},{"$f":"\"\"","v":""},{"$f":"\"\"","v":""},{"$f":"\"\"","v":""},{"$f":"\"\"","v":""},{"$f":"\"\"","v":""},0.6,{"$f":"\"\"","v":""},{"$f":"\"\"","v":""},{"$f":"\"\"","v":""}]
["28510510",null,null,2,85,105,10,10.9,{"$f":"\"\"","v":""},{"$f":"\"\"","v":""},{"$f":"\"\"","v":""},{"$f":"\"\"","v":""},{"v":1178.52,"d":"1179"},{"v":1178.52,"d":"1179"},{"v":1178.52,"d":"1179"},{"v":1178.52,"d":"1179"},1.3186,1.3186,1.3186,1.3186,187,187,187,187,32,32,32,32,{"v":6.56312675875333E-3,"d":"0.01"},{"v":6.56312675875333E-3,"d":"0.01"},{"v":6.56312675875333E-3,"d":"0.01"},{"v":6.56312675875333E-3,"d":"0.01"},3.969E-4,1.7346,2,0.000367347,{"$f":"\"\"","v":""},{"$f":"\"\"","v":""},{"$f":"\"\"","v":""},{"$f":"\"\"","v":""},{"$f":"\"\"","v":""},{"$f":"\"\"","v":""},{"$f":"\"\"","v":""},{"$f":"\"\"","v":""},{"$f":"\"\"","v":""},{"$f":"\"\"","v":""},{"$f":"\"\"","v":""},{"$f":"\"\"","v":""},{"$f":"\"\"","v":""},{"$f":"\"\"","v":""},{"$f":"\"\"","v":""},0.7,{"$f":"\"\"","v":""},{"$f":"\"\"","v":""},{"$f":"\"\"","v":""}]
["28511510",null,null,2,85,115,10,10.9,{"$f":"\"\"","v":""},{"$f":"\"\"","v":""},{"$f":"\"\"","v":""},{"$f":"\"\"","v":""},{"v":1306.62,"d":"1307"},{"v":1306.62,"d":"1307"},{"v":1306.62,"d":"1307"},{"v":1306.62,"d":"1307"},1.3186,1.3186,1.3186,1.3186,207,207,207,207,36,36,36,36,{"v":0.008583898834575401,"d":"0.01"},{"v":0.008583898834575401,"d":"0.01"},{"v":0.008583898834575401,"d":"0.01"},{"v":0.008583898834575401,"d":"0.01"},3.969E-4,1.7346,2,0.000367347,{"$f":"\"\"","v":""},{"$f":"\"\"","v":""},{"$f":"\"\"","v":""},{"$f":"\"\"","v":""},{"$f":"\"\"","v":""},{"$f":"\"\"","v":""},{"$f":"\"\"","v":""},{"$f":"\"\"","v":""},{"$f":"\"\"","v":""},{"$f":"\"\"","v":""},{"$f":"\"\"","v":""},{"$f":"\"\"","v":""},{"$f":"\"\"","v":""},{"$f":"\"\"","v":""},{"$f":"\"\"","v":""},0.8,{"$f":"\"\"","v":""},{"$f":"\"\"","v":""},{"$f":"\"\"","v":""}]
["28513510",null,null,2,85,135,10,10.9,{"$f":"\"\"","v":""},{"$f":"\"\"","v":""},{"$f":"\"\"","v":""},{"$f":"\"\"","v":""},{"v":1562.82,"d":"1563"},{"v":1562.82,"d":"1563"},{"v":1562.82,"d":"1563"},{"v":1562.82,"d":"1563"},1.3186,1.3186,1.3186,1.3186,248,248,248,248,43,43,43,43,{"v":0.013049315093849325,"d":"0.01"},{"v":0.013049315093849325,"d":"0.01"},{"v":0.013049315093849325,"d":"0.01"},{"v":0.013049315093849325,"d":"0.01"},3.969E-4,1.7346,2,0.000367347,{"$f":"\"\"","v":""},{"$f":"\"\"","v":""},{"$f":"\"\"","v":""},{"$f":"\"\"","v":""},{"$f":"\"\"","v":""},{"$f":"\"\"","v":""},{"$f":"\"\"","v":""},{"$f":"\"\"","v":""},{"$f":"\"\"","v":""},{"$f":"\"\"","v":""},{"$f":"\"\"","v":""},{"$f":"\"\"","v":""},{"$f":"\"\"","v":""},{"$f":"\"\"","v":""},{"$f":"\"\"","v":""},0.9,{"$f":"\"\"","v":""},{"$f":"\"\"","v":""},{"$f":"\"\"","v":""}]
["28515510",null,null,2,85,155,10,10.9,{"$f":"\"\"","v":""},{"$f":"\"\"","v":""},{"$f":"\"\"","v":""},{"$f":"\"\"","v":""},{"v":1819.02,"d":"1819"},{"v":1819.02,"d":"1819"},{"v":1819.02,"d":"1819"},{"v":1819.02,"d":"1819"},1.3186,1.3186,1.3186,1.3186,288,288,288,288,50,50,50,50,{"v":0.0186817960031623,"d":"0.02"},{"v":0.0186817960031623,"d":"0.02"},{"v":0.0186817960031623,"d":"0.02"},{"v":0.0186817960031623,"d":"0.02"},3.969E-4,1.7346,2,0.000367347,{"$f":"\"\"","v":""},{"$f":"\"\"","v":""},{"$f":"\"\"","v":""},{"$f":"\"\"","v":""},{"$f":"\"\"","v":""},{"$f":"\"\"","v":""},{"$f":"\"\"","v":""},{"$f":"\"\"","v":""},{"$f":"\"\"","v":""},{"$f":"\"\"","v":""},{"$f":"\"\"","v":""},{"$f":"\"\"","v":""},{"$f":"\"\"","v":""},{"$f":"\"\"","v":""},{"$f":"\"\"","v":""},{"v":1,"d":"1.0"},{"$f":"\"\"","v":""},{"$f":"\"\"","v":""},{"$f":"\"\"","v":""}]
["28517510",null,null,2,85,175,10,10.9,{"$f":"\"\"","v":""},{"$f":"\"\"","v":""},{"$f":"\"\"","v":""},{"$f":"\"\"","v":""},{"v":2075.22,"d":"2075"},{"v":2075.22,"d":"2075"},{"v":2075.22,"d":"2075"},{"v":2075.22,"d":"2075"},1.3186,1.3186,1.3186,1.3186,329,329,329,329,57,57,57,57,{"v":0.025577481268140113,"d":"0.03"},{"v":0.025577481268140113,"d":"0.03"},{"v":0.025577481268140113,"d":"0.03"},{"v":0.025577481268140113,"d":"0.03"},3.969E-4,1.7346,2,0.000367347,{"$f":"\"\"","v":""},{"$f":"\"\"","v":""},{"$f":"\"\"","v":""},{"$f":"\"\"","v":""},{"$f":"\"\"","v":""},{"$f":"\"\"","v":""},{"$f":"\"\"","v":""},{"$f":"\"\"","v":""},{"$f":"\"\"","v":""},{"$f":"\"\"","v":""},{"$f":"\"\"","v":""},{"$f":"\"\"","v":""},{"$f":"\"\"","v":""},{"$f":"\"\"","v":""},{"$f":"\"\"","v":""},1.2,{"$f":"\"\"","v":""},{"$f":"\"\"","v":""},{"$f":"\"\"","v":""}]
["28519510",null,null,2,85,195,10,10.9,{"$f":"\"\"","v":""},{"$f":"\"\"","v":""},{"$f":"\"\"","v":""},{"$f":"\"\"","v":""},{"v":2331.42,"d":"2331"},{"v":2331.42,"d":"2331"},{"v":2331.42,"d":"2331"},{"v":2331.42,"d":"2331"},1.3186,1.3186,1.3186,1.3186,370,370,370,370,64,64,64,64,{"v":0.033828956127774985,"d":"0.03"},{"v":0.033828956127774985,"d":"0.03"},{"v":0.033828956127774985,"d":"0.03"},{"v":0.033828956127774985,"d":"0.03"},3.969E-4,1.7346,2,0.000367347,{"$f":"\"\"","v":""},{"$f":"\"\"","v":""},{"$f":"\"\"","v":""},{"$f":"\"\"","v":""},{"$f":"\"\"","v":""},{"$f":"\"\"","v":""},{"$f":"\"\"","v":""},{"$f":"\"\"","v":""},{"$f":"\"\"","v":""},{"$f":"\"\"","v":""},{"$f":"\"\"","v":""},{"$f":"\"\"","v":""},{"$f":"\"\"","v":""},{"$f":"\"\"","v":""},{"$f":"\"\"","v":""},1.3,{"$f":"\"\"","v":""},{"$f":"\"\"","v":""},{"$f":"\"\"","v":""}]
["28521510",null,null,2,85,215,10,10.9,{"$f":"\"\"","v":""},{"$f":"\"\"","v":""},{"$f":"\"\"","v":""},{"$f":"\"\"","v":""},{"v":2587.62,"d":"2588"},{"v":2587.62,"d":"2588"},{"v":2587.62,"d":"2588"},{"v":2587.62,"d":"2588"},1.3186,1.3186,1.3186,1.3186,410,410,410,410,71,71,71,71,{"v":0.04352580390094691,"d":"0.04"},{"v":0.04352580390094691,"d":"0.04"},{"v":0.04352580390094691,"d":"0.04"},{"v":0.04352580390094691,"d":"0.04"},3.969E-4,1.7346,2,0.000367347,{"$f":"\"\"","v":""},{"$f":"\"\"","v":""},{"$f":"\"\"","v":""},{"$f":"\"\"","v":""},{"$f":"\"\"","v":""},{"$f":"\"\"","v":""},{"$f":"\"\"","v":""},{"$f":"\"\"","v":""},{"$f":"\"\"","v":""},{"$f":"\"\"","v":""},{"$f":"\"\"","v":""},{"$f":"\"\"","v":""},{"$f":"\"\"","v":""},{"$f":"\"\"","v":""},{"$f":"\"\"","v":""},1.4,{"$f":"\"\"","v":""},{"$f":"\"\"","v":""},{"$f":"\"\"","v":""}]
["28523510",null,null,2,85,235,10,10.9,{"$f":"\"\"","v":""},{"$f":"\"\"","v":""},{"$f":"\"\"","v":""},{"$f":"\"\"","v":""},{"v":2843.82,"d":"2844"},{"v":2843.82,"d":"2844"},{"v":2843.82,"d":"2844"},{"v":2843.82,"d":"2844"},1.3186,1.3186,1.3186,1.3186,451,451,451,451,78,78,78,78,{"v":0.05475502106980231,"d":"0.05"},{"v":0.05475502106980231,"d":"0.05"},{"v":0.05475502106980231,"d":"0.05"},{"v":0.05475502106980231,"d":"0.05"},3.969E-4,1.7346,2,0.000367347,{"$f":"\"\"","v":""},{"$f":"\"\"","v":""},{"$f":"\"\"","v":""},{"$f":"\"\"","v":""},{"$f":"\"\"","v":""},{"$f":"\"\"","v":""},{"$f":"\"\"","v":""},{"$f":"\"\"","v":""},{"$f":"\"\"","v":""},{"$f":"\"\"","v":""},{"$f":"\"\"","v":""},{"$f":"\"\"","v":""},{"$f":"\"\"","v":""},{"$f":"\"\"","v":""},{"$f":"\"\"","v":""},1.6,{"$f":"\"\"","v":""},{"$f":"\"\"","v":""},{"$f":"\"\"","v":""}]
["2905510",null,null,2,90,55,10,10.9,{"$f":"\"\"","v":""},{"$f":"\"\"","v":""},{"$f":"\"\"","v":""},{"$f":"\"\"","v":""},546,546,546,546,1.313,1.313,1.313,1.313,87,87,87,87,15,15,15,15,{"v":0.001156346873100145,"d":"0.00"},{"v":0.001156346873100145,"d":"0.00"},{"v":0.001156346873100145,"d":"0.00"},{"v":0.001156346873100145,"d":"0.00"},3.969E-4,1.7346,2,0.000367347,{"$f":"\"\"","v":""},{"$f":"\"\"","v":""},{"$f":"\"\"","v":""},{"$f":"\"\"","v":""},{"$f":"\"\"","v":""},{"$f":"\"\"","v":""},{"$f":"\"\"","v":""},{"$f":"\"\"","v":""},{"$f":"\"\"","v":""},{"$f":"\"\"","v":""},{"$f":"\"\"","v":""},{"$f":"\"\"","v":""},{"$f":"\"\"","v":""},{"$f":"\"\"","v":""},{"$f":"\"\"","v":""},0.4,{"$f":"\"\"","v":""},{"$f":"\"\"","v":""},{"$f":"\"\"","v":""}]
["2906510",null,null,2,90,65,10,10.9,{"$f":"\"\"","v":""},{"$f":"\"\"","v":""},{"$f":"\"\"","v":""},{"$f":"\"\"","v":""},676,676,676,676,1.313,1.313,1.313,1.313,108,108,108,108,19,19,19,19,{"v":1.9500498650729928E-3,"d":"0.00"},{"v":1.9500498650729928E-3,"d":"0.00"},{"v":1.9500498650729928E-3,"d":"0.00"},{"v":1.9500498650729928E-3,"d":"0.00"},3.969E-4,1.7346,2,0.000367347,{"$f":"\"\"","v":""},{"$f":"\"\"","v":""},{"$f":"\"\"","v":""},{"$f":"\"\"","v":""},{"$f":"\"\"","v":""},{"$f":"\"\"","v":""},{"$f":"\"\"","v":""},{"$f":"\"\"","v":""},{"$f":"\"\"","v":""},{"$f":"\"\"","v":""},{"$f":"\"\"","v":""},{"$f":"\"\"","v":""},{"$f":"\"\"","v":""},{"$f":"\"\"","v":""},{"$f":"\"\"","v":""},0.4,{"$f":"\"\"","v":""},{"$f":"\"\"","v":""},{"$f":"\"\"","v":""}]
["2907510",null,null,2,90,75,10,10.9,{"$f":"\"\"","v":""},{"$f":"\"\"","v":""},{"$f":"\"\"","v":""},{"$f":"\"\"","v":""},806,806,806,806,1.313,1.313,1.313,1.313,129,129,129,129,22,22,22,22,{"v":2.746960973546396E-3,"d":"0.00"},{"v":2.746960973546396E-3,"d":"0.00"},{"v":2.746960973546396E-3,"d":"0.00"},{"v":2.746960973546396E-3,"d":"0.00"},3.969E-4,1.7346,2,0.000367347,{"$f":"\"\"","v":""},{"$f":"\"\"","v":""},{"$f":"\"\"","v":""},{"$f":"\"\"","v":""},{"$f":"\"\"","v":""},{"$f":"\"\"","v":""},{"$f":"\"\"","v":""},{"$f":"\"\"","v":""},{"$f":"\"\"","v":""},{"$f":"\"\"","v":""},{"$f":"\"\"","v":""},{"$f":"\"\"","v":""},{"$f":"\"\"","v":""},{"$f":"\"\"","v":""},{"$f":"\"\"","v":""},0.5,{"$f":"\"\"","v":""},{"$f":"\"\"","v":""},{"$f":"\"\"","v":""}]
["2908510",null,null,2,90,85,10,10.9,{"$f":"\"\"","v":""},{"$f":"\"\"","v":""},{"$f":"\"\"","v":""},{"$f":"\"\"","v":""},936,936,936,936,1.313,1.313,1.313,1.313,150,150,150,150,26,26,26,26,{"v":0.003997304742617185,"d":"0.00"},{"v":0.003997304742617185,"d":"0.00"},{"v":0.003997304742617185,"d":"0.00"},{"v":0.003997304742617185,"d":"0.00"},3.969E-4,1.7346,2,0.000367347,{"$f":"\"\"","v":""},{"$f":"\"\"","v":""},{"$f":"\"\"","v":""},{"$f":"\"\"","v":""},{"$f":"\"\"","v":""},{"$f":"\"\"","v":""},{"$f":"\"\"","v":""},{"$f":"\"\"","v":""},{"$f":"\"\"","v":""},{"$f":"\"\"","v":""},{"$f":"\"\"","v":""},{"$f":"\"\"","v":""},{"$f":"\"\"","v":""},{"$f":"\"\"","v":""},{"$f":"\"\"","v":""},0.6,{"$f":"\"\"","v":""},{"$f":"\"\"","v":""},{"$f":"\"\"","v":""}]
["2909510",null,null,2,90,95,10,10.9,{"$f":"\"\"","v":""},{"$f":"\"\"","v":""},{"$f":"\"\"","v":""},{"$f":"\"\"","v":""},1066,1066,1066,1066,1.313,1.313,1.313,1.313,170,170,170,170,29,29,29,29,{"v":5.1850854761649485E-3,"d":"0.01"},{"v":5.1850854761649485E-3,"d":"0.01"},{"v":5.1850854761649485E-3,"d":"0.01"},{"v":5.1850854761649485E-3,"d":"0.01"},3.969E-4,1.7346,2,0.000367347,{"$f":"\"\"","v":""},{"$f":"\"\"","v":""},{"$f":"\"\"","v":""},{"$f":"\"\"","v":""},{"$f":"\"\"","v":""},{"$f":"\"\"","v":""},{"$f":"\"\"","v":""},{"$f":"\"\"","v":""},{"$f":"\"\"","v":""},{"$f":"\"\"","v":""},{"$f":"\"\"","v":""},{"$f":"\"\"","v":""},{"$f":"\"\"","v":""},{"$f":"\"\"","v":""},{"$f":"\"\"","v":""},0.6,{"$f":"\"\"","v":""},{"$f":"\"\"","v":""},{"$f":"\"\"","v":""}]
["29010510",null,null,2,90,105,10,10.9,{"$f":"\"\"","v":""},{"$f":"\"\"","v":""},{"$f":"\"\"","v":""},{"$f":"\"\"","v":""},1196,1196,1196,1196,1.313,1.313,1.313,1.313,191,191,191,191,33,33,33,33,{"v":6.954848293396574E-3,"d":"0.01"},{"v":6.954848293396574E-3,"d":"0.01"},{"v":6.954848293396574E-3,"d":"0.01"},{"v":6.954848293396574E-3,"d":"0.01"},3.969E-4,1.7346,2,0.000367347,{"$f":"\"\"","v":""},{"$f":"\"\"","v":""},{"$f":"\"\"","v":""},{"$f":"\"\"","v":""},{"$f":"\"\"","v":""},{"$f":"\"\"","v":""},{"$f":"\"\"","v":""},{"$f":"\"\"","v":""},{"$f":"\"\"","v":""},{"$f":"\"\"","v":""},{"$f":"\"\"","v":""},{"$f":"\"\"","v":""},{"$f":"\"\"","v":""},{"$f":"\"\"","v":""},{"$f":"\"\"","v":""},0.7,{"$f":"\"\"","v":""},{"$f":"\"\"","v":""},{"$f":"\"\"","v":""}]
["29011510",null,null,2,90,115,10,10.9,{"$f":"\"\"","v":""},{"$f":"\"\"","v":""},{"$f":"\"\"","v":""},{"$f":"\"\"","v":""},1326,1326,1326,1326,1.313,1.313,1.313,1.313,212,212,212,212,36,36,36,36,{"v":0.008583898834575401,"d":"0.01"},{"v":0.008583898834575401,"d":"0.01"},{"v":0.008583898834575401,"d":"0.01"},{"v":0.008583898834575401,"d":"0.01"},3.969E-4,1.7346,2,0.000367347,{"$f":"\"\"","v":""},{"$f":"\"\"","v":""},{"$f":"\"\"","v":""},{"$f":"\"\"","v":""},{"$f":"\"\"","v":""},{"$f":"\"\"","v":""},{"$f":"\"\"","v":""},{"$f":"\"\"","v":""},{"$f":"\"\"","v":""},{"$f":"\"\"","v":""},{"$f":"\"\"","v":""},{"$f":"\"\"","v":""},{"$f":"\"\"","v":""},{"$f":"\"\"","v":""},{"$f":"\"\"","v":""},0.8,{"$f":"\"\"","v":""},{"$f":"\"\"","v":""},{"$f":"\"\"","v":""}]
["29013510",null,null,2,90,135,10,10.9,{"$f":"\"\"","v":""},{"$f":"\"\"","v":""},{"$f":"\"\"","v":""},{"$f":"\"\"","v":""},1586,1586,1586,1586,1.313,1.313,1.313,1.313,253,253,253,253,44,44,44,44,{"v":0.013622600659970974,"d":"0.01"},{"v":0.013622600659970974,"d":"0.01"},{"v":0.013622600659970974,"d":"0.01"},{"v":0.013622600659970974,"d":"0.01"},3.969E-4,1.7346,2,0.000367347,{"$f":"\"\"","v":""},{"$f":"\"\"","v":""},{"$f":"\"\"","v":""},{"$f":"\"\"","v":""},{"$f":"\"\"","v":""},{"$f":"\"\"","v":""},{"$f":"\"\"","v":""},{"$f":"\"\"","v":""},{"$f":"\"\"","v":""},{"$f":"\"\"","v":""},{"$f":"\"\"","v":""},{"$f":"\"\"","v":""},{"$f":"\"\"","v":""},{"$f":"\"\"","v":""},{"$f":"\"\"","v":""},0.9,{"$f":"\"\"","v":""},{"$f":"\"\"","v":""},{"$f":"\"\"","v":""}]
["29015510",null,null,2,90,155,10,10.9,{"$f":"\"\"","v":""},{"$f":"\"\"","v":""},{"$f":"\"\"","v":""},{"$f":"\"\"","v":""},1846,1846,1846,1846,1.313,1.313,1.313,1.313,295,295,295,295,51,51,51,51,{"v":0.019383739920887457,"d":"0.02"},{"v":0.019383739920887457,"d":"0.02"},{"v":0.019383739920887457,"d":"0.02"},{"v":0.019383739920887457,"d":"0.02"},3.969E-4,1.7346,2,0.000367347,{"$f":"\"\"","v":""},{"$f":"\"\"","v":""},{"$f":"\"\"","v":""},{"$f":"\"\"","v":""},{"$f":"\"\"","v":""},{"$f":"\"\"","v":""},{"$f":"\"\"","v":""},{"$f":"\"\"","v":""},{"$f":"\"\"","v":""},{"$f":"\"\"","v":""},{"$f":"\"\"","v":""},{"$f":"\"\"","v":""},{"$f":"\"\"","v":""},{"$f":"\"\"","v":""},{"$f":"\"\"","v":""},{"v":1,"d":"1.0"},{"$f":"\"\"","v":""},{"$f":"\"\"","v":""},{"$f":"\"\"","v":""}]
["29017510",null,null,2,90,175,10,10.9,{"$f":"\"\"","v":""},{"$f":"\"\"","v":""},{"$f":"\"\"","v":""},{"$f":"\"\"","v":""},2106,2106,2106,2106,1.313,1.313,1.313,1.313,337,337,337,337,58,58,58,58,{"v":0.026416622332402183,"d":"0.03"},{"v":0.026416622332402183,"d":"0.03"},{"v":0.026416622332402183,"d":"0.03"},{"v":0.026416622332402183,"d":"0.03"},3.969E-4,1.7346,2,0.000367347,{"$f":"\"\"","v":""},{"$f":"\"\"","v":""},{"$f":"\"\"","v":""},{"$f":"\"\"","v":""},{"$f":"\"\"","v":""},{"$f":"\"\"","v":""},{"$f":"\"\"","v":""},{"$f":"\"\"","v":""},{"$f":"\"\"","v":""},{"$f":"\"\"","v":""},{"$f":"\"\"","v":""},{"$f":"\"\"","v":""},{"$f":"\"\"","v":""},{"$f":"\"\"","v":""},{"$f":"\"\"","v":""},1.2,{"$f":"\"\"","v":""},{"$f":"\"\"","v":""},{"$f":"\"\"","v":""}]
["29019510",null,null,2,90,195,10,10.9,{"$f":"\"\"","v":""},{"$f":"\"\"","v":""},{"$f":"\"\"","v":""},{"$f":"\"\"","v":""},2366,2366,2366,2366,1.313,1.313,1.313,1.313,378,378,378,378,65,65,65,65,{"v":0.03481353899154363,"d":"0.03"},{"v":0.03481353899154363,"d":"0.03"},{"v":0.03481353899154363,"d":"0.03"},{"v":0.03481353899154363,"d":"0.03"},3.969E-4,1.7346,2,0.000367347,{"$f":"\"\"","v":""},{"$f":"\"\"","v":""},{"$f":"\"\"","v":""},{"$f":"\"\"","v":""},{"$f":"\"\"","v":""},{"$f":"\"\"","v":""},{"$f":"\"\"","v":""},{"$f":"\"\"","v":""},{"$f":"\"\"","v":""},{"$f":"\"\"","v":""},{"$f":"\"\"","v":""},{"$f":"\"\"","v":""},{"$f":"\"\"","v":""},{"$f":"\"\"","v":""},{"$f":"\"\"","v":""},1.3,{"$f":"\"\"","v":""},{"$f":"\"\"","v":""},{"$f":"\"\"","v":""}]
["29021510",null,null,2,90,215,10,10.9,{"$f":"\"\"","v":""},{"$f":"\"\"","v":""},{"$f":"\"\"","v":""},{"$f":"\"\"","v":""},2626,2626,2626,2626,1.313,1.313,1.313,1.313,420,420,420,420,72,72,72,72,{"v":0.044663821959355594,"d":"0.04"},{"v":0.044663821959355594,"d":"0.04"},{"v":0.044663821959355594,"d":"0.04"},{"v":0.044663821959355594,"d":"0.04"},3.969E-4,1.7346,2,0.000367347,{"$f":"\"\"","v":""},{"$f":"\"\"","v":""},{"$f":"\"\"","v":""},{"$f":"\"\"","v":""},{"$f":"\"\"","v":""},{"$f":"\"\"","v":""},{"$f":"\"\"","v":""},{"$f":"\"\"","v":""},{"$f":"\"\"","v":""},{"$f":"\"\"","v":""},{"$f":"\"\"","v":""},{"$f":"\"\"","v":""},{"$f":"\"\"","v":""},{"$f":"\"\"","v":""},{"$f":"\"\"","v":""},1.4,{"$f":"\"\"","v":""},{"$f":"\"\"","v":""},{"$f":"\"\"","v":""}]
["29023510",null,null,2,90,235,10,10.9,{"$f":"\"\"","v":""},{"$f":"\"\"","v":""},{"$f":"\"\"","v":""},{"$f":"\"\"","v":""},2886,2886,2886,2886,1.313,1.313,1.313,1.313,461,461,461,461,79,79,79,79,{"v":0.056054249284102,"d":"0.06"},{"v":0.056054249284102,"d":"0.06"},{"v":0.056054249284102,"d":"0.06"},{"v":0.056054249284102,"d":"0.06"},3.969E-4,1.7346,2,0.000367347,{"$f":"\"\"","v":""},{"$f":"\"\"","v":""},{"$f":"\"\"","v":""},{"$f":"\"\"","v":""},{"$f":"\"\"","v":""},{"$f":"\"\"","v":""},{"$f":"\"\"","v":""},{"$f":"\"\"","v":""},{"$f":"\"\"","v":""},{"$f":"\"\"","v":""},{"$f":"\"\"","v":""},{"$f":"\"\"","v":""},{"$f":"\"\"","v":""},{"$f":"\"\"","v":""},{"$f":"\"\"","v":""},1.6,{"$f":"\"\"","v":""},{"$f":"\"\"","v":""},{"$f":"\"\"","v":""}]
["2955510",null,null,2,95,55,10,10.9,{"$f":"\"\"","v":""},{"$f":"\"\"","v":""},{"$f":"\"\"","v":""},{"$f":"\"\"","v":""},{"v":552.72,"d":"553"},{"v":552.72,"d":"553"},{"v":552.72,"d":"553"},{"v":552.72,"d":"553"},1.3074,1.3074,1.3074,1.3074,89,89,89,89,15,15,15,15,{"v":0.001156346873100145,"d":"0.00"},{"v":0.001156346873100145,"d":"0.00"},{"v":0.001156346873100145,"d":"0.00"},{"v":0.001156346873100145,"d":"0.00"},3.969E-4,1.7346,2,0.000367347,{"$f":"\"\"","v":""},{"$f":"\"\"","v":""},{"$f":"\"\"","v":""},{"$f":"\"\"","v":""},{"$f":"\"\"","v":""},{"$f":"\"\"","v":""},{"$f":"\"\"","v":""},{"$f":"\"\"","v":""},{"$f":"\"\"","v":""},{"$f":"\"\"","v":""},{"$f":"\"\"","v":""},{"$f":"\"\"","v":""},{"$f":"\"\"","v":""},{"$f":"\"\"","v":""},{"$f":"\"\"","v":""},0.4,{"$f":"\"\"","v":""},{"$f":"\"\"","v":""},{"$f":"\"\"","v":""}]
["2956510",null,null,2,95,65,10,10.9,{"$f":"\"\"","v":""},{"$f":"\"\"","v":""},{"$f":"\"\"","v":""},{"$f":"\"\"","v":""},{"v":684.32,"d":"684"},{"v":684.32,"d":"684"},{"v":684.32,"d":"684"},{"v":684.32,"d":"684"},1.3074,1.3074,1.3074,1.3074,110,110,110,110,19,19,19,19,{"v":1.9500498650729928E-3,"d":"0.00"},{"v":1.9500498650729928E-3,"d":"0.00"},{"v":1.9500498650729928E-3,"d":"0.00"},{"v":1.9500498650729928E-3,"d":"0.00"},3.969E-4,1.7346,2,0.000367347,{"$f":"\"\"","v":""},{"$f":"\"\"","v":""},{"$f":"\"\"","v":""},{"$f":"\"\"","v":""},{"$f":"\"\"","v":""},{"$f":"\"\"","v":""},{"$f":"\"\"","v":""},{"$f":"\"\"","v":""},{"$f":"\"\"","v":""},{"$f":"\"\"","v":""},{"$f":"\"\"","v":""},{"$f":"\"\"","v":""},{"$f":"\"\"","v":""},{"$f":"\"\"","v":""},{"$f":"\"\"","v":""},0.4,{"$f":"\"\"","v":""},{"$f":"\"\"","v":""},{"$f":"\"\"","v":""}]
["2957510",null,null,2,95,75,10,10.9,{"$f":"\"\"","v":""},{"$f":"\"\"","v":""},{"$f":"\"\"","v":""},{"$f":"\"\"","v":""},{"v":815.92,"d":"816"},{"v":815.92,"d":"816"},{"v":815.92,"d":"816"},{"v":815.92,"d":"816"},1.3074,1.3074,1.3074,1.3074,131,131,131,131,23,23,23,23,{"v":2.9894831658536522E-3,"d":"0.00"},{"v":2.9894831658536522E-3,"d":"0.00"},{"v":2.9894831658536522E-3,"d":"0.00"},{"v":2.9894831658536522E-3,"d":"0.00"},3.969E-4,1.7346,2,0.000367347,{"$f":"\"\"","v":""},{"$f":"\"\"","v":""},{"$f":"\"\"","v":""},{"$f":"\"\"","v":""},{"$f":"\"\"","v":""},{"$f":"\"\"","v":""},{"$f":"\"\"","v":""},{"$f":"\"\"","v":""},{"$f":"\"\"","v":""},{"$f":"\"\"","v":""},{"$f":"\"\"","v":""},{"$f":"\"\"","v":""},{"$f":"\"\"","v":""},{"$f":"\"\"","v":""},{"$f":"\"\"","v":""},0.5,{"$f":"\"\"","v":""},{"$f":"\"\"","v":""},{"$f":"\"\"","v":""}]
["2958510",null,null,2,95,85,10,10.9,{"$f":"\"\"","v":""},{"$f":"\"\"","v":""},{"$f":"\"\"","v":""},{"$f":"\"\"","v":""},{"v":947.52,"d":"948"},{"v":947.52,"d":"948"},{"v":947.52,"d":"948"},{"v":947.52,"d":"948"},1.3074,1.3074,1.3074,1.3074,153,153,153,153,26,26,26,26,{"v":0.003997304742617185,"d":"0.00"},{"v":0.003997304742617185,"d":"0.00"},{"v":0.003997304742617185,"d":"0.00"},{"v":0.003997304742617185,"d":"0.00"},3.969E-4,1.7346,2,0.000367347,{"$f":"\"\"","v":""},{"$f":"\"\"","v":""},{"$f":"\"\"","v":""},{"$f":"\"\"","v":""},{"$f":"\"\"","v":""},{"$f":"\"\"","v":""},{"$f":"\"\"","v":""},{"$f":"\"\"","v":""},{"$f":"\"\"","v":""},{"$f":"\"\"","v":""},{"$f":"\"\"","v":""},{"$f":"\"\"","v":""},{"$f":"\"\"","v":""},{"$f":"\"\"","v":""},{"$f":"\"\"","v":""},0.6,{"$f":"\"\"","v":""},{"$f":"\"\"","v":""},{"$f":"\"\"","v":""}]
["2959510",null,null,2,95,95,10,10.9,{"$f":"\"\"","v":""},{"$f":"\"\"","v":""},{"$f":"\"\"","v":""},{"$f":"\"\"","v":""},{"v":1079.12,"d":"1079"},{"v":1079.12,"d":"1079"},{"v":1079.12,"d":"1079"},{"v":1079.12,"d":"1079"},1.3074,1.3074,1.3074,1.3074,174,174,174,174,30,30,30,30,{"v":0.005528162390377151,"d":"0.01"},{"v":0.005528162390377151,"d":"0.01"},{"v":0.005528162390377151,"d":"0.01"},{"v":0.005528162390377151,"d":"0.01"},3.969E-4,1.7346,2,0.000367347,{"$f":"\"\"","v":""},{"$f":"\"\"","v":""},{"$f":"\"\"","v":""},{"$f":"\"\"","v":""},{"$f":"\"\"","v":""},{"$f":"\"\"","v":""},{"$f":"\"\"","v":""},{"$f":"\"\"","v":""},{"$f":"\"\"","v":""},{"$f":"\"\"","v":""},{"$f":"\"\"","v":""},{"$f":"\"\"","v":""},{"$f":"\"\"","v":""},{"$f":"\"\"","v":""},{"$f":"\"\"","v":""},0.6,{"$f":"\"\"","v":""},{"$f":"\"\"","v":""},{"$f":"\"\"","v":""}]
["29510510",null,null,2,95,105,10,10.9,{"$f":"\"\"","v":""},{"$f":"\"\"","v":""},{"$f":"\"\"","v":""},{"$f":"\"\"","v":""},{"v":1210.72,"d":"1211"},{"v":1210.72,"d":"1211"},{"v":1210.72,"d":"1211"},{"v":1210.72,"d":"1211"},1.3074,1.3074,1.3074,1.3074,195,195,195,195,34,34,34,34,{"v":7.357320522843264E-3,"d":"0.01"},{"v":7.357320522843264E-3,"d":"0.01"},{"v":7.357320522843264E-3,"d":"0.01"},{"v":7.357320522843264E-3,"d":"0.01"},3.969E-4,1.7346,2,0.000367347,{"$f":"\"\"","v":""},{"$f":"\"\"","v":""},{"$f":"\"\"","v":""},{"$f":"\"\"","v":""},{"$f":"\"\"","v":""},{"$f":"\"\"","v":""},{"$f":"\"\"","v":""},{"$f":"\"\"","v":""},{"$f":"\"\"","v":""},{"$f":"\"\"","v":""},{"$f":"\"\"","v":""},{"$f":"\"\"","v":""},{"$f":"\"\"","v":""},{"$f":"\"\"","v":""},{"$f":"\"\"","v":""},0.7,{"$f":"\"\"","v":""},{"$f":"\"\"","v":""},{"$f":"\"\"","v":""}]
["29511510",null,null,2,95,115,10,10.9,{"$f":"\"\"","v":""},{"$f":"\"\"","v":""},{"$f":"\"\"","v":""},{"$f":"\"\"","v":""},{"v":1342.32,"d":"1342"},{"v":1342.32,"d":"1342"},{"v":1342.32,"d":"1342"},{"v":1342.32,"d":"1342"},1.3074,1.3074,1.3074,1.3074,216,216,216,216,37,37,37,37,{"v":0.009037417097633898,"d":"0.01"},{"v":0.009037417097633898,"d":"0.01"},{"v":0.009037417097633898,"d":"0.01"},{"v":0.009037417097633898,"d":"0.01"},3.969E-4,1.7346,2,0.000367347,{"$f":"\"\"","v":""},{"$f":"\"\"","v":""},{"$f":"\"\"","v":""},{"$f":"\"\"","v":""},{"$f":"\"\"","v":""},{"$f":"\"\"","v":""},{"$f":"\"\"","v":""},{"$f":"\"\"","v":""},{"$f":"\"\"","v":""},{"$f":"\"\"","v":""},{"$f":"\"\"","v":""},{"$f":"\"\"","v":""},{"$f":"\"\"","v":""},{"$f":"\"\"","v":""},{"$f":"\"\"","v":""},0.8,{"$f":"\"\"","v":""},{"$f":"\"\"","v":""},{"$f":"\"\"","v":""}]
["29513510",null,null,2,95,135,10,10.9,{"$f":"\"\"","v":""},{"$f":"\"\"","v":""},{"$f":"\"\"","v":""},{"$f":"\"\"","v":""},{"v":1605.52,"d":"1606"},{"v":1605.52,"d":"1606"},{"v":1605.52,"d":"1606"},{"v":1605.52,"d":"1606"},1.3074,1.3074,1.3074,1.3074,259,259,259,259,45,45,45,45,{"v":0.014207465164147446,"d":"0.01"},{"v":0.014207465164147446,"d":"0.01"},{"v":0.014207465164147446,"d":"0.01"},{"v":0.014207465164147446,"d":"0.01"},3.969E-4,1.7346,2,0.000367347,{"$f":"\"\"","v":""},{"$f":"\"\"","v":""},{"$f":"\"\"","v":""},{"$f":"\"\"","v":""},{"$f":"\"\"","v":""},{"$f":"\"\"","v":""},{"$f":"\"\"","v":""},{"$f":"\"\"","v":""},{"$f":"\"\"","v":""},{"$f":"\"\"","v":""},{"$f":"\"\"","v":""},{"$f":"\"\"","v":""},{"$f":"\"\"","v":""},{"$f":"\"\"","v":""},{"$f":"\"\"","v":""},0.9,{"$f":"\"\"","v":""},{"$f":"\"\"","v":""},{"$f":"\"\"","v":""}]
["29515510",null,null,2,95,155,10,10.9,{"$f":"\"\"","v":""},{"$f":"\"\"","v":""},{"$f":"\"\"","v":""},{"$f":"\"\"","v":""},{"v":1868.72,"d":"1869"},{"v":1868.72,"d":"1869"},{"v":1868.72,"d":"1869"},{"v":1868.72,"d":"1869"},1.3074,1.3074,1.3074,1.3074,301,301,301,301,52,52,52,52,{"v":0.02009779278638795,"d":"0.02"},{"v":0.02009779278638795,"d":"0.02"},{"v":0.02009779278638795,"d":"0.02"},{"v":0.02009779278638795,"d":"0.02"},3.969E-4,1.7346,2,0.000367347,{"$f":"\"\"","v":""},{"$f":"\"\"","v":""},{"$f":"\"\"","v":""},{"$f":"\"\"","v":""},{"$f":"\"\"","v":""},{"$f":"\"\"","v":""},{"$f":"\"\"","v":""},{"$f":"\"\"","v":""},{"$f":"\"\"","v":""},{"$f":"\"\"","v":""},{"$f":"\"\"","v":""},{"$f":"\"\"","v":""},{"$f":"\"\"","v":""},{"$f":"\"\"","v":""},{"$f":"\"\"","v":""},{"v":1,"d":"1.0"},{"$f":"\"\"","v":""},{"$f":"\"\"","v":""},{"$f":"\"\"","v":""}]
["29517510",null,null,2,95,175,10,10.9,{"$f":"\"\"","v":""},{"$f":"\"\"","v":""},{"$f":"\"\"","v":""},{"$f":"\"\"","v":""},{"v":2131.92,"d":"2132"},{"v":2131.92,"d":"2132"},{"v":2131.92,"d":"2132"},{"v":2131.92,"d":"2132"},1.3074,1.3074,1.3074,1.3074,343,343,343,343,59,59,59,59,{"v":0.02726838244340911,"d":"0.03"},{"v":0.02726838244340911,"d":"0.03"},{"v":0.02726838244340911,"d":"0.03"},{"v":0.02726838244340911,"d":"0.03"},3.969E-4,1.7346,2,0.000367347,{"$f":"\"\"","v":""},{"$f":"\"\"","v":""},{"$f":"\"\"","v":""},{"$f":"\"\"","v":""},{"$f":"\"\"","v":""},{"$f":"\"\"","v":""},{"$f":"\"\"","v":""},{"$f":"\"\"","v":""},{"$f":"\"\"","v":""},{"$f":"\"\"","v":""},{"$f":"\"\"","v":""},{"$f":"\"\"","v":""},{"$f":"\"\"","v":""},{"$f":"\"\"","v":""},{"$f":"\"\"","v":""},1.2,{"$f":"\"\"","v":""},{"$f":"\"\"","v":""},{"$f":"\"\"","v":""}]
["29519510",null,null,2,95,195,10,10.9,{"$f":"\"\"","v":""},{"$f":"\"\"","v":""},{"$f":"\"\"","v":""},{"$f":"\"\"","v":""},{"v":2395.12,"d":"2395"},{"v":2395.12,"d":"2395"},{"v":2395.12,"d":"2395"},{"v":2395.12,"d":"2395"},1.3074,1.3074,1.3074,1.3074,386,386,386,386,66,66,66,66,{"v":0.035811234216298025,"d":"0.04"},{"v":0.035811234216298025,"d":"0.04"},{"v":0.035811234216298025,"d":"0.04"},{"v":0.035811234216298025,"d":"0.04"},3.969E-4,1.7346,2,0.000367347,{"$f":"\"\"","v":""},{"$f":"\"\"","v":""},{"$f":"\"\"","v":""},{"$f":"\"\"","v":""},{"$f":"\"\"","v":""},{"$f":"\"\"","v":""},{"$f":"\"\"","v":""},{"$f":"\"\"","v":""},{"$f":"\"\"","v":""},{"$f":"\"\"","v":""},{"$f":"\"\"","v":""},{"$f":"\"\"","v":""},{"$f":"\"\"","v":""},{"$f":"\"\"","v":""},{"$f":"\"\"","v":""},1.3,{"$f":"\"\"","v":""},{"$f":"\"\"","v":""},{"$f":"\"\"","v":""}]
["29521510",null,null,2,95,215,10,10.9,{"$f":"\"\"","v":""},{"$f":"\"\"","v":""},{"$f":"\"\"","v":""},{"$f":"\"\"","v":""},{"v":2658.32,"d":"2658"},{"v":2658.32,"d":"2658"},{"v":2658.32,"d":"2658"},{"v":2658.32,"d":"2658"},1.3074,1.3074,1.3074,1.3074,428,428,428,428,74,74,74,74,{"v":0.046980608424562115,"d":"0.05"},{"v":0.046980608424562115,"d":"0.05"},{"v":0.046980608424562115,"d":"0.05"},{"v":0.046980608424562115,"d":"0.05"},3.969E-4,1.7346,2,0.000367347,{"$f":"\"\"","v":""},{"$f":"\"\"","v":""},{"$f":"\"\"","v":""},{"$f":"\"\"","v":""},{"$f":"\"\"","v":""},{"$f":"\"\"","v":""},{"$f":"\"\"","v":""},{"$f":"\"\"","v":""},{"$f":"\"\"","v":""},{"$f":"\"\"","v":""},{"$f":"\"\"","v":""},{"$f":"\"\"","v":""},{"$f":"\"\"","v":""},{"$f":"\"\"","v":""},{"$f":"\"\"","v":""},1.4,{"$f":"\"\"","v":""},{"$f":"\"\"","v":""},{"$f":"\"\"","v":""}]
["29523510",null,null,2,95,235,10,10.9,{"$f":"\"\"","v":""},{"$f":"\"\"","v":""},{"$f":"\"\"","v":""},{"$f":"\"\"","v":""},{"v":2920.92,"d":"2921"},{"v":2920.92,"d":"2921"},{"v":2920.92,"d":"2921"},{"v":2920.92,"d":"2921"},1.3074,1.3074,1.3074,1.3074,471,471,471,471,81,81,81,81,{"v":0.058694855305954204,"d":"0.06"},{"v":0.058694855305954204,"d":"0.06"},{"v":0.058694855305954204,"d":"0.06"},{"v":0.058694855305954204,"d":"0.06"},3.969E-4,1.7346,2,0.000367347,{"$f":"\"\"","v":""},{"$f":"\"\"","v":""},{"$f":"\"\"","v":""},{"$f":"\"\"","v":""},{"$f":"\"\"","v":""},{"$f":"\"\"","v":""},{"$f":"\"\"","v":""},{"$f":"\"\"","v":""},{"$f":"\"\"","v":""},{"$f":"\"\"","v":""},{"$f":"\"\"","v":""},{"$f":"\"\"","v":""},{"$f":"\"\"","v":""},{"$f":"\"\"","v":""},{"$f":"\"\"","v":""},1.6,{"$f":"\"\"","v":""},{"$f":"\"\"","v":""},{"$f":"\"\"","v":""}]
["21005510",null,null,2,100,55,10,10.9,{"$f":"\"\"","v":""},{"$f":"\"\"","v":""},{"$f":"\"\"","v":""},{"$f":"\"\"","v":""},{"v":559.44,"d":"559"},{"v":559.44,"d":"559"},{"v":559.44,"d":"559"},{"v":559.44,"d":"559"},1.3018,1.3018,1.3018,1.3018,91,91,91,91,16,16,16,16,{"v":1.3089734914363848E-3,"d":"0.00"},{"v":1.3089734914363848E-3,"d":"0.00"},{"v":1.3089734914363848E-3,"d":"0.00"},{"v":1.3089734914363848E-3,"d":"0.00"},3.969E-4,1.7346,2,0.000367347,{"$f":"\"\"","v":""},{"$f":"\"\"","v":""},{"$f":"\"\"","v":""},{"$f":"\"\"","v":""},{"$f":"\"\"","v":""},{"$f":"\"\"","v":""},{"$f":"\"\"","v":""},{"$f":"\"\"","v":""},{"$f":"\"\"","v":""},{"$f":"\"\"","v":""},{"$f":"\"\"","v":""},{"$f":"\"\"","v":""},{"$f":"\"\"","v":""},{"$f":"\"\"","v":""},{"$f":"\"\"","v":""},0.4,{"$f":"\"\"","v":""},{"$f":"\"\"","v":""},{"$f":"\"\"","v":""}]
["21006510",null,null,2,100,65,10,10.9,{"$f":"\"\"","v":""},{"$f":"\"\"","v":""},{"$f":"\"\"","v":""},{"$f":"\"\"","v":""},{"v":692.64,"d":"693"},{"v":692.64,"d":"693"},{"v":692.64,"d":"693"},{"v":692.64,"d":"693"},1.3018,1.3018,1.3018,1.3018,112,112,112,112,19,19,19,19,{"v":1.9500498650729928E-3,"d":"0.00"},{"v":1.9500498650729928E-3,"d":"0.00"},{"v":1.9500498650729928E-3,"d":"0.00"},{"v":1.9500498650729928E-3,"d":"0.00"},3.969E-4,1.7346,2,0.000367347,{"$f":"\"\"","v":""},{"$f":"\"\"","v":""},{"$f":"\"\"","v":""},{"$f":"\"\"","v":""},{"$f":"\"\"","v":""},{"$f":"\"\"","v":""},{"$f":"\"\"","v":""},{"$f":"\"\"","v":""},{"$f":"\"\"","v":""},{"$f":"\"\"","v":""},{"$f":"\"\"","v":""},{"$f":"\"\"","v":""},{"$f":"\"\"","v":""},{"$f":"\"\"","v":""},{"$f":"\"\"","v":""},0.4,{"$f":"\"\"","v":""},{"$f":"\"\"","v":""},{"$f":"\"\"","v":""}]
["21007510",null,null,2,100,75,10,10.9,{"$f":"\"\"","v":""},{"$f":"\"\"","v":""},{"$f":"\"\"","v":""},{"$f":"\"\"","v":""},{"v":825.84,"d":"826"},{"v":825.84,"d":"826"},{"v":825.84,"d":"826"},{"v":825.84,"d":"826"},1.3018,1.3018,1.3018,1.3018,134,134,134,134,23,23,23,23,{"v":2.9894831658536522E-3,"d":"0.00"},{"v":2.9894831658536522E-3,"d":"0.00"},{"v":2.9894831658536522E-3,"d":"0.00"},{"v":2.9894831658536522E-3,"d":"0.00"},3.969E-4,1.7346,2,0.000367347,{"$f":"\"\"","v":""},{"$f":"\"\"","v":""},{"$f":"\"\"","v":""},{"$f":"\"\"","v":""},{"$f":"\"\"","v":""},{"$f":"\"\"","v":""},{"$f":"\"\"","v":""},{"$f":"\"\"","v":""},{"$f":"\"\"","v":""},{"$f":"\"\"","v":""},{"$f":"\"\"","v":""},{"$f":"\"\"","v":""},{"$f":"\"\"","v":""},{"$f":"\"\"","v":""},{"$f":"\"\"","v":""},0.5,{"$f":"\"\"","v":""},{"$f":"\"\"","v":""},{"$f":"\"\"","v":""}]
["21008510",null,null,2,100,85,10,10.9,{"$f":"\"\"","v":""},{"$f":"\"\"","v":""},{"$f":"\"\"","v":""},{"$f":"\"\"","v":""},{"v":959.04,"d":"959"},{"v":959.04,"d":"959"},{"v":959.04,"d":"959"},{"v":959.04,"d":"959"},1.3018,1.3018,1.3018,1.3018,156,156,156,156,27,27,27,27,{"v":0.00429389672100007,"d":"0.00"},{"v":0.00429389672100007,"d":"0.00"},{"v":0.00429389672100007,"d":"0.00"},{"v":0.00429389672100007,"d":"0.00"},3.969E-4,1.7346,2,0.000367347,{"$f":"\"\"","v":""},{"$f":"\"\"","v":""},{"$f":"\"\"","v":""},{"$f":"\"\"","v":""},{"$f":"\"\"","v":""},{"$f":"\"\"","v":""},{"$f":"\"\"","v":""},{"$f":"\"\"","v":""},{"$f":"\"\"","v":""},{"$f":"\"\"","v":""},{"$f":"\"\"","v":""},{"$f":"\"\"","v":""},{"$f":"\"\"","v":""},{"$f":"\"\"","v":""},{"$f":"\"\"","v":""},0.6,{"$f":"\"\"","v":""},{"$f":"\"\"","v":""},{"$f":"\"\"","v":""}]
["21009510",null,null,2,100,95,10,10.9,{"$f":"\"\"","v":""},{"$f":"\"\"","v":""},{"$f":"\"\"","v":""},{"$f":"\"\"","v":""},{"v":1092.24,"d":"1092"},{"v":1092.24,"d":"1092"},{"v":1092.24,"d":"1092"},{"v":1092.24,"d":"1092"},1.3018,1.3018,1.3018,1.3018,177,177,177,177,30,30,30,30,{"v":0.005528162390377151,"d":"0.01"},{"v":0.005528162390377151,"d":"0.01"},{"v":0.005528162390377151,"d":"0.01"},{"v":0.005528162390377151,"d":"0.01"},3.969E-4,1.7346,2,0.000367347,{"$f":"\"\"","v":""},{"$f":"\"\"","v":""},{"$f":"\"\"","v":""},{"$f":"\"\"","v":""},{"$f":"\"\"","v":""},{"$f":"\"\"","v":""},{"$f":"\"\"","v":""},{"$f":"\"\"","v":""},{"$f":"\"\"","v":""},{"$f":"\"\"","v":""},{"$f":"\"\"","v":""},{"$f":"\"\"","v":""},{"$f":"\"\"","v":""},{"$f":"\"\"","v":""},{"$f":"\"\"","v":""},0.6,{"$f":"\"\"","v":""},{"$f":"\"\"","v":""},{"$f":"\"\"","v":""}]
["210010510",null,null,2,100,105,10,10.9,{"$f":"\"\"","v":""},{"$f":"\"\"","v":""},{"$f":"\"\"","v":""},{"$f":"\"\"","v":""},{"v":1225.44,"d":"1225"},{"v":1225.44,"d":"1225"},{"v":1225.44,"d":"1225"},{"v":1225.44,"d":"1225"},1.3018,1.3018,1.3018,1.3018,199,199,199,199,34,34,34,34,{"v":7.357320522843264E-3,"d":"0.01"},{"v":7.357320522843264E-3,"d":"0.01"},{"v":7.357320522843264E-3,"d":"0.01"},{"v":7.357320522843264E-3,"d":"0.01"},3.969E-4,1.7346,2,0.000367347,{"$f":"\"\"","v":""},{"$f":"\"\"","v":""},{"$f":"\"\"","v":""},{"$f":"\"\"","v":""},{"$f":"\"\"","v":""},{"$f":"\"\"","v":""},{"$f":"\"\"","v":""},{"$f":"\"\"","v":""},{"$f":"\"\"","v":""},{"$f":"\"\"","v":""},{"$f":"\"\"","v":""},{"$f":"\"\"","v":""},{"$f":"\"\"","v":""},{"$f":"\"\"","v":""},{"$f":"\"\"","v":""},0.7,{"$f":"\"\"","v":""},{"$f":"\"\"","v":""},{"$f":"\"\"","v":""}]
["210011510",null,null,2,100,115,10,10.9,{"$f":"\"\"","v":""},{"$f":"\"\"","v":""},{"$f":"\"\"","v":""},{"$f":"\"\"","v":""},{"v":1358.64,"d":"1359"},{"v":1358.64,"d":"1359"},{"v":1358.64,"d":"1359"},{"v":1358.64,"d":"1359"},1.3018,1.3018,1.3018,1.3018,221,221,221,221,38,38,38,38,{"v":0.009501960028281051,"d":"0.01"},{"v":0.009501960028281051,"d":"0.01"},{"v":0.009501960028281051,"d":"0.01"},{"v":0.009501960028281051,"d":"0.01"},3.969E-4,1.7346,2,0.000367347,{"$f":"\"\"","v":""},{"$f":"\"\"","v":""},{"$f":"\"\"","v":""},{"$f":"\"\"","v":""},{"$f":"\"\"","v":""},{"$f":"\"\"","v":""},{"$f":"\"\"","v":""},{"$f":"\"\"","v":""},{"$f":"\"\"","v":""},{"$f":"\"\"","v":""},{"$f":"\"\"","v":""},{"$f":"\"\"","v":""},{"$f":"\"\"","v":""},{"$f":"\"\"","v":""},{"$f":"\"\"","v":""},0.8,{"$f":"\"\"","v":""},{"$f":"\"\"","v":""},{"$f":"\"\"","v":""}]
["210013510",null,null,2,100,135,10,10.9,{"$f":"\"\"","v":""},{"$f":"\"\"","v":""},{"$f":"\"\"","v":""},{"$f":"\"\"","v":""},{"v":1625.04,"d":"1625"},{"v":1625.04,"d":"1625"},{"v":1625.04,"d":"1625"},{"v":1625.04,"d":"1625"},1.3018,1.3018,1.3018,1.3018,264,264,264,264,45,45,45,45,{"v":0.014207465164147446,"d":"0.01"},{"v":0.014207465164147446,"d":"0.01"},{"v":0.014207465164147446,"d":"0.01"},{"v":0.014207465164147446,"d":"0.01"},3.969E-4,1.7346,2,0.000367347,{"$f":"\"\"","v":""},{"$f":"\"\"","v":""},{"$f":"\"\"","v":""},{"$f":"\"\"","v":""},{"$f":"\"\"","v":""},{"$f":"\"\"","v":""},{"$f":"\"\"","v":""},{"$f":"\"\"","v":""},{"$f":"\"\"","v":""},{"$f":"\"\"","v":""},{"$f":"\"\"","v":""},{"$f":"\"\"","v":""},{"$f":"\"\"","v":""},{"$f":"\"\"","v":""},{"$f":"\"\"","v":""},0.9,{"$f":"\"\"","v":""},{"$f":"\"\"","v":""},{"$f":"\"\"","v":""}]
["210015510",null,null,2,100,155,10,10.9,{"$f":"\"\"","v":""},{"$f":"\"\"","v":""},{"$f":"\"\"","v":""},{"$f":"\"\"","v":""},{"v":1891.44,"d":"1891"},{"v":1891.44,"d":"1891"},{"v":1891.44,"d":"1891"},{"v":1891.44,"d":"1891"},1.3018,1.3018,1.3018,1.3018,307,307,307,307,53,53,53,53,{"v":0.020823929364188087,"d":"0.02"},{"v":0.020823929364188087,"d":"0.02"},{"v":0.020823929364188087,"d":"0.02"},{"v":0.020823929364188087,"d":"0.02"},3.969E-4,1.7346,2,0.000367347,{"$f":"\"\"","v":""},{"$f":"\"\"","v":""},{"$f":"\"\"","v":""},{"$f":"\"\"","v":""},{"$f":"\"\"","v":""},{"$f":"\"\"","v":""},{"$f":"\"\"","v":""},{"$f":"\"\"","v":""},{"$f":"\"\"","v":""},{"$f":"\"\"","v":""},{"$f":"\"\"","v":""},{"$f":"\"\"","v":""},{"$f":"\"\"","v":""},{"$f":"\"\"","v":""},{"$f":"\"\"","v":""},{"v":1,"d":"1.0"},{"$f":"\"\"","v":""},{"$f":"\"\"","v":""},{"$f":"\"\"","v":""}]
["210017510",null,null,2,100,175,10,10.9,{"$f":"\"\"","v":""},{"$f":"\"\"","v":""},{"$f":"\"\"","v":""},{"$f":"\"\"","v":""},{"v":2157.84,"d":"2158"},{"v":2157.84,"d":"2158"},{"v":2157.84,"d":"2158"},{"v":2157.84,"d":"2158"},1.3018,1.3018,1.3018,1.3018,350,350,350,350,60,60,60,60,{"v":0.028132737069873272,"d":"0.03"},{"v":0.028132737069873272,"d":"0.03"},{"v":0.028132737069873272,"d":"0.03"},{"v":0.028132737069873272,"d":"0.03"},3.969E-4,1.7346,2,0.000367347,{"$f":"\"\"","v":""},{"$f":"\"\"","v":""},{"$f":"\"\"","v":""},{"$f":"\"\"","v":""},{"$f":"\"\"","v":""},{"$f":"\"\"","v":""},{"$f":"\"\"","v":""},{"$f":"\"\"","v":""},{"$f":"\"\"","v":""},{"$f":"\"\"","v":""},{"$f":"\"\"","v":""},{"$f":"\"\"","v":""},{"$f":"\"\"","v":""},{"$f":"\"\"","v":""},{"$f":"\"\"","v":""},1.2,{"$f":"\"\"","v":""},{"$f":"\"\"","v":""},{"$f":"\"\"","v":""}]
["210019510",null,null,2,100,195,10,10.9,{"$f":"\"\"","v":""},{"$f":"\"\"","v":""},{"$f":"\"\"","v":""},{"$f":"\"\"","v":""},{"v":2424.24,"d":"2424"},{"v":2424.24,"d":"2424"},{"v":2424.24,"d":"2424"},{"v":2424.24,"d":"2424"},1.3018,1.3018,1.3018,1.3018,394,394,394,394,68,68,68,68,{"v":0.03784586656484347,"d":"0.04"},{"v":0.03784586656484347,"d":"0.04"},{"v":0.03784586656484347,"d":"0.04"},{"v":0.03784586656484347,"d":"0.04"},3.969E-4,1.7346,2,0.000367347,{"$f":"\"\"","v":""},{"$f":"\"\"","v":""},{"$f":"\"\"","v":""},{"$f":"\"\"","v":""},{"$f":"\"\"","v":""},{"$f":"\"\"","v":""},{"$f":"\"\"","v":""},{"$f":"\"\"","v":""},{"$f":"\"\"","v":""},{"$f":"\"\"","v":""},{"$f":"\"\"","v":""},{"$f":"\"\"","v":""},{"$f":"\"\"","v":""},{"$f":"\"\"","v":""},{"$f":"\"\"","v":""},1.3,{"$f":"\"\"","v":""},{"$f":"\"\"","v":""},{"$f":"\"\"","v":""}]
["210021510",null,null,2,100,215,10,10.9,{"$f":"\"\"","v":""},{"$f":"\"\"","v":""},{"$f":"\"\"","v":""},{"$f":"\"\"","v":""},{"v":2690.64,"d":"2691"},{"v":2690.64,"d":"2691"},{"v":2690.64,"d":"2691"},{"v":2690.64,"d":"2691"},1.3018,1.3018,1.3018,1.3018,437,437,437,437,75,75,75,75,{"v":0.048159330523048084,"d":"0.05"},{"v":0.048159330523048084,"d":"0.05"},{"v":0.048159330523048084,"d":"0.05"},{"v":0.048159330523048084,"d":"0.05"},3.969E-4,1.7346,2,0.000367347,{"$f":"\"\"","v":""},{"$f":"\"\"","v":""},{"$f":"\"\"","v":""},{"$f":"\"\"","v":""},{"$f":"\"\"","v":""},{"$f":"\"\"","v":""},{"$f":"\"\"","v":""},{"$f":"\"\"","v":""},{"$f":"\"\"","v":""},{"$f":"\"\"","v":""},{"$f":"\"\"","v":""},{"$f":"\"\"","v":""},{"$f":"\"\"","v":""},{"$f":"\"\"","v":""},{"$f":"\"\"","v":""},1.4,{"$f":"\"\"","v":""},{"$f":"\"\"","v":""},{"$f":"\"\"","v":""}]
["210023510",null,null,2,100,235,10,10.9,{"$f":"\"\"","v":""},{"$f":"\"\"","v":""},{"$f":"\"\"","v":""},{"$f":"\"\"","v":""},{"v":2957.04,"d":"2957"},{"v":2957.04,"d":"2957"},{"v":2957.04,"d":"2957"},{"v":2957.04,"d":"2957"},1.3018,1.3018,1.3018,1.3018,480,480,480,480,83,83,83,83,{"v":0.061391510197956925,"d":"0.06"},{"v":0.061391510197956925,"d":"0.06"},{"v":0.061391510197956925,"d":"0.06"},{"v":0.061391510197956925,"d":"0.06"},3.969E-4,1.7346,2,0.000367347,{"$f":"\"\"","v":""},{"$f":"\"\"","v":""},{"$f":"\"\"","v":""},{"$f":"\"\"","v":""},{"$f":"\"\"","v":""},{"$f":"\"\"","v":""},{"$f":"\"\"","v":""},{"$f":"\"\"","v":""},{"$f":"\"\"","v":""},{"$f":"\"\"","v":""},{"$f":"\"\"","v":""},{"$f":"\"\"","v":""},{"$f":"\"\"","v":""},{"$f":"\"\"","v":""},{"$f":"\"\"","v":""},1.6,{"$f":"\"\"","v":""},{"$f":"\"\"","v":""},{"$f":"\"\"","v":""}]
["2405515",null,null,2,40,55,15,15.9,{"$f":"\"\"","v":""},{"$f":"\"\"","v":""},{"$f":"\"\"","v":""},{"$f":"\"\"","v":""},{"v":808.2,"d":"808"},{"v":808.2,"d":"808"},{"v":808.2,"d":"808"},{"v":808.2,"d":"808"},1.4021,1.4021,1.4021,1.4021,114,114,114,114,20,20,20,20,{"v":2.1004024613552E-3,"d":"0.00"},{"v":2.1004024613552E-3,"d":"0.00"},{"v":2.1004024613552E-3,"d":"0.00"},{"v":2.1004024613552E-3,"d":"0.00"},0.0002083,1.724,2,0.000461829,{"$f":"\"\"","v":""},{"$f":"\"\"","v":""},{"$f":"\"\"","v":""},{"$f":"\"\"","v":""},{"$f":"\"\"","v":""},{"$f":"\"\"","v":""},{"$f":"\"\"","v":""},{"$f":"\"\"","v":""},{"$f":"\"\"","v":""},{"$f":"\"\"","v":""},{"$f":"\"\"","v":""},{"$f":"\"\"","v":""},{"$f":"\"\"","v":""},{"$f":"\"\"","v":""},{"$f":"\"\"","v":""},0.6,{"$f":"\"\"","v":""},{"$f":"\"\"","v":""},{"$f":"\"\"","v":""}]
["2406515",null,null,2,40,65,15,15.9,{"$f":"\"\"","v":""},{"$f":"\"\"","v":""},{"$f":"\"\"","v":""},{"$f":"\"\"","v":""},896,896,896,896,1.4021,1.4021,1.4021,1.4021,126,126,126,126,22,22,22,22,{"v":2.6165698356519804E-3,"d":"0.00"},{"v":2.6165698356519804E-3,"d":"0.00"},{"v":2.6165698356519804E-3,"d":"0.00"},{"v":2.6165698356519804E-3,"d":"0.00"},0.0002083,1.724,2,0.000461829,{"$f":"\"\"","v":""},{"$f":"\"\"","v":""},{"$f":"\"\"","v":""},{"$f":"\"\"","v":""},{"$f":"\"\"","v":""},{"$f":"\"\"","v":""},{"$f":"\"\"","v":""},{"$f":"\"\"","v":""},{"$f":"\"\"","v":""},{"$f":"\"\"","v":""},{"$f":"\"\"","v":""},{"$f":"\"\"","v":""},{"$f":"\"\"","v":""},{"$f":"\"\"","v":""},{"$f":"\"\"","v":""},0.7,{"$f":"\"\"","v":""},{"$f":"\"\"","v":""},{"$f":"\"\"","v":""}]
["2407515",null,null,2,40,75,15,15.9,{"$f":"\"\"","v":""},{"$f":"\"\"","v":""},{"$f":"\"\"","v":""},{"$f":"\"\"","v":""},{"v":993.4,"d":"993"},{"v":993.4,"d":"993"},{"v":993.4,"d":"993"},{"v":993.4,"d":"993"},1.4021,1.4021,1.4021,1.4021,140,140,140,140,24,24,24,24,{"v":3.1997240828258943E-3,"d":"0.00"},{"v":3.1997240828258943E-3,"d":"0.00"},{"v":3.1997240828258943E-3,"d":"0.00"},{"v":3.1997240828258943E-3,"d":"0.00"},0.0002083,1.724,2,0.000461829,{"$f":"\"\"","v":""},{"$f":"\"\"","v":""},{"$f":"\"\"","v":""},{"$f":"\"\"","v":""},{"$f":"\"\"","v":""},{"$f":"\"\"","v":""},{"$f":"\"\"","v":""},{"$f":"\"\"","v":""},{"$f":"\"\"","v":""},{"$f":"\"\"","v":""},{"$f":"\"\"","v":""},{"$f":"\"\"","v":""},{"$f":"\"\"","v":""},{"$f":"\"\"","v":""},{"$f":"\"\"","v":""},0.8,{"$f":"\"\"","v":""},{"$f":"\"\"","v":""},{"$f":"\"\"","v":""}]
["2408515",null,null,2,40,85,15,15.9,{"$f":"\"\"","v":""},{"$f":"\"\"","v":""},{"$f":"\"\"","v":""},{"$f":"\"\"","v":""},{"v":1101.4,"d":"1101"},{"v":1101.4,"d":"1101"},{"v":1101.4,"d":"1101"},{"v":1101.4,"d":"1101"},1.4021,1.4021,1.4021,1.4021,155,155,155,155,27,27,27,27,{"v":0.004145497722329117,"d":"0.00"},{"v":0.004145497722329117,"d":"0.00"},{"v":0.004145497722329117,"d":"0.00"},{"v":0.004145497722329117,"d":"0.00"},0.0002083,1.724,2,0.000461829,{"$f":"\"\"","v":""},{"$f":"\"\"","v":""},{"$f":"\"\"","v":""},{"$f":"\"\"","v":""},{"$f":"\"\"","v":""},{"$f":"\"\"","v":""},{"$f":"\"\"","v":""},{"$f":"\"\"","v":""},{"$f":"\"\"","v":""},{"$f":"\"\"","v":""},{"$f":"\"\"","v":""},{"$f":"\"\"","v":""},{"$f":"\"\"","v":""},{"$f":"\"\"","v":""},{"$f":"\"\"","v":""},0.9,{"$f":"\"\"","v":""},{"$f":"\"\"","v":""},{"$f":"\"\"","v":""}]
["2409515",null,null,2,40,95,15,15.9,{"$f":"\"\"","v":""},{"$f":"\"\"","v":""},{"$f":"\"\"","v":""},{"$f":"\"\"","v":""},{"v":1221.1,"d":"1221"},{"v":1221.1,"d":"1221"},{"v":1221.1,"d":"1221"},{"v":1221.1,"d":"1221"},1.4021,1.4021,1.4021,1.4021,172,172,172,172,30,30,30,30,{"v":5.231675440732479E-3,"d":"0.01"},{"v":5.231675440732479E-3,"d":"0.01"},{"v":5.231675440732479E-3,"d":"0.01"},{"v":5.231675440732479E-3,"d":"0.01"},0.0002083,1.724,2,0.000461829,{"$f":"\"\"","v":""},{"$f":"\"\"","v":""},{"$f":"\"\"","v":""},{"$f":"\"\"","v":""},{"$f":"\"\"","v":""},{"$f":"\"\"","v":""},{"$f":"\"\"","v":""},{"$f":"\"\"","v":""},{"$f":"\"\"","v":""},{"$f":"\"\"","v":""},{"$f":"\"\"","v":""},{"$f":"\"\"","v":""},{"$f":"\"\"","v":""},{"$f":"\"\"","v":""},{"$f":"\"\"","v":""},{"v":1,"d":"1.0"},{"$f":"\"\"","v":""},{"$f":"\"\"","v":""},{"$f":"\"\"","v":""}]
["24010515",null,null,2,40,105,15,15.9,{"$f":"\"\"","v":""},{"$f":"\"\"","v":""},{"$f":"\"\"","v":""},{"$f":"\"\"","v":""},{"v":1353.8,"d":"1354"},{"v":1353.8,"d":"1354"},{"v":1353.8,"d":"1354"},{"v":1353.8,"d":"1354"},1.4021,1.4021,1.4021,1.4021,191,191,191,191,33,33,33,33,{"v":0.006463318653458223,"d":"0.01"},{"v":0.006463318653458223,"d":"0.01"},{"v":0.006463318653458223,"d":"0.01"},{"v":0.006463318653458223,"d":"0.01"},0.0002083,1.724,2,0.000461829,{"$f":"\"\"","v":""},{"$f":"\"\"","v":""},{"$f":"\"\"","v":""},{"$f":"\"\"","v":""},{"$f":"\"\"","v":""},{"$f":"\"\"","v":""},{"$f":"\"\"","v":""},{"$f":"\"\"","v":""},{"$f":"\"\"","v":""},{"$f":"\"\"","v":""},{"$f":"\"\"","v":""},{"$f":"\"\"","v":""},{"$f":"\"\"","v":""},{"$f":"\"\"","v":""},{"$f":"\"\"","v":""},1.1,{"$f":"\"\"","v":""},{"$f":"\"\"","v":""},{"$f":"\"\"","v":""}]
["24011515",null,null,2,40,115,15,15.9,{"$f":"\"\"","v":""},{"$f":"\"\"","v":""},{"$f":"\"\"","v":""},{"$f":"\"\"","v":""},1501,1501,1501,1501,1.4021,1.4021,1.4021,1.4021,212,212,212,212,36,36,36,36,{"v":0.007845340842019204,"d":"0.01"},{"v":0.007845340842019204,"d":"0.01"},{"v":0.007845340842019204,"d":"0.01"},{"v":0.007845340842019204,"d":"0.01"},0.0002083,1.724,2,0.000461829,{"$f":"\"\"","v":""},{"$f":"\"\"","v":""},{"$f":"\"\"","v":""},{"$f":"\"\"","v":""},{"$f":"\"\"","v":""},{"$f":"\"\"","v":""},{"$f":"\"\"","v":""},{"$f":"\"\"","v":""},{"$f":"\"\"","v":""},{"$f":"\"\"","v":""},{"$f":"\"\"","v":""},{"$f":"\"\"","v":""},{"$f":"\"\"","v":""},{"$f":"\"\"","v":""},{"$f":"\"\"","v":""},1.2,{"$f":"\"\"","v":""},{"$f":"\"\"","v":""},{"$f":"\"\"","v":""}]
[{"$f":"CONCATENATE(D284,E284,F284,G284)","v":"24013515"},null,null,2,40,135,15,15.9,{"$f":"\"\"","v":""},{"$f":"\"\"","v":""},{"$f":"\"\"","v":""},{"$f":"\"\"","v":""},{"v":1798.3,"d":"1798"},{"v":1798.3,"d":"1798"},{"v":1798.3,"d":"1798"},{"v":1798.3,"d":"1798"},1.4021,1.4021,1.4021,1.4021,{"$f":"ROUND(M284*POWER(CF_heat,Q284),0)","v":254},254,254,254,{"$f":"ROUND(U284*3600/(4186*ABS($O$1-$O$2)),0)","v":44},44,44,44,{"$f":"(($AG284*(Y284^$AH284)*((($F284-14.4)*$AI284)/100))+($AJ284*(Y284^2)))*0.0098","v":{"v":0.01211651366683572,"d":"0.01"}},{"v":0.01211651366683572,"d":"0.01"},{"v":0.01211651366683572,"d":"0.01"},{"v":0.01211651366683572,"d":"0.01"},{"$f":"IF($G284=$CO$103,CP$103,IF($G284=$CO$104,CP$104,IF($G284=$CO$105,CP$105,IF($G284=$CO$107,CP$107,IF($G284=$CO$108,CP$108,IF($G284=$CO$109,CP$109,IF($G284=$CO$111,CP$111,IF($G284=$CO$112,CP$112,IF($G284=$CO$113,CP$113,IF($G284=$CO$115,CP$115,IF($G284=$CO$116,CP$116,IF($G284=$CO$117,CP$117,IF($G284=$CO$119,CP$119,IF($G284=$CO$120,CP$120,))))))))))))))","v":0.0002083},1.724,2,0.000461829,{"$f":"\"\"","v":""},{"$f":"\"\"","v":""},{"$f":"\"\"","v":""},{"$f":"\"\"","v":""},{"$f":"\"\"","v":""},{"$f":"\"\"","v":""},{"$f":"\"\"","v":""},{"$f":"\"\"","v":""},{"$f":"\"\"","v":""},{"$f":"\"\"","v":""},{"$f":"\"\"","v":""},{"$f":"\"\"","v":""},{"$f":"\"\"","v":""},{"$f":"\"\"","v":""},{"$f":"\"\"","v":""},{"$f":"ROUND(IF(G284=10,$CO$92*F284,IF(G284=11,$CO$93*F284,IF(G284=15,$CO$94*F284,IF(G284=16,$CO$95*F284,IF(G284=20,$CO$96*F284,IF(G284=21,$CO$97*F284,)))))),1)","v":1.4},{"$f":"\"\"","v":""},{"$f":"\"\"","v":""},{"$f":"\"\"","v":""}]
["24015515",null,null,2,40,155,15,15.9,{"$f":"\"\"","v":""},{"$f":"\"\"","v":""},{"$f":"\"\"","v":""},{"$f":"\"\"","v":""},{"v":2147.3,"d":"2147"},{"v":2147.3,"d":"2147"},{"v":2147.3,"d":"2147"},{"v":2147.3,"d":"2147"},1.4021,1.4021,1.4021,1.4021,303,303,303,303,52,52,52,52,{"v":0.017453892988723733,"d":"0.02"},{"v":0.017453892988723733,"d":"0.02"},{"v":0.017453892988723733,"d":"0.02"},{"v":0.017453892988723733,"d":"0.02"},0.0002083,1.724,2,0.000461829,{"$f":"\"\"","v":""},{"$f":"\"\"","v":""},{"$f":"\"\"","v":""},{"$f":"\"\"","v":""},{"$f":"\"\"","v":""},{"$f":"\"\"","v":""},{"$f":"\"\"","v":""},{"$f":"\"\"","v":""},{"$f":"\"\"","v":""},{"$f":"\"\"","v":""},{"$f":"\"\"","v":""},{"$f":"\"\"","v":""},{"$f":"\"\"","v":""},{"$f":"\"\"","v":""},{"$f":"\"\"","v":""},1.6,{"$f":"\"\"","v":""},{"$f":"\"\"","v":""},{"$f":"\"\"","v":""}]
["24017515",null,null,2,40,175,15,15.9,{"$f":"\"\"","v":""},{"$f":"\"\"","v":""},{"$f":"\"\"","v":""},{"$f":"\"\"","v":""},{"v":2568.4,"d":"2568"},{"v":2568.4,"d":"2568"},{"v":2568.4,"d":"2568"},{"v":2568.4,"d":"2568"},1.4021,1.4021,1.4021,1.4021,362,362,362,362,62,62,62,62,{"v":0.025465806174738575,"d":"0.03"},{"v":0.025465806174738575,"d":"0.03"},{"v":0.025465806174738575,"d":"0.03"},{"v":0.025465806174738575,"d":"0.03"},0.0002083,1.724,2,0.000461829,{"$f":"\"\"","v":""},{"$f":"\"\"","v":""},{"$f":"\"\"","v":""},{"$f":"\"\"","v":""},{"$f":"\"\"","v":""},{"$f":"\"\"","v":""},{"$f":"\"\"","v":""},{"$f":"\"\"","v":""},{"$f":"\"\"","v":""},{"$f":"\"\"","v":""},{"$f":"\"\"","v":""},{"$f":"\"\"","v":""},{"$f":"\"\"","v":""},{"$f":"\"\"","v":""},{"$f":"\"\"","v":""},1.8,{"$f":"\"\"","v":""},{"$f":"\"\"","v":""},{"$f":"\"\"","v":""}]
["24019515",null,null,2,40,195,15,15.9,{"$f":"\"\"","v":""},{"$f":"\"\"","v":""},{"$f":"\"\"","v":""},{"$f":"\"\"","v":""},3072,3072,3072,3072,1.4021,1.4021,1.4021,1.4021,434,434,434,434,75,75,75,75,{"v":0.03805536933834066,"d":"0.04"},{"v":0.03805536933834066,"d":"0.04"},{"v":0.03805536933834066,"d":"0.04"},{"v":0.03805536933834066,"d":"0.04"},0.0002083,1.724,2,0.000461829,{"$f":"\"\"","v":""},{"$f":"\"\"","v":""},{"$f":"\"\"","v":""},{"$f":"\"\"","v":""},{"$f":"\"\"","v":""},{"$f":"\"\"","v":""},{"$f":"\"\"","v":""},{"$f":"\"\"","v":""},{"$f":"\"\"","v":""},{"$f":"\"\"","v":""},{"$f":"\"\"","v":""},{"$f":"\"\"","v":""},{"$f":"\"\"","v":""},{"$f":"\"\"","v":""},{"$f":"\"\"","v":""},{"v":2,"d":"2.0"},{"$f":"\"\"","v":""},{"$f":"\"\"","v":""},{"$f":"\"\"","v":""}]
["24021515",null,null,2,40,215,15,15.9,{"$f":"\"\"","v":""},{"$f":"\"\"","v":""},{"$f":"\"\"","v":""},{"$f":"\"\"","v":""},{"v":3674.3,"d":"3674"},{"v":3674.3,"d":"3674"},{"v":3674.3,"d":"3674"},{"v":3674.3,"d":"3674"},1.4021,1.4021,1.4021,1.4021,519,519,519,519,89,89,89,89,{"v":0.05464408009247842,"d":"0.05"},{"v":0.05464408009247842,"d":"0.05"},{"v":0.05464408009247842,"d":"0.05"},{"v":0.05464408009247842,"d":"0.05"},0.0002083,1.724,2,0.000461829,{"$f":"\"\"","v":""},{"$f":"\"\"","v":""},{"$f":"\"\"","v":""},{"$f":"\"\"","v":""},{"$f":"\"\"","v":""},{"$f":"\"\"","v":""},{"$f":"\"\"","v":""},{"$f":"\"\"","v":""},{"$f":"\"\"","v":""},{"$f":"\"\"","v":""},{"$f":"\"\"","v":""},{"$f":"\"\"","v":""},{"$f":"\"\"","v":""},{"$f":"\"\"","v":""},{"$f":"\"\"","v":""},2.2,{"$f":"\"\"","v":""},{"$f":"\"\"","v":""},{"$f":"\"\"","v":""}]
["24023515",null,null,2,40,235,15,15.9,{"$f":"\"\"","v":""},{"$f":"\"\"","v":""},{"$f":"\"\"","v":""},{"$f":"\"\"","v":""},{"v":4394.8,"d":"4395"},{"v":4394.8,"d":"4395"},{"v":4394.8,"d":"4395"},{"v":4394.8,"d":"4395"},1.4021,1.4021,1.4021,1.4021,620,620,620,620,107,107,107,107,{"v":0.08021012309030659,"d":"0.08"},{"v":0.08021012309030659,"d":"0.08"},{"v":0.08021012309030659,"d":"0.08"},{"v":0.08021012309030659,"d":"0.08"},0.0002083,1.724,2,0.000461829,{"$f":"\"\"","v":""},{"$f":"\"\"","v":""},{"$f":"\"\"","v":""},{"$f":"\"\"","v":""},{"$f":"\"\"","v":""},{"$f":"\"\"","v":""},{"$f":"\"\"","v":""},{"$f":"\"\"","v":""},{"$f":"\"\"","v":""},{"$f":"\"\"","v":""},{"$f":"\"\"","v":""},{"$f":"\"\"","v":""},{"$f":"\"\"","v":""},{"$f":"\"\"","v":""},{"$f":"\"\"","v":""},2.4,{"$f":"\"\"","v":""},{"$f":"\"\"","v":""},{"$f":"\"\"","v":""}]
["2455515",null,null,2,45,55,15,15.9,{"$f":"\"\"","v":""},{"$f":"\"\"","v":""},{"$f":"\"\"","v":""},{"$f":"\"\"","v":""},{"v":648.06,"d":"648"},{"v":648.06,"d":"648"},{"v":648.06,"d":"648"},{"v":648.06,"d":"648"},1.391,1.391,1.391,1.391,93,93,93,93,16,16,16,16,{"v":1.3560489027398966E-3,"d":"0.00"},{"v":1.3560489027398966E-3,"d":"0.00"},{"v":1.3560489027398966E-3,"d":"0.00"},{"v":1.3560489027398966E-3,"d":"0.00"},0.0002083,1.724,2,0.000461829,{"$f":"\"\"","v":""},{"$f":"\"\"","v":""},{"$f":"\"\"","v":""},{"$f":"\"\"","v":""},{"$f":"\"\"","v":""},{"$f":"\"\"","v":""},{"$f":"\"\"","v":""},{"$f":"\"\"","v":""},{"$f":"\"\"","v":""},{"$f":"\"\"","v":""},{"$f":"\"\"","v":""},{"$f":"\"\"","v":""},{"$f":"\"\"","v":""},{"$f":"\"\"","v":""},{"$f":"\"\"","v":""},0.6,{"$f":"\"\"","v":""},{"$f":"\"\"","v":""},{"$f":"\"\"","v":""}]
["2456515",null,null,2,45,65,15,15.9,{"$f":"\"\"","v":""},{"$f":"\"\"","v":""},{"$f":"\"\"","v":""},{"$f":"\"\"","v":""},{"v":802.36,"d":"802"},{"v":802.36,"d":"802"},{"v":802.36,"d":"802"},{"v":802.36,"d":"802"},1.391,1.391,1.391,1.391,115,115,115,115,20,20,20,20,{"v":2.1718391070091898E-3,"d":"0.00"},{"v":2.1718391070091898E-3,"d":"0.00"},{"v":2.1718391070091898E-3,"d":"0.00"},{"v":2.1718391070091898E-3,"d":"0.00"},0.0002083,1.724,2,0.000461829,{"$f":"\"\"","v":""},{"$f":"\"\"","v":""},{"$f":"\"\"","v":""},{"$f":"\"\"","v":""},{"$f":"\"\"","v":""},{"$f":"\"\"","v":""},{"$f":"\"\"","v":""},{"$f":"\"\"","v":""},{"$f":"\"\"","v":""},{"$f":"\"\"","v":""},{"$f":"\"\"","v":""},{"$f":"\"\"","v":""},{"$f":"\"\"","v":""},{"$f":"\"\"","v":""},{"$f":"\"\"","v":""},0.7,{"$f":"\"\"","v":""},{"$f":"\"\"","v":""},{"$f":"\"\"","v":""}]
["2457515",null,null,2,45,75,15,15.9,{"$f":"\"\"","v":""},{"$f":"\"\"","v":""},{"$f":"\"\"","v":""},{"$f":"\"\"","v":""},{"v":956.66,"d":"957"},{"v":956.66,"d":"957"},{"v":956.66,"d":"957"},{"v":956.66,"d":"957"},1.391,1.391,1.391,1.391,137,137,137,137,24,24,24,24,{"v":3.1997240828258943E-3,"d":"0.00"},{"v":3.1997240828258943E-3,"d":"0.00"},{"v":3.1997240828258943E-3,"d":"0.00"},{"v":3.1997240828258943E-3,"d":"0.00"},0.0002083,1.724,2,0.000461829,{"$f":"\"\"","v":""},{"$f":"\"\"","v":""},{"$f":"\"\"","v":""},{"$f":"\"\"","v":""},{"$f":"\"\"","v":""},{"$f":"\"\"","v":""},{"$f":"\"\"","v":""},{"$f":"\"\"","v":""},{"$f":"\"\"","v":""},{"$f":"\"\"","v":""},{"$f":"\"\"","v":""},{"$f":"\"\"","v":""},{"$f":"\"\"","v":""},{"$f":"\"\"","v":""},{"$f":"\"\"","v":""},0.8,{"$f":"\"\"","v":""},{"$f":"\"\"","v":""},{"$f":"\"\"","v":""}]
["2458515",null,null,2,45,85,15,15.9,{"$f":"\"\"","v":""},{"$f":"\"\"","v":""},{"$f":"\"\"","v":""},{"$f":"\"\"","v":""},{"v":1110.96,"d":"1111"},{"v":1110.96,"d":"1111"},{"v":1110.96,"d":"1111"},{"v":1110.96,"d":"1111"},1.391,1.391,1.391,1.391,159,159,159,159,27,27,27,27,{"v":0.004145497722329117,"d":"0.00"},{"v":0.004145497722329117,"d":"0.00"},{"v":0.004145497722329117,"d":"0.00"},{"v":0.004145497722329117,"d":"0.00"},0.0002083,1.724,2,0.000461829,{"$f":"\"\"","v":""},{"$f":"\"\"","v":""},{"$f":"\"\"","v":""},{"$f":"\"\"","v":""},{"$f":"\"\"","v":""},{"$f":"\"\"","v":""},{"$f":"\"\"","v":""},{"$f":"\"\"","v":""},{"$f":"\"\"","v":""},{"$f":"\"\"","v":""},{"$f":"\"\"","v":""},{"$f":"\"\"","v":""},{"$f":"\"\"","v":""},{"$f":"\"\"","v":""},{"$f":"\"\"","v":""},0.9,{"$f":"\"\"","v":""},{"$f":"\"\"","v":""},{"$f":"\"\"","v":""}]
["2459515",null,null,2,45,95,15,15.9,{"$f":"\"\"","v":""},{"$f":"\"\"","v":""},{"$f":"\"\"","v":""},{"$f":"\"\"","v":""},{"v":1265.26,"d":"1265"},{"v":1265.26,"d":"1265"},{"v":1265.26,"d":"1265"},{"v":1265.26,"d":"1265"},1.391,1.391,1.391,1.391,181,181,181,181,31,31,31,31,{"v":0.005575123760059735,"d":"0.01"},{"v":0.005575123760059735,"d":"0.01"},{"v":0.005575123760059735,"d":"0.01"},{"v":0.005575123760059735,"d":"0.01"},0.0002083,1.724,2,0.000461829,{"$f":"\"\"","v":""},{"$f":"\"\"","v":""},{"$f":"\"\"","v":""},{"$f":"\"\"","v":""},{"$f":"\"\"","v":""},{"$f":"\"\"","v":""},{"$f":"\"\"","v":""},{"$f":"\"\"","v":""},{"$f":"\"\"","v":""},{"$f":"\"\"","v":""},{"$f":"\"\"","v":""},{"$f":"\"\"","v":""},{"$f":"\"\"","v":""},{"$f":"\"\"","v":""},{"$f":"\"\"","v":""},{"v":1,"d":"1.0"},{"$f":"\"\"","v":""},{"$f":"\"\"","v":""},{"$f":"\"\"","v":""}]
["24510515",null,null,2,45,105,15,15.9,{"$f":"\"\"","v":""},{"$f":"\"\"","v":""},{"$f":"\"\"","v":""},{"$f":"\"\"","v":""},{"v":1419.56,"d":"1420"},{"v":1419.56,"d":"1420"},{"v":1419.56,"d":"1420"},{"v":1419.56,"d":"1420"},1.391,1.391,1.391,1.391,203,203,203,203,35,35,35,35,{"v":0.007242683997257316,"d":"0.01"},{"v":0.007242683997257316,"d":"0.01"},{"v":0.007242683997257316,"d":"0.01"},{"v":0.007242683997257316,"d":"0.01"},0.0002083,1.724,2,0.000461829,{"$f":"\"\"","v":""},{"$f":"\"\"","v":""},{"$f":"\"\"","v":""},{"$f":"\"\"","v":""},{"$f":"\"\"","v":""},{"$f":"\"\"","v":""},{"$f":"\"\"","v":""},{"$f":"\"\"","v":""},{"$f":"\"\"","v":""},{"$f":"\"\"","v":""},{"$f":"\"\"","v":""},{"$f":"\"\"","v":""},{"$f":"\"\"","v":""},{"$f":"\"\"","v":""},{"$f":"\"\"","v":""},1.1,{"$f":"\"\"","v":""},{"$f":"\"\"","v":""},{"$f":"\"\"","v":""}]
["24511515",null,null,2,45,115,15,15.9,{"$f":"\"\"","v":""},{"$f":"\"\"","v":""},{"$f":"\"\"","v":""},{"$f":"\"\"","v":""},{"v":1573.86,"d":"1574"},{"v":1573.86,"d":"1574"},{"v":1573.86,"d":"1574"},{"v":1573.86,"d":"1574"},1.391,1.391,1.391,1.391,226,226,226,226,39,39,39,39,{"v":0.009156612876998364,"d":"0.01"},{"v":0.009156612876998364,"d":"0.01"},{"v":0.009156612876998364,"d":"0.01"},{"v":0.009156612876998364,"d":"0.01"},0.0002083,1.724,2,0.000461829,{"$f":"\"\"","v":""},{"$f":"\"\"","v":""},{"$f":"\"\"","v":""},{"$f":"\"\"","v":""},{"$f":"\"\"","v":""},{"$f":"\"\"","v":""},{"$f":"\"\"","v":""},{"$f":"\"\"","v":""},{"$f":"\"\"","v":""},{"$f":"\"\"","v":""},{"$f":"\"\"","v":""},{"$f":"\"\"","v":""},{"$f":"\"\"","v":""},{"$f":"\"\"","v":""},{"$f":"\"\"","v":""},1.2,{"$f":"\"\"","v":""},{"$f":"\"\"","v":""},{"$f":"\"\"","v":""}]
["24513515",null,null,2,45,135,15,15.9,{"$f":"\"\"","v":""},{"$f":"\"\"","v":""},{"$f":"\"\"","v":""},{"$f":"\"\"","v":""},{"v":1882.46,"d":"1882"},{"v":1882.46,"d":"1882"},{"v":1882.46,"d":"1882"},{"v":1882.46,"d":"1882"},1.391,1.391,1.391,1.391,270,270,270,270,46,46,46,46,{"v":0.013198344444805636,"d":"0.01"},{"v":0.013198344444805636,"d":"0.01"},{"v":0.013198344444805636,"d":"0.01"},{"v":0.013198344444805636,"d":"0.01"},0.0002083,1.724,2,0.000461829,{"$f":"\"\"","v":""},{"$f":"\"\"","v":""},{"$f":"\"\"","v":""},{"$f":"\"\"","v":""},{"$f":"\"\"","v":""},{"$f":"\"\"","v":""},{"$f":"\"\"","v":""},{"$f":"\"\"","v":""},{"$f":"\"\"","v":""},{"$f":"\"\"","v":""},{"$f":"\"\"","v":""},{"$f":"\"\"","v":""},{"$f":"\"\"","v":""},{"$f":"\"\"","v":""},{"$f":"\"\"","v":""},1.4,{"$f":"\"\"","v":""},{"$f":"\"\"","v":""},{"$f":"\"\"","v":""}]
["24515515",null,null,2,45,155,15,15.9,{"$f":"\"\"","v":""},{"$f":"\"\"","v":""},{"$f":"\"\"","v":""},{"$f":"\"\"","v":""},{"v":2191.06,"d":"2191"},{"v":2191.06,"d":"2191"},{"v":2191.06,"d":"2191"},{"v":2191.06,"d":"2191"},1.391,1.391,1.391,1.391,314,314,314,314,54,54,54,54,{"v":0.018764034604500265,"d":"0.02"},{"v":0.018764034604500265,"d":"0.02"},{"v":0.018764034604500265,"d":"0.02"},{"v":0.018764034604500265,"d":"0.02"},0.0002083,1.724,2,0.000461829,{"$f":"\"\"","v":""},{"$f":"\"\"","v":""},{"$f":"\"\"","v":""},{"$f":"\"\"","v":""},{"$f":"\"\"","v":""},{"$f":"\"\"","v":""},{"$f":"\"\"","v":""},{"$f":"\"\"","v":""},{"$f":"\"\"","v":""},{"$f":"\"\"","v":""},{"$f":"\"\"","v":""},{"$f":"\"\"","v":""},{"$f":"\"\"","v":""},{"$f":"\"\"","v":""},{"$f":"\"\"","v":""},1.6,{"$f":"\"\"","v":""},{"$f":"\"\"","v":""},{"$f":"\"\"","v":""}]
["24517515",null,null,2,45,175,15,15.9,{"$f":"\"\"","v":""},{"$f":"\"\"","v":""},{"$f":"\"\"","v":""},{"$f":"\"\"","v":""},{"v":2499.66,"d":"2500"},{"v":2499.66,"d":"2500"},{"v":2499.66,"d":"2500"},{"v":2499.66,"d":"2500"},1.391,1.391,1.391,1.391,358,358,358,358,62,62,62,62,{"v":0.025465806174738575,"d":"0.03"},{"v":0.025465806174738575,"d":"0.03"},{"v":0.025465806174738575,"d":"0.03"},{"v":0.025465806174738575,"d":"0.03"},0.0002083,1.724,2,0.000461829,{"$f":"\"\"","v":""},{"$f":"\"\"","v":""},{"$f":"\"\"","v":""},{"$f":"\"\"","v":""},{"$f":"\"\"","v":""},{"$f":"\"\"","v":""},{"$f":"\"\"","v":""},{"$f":"\"\"","v":""},{"$f":"\"\"","v":""},{"$f":"\"\"","v":""},{"$f":"\"\"","v":""},{"$f":"\"\"","v":""},{"$f":"\"\"","v":""},{"$f":"\"\"","v":""},{"$f":"\"\"","v":""},1.8,{"$f":"\"\"","v":""},{"$f":"\"\"","v":""},{"$f":"\"\"","v":""}]
["24519515",null,null,2,45,195,15,15.9,{"$f":"\"\"","v":""},{"$f":"\"\"","v":""},{"$f":"\"\"","v":""},{"$f":"\"\"","v":""},{"v":2808.26,"d":"2808"},{"v":2808.26,"d":"2808"},{"v":2808.26,"d":"2808"},{"v":2808.26,"d":"2808"},1.391,1.391,1.391,1.391,403,403,403,403,69,69,69,69,{"v":0.032458281067461965,"d":"0.03"},{"v":0.032458281067461965,"d":"0.03"},{"v":0.032458281067461965,"d":"0.03"},{"v":0.032458281067461965,"d":"0.03"},0.0002083,1.724,2,0.000461829,{"$f":"\"\"","v":""},{"$f":"\"\"","v":""},{"$f":"\"\"","v":""},{"$f":"\"\"","v":""},{"$f":"\"\"","v":""},{"$f":"\"\"","v":""},{"$f":"\"\"","v":""},{"$f":"\"\"","v":""},{"$f":"\"\"","v":""},{"$f":"\"\"","v":""},{"$f":"\"\"","v":""},{"$f":"\"\"","v":""},{"$f":"\"\"","v":""},{"$f":"\"\"","v":""},{"$f":"\"\"","v":""},{"v":2,"d":"2.0"},{"$f":"\"\"","v":""},{"$f":"\"\"","v":""},{"$f":"\"\"","v":""}]
["24521515",null,null,2,45,215,15,15.9,{"$f":"\"\"","v":""},{"$f":"\"\"","v":""},{"$f":"\"\"","v":""},{"$f":"\"\"","v":""},{"v":3116.86,"d":"3117"},{"v":3116.86,"d":"3117"},{"v":3116.86,"d":"3117"},{"v":3116.86,"d":"3117"},1.391,1.391,1.391,1.391,447,447,447,447,77,77,77,77,{"v":0.041475728462891145,"d":"0.04"},{"v":0.041475728462891145,"d":"0.04"},{"v":0.041475728462891145,"d":"0.04"},{"v":0.041475728462891145,"d":"0.04"},0.0002083,1.724,2,0.000461829,{"$f":"\"\"","v":""},{"$f":"\"\"","v":""},{"$f":"\"\"","v":""},{"$f":"\"\"","v":""},{"$f":"\"\"","v":""},{"$f":"\"\"","v":""},{"$f":"\"\"","v":""},{"$f":"\"\"","v":""},{"$f":"\"\"","v":""},{"$f":"\"\"","v":""},{"$f":"\"\"","v":""},{"$f":"\"\"","v":""},{"$f":"\"\"","v":""},{"$f":"\"\"","v":""},{"$f":"\"\"","v":""},2.2,{"$f":"\"\"","v":""},{"$f":"\"\"","v":""},{"$f":"\"\"","v":""}]
["24523515",null,null,2,45,235,15,15.9,{"$f":"\"\"","v":""},{"$f":"\"\"","v":""},{"$f":"\"\"","v":""},{"$f":"\"\"","v":""},{"v":3425.46,"d":"3425"},{"v":3425.46,"d":"3425"},{"v":3425.46,"d":"3425"},{"v":3425.46,"d":"3425"},1.391,1.391,1.391,1.391,491,491,491,491,84,84,84,84,{"v":0.05064210173866245,"d":"0.05"},{"v":0.05064210173866245,"d":"0.05"},{"v":0.05064210173866245,"d":"0.05"},{"v":0.05064210173866245,"d":"0.05"},0.0002083,1.724,2,0.000461829,{"$f":"\"\"","v":""},{"$f":"\"\"","v":""},{"$f":"\"\"","v":""},{"$f":"\"\"","v":""},{"$f":"\"\"","v":""},{"$f":"\"\"","v":""},{"$f":"\"\"","v":""},{"$f":"\"\"","v":""},{"$f":"\"\"","v":""},{"$f":"\"\"","v":""},{"$f":"\"\"","v":""},{"$f":"\"\"","v":""},{"$f":"\"\"","v":""},{"$f":"\"\"","v":""},{"$f":"\"\"","v":""},2.4,{"$f":"\"\"","v":""},{"$f":"\"\"","v":""},{"$f":"\"\"","v":""}]
["2505515",null,null,2,50,55,15,15.9,{"$f":"\"\"","v":""},{"$f":"\"\"","v":""},{"$f":"\"\"","v":""},{"$f":"\"\"","v":""},{"v":675.36,"d":"675"},{"v":675.36,"d":"675"},{"v":675.36,"d":"675"},{"v":675.36,"d":"675"},1.38,1.38,1.38,1.38,98,98,98,98,17,17,17,17,{"v":1.5271541242443045E-3,"d":"0.00"},{"v":1.5271541242443045E-3,"d":"0.00"},{"v":1.5271541242443045E-3,"d":"0.00"},{"v":1.5271541242443045E-3,"d":"0.00"},0.0002083,1.724,2,0.000461829,{"$f":"\"\"","v":""},{"$f":"\"\"","v":""},{"$f":"\"\"","v":""},{"$f":"\"\"","v":""},{"$f":"\"\"","v":""},{"$f":"\"\"","v":""},{"$f":"\"\"","v":""},{"$f":"\"\"","v":""},{"$f":"\"\"","v":""},{"$f":"\"\"","v":""},{"$f":"\"\"","v":""},{"$f":"\"\"","v":""},{"$f":"\"\"","v":""},{"$f":"\"\"","v":""},{"$f":"\"\"","v":""},0.6,{"$f":"\"\"","v":""},{"$f":"\"\"","v":""},{"$f":"\"\"","v":""}]
["2506515",null,null,2,50,65,15,15.9,{"$f":"\"\"","v":""},{"$f":"\"\"","v":""},{"$f":"\"\"","v":""},{"$f":"\"\"","v":""},{"v":836.16,"d":"836"},{"v":836.16,"d":"836"},{"v":836.16,"d":"836"},{"v":836.16,"d":"836"},1.38,1.38,1.38,1.38,122,122,122,122,21,21,21,21,{"v":2.3891220818381613E-3,"d":"0.00"},{"v":2.3891220818381613E-3,"d":"0.00"},{"v":2.3891220818381613E-3,"d":"0.00"},{"v":2.3891220818381613E-3,"d":"0.00"},0.0002083,1.724,2,0.000461829,{"$f":"\"\"","v":""},{"$f":"\"\"","v":""},{"$f":"\"\"","v":""},{"$f":"\"\"","v":""},{"$f":"\"\"","v":""},{"$f":"\"\"","v":""},{"$f":"\"\"","v":""},{"$f":"\"\"","v":""},{"$f":"\"\"","v":""},{"$f":"\"\"","v":""},{"$f":"\"\"","v":""},{"$f":"\"\"","v":""},{"$f":"\"\"","v":""},{"$f":"\"\"","v":""},{"$f":"\"\"","v":""},0.7,{"$f":"\"\"","v":""},{"$f":"\"\"","v":""},{"$f":"\"\"","v":""}]
["2507515",null,null,2,50,75,15,15.9,{"$f":"\"\"","v":""},{"$f":"\"\"","v":""},{"$f":"\"\"","v":""},{"$f":"\"\"","v":""},{"v":996.96,"d":"997"},{"v":996.96,"d":"997"},{"v":996.96,"d":"997"},{"v":996.96,"d":"997"},1.38,1.38,1.38,1.38,145,145,145,145,25,25,25,25,{"v":0.003464716427202698,"d":"0.00"},{"v":0.003464716427202698,"d":"0.00"},{"v":0.003464716427202698,"d":"0.00"},{"v":0.003464716427202698,"d":"0.00"},0.0002083,1.724,2,0.000461829,{"$f":"\"\"","v":""},{"$f":"\"\"","v":""},{"$f":"\"\"","v":""},{"$f":"\"\"","v":""},{"$f":"\"\"","v":""},{"$f":"\"\"","v":""},{"$f":"\"\"","v":""},{"$f":"\"\"","v":""},{"$f":"\"\"","v":""},{"$f":"\"\"","v":""},{"$f":"\"\"","v":""},{"$f":"\"\"","v":""},{"$f":"\"\"","v":""},{"$f":"\"\"","v":""},{"$f":"\"\"","v":""},0.8,{"$f":"\"\"","v":""},{"$f":"\"\"","v":""},{"$f":"\"\"","v":""}]
["2508515",null,null,2,50,85,15,15.9,{"$f":"\"\"","v":""},{"$f":"\"\"","v":""},{"$f":"\"\"","v":""},{"$f":"\"\"","v":""},{"v":1157.76,"d":"1158"},{"v":1157.76,"d":"1158"},{"v":1157.76,"d":"1158"},{"v":1157.76,"d":"1158"},1.38,1.38,1.38,1.38,169,169,169,169,29,29,29,29,{"v":0.004763329252877511,"d":"0.00"},{"v":0.004763329252877511,"d":"0.00"},{"v":0.004763329252877511,"d":"0.00"},{"v":0.004763329252877511,"d":"0.00"},0.0002083,1.724,2,0.000461829,{"$f":"\"\"","v":""},{"$f":"\"\"","v":""},{"$f":"\"\"","v":""},{"$f":"\"\"","v":""},{"$f":"\"\"","v":""},{"$f":"\"\"","v":""},{"$f":"\"\"","v":""},{"$f":"\"\"","v":""},{"$f":"\"\"","v":""},{"$f":"\"\"","v":""},{"$f":"\"\"","v":""},{"$f":"\"\"","v":""},{"$f":"\"\"","v":""},{"$f":"\"\"","v":""},{"$f":"\"\"","v":""},0.9,{"$f":"\"\"","v":""},{"$f":"\"\"","v":""},{"$f":"\"\"","v":""}]
["2509515",null,null,2,50,95,15,15.9,{"$f":"\"\"","v":""},{"$f":"\"\"","v":""},{"$f":"\"\"","v":""},{"$f":"\"\"","v":""},{"v":1318.56,"d":"1319"},{"v":1318.56,"d":"1319"},{"v":1318.56,"d":"1319"},{"v":1318.56,"d":"1319"},1.38,1.38,1.38,1.38,192,192,192,192,33,33,33,33,{"v":0.006293938167844733,"d":"0.01"},{"v":0.006293938167844733,"d":"0.01"},{"v":0.006293938167844733,"d":"0.01"},{"v":0.006293938167844733,"d":"0.01"},0.0002083,1.724,2,0.000461829,{"$f":"\"\"","v":""},{"$f":"\"\"","v":""},{"$f":"\"\"","v":""},{"$f":"\"\"","v":""},{"$f":"\"\"","v":""},{"$f":"\"\"","v":""},{"$f":"\"\"","v":""},{"$f":"\"\"","v":""},{"$f":"\"\"","v":""},{"$f":"\"\"","v":""},{"$f":"\"\"","v":""},{"$f":"\"\"","v":""},{"$f":"\"\"","v":""},{"$f":"\"\"","v":""},{"$f":"\"\"","v":""},{"v":1,"d":"1.0"},{"$f":"\"\"","v":""},{"$f":"\"\"","v":""},{"$f":"\"\"","v":""}]
["25010515",null,null,2,50,105,15,15.9,{"$f":"\"\"","v":""},{"$f":"\"\"","v":""},{"$f":"\"\"","v":""},{"$f":"\"\"","v":""},{"v":1479.36,"d":"1479"},{"v":1479.36,"d":"1479"},{"v":1479.36,"d":"1479"},{"v":1479.36,"d":"1479"},1.38,1.38,1.38,1.38,215,215,215,215,37,37,37,37,{"v":8.065179637362356E-3,"d":"0.01"},{"v":8.065179637362356E-3,"d":"0.01"},{"v":8.065179637362356E-3,"d":"0.01"},{"v":8.065179637362356E-3,"d":"0.01"},0.0002083,1.724,2,0.000461829,{"$f":"\"\"","v":""},{"$f":"\"\"","v":""},{"$f":"\"\"","v":""},{"$f":"\"\"","v":""},{"$f":"\"\"","v":""},{"$f":"\"\"","v":""},{"$f":"\"\"","v":""},{"$f":"\"\"","v":""},{"$f":"\"\"","v":""},{"$f":"\"\"","v":""},{"$f":"\"\"","v":""},{"$f":"\"\"","v":""},{"$f":"\"\"","v":""},{"$f":"\"\"","v":""},{"$f":"\"\"","v":""},1.1,{"$f":"\"\"","v":""},{"$f":"\"\"","v":""},{"$f":"\"\"","v":""}]
["25011515",null,null,2,50,115,15,15.9,{"$f":"\"\"","v":""},{"$f":"\"\"","v":""},{"$f":"\"\"","v":""},{"$f":"\"\"","v":""},{"v":1640.16,"d":"1640"},{"v":1640.16,"d":"1640"},{"v":1640.16,"d":"1640"},{"v":1640.16,"d":"1640"},1.38,1.38,1.38,1.38,239,239,239,239,41,41,41,41,{"v":0.010085401901092491,"d":"0.01"},{"v":0.010085401901092491,"d":"0.01"},{"v":0.010085401901092491,"d":"0.01"},{"v":0.010085401901092491,"d":"0.01"},0.0002083,1.724,2,0.000461829,{"$f":"\"\"","v":""},{"$f":"\"\"","v":""},{"$f":"\"\"","v":""},{"$f":"\"\"","v":""},{"$f":"\"\"","v":""},{"$f":"\"\"","v":""},{"$f":"\"\"","v":""},{"$f":"\"\"","v":""},{"$f":"\"\"","v":""},{"$f":"\"\"","v":""},{"$f":"\"\"","v":""},{"$f":"\"\"","v":""},{"$f":"\"\"","v":""},{"$f":"\"\"","v":""},{"$f":"\"\"","v":""},1.2,{"$f":"\"\"","v":""},{"$f":"\"\"","v":""},{"$f":"\"\"","v":""}]
["25013515",null,null,2,50,135,15,15.9,{"$f":"\"\"","v":""},{"$f":"\"\"","v":""},{"$f":"\"\"","v":""},{"$f":"\"\"","v":""},{"v":1961.76,"d":"1962"},{"v":1961.76,"d":"1962"},{"v":1961.76,"d":"1962"},{"v":1961.76,"d":"1962"},1.38,1.38,1.38,1.38,286,286,286,286,49,49,49,49,{"v":0.014904970659043705,"d":"0.01"},{"v":0.014904970659043705,"d":"0.01"},{"v":0.014904970659043705,"d":"0.01"},{"v":0.014904970659043705,"d":"0.01"},0.0002083,1.724,2,0.000461829,{"$f":"\"\"","v":""},{"$f":"\"\"","v":""},{"$f":"\"\"","v":""},{"$f":"\"\"","v":""},{"$f":"\"\"","v":""},{"$f":"\"\"","v":""},{"$f":"\"\"","v":""},{"$f":"\"\"","v":""},{"$f":"\"\"","v":""},{"$f":"\"\"","v":""},{"$f":"\"\"","v":""},{"$f":"\"\"","v":""},{"$f":"\"\"","v":""},{"$f":"\"\"","v":""},{"$f":"\"\"","v":""},1.4,{"$f":"\"\"","v":""},{"$f":"\"\"","v":""},{"$f":"\"\"","v":""}]
["25015515",null,null,2,50,155,15,15.9,{"$f":"\"\"","v":""},{"$f":"\"\"","v":""},{"$f":"\"\"","v":""},{"$f":"\"\"","v":""},{"v":2283.36,"d":"2283"},{"v":2283.36,"d":"2283"},{"v":2283.36,"d":"2283"},{"v":2283.36,"d":"2283"},1.38,1.38,1.38,1.38,332,332,332,332,57,57,57,57,{"v":0.02081497678969534,"d":"0.02"},{"v":0.02081497678969534,"d":"0.02"},{"v":0.02081497678969534,"d":"0.02"},{"v":0.02081497678969534,"d":"0.02"},0.0002083,1.724,2,0.000461829,{"$f":"\"\"","v":""},{"$f":"\"\"","v":""},{"$f":"\"\"","v":""},{"$f":"\"\"","v":""},{"$f":"\"\"","v":""},{"$f":"\"\"","v":""},{"$f":"\"\"","v":""},{"$f":"\"\"","v":""},{"$f":"\"\"","v":""},{"$f":"\"\"","v":""},{"$f":"\"\"","v":""},{"$f":"\"\"","v":""},{"$f":"\"\"","v":""},{"$f":"\"\"","v":""},{"$f":"\"\"","v":""},1.6,{"$f":"\"\"","v":""},{"$f":"\"\"","v":""},{"$f":"\"\"","v":""}]
["25017515",null,null,2,50,175,15,15.9,{"$f":"\"\"","v":""},{"$f":"\"\"","v":""},{"$f":"\"\"","v":""},{"$f":"\"\"","v":""},{"v":2604.96,"d":"2605"},{"v":2604.96,"d":"2605"},{"v":2604.96,"d":"2605"},{"v":2604.96,"d":"2605"},1.38,1.38,1.38,1.38,379,379,379,379,65,65,65,65,{"v":0.027874960829519006,"d":"0.03"},{"v":0.027874960829519006,"d":"0.03"},{"v":0.027874960829519006,"d":"0.03"},{"v":0.027874960829519006,"d":"0.03"},0.0002083,1.724,2,0.000461829,{"$f":"\"\"","v":""},{"$f":"\"\"","v":""},{"$f":"\"\"","v":""},{"$f":"\"\"","v":""},{"$f":"\"\"","v":""},{"$f":"\"\"","v":""},{"$f":"\"\"","v":""},{"$f":"\"\"","v":""},{"$f":"\"\"","v":""},{"$f":"\"\"","v":""},{"$f":"\"\"","v":""},{"$f":"\"\"","v":""},{"$f":"\"\"","v":""},{"$f":"\"\"","v":""},{"$f":"\"\"","v":""},1.8,{"$f":"\"\"","v":""},{"$f":"\"\"","v":""},{"$f":"\"\"","v":""}]
["25019515",null,null,2,50,195,15,15.9,{"$f":"\"\"","v":""},{"$f":"\"\"","v":""},{"$f":"\"\"","v":""},{"$f":"\"\"","v":""},{"v":2926.56,"d":"2927"},{"v":2926.56,"d":"2927"},{"v":2926.56,"d":"2927"},{"v":2926.56,"d":"2927"},1.38,1.38,1.38,1.38,426,426,426,426,73,73,73,73,{"v":0.03614217194443788,"d":"0.04"},{"v":0.03614217194443788,"d":"0.04"},{"v":0.03614217194443788,"d":"0.04"},{"v":0.03614217194443788,"d":"0.04"},0.0002083,1.724,2,0.000461829,{"$f":"\"\"","v":""},{"$f":"\"\"","v":""},{"$f":"\"\"","v":""},{"$f":"\"\"","v":""},{"$f":"\"\"","v":""},{"$f":"\"\"","v":""},{"$f":"\"\"","v":""},{"$f":"\"\"","v":""},{"$f":"\"\"","v":""},{"$f":"\"\"","v":""},{"$f":"\"\"","v":""},{"$f":"\"\"","v":""},{"$f":"\"\"","v":""},{"$f":"\"\"","v":""},{"$f":"\"\"","v":""},{"v":2,"d":"2.0"},{"$f":"\"\"","v":""},{"$f":"\"\"","v":""},{"$f":"\"\"","v":""}]
["25021515",null,null,2,50,215,15,15.9,{"$f":"\"\"","v":""},{"$f":"\"\"","v":""},{"$f":"\"\"","v":""},{"$f":"\"\"","v":""},{"v":3248.16,"d":"3248"},{"v":3248.16,"d":"3248"},{"v":3248.16,"d":"3248"},{"v":3248.16,"d":"3248"},1.38,1.38,1.38,1.38,473,473,473,473,81,81,81,81,{"v":0.04567192740319425,"d":"0.05"},{"v":0.04567192740319425,"d":"0.05"},{"v":0.04567192740319425,"d":"0.05"},{"v":0.04567192740319425,"d":"0.05"},0.0002083,1.724,2,0.000461829,{"$f":"\"\"","v":""},{"$f":"\"\"","v":""},{"$f":"\"\"","v":""},{"$f":"\"\"","v":""},{"$f":"\"\"","v":""},{"$f":"\"\"","v":""},{"$f":"\"\"","v":""},{"$f":"\"\"","v":""},{"$f":"\"\"","v":""},{"$f":"\"\"","v":""},{"$f":"\"\"","v":""},{"$f":"\"\"","v":""},{"$f":"\"\"","v":""},{"$f":"\"\"","v":""},{"$f":"\"\"","v":""},2.2,{"$f":"\"\"","v":""},{"$f":"\"\"","v":""},{"$f":"\"\"","v":""}]
["25023515",null,null,2,50,235,15,15.9,{"$f":"\"\"","v":""},{"$f":"\"\"","v":""},{"$f":"\"\"","v":""},{"$f":"\"\"","v":""},{"v":3569.76,"d":"3570"},{"v":3569.76,"d":"3570"},{"v":3569.76,"d":"3570"},{"v":3569.76,"d":"3570"},1.38,1.38,1.38,1.38,520,520,520,520,89,89,89,89,{"v":0.056517882136773376,"d":"0.06"},{"v":0.056517882136773376,"d":"0.06"},{"v":0.056517882136773376,"d":"0.06"},{"v":0.056517882136773376,"d":"0.06"},0.0002083,1.724,2,0.000461829,{"$f":"\"\"","v":""},{"$f":"\"\"","v":""},{"$f":"\"\"","v":""},{"$f":"\"\"","v":""},{"$f":"\"\"","v":""},{"$f":"\"\"","v":""},{"$f":"\"\"","v":""},{"$f":"\"\"","v":""},{"$f":"\"\"","v":""},{"$f":"\"\"","v":""},{"$f":"\"\"","v":""},{"$f":"\"\"","v":""},{"$f":"\"\"","v":""},{"$f":"\"\"","v":""},{"$f":"\"\"","v":""},2.4,{"$f":"\"\"","v":""},{"$f":"\"\"","v":""},{"$f":"\"\"","v":""}]
["2555515",null,null,2,55,55,15,15.9,{"$f":"\"\"","v":""},{"$f":"\"\"","v":""},{"$f":"\"\"","v":""},{"$f":"\"\"","v":""},{"v":699.3,"d":"699"},{"v":699.3,"d":"699"},{"v":699.3,"d":"699"},{"v":699.3,"d":"699"},1.3689,1.3689,1.3689,1.3689,103,103,103,103,18,18,18,18,{"v":1.7082578397880485E-3,"d":"0.00"},{"v":1.7082578397880485E-3,"d":"0.00"},{"v":1.7082578397880485E-3,"d":"0.00"},{"v":1.7082578397880485E-3,"d":"0.00"},0.0002083,1.724,2,0.000461829,{"$f":"\"\"","v":""},{"$f":"\"\"","v":""},{"$f":"\"\"","v":""},{"$f":"\"\"","v":""},{"$f":"\"\"","v":""},{"$f":"\"\"","v":""},{"$f":"\"\"","v":""},{"$f":"\"\"","v":""},{"$f":"\"\"","v":""},{"$f":"\"\"","v":""},{"$f":"\"\"","v":""},{"$f":"\"\"","v":""},{"$f":"\"\"","v":""},{"$f":"\"\"","v":""},{"$f":"\"\"","v":""},0.6,{"$f":"\"\"","v":""},{"$f":"\"\"","v":""},{"$f":"\"\"","v":""}]
["2556515",null,null,2,55,65,15,15.9,{"$f":"\"\"","v":""},{"$f":"\"\"","v":""},{"$f":"\"\"","v":""},{"$f":"\"\"","v":""},{"v":865.8,"d":"866"},{"v":865.8,"d":"866"},{"v":865.8,"d":"866"},{"v":865.8,"d":"866"},1.3689,1.3689,1.3689,1.3689,128,128,128,128,22,22,22,22,{"v":2.6165698356519804E-3,"d":"0.00"},{"v":2.6165698356519804E-3,"d":"0.00"},{"v":2.6165698356519804E-3,"d":"0.00"},{"v":2.6165698356519804E-3,"d":"0.00"},0.0002083,1.724,2,0.000461829,{"$f":"\"\"","v":""},{"$f":"\"\"","v":""},{"$f":"\"\"","v":""},{"$f":"\"\"","v":""},{"$f":"\"\"","v":""},{"$f":"\"\"","v":""},{"$f":"\"\"","v":""},{"$f":"\"\"","v":""},{"$f":"\"\"","v":""},{"$f":"\"\"","v":""},{"$f":"\"\"","v":""},{"$f":"\"\"","v":""},{"$f":"\"\"","v":""},{"$f":"\"\"","v":""},{"$f":"\"\"","v":""},0.7,{"$f":"\"\"","v":""},{"$f":"\"\"","v":""},{"$f":"\"\"","v":""}]
["2557515",null,null,2,55,75,15,15.9,{"$f":"\"\"","v":""},{"$f":"\"\"","v":""},{"$f":"\"\"","v":""},{"$f":"\"\"","v":""},{"v":1032.3,"d":"1032"},{"v":1032.3,"d":"1032"},{"v":1032.3,"d":"1032"},{"v":1032.3,"d":"1032"},1.3689,1.3689,1.3689,1.3689,153,153,153,153,26,26,26,26,{"v":3.7400308511081485E-3,"d":"0.00"},{"v":3.7400308511081485E-3,"d":"0.00"},{"v":3.7400308511081485E-3,"d":"0.00"},{"v":3.7400308511081485E-3,"d":"0.00"},0.0002083,1.724,2,0.000461829,{"$f":"\"\"","v":""},{"$f":"\"\"","v":""},{"$f":"\"\"","v":""},{"$f":"\"\"","v":""},{"$f":"\"\"","v":""},{"$f":"\"\"","v":""},{"$f":"\"\"","v":""},{"$f":"\"\"","v":""},{"$f":"\"\"","v":""},{"$f":"\"\"","v":""},{"$f":"\"\"","v":""},{"$f":"\"\"","v":""},{"$f":"\"\"","v":""},{"$f":"\"\"","v":""},{"$f":"\"\"","v":""},0.8,{"$f":"\"\"","v":""},{"$f":"\"\"","v":""},{"$f":"\"\"","v":""}]
["2558515",null,null,2,55,85,15,15.9,{"$f":"\"\"","v":""},{"$f":"\"\"","v":""},{"$f":"\"\"","v":""},{"$f":"\"\"","v":""},{"v":1198.8,"d":"1199"},{"v":1198.8,"d":"1199"},{"v":1198.8,"d":"1199"},{"v":1198.8,"d":"1199"},1.3689,1.3689,1.3689,1.3689,177,177,177,177,30,30,30,30,{"v":0.005087960346348798,"d":"0.01"},{"v":0.005087960346348798,"d":"0.01"},{"v":0.005087960346348798,"d":"0.01"},{"v":0.005087960346348798,"d":"0.01"},0.0002083,1.724,2,0.000461829,{"$f":"\"\"","v":""},{"$f":"\"\"","v":""},{"$f":"\"\"","v":""},{"$f":"\"\"","v":""},{"$f":"\"\"","v":""},{"$f":"\"\"","v":""},{"$f":"\"\"","v":""},{"$f":"\"\"","v":""},{"$f":"\"\"","v":""},{"$f":"\"\"","v":""},{"$f":"\"\"","v":""},{"$f":"\"\"","v":""},{"$f":"\"\"","v":""},{"$f":"\"\"","v":""},{"$f":"\"\"","v":""},0.9,{"$f":"\"\"","v":""},{"$f":"\"\"","v":""},{"$f":"\"\"","v":""}]
["2559515",null,null,2,55,95,15,15.9,{"$f":"\"\"","v":""},{"$f":"\"\"","v":""},{"$f":"\"\"","v":""},{"$f":"\"\"","v":""},{"v":1365.3,"d":"1365"},{"v":1365.3,"d":"1365"},{"v":1365.3,"d":"1365"},{"v":1365.3,"d":"1365"},1.3689,1.3689,1.3689,1.3689,202,202,202,202,35,35,35,35,{"v":7.0552196647785835E-3,"d":"0.01"},{"v":7.0552196647785835E-3,"d":"0.01"},{"v":7.0552196647785835E-3,"d":"0.01"},{"v":7.0552196647785835E-3,"d":"0.01"},0.0002083,1.724,2,0.000461829,{"$f":"\"\"","v":""},{"$f":"\"\"","v":""},{"$f":"\"\"","v":""},{"$f":"\"\"","v":""},{"$f":"\"\"","v":""},{"$f":"\"\"","v":""},{"$f":"\"\"","v":""},{"$f":"\"\"","v":""},{"$f":"\"\"","v":""},{"$f":"\"\"","v":""},{"$f":"\"\"","v":""},{"$f":"\"\"","v":""},{"$f":"\"\"","v":""},{"$f":"\"\"","v":""},{"$f":"\"\"","v":""},{"v":1,"d":"1.0"},{"$f":"\"\"","v":""},{"$f":"\"\"","v":""},{"$f":"\"\"","v":""}]
["25510515",null,null,2,55,105,15,15.9,{"$f":"\"\"","v":""},{"$f":"\"\"","v":""},{"$f":"\"\"","v":""},{"$f":"\"\"","v":""},{"v":1531.8,"d":"1532"},{"v":1531.8,"d":"1532"},{"v":1531.8,"d":"1532"},{"v":1531.8,"d":"1532"},1.3689,1.3689,1.3689,1.3689,226,226,226,226,39,39,39,39,{"v":8.930700136561151E-3,"d":"0.01"},{"v":8.930700136561151E-3,"d":"0.01"},{"v":8.930700136561151E-3,"d":"0.01"},{"v":8.930700136561151E-3,"d":"0.01"},0.0002083,1.724,2,0.000461829,{"$f":"\"\"","v":""},{"$f":"\"\"","v":""},{"$f":"\"\"","v":""},{"$f":"\"\"","v":""},{"$f":"\"\"","v":""},{"$f":"\"\"","v":""},{"$f":"\"\"","v":""},{"$f":"\"\"","v":""},{"$f":"\"\"","v":""},{"$f":"\"\"","v":""},{"$f":"\"\"","v":""},{"$f":"\"\"","v":""},{"$f":"\"\"","v":""},{"$f":"\"\"","v":""},{"$f":"\"\"","v":""},1.1,{"$f":"\"\"","v":""},{"$f":"\"\"","v":""},{"$f":"\"\"","v":""}]
["25511515",null,null,2,55,115,15,15.9,{"$f":"\"\"","v":""},{"$f":"\"\"","v":""},{"$f":"\"\"","v":""},{"$f":"\"\"","v":""},{"v":1698.3,"d":"1698"},{"v":1698.3,"d":"1698"},{"v":1698.3,"d":"1698"},{"v":1698.3,"d":"1698"},1.3689,1.3689,1.3689,1.3689,251,251,251,251,43,43,43,43,{"v":0.011057756680664839,"d":"0.01"},{"v":0.011057756680664839,"d":"0.01"},{"v":0.011057756680664839,"d":"0.01"},{"v":0.011057756680664839,"d":"0.01"},0.0002083,1.724,2,0.000461829,{"$f":"\"\"","v":""},{"$f":"\"\"","v":""},{"$f":"\"\"","v":""},{"$f":"\"\"","v":""},{"$f":"\"\"","v":""},{"$f":"\"\"","v":""},{"$f":"\"\"","v":""},{"$f":"\"\"","v":""},{"$f":"\"\"","v":""},{"$f":"\"\"","v":""},{"$f":"\"\"","v":""},{"$f":"\"\"","v":""},{"$f":"\"\"","v":""},{"$f":"\"\"","v":""},{"$f":"\"\"","v":""},1.2,{"$f":"\"\"","v":""},{"$f":"\"\"","v":""},{"$f":"\"\"","v":""}]
["25513515",null,null,2,55,135,15,15.9,{"$f":"\"\"","v":""},{"$f":"\"\"","v":""},{"$f":"\"\"","v":""},{"$f":"\"\"","v":""},{"v":2031.3,"d":"2031"},{"v":2031.3,"d":"2031"},{"v":2031.3,"d":"2031"},{"v":2031.3,"d":"2031"},1.3689,1.3689,1.3689,1.3689,300,300,300,300,52,52,52,52,{"v":0.016711959282902436,"d":"0.02"},{"v":0.016711959282902436,"d":"0.02"},{"v":0.016711959282902436,"d":"0.02"},{"v":0.016711959282902436,"d":"0.02"},0.0002083,1.724,2,0.000461829,{"$f":"\"\"","v":""},{"$f":"\"\"","v":""},{"$f":"\"\"","v":""},{"$f":"\"\"","v":""},{"$f":"\"\"","v":""},{"$f":"\"\"","v":""},{"$f":"\"\"","v":""},{"$f":"\"\"","v":""},{"$f":"\"\"","v":""},{"$f":"\"\"","v":""},{"$f":"\"\"","v":""},{"$f":"\"\"","v":""},{"$f":"\"\"","v":""},{"$f":"\"\"","v":""},{"$f":"\"\"","v":""},1.4,{"$f":"\"\"","v":""},{"$f":"\"\"","v":""},{"$f":"\"\"","v":""}]
["25515515",null,null,2,55,155,15,15.9,{"$f":"\"\"","v":""},{"$f":"\"\"","v":""},{"$f":"\"\"","v":""},{"$f":"\"\"","v":""},{"v":2364.3,"d":"2364"},{"v":2364.3,"d":"2364"},{"v":2364.3,"d":"2364"},{"v":2364.3,"d":"2364"},1.3689,1.3689,1.3689,1.3689,350,350,350,350,60,60,60,60,{"v":0.02296851382845002,"d":"0.02"},{"v":0.02296851382845002,"d":"0.02"},{"v":0.02296851382845002,"d":"0.02"},{"v":0.02296851382845002,"d":"0.02"},0.0002083,1.724,2,0.000461829,{"$f":"\"\"","v":""},{"$f":"\"\"","v":""},{"$f":"\"\"","v":""},{"$f":"\"\"","v":""},{"$f":"\"\"","v":""},{"$f":"\"\"","v":""},{"$f":"\"\"","v":""},{"$f":"\"\"","v":""},{"$f":"\"\"","v":""},{"$f":"\"\"","v":""},{"$f":"\"\"","v":""},{"$f":"\"\"","v":""},{"$f":"\"\"","v":""},{"$f":"\"\"","v":""},{"$f":"\"\"","v":""},1.6,{"$f":"\"\"","v":""},{"$f":"\"\"","v":""},{"$f":"\"\"","v":""}]
["25517515",null,null,2,55,175,15,15.9,{"$f":"\"\"","v":""},{"$f":"\"\"","v":""},{"$f":"\"\"","v":""},{"$f":"\"\"","v":""},{"v":2697.3,"d":"2697"},{"v":2697.3,"d":"2697"},{"v":2697.3,"d":"2697"},{"v":2697.3,"d":"2697"},1.3689,1.3689,1.3689,1.3689,399,399,399,399,69,69,69,69,{"v":0.03125004674284824,"d":"0.03"},{"v":0.03125004674284824,"d":"0.03"},{"v":0.03125004674284824,"d":"0.03"},{"v":0.03125004674284824,"d":"0.03"},0.0002083,1.724,2,0.000461829,{"$f":"\"\"","v":""},{"$f":"\"\"","v":""},{"$f":"\"\"","v":""},{"$f":"\"\"","v":""},{"$f":"\"\"","v":""},{"$f":"\"\"","v":""},{"$f":"\"\"","v":""},{"$f":"\"\"","v":""},{"$f":"\"\"","v":""},{"$f":"\"\"","v":""},{"$f":"\"\"","v":""},{"$f":"\"\"","v":""},{"$f":"\"\"","v":""},{"$f":"\"\"","v":""},{"$f":"\"\"","v":""},1.8,{"$f":"\"\"","v":""},{"$f":"\"\"","v":""},{"$f":"\"\"","v":""}]
["25519515",null,null,2,55,195,15,15.9,{"$f":"\"\"","v":""},{"$f":"\"\"","v":""},{"$f":"\"\"","v":""},{"$f":"\"\"","v":""},{"v":3030.3,"d":"3030"},{"v":3030.3,"d":"3030"},{"v":3030.3,"d":"3030"},{"v":3030.3,"d":"3030"},1.3689,1.3689,1.3689,1.3689,448,448,448,448,77,77,77,77,{"v":0.040015955393988736,"d":"0.04"},{"v":0.040015955393988736,"d":"0.04"},{"v":0.040015955393988736,"d":"0.04"},{"v":0.040015955393988736,"d":"0.04"},0.0002083,1.724,2,0.000461829,{"$f":"\"\"","v":""},{"$f":"\"\"","v":""},{"$f":"\"\"","v":""},{"$f":"\"\"","v":""},{"$f":"\"\"","v":""},{"$f":"\"\"","v":""},{"$f":"\"\"","v":""},{"$f":"\"\"","v":""},{"$f":"\"\"","v":""},{"$f":"\"\"","v":""},{"$f":"\"\"","v":""},{"$f":"\"\"","v":""},{"$f":"\"\"","v":""},{"$f":"\"\"","v":""},{"$f":"\"\"","v":""},{"v":2,"d":"2.0"},{"$f":"\"\"","v":""},{"$f":"\"\"","v":""},{"$f":"\"\"","v":""}]
["25521515",null,null,2,55,215,15,15.9,{"$f":"\"\"","v":""},{"$f":"\"\"","v":""},{"$f":"\"\"","v":""},{"$f":"\"\"","v":""},{"v":3363.3,"d":"3363"},{"v":3363.3,"d":"3363"},{"v":3363.3,"d":"3363"},{"v":3363.3,"d":"3363"},1.3689,1.3689,1.3689,1.3689,497,497,497,497,85,85,85,85,{"v":0.050061592305978043,"d":"0.05"},{"v":0.050061592305978043,"d":"0.05"},{"v":0.050061592305978043,"d":"0.05"},{"v":0.050061592305978043,"d":"0.05"},0.0002083,1.724,2,0.000461829,{"$f":"\"\"","v":""},{"$f":"\"\"","v":""},{"$f":"\"\"","v":""},{"$f":"\"\"","v":""},{"$f":"\"\"","v":""},{"$f":"\"\"","v":""},{"$f":"\"\"","v":""},{"$f":"\"\"","v":""},{"$f":"\"\"","v":""},{"$f":"\"\"","v":""},{"$f":"\"\"","v":""},{"$f":"\"\"","v":""},{"$f":"\"\"","v":""},{"$f":"\"\"","v":""},{"$f":"\"\"","v":""},2.2,{"$f":"\"\"","v":""},{"$f":"\"\"","v":""},{"$f":"\"\"","v":""}]
["25523515",null,null,2,55,235,15,15.9,{"$f":"\"\"","v":""},{"$f":"\"\"","v":""},{"$f":"\"\"","v":""},{"$f":"\"\"","v":""},{"v":3696.3,"d":"3696"},{"v":3696.3,"d":"3696"},{"v":3696.3,"d":"3696"},{"v":3696.3,"d":"3696"},1.3689,1.3689,1.3689,1.3689,546,546,546,546,94,94,94,94,{"v":0.06270138703234718,"d":"0.06"},{"v":0.06270138703234718,"d":"0.06"},{"v":0.06270138703234718,"d":"0.06"},{"v":0.06270138703234718,"d":"0.06"},0.0002083,1.724,2,0.000461829,{"$f":"\"\"","v":""},{"$f":"\"\"","v":""},{"$f":"\"\"","v":""},{"$f":"\"\"","v":""},{"$f":"\"\"","v":""},{"$f":"\"\"","v":""},{"$f":"\"\"","v":""},{"$f":"\"\"","v":""},{"$f":"\"\"","v":""},{"$f":"\"\"","v":""},{"$f":"\"\"","v":""},{"$f":"\"\"","v":""},{"$f":"\"\"","v":""},{"$f":"\"\"","v":""},{"$f":"\"\"","v":""},2.4,{"$f":"\"\"","v":""},{"$f":"\"\"","v":""},{"$f":"\"\"","v":""}]
["2605515",null,null,2,60,55,15,15.9,{"$f":"\"\"","v":""},{"$f":"\"\"","v":""},{"$f":"\"\"","v":""},{"$f":"\"\"","v":""},{"v":720.72,"d":"721"},{"v":720.72,"d":"721"},{"v":720.72,"d":"721"},{"v":720.72,"d":"721"},1.3579,1.3579,1.3579,1.3579,108,108,108,108,19,19,19,19,{"v":1.8993452222952176E-3,"d":"0.00"},{"v":1.8993452222952176E-3,"d":"0.00"},{"v":1.8993452222952176E-3,"d":"0.00"},{"v":1.8993452222952176E-3,"d":"0.00"},0.0002083,1.724,2,0.000461829,{"$f":"\"\"","v":""},{"$f":"\"\"","v":""},{"$f":"\"\"","v":""},{"$f":"\"\"","v":""},{"$f":"\"\"","v":""},{"$f":"\"\"","v":""},{"$f":"\"\"","v":""},{"$f":"\"\"","v":""},{"$f":"\"\"","v":""},{"$f":"\"\"","v":""},{"$f":"\"\"","v":""},{"$f":"\"\"","v":""},{"$f":"\"\"","v":""},{"$f":"\"\"","v":""},{"$f":"\"\"","v":""},0.6,{"$f":"\"\"","v":""},{"$f":"\"\"","v":""},{"$f":"\"\"","v":""}]
["2606515",null,null,2,60,65,15,15.9,{"$f":"\"\"","v":""},{"$f":"\"\"","v":""},{"$f":"\"\"","v":""},{"$f":"\"\"","v":""},{"v":892.32,"d":"892"},{"v":892.32,"d":"892"},{"v":892.32,"d":"892"},{"v":892.32,"d":"892"},1.3579,1.3579,1.3579,1.3579,134,134,134,134,23,23,23,23,{"v":0.002854168163792465,"d":"0.00"},{"v":0.002854168163792465,"d":"0.00"},{"v":0.002854168163792465,"d":"0.00"},{"v":0.002854168163792465,"d":"0.00"},0.0002083,1.724,2,0.000461829,{"$f":"\"\"","v":""},{"$f":"\"\"","v":""},{"$f":"\"\"","v":""},{"$f":"\"\"","v":""},{"$f":"\"\"","v":""},{"$f":"\"\"","v":""},{"$f":"\"\"","v":""},{"$f":"\"\"","v":""},{"$f":"\"\"","v":""},{"$f":"\"\"","v":""},{"$f":"\"\"","v":""},{"$f":"\"\"","v":""},{"$f":"\"\"","v":""},{"$f":"\"\"","v":""},{"$f":"\"\"","v":""},0.7,{"$f":"\"\"","v":""},{"$f":"\"\"","v":""},{"$f":"\"\"","v":""}]
["2607515",null,null,2,60,75,15,15.9,{"$f":"\"\"","v":""},{"$f":"\"\"","v":""},{"$f":"\"\"","v":""},{"$f":"\"\"","v":""},{"v":1063.92,"d":"1064"},{"v":1063.92,"d":"1064"},{"v":1063.92,"d":"1064"},{"v":1063.92,"d":"1064"},1.3579,1.3579,1.3579,1.3579,160,160,160,160,28,28,28,28,{"v":0.004321571871521809,"d":"0.00"},{"v":0.004321571871521809,"d":"0.00"},{"v":0.004321571871521809,"d":"0.00"},{"v":0.004321571871521809,"d":"0.00"},0.0002083,1.724,2,0.000461829,{"$f":"\"\"","v":""},{"$f":"\"\"","v":""},{"$f":"\"\"","v":""},{"$f":"\"\"","v":""},{"$f":"\"\"","v":""},{"$f":"\"\"","v":""},{"$f":"\"\"","v":""},{"$f":"\"\"","v":""},{"$f":"\"\"","v":""},{"$f":"\"\"","v":""},{"$f":"\"\"","v":""},{"$f":"\"\"","v":""},{"$f":"\"\"","v":""},{"$f":"\"\"","v":""},{"$f":"\"\"","v":""},0.8,{"$f":"\"\"","v":""},{"$f":"\"\"","v":""},{"$f":"\"\"","v":""}]
["2608515",null,null,2,60,85,15,15.9,{"$f":"\"\"","v":""},{"$f":"\"\"","v":""},{"$f":"\"\"","v":""},{"$f":"\"\"","v":""},{"v":1235.52,"d":"1236"},{"v":1235.52,"d":"1236"},{"v":1235.52,"d":"1236"},{"v":1235.52,"d":"1236"},1.3579,1.3579,1.3579,1.3579,185,185,185,185,32,32,32,32,{"v":0.005768586985725312,"d":"0.01"},{"v":0.005768586985725312,"d":"0.01"},{"v":0.005768586985725312,"d":"0.01"},{"v":0.005768586985725312,"d":"0.01"},0.0002083,1.724,2,0.000461829,{"$f":"\"\"","v":""},{"$f":"\"\"","v":""},{"$f":"\"\"","v":""},{"$f":"\"\"","v":""},{"$f":"\"\"","v":""},{"$f":"\"\"","v":""},{"$f":"\"\"","v":""},{"$f":"\"\"","v":""},{"$f":"\"\"","v":""},{"$f":"\"\"","v":""},{"$f":"\"\"","v":""},{"$f":"\"\"","v":""},{"$f":"\"\"","v":""},{"$f":"\"\"","v":""},{"$f":"\"\"","v":""},0.9,{"$f":"\"\"","v":""},{"$f":"\"\"","v":""},{"$f":"\"\"","v":""}]
["2609515",null,null,2,60,95,15,15.9,{"$f":"\"\"","v":""},{"$f":"\"\"","v":""},{"$f":"\"\"","v":""},{"$f":"\"\"","v":""},{"v":1407.12,"d":"1407"},{"v":1407.12,"d":"1407"},{"v":1407.12,"d":"1407"},{"v":1407.12,"d":"1407"},1.3579,1.3579,1.3579,1.3579,211,211,211,211,36,36,36,36,{"v":0.00745175374881459,"d":"0.01"},{"v":0.00745175374881459,"d":"0.01"},{"v":0.00745175374881459,"d":"0.01"},{"v":0.00745175374881459,"d":"0.01"},0.0002083,1.724,2,0.000461829,{"$f":"\"\"","v":""},{"$f":"\"\"","v":""},{"$f":"\"\"","v":""},{"$f":"\"\"","v":""},{"$f":"\"\"","v":""},{"$f":"\"\"","v":""},{"$f":"\"\"","v":""},{"$f":"\"\"","v":""},{"$f":"\"\"","v":""},{"$f":"\"\"","v":""},{"$f":"\"\"","v":""},{"$f":"\"\"","v":""},{"$f":"\"\"","v":""},{"$f":"\"\"","v":""},{"$f":"\"\"","v":""},{"v":1,"d":"1.0"},{"$f":"\"\"","v":""},{"$f":"\"\"","v":""},{"$f":"\"\"","v":""}]
["26010515",null,null,2,60,105,15,15.9,{"$f":"\"\"","v":""},{"$f":"\"\"","v":""},{"$f":"\"\"","v":""},{"$f":"\"\"","v":""},{"v":1578.72,"d":"1579"},{"v":1578.72,"d":"1579"},{"v":1578.72,"d":"1579"},{"v":1578.72,"d":"1579"},1.3579,1.3579,1.3579,1.3579,237,237,237,237,41,41,41,41,{"v":0.00983914709782286,"d":"0.01"},{"v":0.00983914709782286,"d":"0.01"},{"v":0.00983914709782286,"d":"0.01"},{"v":0.00983914709782286,"d":"0.01"},0.0002083,1.724,2,0.000461829,{"$f":"\"\"","v":""},{"$f":"\"\"","v":""},{"$f":"\"\"","v":""},{"$f":"\"\"","v":""},{"$f":"\"\"","v":""},{"$f":"\"\"","v":""},{"$f":"\"\"","v":""},{"$f":"\"\"","v":""},{"$f":"\"\"","v":""},{"$f":"\"\"","v":""},{"$f":"\"\"","v":""},{"$f":"\"\"","v":""},{"$f":"\"\"","v":""},{"$f":"\"\"","v":""},{"$f":"\"\"","v":""},1.1,{"$f":"\"\"","v":""},{"$f":"\"\"","v":""},{"$f":"\"\"","v":""}]
["26011515",null,null,2,60,115,15,15.9,{"$f":"\"\"","v":""},{"$f":"\"\"","v":""},{"$f":"\"\"","v":""},{"$f":"\"\"","v":""},{"v":1750.32,"d":"1750"},{"v":1750.32,"d":"1750"},{"v":1750.32,"d":"1750"},{"v":1750.32,"d":"1750"},1.3579,1.3579,1.3579,1.3579,263,263,263,263,45,45,45,45,{"v":0.012073581074392142,"d":"0.01"},{"v":0.012073581074392142,"d":"0.01"},{"v":0.012073581074392142,"d":"0.01"},{"v":0.012073581074392142,"d":"0.01"},0.0002083,1.724,2,0.000461829,{"$f":"\"\"","v":""},{"$f":"\"\"","v":""},{"$f":"\"\"","v":""},{"$f":"\"\"","v":""},{"$f":"\"\"","v":""},{"$f":"\"\"","v":""},{"$f":"\"\"","v":""},{"$f":"\"\"","v":""},{"$f":"\"\"","v":""},{"$f":"\"\"","v":""},{"$f":"\"\"","v":""},{"$f":"\"\"","v":""},{"$f":"\"\"","v":""},{"$f":"\"\"","v":""},{"$f":"\"\"","v":""},1.2,{"$f":"\"\"","v":""},{"$f":"\"\"","v":""},{"$f":"\"\"","v":""}]
["26013515",null,null,2,60,135,15,15.9,{"$f":"\"\"","v":""},{"$f":"\"\"","v":""},{"$f":"\"\"","v":""},{"$f":"\"\"","v":""},{"v":2093.52,"d":"2094"},{"v":2093.52,"d":"2094"},{"v":2093.52,"d":"2094"},{"v":2093.52,"d":"2094"},1.3579,1.3579,1.3579,1.3579,314,314,314,314,54,54,54,54,{"v":0.01797222242280748,"d":"0.02"},{"v":0.01797222242280748,"d":"0.02"},{"v":0.01797222242280748,"d":"0.02"},{"v":0.01797222242280748,"d":"0.02"},0.0002083,1.724,2,0.000461829,{"$f":"\"\"","v":""},{"$f":"\"\"","v":""},{"$f":"\"\"","v":""},{"$f":"\"\"","v":""},{"$f":"\"\"","v":""},{"$f":"\"\"","v":""},{"$f":"\"\"","v":""},{"$f":"\"\"","v":""},{"$f":"\"\"","v":""},{"$f":"\"\"","v":""},{"$f":"\"\"","v":""},{"$f":"\"\"","v":""},{"$f":"\"\"","v":""},{"$f":"\"\"","v":""},{"$f":"\"\"","v":""},1.4,{"$f":"\"\"","v":""},{"$f":"\"\"","v":""},{"$f":"\"\"","v":""}]
["26015515",null,null,2,60,155,15,15.9,{"$f":"\"\"","v":""},{"$f":"\"\"","v":""},{"$f":"\"\"","v":""},{"$f":"\"\"","v":""},{"v":2436.72,"d":"2437"},{"v":2436.72,"d":"2437"},{"v":2436.72,"d":"2437"},{"v":2436.72,"d":"2437"},1.3579,1.3579,1.3579,1.3579,366,366,366,366,63,63,63,63,{"v":0.025224348551629628,"d":"0.03"},{"v":0.025224348551629628,"d":"0.03"},{"v":0.025224348551629628,"d":"0.03"},{"v":0.025224348551629628,"d":"0.03"},0.0002083,1.724,2,0.000461829,{"$f":"\"\"","v":""},{"$f":"\"\"","v":""},{"$f":"\"\"","v":""},{"$f":"\"\"","v":""},{"$f":"\"\"","v":""},{"$f":"\"\"","v":""},{"$f":"\"\"","v":""},{"$f":"\"\"","v":""},{"$f":"\"\"","v":""},{"$f":"\"\"","v":""},{"$f":"\"\"","v":""},{"$f":"\"\"","v":""},{"$f":"\"\"","v":""},{"$f":"\"\"","v":""},{"$f":"\"\"","v":""},1.6,{"$f":"\"\"","v":""},{"$f":"\"\"","v":""},{"$f":"\"\"","v":""}]
["26017515",null,null,2,60,175,15,15.9,{"$f":"\"\"","v":""},{"$f":"\"\"","v":""},{"$f":"\"\"","v":""},{"$f":"\"\"","v":""},{"v":2779.92,"d":"2780"},{"v":2779.92,"d":"2780"},{"v":2779.92,"d":"2780"},{"v":2779.92,"d":"2780"},1.3579,1.3579,1.3579,1.3579,417,417,417,417,72,72,72,72,{"v":0.03390315089104739,"d":"0.03"},{"v":0.03390315089104739,"d":"0.03"},{"v":0.03390315089104739,"d":"0.03"},{"v":0.03390315089104739,"d":"0.03"},0.0002083,1.724,2,0.000461829,{"$f":"\"\"","v":""},{"$f":"\"\"","v":""},{"$f":"\"\"","v":""},{"$f":"\"\"","v":""},{"$f":"\"\"","v":""},{"$f":"\"\"","v":""},{"$f":"\"\"","v":""},{"$f":"\"\"","v":""},{"$f":"\"\"","v":""},{"$f":"\"\"","v":""},{"$f":"\"\"","v":""},{"$f":"\"\"","v":""},{"$f":"\"\"","v":""},{"$f":"\"\"","v":""},{"$f":"\"\"","v":""},1.8,{"$f":"\"\"","v":""},{"$f":"\"\"","v":""},{"$f":"\"\"","v":""}]
["26019515",null,null,2,60,195,15,15.9,{"$f":"\"\"","v":""},{"$f":"\"\"","v":""},{"$f":"\"\"","v":""},{"$f":"\"\"","v":""},{"v":3123.12,"d":"3123"},{"v":3123.12,"d":"3123"},{"v":3123.12,"d":"3123"},{"v":3123.12,"d":"3123"},1.3579,1.3579,1.3579,1.3579,469,469,469,469,81,81,81,81,{"v":0.04407897239551786,"d":"0.04"},{"v":0.04407897239551786,"d":"0.04"},{"v":0.04407897239551786,"d":"0.04"},{"v":0.04407897239551786,"d":"0.04"},0.0002083,1.724,2,0.000461829,{"$f":"\"\"","v":""},{"$f":"\"\"","v":""},{"$f":"\"\"","v":""},{"$f":"\"\"","v":""},{"$f":"\"\"","v":""},{"$f":"\"\"","v":""},{"$f":"\"\"","v":""},{"$f":"\"\"","v":""},{"$f":"\"\"","v":""},{"$f":"\"\"","v":""},{"$f":"\"\"","v":""},{"$f":"\"\"","v":""},{"$f":"\"\"","v":""},{"$f":"\"\"","v":""},{"$f":"\"\"","v":""},{"v":2,"d":"2.0"},{"$f":"\"\"","v":""},{"$f":"\"\"","v":""},{"$f":"\"\"","v":""}]
["26021515",null,null,2,60,215,15,15.9,{"$f":"\"\"","v":""},{"$f":"\"\"","v":""},{"$f":"\"\"","v":""},{"$f":"\"\"","v":""},{"v":3466.32,"d":"3466"},{"v":3466.32,"d":"3466"},{"v":3466.32,"d":"3466"},{"v":3466.32,"d":"3466"},1.3579,1.3579,1.3579,1.3579,520,520,520,520,89,89,89,89,{"v":0.05464408009247842,"d":"0.05"},{"v":0.05464408009247842,"d":"0.05"},{"v":0.05464408009247842,"d":"0.05"},{"v":0.05464408009247842,"d":"0.05"},0.0002083,1.724,2,0.000461829,{"$f":"\"\"","v":""},{"$f":"\"\"","v":""},{"$f":"\"\"","v":""},{"$f":"\"\"","v":""},{"$f":"\"\"","v":""},{"$f":"\"\"","v":""},{"$f":"\"\"","v":""},{"$f":"\"\"","v":""},{"$f":"\"\"","v":""},{"$f":"\"\"","v":""},{"$f":"\"\"","v":""},{"$f":"\"\"","v":""},{"$f":"\"\"","v":""},{"$f":"\"\"","v":""},{"$f":"\"\"","v":""},2.2,{"$f":"\"\"","v":""},{"$f":"\"\"","v":""},{"$f":"\"\"","v":""}]
["26023515",null,null,2,60,235,15,15.9,{"$f":"\"\"","v":""},{"$f":"\"\"","v":""},{"$f":"\"\"","v":""},{"$f":"\"\"","v":""},{"v":3809.52,"d":"3810"},{"v":3809.52,"d":"3810"},{"v":3809.52,"d":"3810"},{"v":3809.52,"d":"3810"},1.3579,1.3579,1.3579,1.3579,572,572,572,572,98,98,98,98,{"v":0.06786893000553901,"d":"0.07"},{"v":0.06786893000553901,"d":"0.07"},{"v":0.06786893000553901,"d":"0.07"},{"v":0.06786893000553901,"d":"0.07"},0.0002083,1.724,2,0.000461829,{"$f":"\"\"","v":""},{"$f":"\"\"","v":""},{"$f":"\"\"","v":""},{"$f":"\"\"","v":""},{"$f":"\"\"","v":""},{"$f":"\"\"","v":""},{"$f":"\"\"","v":""},{"$f":"\"\"","v":""},{"$f":"\"\"","v":""},{"$f":"\"\"","v":""},{"$f":"\"\"","v":""},{"$f":"\"\"","v":""},{"$f":"\"\"","v":""},{"$f":"\"\"","v":""},{"$f":"\"\"","v":""},2.4,{"$f":"\"\"","v":""},{"$f":"\"\"","v":""},{"$f":"\"\"","v":""}]
["2655515",null,null,2,65,55,15,15.9,{"$f":"\"\"","v":""},{"$f":"\"\"","v":""},{"$f":"\"\"","v":""},{"$f":"\"\"","v":""},{"v":739.62,"d":"740"},{"v":739.62,"d":"740"},{"v":739.62,"d":"740"},{"v":739.62,"d":"740"},1.3468,1.3468,1.3468,1.3468,113,113,113,113,19,19,19,19,{"v":1.8993452222952176E-3,"d":"0.00"},{"v":1.8993452222952176E-3,"d":"0.00"},{"v":1.8993452222952176E-3,"d":"0.00"},{"v":1.8993452222952176E-3,"d":"0.00"},0.0002083,1.724,2,0.000461829,{"$f":"\"\"","v":""},{"$f":"\"\"","v":""},{"$f":"\"\"","v":""},{"$f":"\"\"","v":""},{"$f":"\"\"","v":""},{"$f":"\"\"","v":""},{"$f":"\"\"","v":""},{"$f":"\"\"","v":""},{"$f":"\"\"","v":""},{"$f":"\"\"","v":""},{"$f":"\"\"","v":""},{"$f":"\"\"","v":""},{"$f":"\"\"","v":""},{"$f":"\"\"","v":""},{"$f":"\"\"","v":""},0.6,{"$f":"\"\"","v":""},{"$f":"\"\"","v":""},{"$f":"\"\"","v":""}]
["2656515",null,null,2,65,65,15,15.9,{"$f":"\"\"","v":""},{"$f":"\"\"","v":""},{"$f":"\"\"","v":""},{"$f":"\"\"","v":""},{"v":915.72,"d":"916"},{"v":915.72,"d":"916"},{"v":915.72,"d":"916"},{"v":915.72,"d":"916"},1.3468,1.3468,1.3468,1.3468,140,140,140,140,24,24,24,24,{"v":3.1019036630856476E-3,"d":"0.00"},{"v":3.1019036630856476E-3,"d":"0.00"},{"v":3.1019036630856476E-3,"d":"0.00"},{"v":3.1019036630856476E-3,"d":"0.00"},0.0002083,1.724,2,0.000461829,{"$f":"\"\"","v":""},{"$f":"\"\"","v":""},{"$f":"\"\"","v":""},{"$f":"\"\"","v":""},{"$f":"\"\"","v":""},{"$f":"\"\"","v":""},{"$f":"\"\"","v":""},{"$f":"\"\"","v":""},{"$f":"\"\"","v":""},{"$f":"\"\"","v":""},{"$f":"\"\"","v":""},{"$f":"\"\"","v":""},{"$f":"\"\"","v":""},{"$f":"\"\"","v":""},{"$f":"\"\"","v":""},0.7,{"$f":"\"\"","v":""},{"$f":"\"\"","v":""},{"$f":"\"\"","v":""}]
["2657515",null,null,2,65,75,15,15.9,{"$f":"\"\"","v":""},{"$f":"\"\"","v":""},{"$f":"\"\"","v":""},{"$f":"\"\"","v":""},{"v":1091.82,"d":"1092"},{"v":1091.82,"d":"1092"},{"v":1091.82,"d":"1092"},{"v":1091.82,"d":"1092"},1.3468,1.3468,1.3468,1.3468,166,166,166,166,29,29,29,29,{"v":0.004627773020486929,"d":"0.00"},{"v":0.004627773020486929,"d":"0.00"},{"v":0.004627773020486929,"d":"0.00"},{"v":0.004627773020486929,"d":"0.00"},0.0002083,1.724,2,0.000461829,{"$f":"\"\"","v":""},{"$f":"\"\"","v":""},{"$f":"\"\"","v":""},{"$f":"\"\"","v":""},{"$f":"\"\"","v":""},{"$f":"\"\"","v":""},{"$f":"\"\"","v":""},{"$f":"\"\"","v":""},{"$f":"\"\"","v":""},{"$f":"\"\"","v":""},{"$f":"\"\"","v":""},{"$f":"\"\"","v":""},{"$f":"\"\"","v":""},{"$f":"\"\"","v":""},{"$f":"\"\"","v":""},0.8,{"$f":"\"\"","v":""},{"$f":"\"\"","v":""},{"$f":"\"\"","v":""}]
["2658515",null,null,2,65,85,15,15.9,{"$f":"\"\"","v":""},{"$f":"\"\"","v":""},{"$f":"\"\"","v":""},{"$f":"\"\"","v":""},{"v":1267.92,"d":"1268"},{"v":1267.92,"d":"1268"},{"v":1267.92,"d":"1268"},{"v":1267.92,"d":"1268"},1.3468,1.3468,1.3468,1.3468,193,193,193,193,33,33,33,33,{"v":0.006124557682231243,"d":"0.01"},{"v":0.006124557682231243,"d":"0.01"},{"v":0.006124557682231243,"d":"0.01"},{"v":0.006124557682231243,"d":"0.01"},0.0002083,1.724,2,0.000461829,{"$f":"\"\"","v":""},{"$f":"\"\"","v":""},{"$f":"\"\"","v":""},{"$f":"\"\"","v":""},{"$f":"\"\"","v":""},{"$f":"\"\"","v":""},{"$f":"\"\"","v":""},{"$f":"\"\"","v":""},{"$f":"\"\"","v":""},{"$f":"\"\"","v":""},{"$f":"\"\"","v":""},{"$f":"\"\"","v":""},{"$f":"\"\"","v":""},{"$f":"\"\"","v":""},{"$f":"\"\"","v":""},0.9,{"$f":"\"\"","v":""},{"$f":"\"\"","v":""},{"$f":"\"\"","v":""}]
["2659515",null,null,2,65,95,15,15.9,{"$f":"\"\"","v":""},{"$f":"\"\"","v":""},{"$f":"\"\"","v":""},{"$f":"\"\"","v":""},{"v":1444.02,"d":"1444"},{"v":1444.02,"d":"1444"},{"v":1444.02,"d":"1444"},{"v":1444.02,"d":"1444"},1.3468,1.3468,1.3468,1.3468,220,220,220,220,38,38,38,38,{"v":0.00827654892989986,"d":"0.01"},{"v":0.00827654892989986,"d":"0.01"},{"v":0.00827654892989986,"d":"0.01"},{"v":0.00827654892989986,"d":"0.01"},0.0002083,1.724,2,0.000461829,{"$f":"\"\"","v":""},{"$f":"\"\"","v":""},{"$f":"\"\"","v":""},{"$f":"\"\"","v":""},{"$f":"\"\"","v":""},{"$f":"\"\"","v":""},{"$f":"\"\"","v":""},{"$f":"\"\"","v":""},{"$f":"\"\"","v":""},{"$f":"\"\"","v":""},{"$f":"\"\"","v":""},{"$f":"\"\"","v":""},{"$f":"\"\"","v":""},{"$f":"\"\"","v":""},{"$f":"\"\"","v":""},{"v":1,"d":"1.0"},{"$f":"\"\"","v":""},{"$f":"\"\"","v":""},{"$f":"\"\"","v":""}]
["26510515",null,null,2,65,105,15,15.9,{"$f":"\"\"","v":""},{"$f":"\"\"","v":""},{"$f":"\"\"","v":""},{"$f":"\"\"","v":""},{"v":1620.12,"d":"1620"},{"v":1620.12,"d":"1620"},{"v":1620.12,"d":"1620"},{"v":1620.12,"d":"1620"},1.3468,1.3468,1.3468,1.3468,247,247,247,{"$f":"ROUND(P347*POWER(CF_heat,T347),0)","v":247},42,42,42,{"$f":"ROUND(X347*3600/(4186*ABS($O$1-$O$2)),0)","v":42},{"v":0.01030943897885573,"d":"0.01"},{"v":0.01030943897885573,"d":"0.01"},{"v":0.01030943897885573,"d":"0.01"},{"$f":"(($AG347*(AB347^$AH347)*((($F347-14.4)*$AI347)/100))+($AJ347*(AB347^2)))*0.0098","v":{"v":0.01030943897885573,"d":"0.01"}},0.0002083,1.724,2,{"$f":"IF($G347=$CO$103,CS$103,IF($G347=$CO$104,CS$104,IF($G347=$CO$105,CS$105,IF($G347=$CO$107,CS$107,IF($G347=$CO$108,CS$108,IF($G347=$CO$109,CS$109,IF($G347=$CO$111,CS$111,IF($G347=$CO$112,CS$112,IF($G347=$CO$113,CS$113,IF($G347=$CO$115,CS$115,IF($G347=$CO$116,CS$116,IF($G347=$CO$117,CS$117,IF($G347=$CO$119,CS$119,IF($G347=$CO$120,CS$120,))))))))))))))","v":0.000461829},{"$f":"\"\"","v":""},{"$f":"\"\"","v":""},{"$f":"\"\"","v":""},{"$f":"\"\"","v":""},{"$f":"\"\"","v":""},{"$f":"\"\"","v":""},{"$f":"\"\"","v":""},{"$f":"\"\"","v":""},{"$f":"\"\"","v":""},{"$f":"\"\"","v":""},{"$f":"\"\"","v":""},{"$f":"\"\"","v":""},{"$f":"\"\"","v":""},{"$f":"\"\"","v":""},{"$f":"\"\"","v":""},1.1,{"$f":"\"\"","v":""},{"$f":"\"\"","v":""},{"$f":"\"\"","v":""}]
[{"$f":"CONCATENATE(D348,E348,F348,G348)","v":"26511515"},null,null,2,65,115,15,15.9,{"$f":"\"\"","v":""},{"$f":"\"\"","v":""},{"$f":"\"\"","v":""},{"$f":"\"\"","v":""},{"v":1796.22,"d":"1796"},{"v":1796.22,"d":"1796"},{"v":1796.22,"d":"1796"},{"v":1796.22,"d":"1796"},1.3468,1.3468,1.3468,1.3468,{"$f":"ROUND(M348*POWER(CF_heat,Q348),0)","v":274},274,274,274,{"$f":"ROUND(U348*3600/(4186*ABS($O$1-$O$2)),0)","v":47},47,47,47,{"$f":"(($AG348*(Y348^$AH348)*((($F348-14.4)*$AI348)/100))+($AJ348*(Y348^2)))*0.0098","v":{"v":0.013132784488420852,"d":"0.01"}},{"v":0.013132784488420852,"d":"0.01"},{"v":0.013132784488420852,"d":"0.01"},{"v":0.013132784488420852,"d":"0.01"},{"$f":"IF($G348=$CO$103,CP$103,IF($G348=$CO$104,CP$104,IF($G348=$CO$105,CP$105,IF($G348=$CO$107,CP$107,IF($G348=$CO$108,CP$108,IF($G348=$CO$109,CP$109,IF($G348=$CO$111,CP$111,IF($G348=$CO$112,CP$112,IF($G348=$CO$113,CP$113,IF($G348=$CO$115,CP$115,IF($G348=$CO$116,CP$116,IF($G348=$CO$117,CP$117,IF($G348=$CO$119,CP$119,IF($G348=$CO$120,CP$120,))))))))))))))","v":0.0002083},1.724,2,0.000461829,{"$f":"\"\"","v":""},{"$f":"\"\"","v":""},{"$f":"\"\"","v":""},{"$f":"\"\"","v":""},{"$f":"\"\"","v":""},{"$f":"\"\"","v":""},{"$f":"\"\"","v":""},{"$f":"\"\"","v":""},{"$f":"\"\"","v":""},{"$f":"\"\"","v":""},{"$f":"\"\"","v":""},{"$f":"\"\"","v":""},{"$f":"\"\"","v":""},{"$f":"\"\"","v":""},{"$f":"\"\"","v":""},{"$f":"ROUND(IF(G348=10,$CO$92*F348,IF(G348=11,$CO$93*F348,IF(G348=15,$CO$94*F348,IF(G348=16,$CO$95*F348,IF(G348=20,$CO$96*F348,IF(G348=21,$CO$97*F348,)))))),1)","v":1.2},{"$f":"\"\"","v":""},{"$f":"\"\"","v":""},{"$f":"\"\"","v":""}]
["26513515",null,null,2,65,135,15,15.9,{"$f":"\"\"","v":""},{"$f":"\"\"","v":""},{"$f":"\"\"","v":""},{"$f":"\"\"","v":""},{"v":2148.42,"d":"2148"},{"v":2148.42,"d":"2148"},{"v":2148.42,"d":"2148"},{"v":2148.42,"d":"2148"},1.3468,1.3468,1.3468,1.3468,328,328,328,328,56,56,56,56,{"v":0.019276868286080422,"d":"0.02"},{"v":0.019276868286080422,"d":"0.02"},{"v":0.019276868286080422,"d":"0.02"},{"v":0.019276868286080422,"d":"0.02"},0.0002083,1.724,2,0.000461829,{"$f":"\"\"","v":""},{"$f":"\"\"","v":""},{"$f":"\"\"","v":""},{"$f":"\"\"","v":""},{"$f":"\"\"","v":""},{"$f":"\"\"","v":""},{"$f":"\"\"","v":""},{"$f":"\"\"","v":""},{"$f":"\"\"","v":""},{"$f":"\"\"","v":""},{"$f":"\"\"","v":""},{"$f":"\"\"","v":""},{"$f":"\"\"","v":""},{"$f":"\"\"","v":""},{"$f":"\"\"","v":""},1.4,{"$f":"\"\"","v":""},{"$f":"\"\"","v":""},{"$f":"\"\"","v":""}]
["26515515",null,null,2,65,155,15,15.9,{"$f":"\"\"","v":""},{"$f":"\"\"","v":""},{"$f":"\"\"","v":""},{"$f":"\"\"","v":""},{"v":2500.62,"d":"2501"},{"v":2500.62,"d":"2501"},{"v":2500.62,"d":"2501"},{"v":2500.62,"d":"2501"},1.3468,1.3468,1.3468,1.3468,381,381,381,381,66,66,66,66,{"v":0.027582202186458866,"d":"0.03"},{"v":0.027582202186458866,"d":"0.03"},{"v":0.027582202186458866,"d":"0.03"},{"v":0.027582202186458866,"d":"0.03"},0.0002083,1.724,2,0.000461829,{"$f":"\"\"","v":""},{"$f":"\"\"","v":""},{"$f":"\"\"","v":""},{"$f":"\"\"","v":""},{"$f":"\"\"","v":""},{"$f":"\"\"","v":""},{"$f":"\"\"","v":""},{"$f":"\"\"","v":""},{"$f":"\"\"","v":""},{"$f":"\"\"","v":""},{"$f":"\"\"","v":""},{"$f":"\"\"","v":""},{"$f":"\"\"","v":""},{"$f":"\"\"","v":""},{"$f":"\"\"","v":""},1.6,{"$f":"\"\"","v":""},{"$f":"\"\"","v":""},{"$f":"\"\"","v":""}]
["26517515",null,null,2,65,175,15,15.9,{"$f":"\"\"","v":""},{"$f":"\"\"","v":""},{"$f":"\"\"","v":""},{"$f":"\"\"","v":""},{"v":2852.82,"d":"2853"},{"v":2852.82,"d":"2853"},{"v":2852.82,"d":"2853"},{"v":2852.82,"d":"2853"},1.3468,1.3468,1.3468,1.3468,435,435,435,435,75,75,75,75,{"v":0.03666034766465952,"d":"0.04"},{"v":0.03666034766465952,"d":"0.04"},{"v":0.03666034766465952,"d":"0.04"},{"v":0.03666034766465952,"d":"0.04"},0.0002083,1.724,2,0.000461829,{"$f":"\"\"","v":""},{"$f":"\"\"","v":""},{"$f":"\"\"","v":""},{"$f":"\"\"","v":""},{"$f":"\"\"","v":""},{"$f":"\"\"","v":""},{"$f":"\"\"","v":""},{"$f":"\"\"","v":""},{"$f":"\"\"","v":""},{"$f":"\"\"","v":""},{"$f":"\"\"","v":""},{"$f":"\"\"","v":""},{"$f":"\"\"","v":""},{"$f":"\"\"","v":""},{"$f":"\"\"","v":""},1.8,{"$f":"\"\"","v":""},{"$f":"\"\"","v":""},{"$f":"\"\"","v":""}]
["26519515",null,null,2,65,195,15,15.9,{"$f":"\"\"","v":""},{"$f":"\"\"","v":""},{"$f":"\"\"","v":""},{"$f":"\"\"","v":""},{"v":3205.02,"d":"3205"},3205.02,3205.02,3205.02,1.3468,1.3468,1.3468,1.3468,489,489,489,489,84,84,84,84,{"v":0.04725004723576808,"d":"0.05"},{"v":0.04725004723576808,"d":"0.05"},{"v":0.04725004723576808,"d":"0.05"},{"v":0.04725004723576808,"d":"0.05"},0.0002083,1.724,2,0.000461829,{"$f":"\"\"","v":""},{"$f":"\"\"","v":""},{"$f":"\"\"","v":""},{"$f":"\"\"","v":""},{"$f":"\"\"","v":""},{"$f":"\"\"","v":""},{"$f":"\"\"","v":""},{"$f":"\"\"","v":""},{"$f":"\"\"","v":""},{"$f":"\"\"","v":""},{"$f":"\"\"","v":""},{"$f":"\"\"","v":""},{"$f":"\"\"","v":""},{"$f":"\"\"","v":""},{"$f":"\"\"","v":""},{"v":2,"d":"2.0"},{"$f":"\"\"","v":""},{"$f":"\"\"","v":""},{"$f":"\"\"","v":""}]
["26521515",null,null,2,65,215,15,15.9,{"$f":"\"\"","v":""},{"$f":"\"\"","v":""},{"$f":"\"\"","v":""},{"$f":"\"\"","v":""},{"v":3557.22,"d":"3557"},{"v":3557.22,"d":"3557"},{"v":3557.22,"d":"3557"},{"v":3557.22,"d":"3557"},1.3468,1.3468,1.3468,1.3468,542,542,542,542,93,93,93,93,{"v":0.05941878521512381,"d":"0.06"},{"v":0.05941878521512381,"d":"0.06"},{"v":0.05941878521512381,"d":"0.06"},{"v":0.05941878521512381,"d":"0.06"},0.0002083,1.724,2,0.000461829,{"$f":"\"\"","v":""},{"$f":"\"\"","v":""},{"$f":"\"\"","v":""},{"$f":"\"\"","v":""},{"$f":"\"\"","v":""},{"$f":"\"\"","v":""},{"$f":"\"\"","v":""},{"$f":"\"\"","v":""},{"$f":"\"\"","v":""},{"$f":"\"\"","v":""},{"$f":"\"\"","v":""},{"$f":"\"\"","v":""},{"$f":"\"\"","v":""},{"$f":"\"\"","v":""},{"$f":"\"\"","v":""},2.2,{"$f":"\"\"","v":""},{"$f":"\"\"","v":""},{"$f":"\"\"","v":""}]
["26523515",null,null,2,65,235,15,15.9,{"$f":"\"\"","v":""},{"$f":"\"\"","v":""},{"$f":"\"\"","v":""},{"$f":"\"\"","v":""},{"v":3909.42,"d":"3909"},{"v":3909.42,"d":"3909"},{"v":3909.42,"d":"3909"},{"v":3909.42,"d":"3909"},1.3468,1.3468,1.3468,1.3468,596,596,596,596,103,103,103,103,{"v":0.07460331891334701,"d":"0.07"},{"v":0.07460331891334701,"d":"0.07"},{"v":0.07460331891334701,"d":"0.07"},{"v":0.07460331891334701,"d":"0.07"},0.0002083,1.724,2,0.000461829,{"$f":"\"\"","v":""},{"$f":"\"\"","v":""},{"$f":"\"\"","v":""},{"$f":"\"\"","v":""},{"$f":"\"\"","v":""},{"$f":"\"\"","v":""},{"$f":"\"\"","v":""},{"$f":"\"\"","v":""},{"$f":"\"\"","v":""},{"$f":"\"\"","v":""},{"$f":"\"\"","v":""},{"$f":"\"\"","v":""},{"$f":"\"\"","v":""},{"$f":"\"\"","v":""},{"$f":"\"\"","v":""},2.4,{"$f":"\"\"","v":""},{"$f":"\"\"","v":""},{"$f":"\"\"","v":""}]
["2705515",null,null,2,70,55,15,15.9,{"$f":"\"\"","v":""},{"$f":"\"\"","v":""},{"$f":"\"\"","v":""},{"$f":"\"\"","v":""},{"v":756.84,"d":"757"},{"v":756.84,"d":"757"},{"v":756.84,"d":"757"},{"v":756.84,"d":"757"},1.3358,1.3358,1.3358,1.3358,117,117,117,117,20,20,20,20,{"v":2.1004024613552E-3,"d":"0.00"},{"v":2.1004024613552E-3,"d":"0.00"},{"v":2.1004024613552E-3,"d":"0.00"},{"v":2.1004024613552E-3,"d":"0.00"},0.0002083,1.724,2,0.000461829,{"$f":"\"\"","v":""},{"$f":"\"\"","v":""},{"$f":"\"\"","v":""},{"$f":"\"\"","v":""},{"$f":"\"\"","v":""},{"$f":"\"\"","v":""},{"$f":"\"\"","v":""},{"$f":"\"\"","v":""},{"$f":"\"\"","v":""},{"$f":"\"\"","v":""},{"$f":"\"\"","v":""},{"$f":"\"\"","v":""},{"$f":"\"\"","v":""},{"$f":"\"\"","v":""},{"$f":"\"\"","v":""},0.6,{"$f":"\"\"","v":""},{"$f":"\"\"","v":""},{"$f":"\"\"","v":""}]
["2706515",null,null,2,70,65,15,15.9,{"$f":"\"\"","v":""},{"$f":"\"\"","v":""},{"$f":"\"\"","v":""},{"$f":"\"\"","v":""},{"v":937.04,"d":"937"},{"v":937.04,"d":"937"},{"v":937.04,"d":"937"},{"v":937.04,"d":"937"},1.3358,1.3358,1.3358,1.3358,145,145,145,145,25,25,25,25,{"v":0.003359763654561989,"d":"0.00"},{"v":0.003359763654561989,"d":"0.00"},{"v":0.003359763654561989,"d":"0.00"},{"v":0.003359763654561989,"d":"0.00"},0.0002083,1.724,2,0.000461829,{"$f":"\"\"","v":""},{"$f":"\"\"","v":""},{"$f":"\"\"","v":""},{"$f":"\"\"","v":""},{"$f":"\"\"","v":""},{"$f":"\"\"","v":""},{"$f":"\"\"","v":""},{"$f":"\"\"","v":""},{"$f":"\"\"","v":""},{"$f":"\"\"","v":""},{"$f":"\"\"","v":""},{"$f":"\"\"","v":""},{"$f":"\"\"","v":""},{"$f":"\"\"","v":""},{"$f":"\"\"","v":""},0.7,{"$f":"\"\"","v":""},{"$f":"\"\"","v":""},{"$f":"\"\"","v":""}]
["2707515",null,null,2,70,75,15,15.9,{"$f":"\"\"","v":""},{"$f":"\"\"","v":""},{"$f":"\"\"","v":""},{"$f":"\"\"","v":""},{"v":1117.24,"d":"1117"},{"v":1117.24,"d":"1117"},{"v":1117.24,"d":"1117"},{"v":1117.24,"d":"1117"},1.3358,1.3358,1.3358,1.3358,173,173,173,173,30,30,30,30,{"v":4.9442452519651145E-3,"d":"0.00"},{"v":4.9442452519651145E-3,"d":"0.00"},{"v":4.9442452519651145E-3,"d":"0.00"},{"v":4.9442452519651145E-3,"d":"0.00"},0.0002083,1.724,2,0.000461829,{"$f":"\"\"","v":""},{"$f":"\"\"","v":""},{"$f":"\"\"","v":""},{"$f":"\"\"","v":""},{"$f":"\"\"","v":""},{"$f":"\"\"","v":""},{"$f":"\"\"","v":""},{"$f":"\"\"","v":""},{"$f":"\"\"","v":""},{"$f":"\"\"","v":""},{"$f":"\"\"","v":""},{"$f":"\"\"","v":""},{"$f":"\"\"","v":""},{"$f":"\"\"","v":""},{"$f":"\"\"","v":""},0.8,{"$f":"\"\"","v":""},{"$f":"\"\"","v":""},{"$f":"\"\"","v":""}]
["2708515",null,null,2,70,85,15,15.9,{"$f":"\"\"","v":""},{"$f":"\"\"","v":""},{"$f":"\"\"","v":""},{"$f":"\"\"","v":""},{"v":1297.44,"d":"1297"},{"v":1297.44,"d":"1297"},{"v":1297.44,"d":"1297"},{"v":1297.44,"d":"1297"},1.3358,1.3358,1.3358,1.3358,201,201,201,201,35,35,35,35,{"v":0.006867755332299852,"d":"0.01"},{"v":0.006867755332299852,"d":"0.01"},{"v":0.006867755332299852,"d":"0.01"},{"v":0.006867755332299852,"d":"0.01"},0.0002083,1.724,2,0.000461829,{"$f":"\"\"","v":""},{"$f":"\"\"","v":""},{"$f":"\"\"","v":""},{"$f":"\"\"","v":""},{"$f":"\"\"","v":""},{"$f":"\"\"","v":""},{"$f":"\"\"","v":""},{"$f":"\"\"","v":""},{"$f":"\"\"","v":""},{"$f":"\"\"","v":""},{"$f":"\"\"","v":""},{"$f":"\"\"","v":""},{"$f":"\"\"","v":""},{"$f":"\"\"","v":""},{"$f":"\"\"","v":""},0.9,{"$f":"\"\"","v":""},{"$f":"\"\"","v":""},{"$f":"\"\"","v":""}]
["2709515",null,null,2,70,95,15,15.9,{"$f":"\"\"","v":""},{"$f":"\"\"","v":""},{"$f":"\"\"","v":""},{"$f":"\"\"","v":""},{"v":1477.64,"d":"1478"},{"v":1477.64,"d":"1478"},{"v":1477.64,"d":"1478"},{"v":1477.64,"d":"1478"},1.3358,1.3358,1.3358,1.3358,229,229,229,229,39,39,39,39,{"v":0.008704787396123938,"d":"0.01"},{"v":0.008704787396123938,"d":"0.01"},{"v":0.008704787396123938,"d":"0.01"},{"v":0.008704787396123938,"d":"0.01"},0.0002083,1.724,2,0.000461829,{"$f":"\"\"","v":""},{"$f":"\"\"","v":""},{"$f":"\"\"","v":""},{"$f":"\"\"","v":""},{"$f":"\"\"","v":""},{"$f":"\"\"","v":""},{"$f":"\"\"","v":""},{"$f":"\"\"","v":""},{"$f":"\"\"","v":""},{"$f":"\"\"","v":""},{"$f":"\"\"","v":""},{"$f":"\"\"","v":""},{"$f":"\"\"","v":""},{"$f":"\"\"","v":""},{"$f":"\"\"","v":""},{"v":1,"d":"1.0"},{"$f":"\"\"","v":""},{"$f":"\"\"","v":""},{"$f":"\"\"","v":""}]
["27010515",null,null,2,70,105,15,15.9,{"$f":"\"\"","v":""},{"$f":"\"\"","v":""},{"$f":"\"\"","v":""},{"$f":"\"\"","v":""},{"v":1657.84,"d":"1658"},{"v":1657.84,"d":"1658"},{"v":1657.84,"d":"1658"},{"v":1657.84,"d":"1658"},1.3358,1.3358,1.3358,1.3358,257,257,257,257,44,44,44,44,{"v":0.01128210460821987,"d":"0.01"},{"v":0.01128210460821987,"d":"0.01"},{"v":0.01128210460821987,"d":"0.01"},{"v":0.01128210460821987,"d":"0.01"},0.0002083,1.724,2,0.000461829,{"$f":"\"\"","v":""},{"$f":"\"\"","v":""},{"$f":"\"\"","v":""},{"$f":"\"\"","v":""},{"$f":"\"\"","v":""},{"$f":"\"\"","v":""},{"$f":"\"\"","v":""},{"$f":"\"\"","v":""},{"$f":"\"\"","v":""},{"$f":"\"\"","v":""},{"$f":"\"\"","v":""},{"$f":"\"\"","v":""},{"$f":"\"\"","v":""},{"$f":"\"\"","v":""},{"$f":"\"\"","v":""},1.1,{"$f":"\"\"","v":""},{"$f":"\"\"","v":""},{"$f":"\"\"","v":""}]
["27011515",null,null,2,70,115,15,15.9,{"$f":"\"\"","v":""},{"$f":"\"\"","v":""},{"$f":"\"\"","v":""},{"$f":"\"\"","v":""},{"v":1838.04,"d":"1838"},{"v":1838.04,"d":"1838"},{"v":1838.04,"d":"1838"},{"v":1838.04,"d":"1838"},1.3358,1.3358,1.3358,1.3358,285,285,285,285,49,49,49,49,{"v":0.014235281329882228,"d":"0.01"},{"v":0.014235281329882228,"d":"0.01"},{"v":0.014235281329882228,"d":"0.01"},{"v":0.014235281329882228,"d":"0.01"},0.0002083,1.724,2,0.000461829,{"$f":"\"\"","v":""},{"$f":"\"\"","v":""},{"$f":"\"\"","v":""},{"$f":"\"\"","v":""},{"$f":"\"\"","v":""},{"$f":"\"\"","v":""},{"$f":"\"\"","v":""},{"$f":"\"\"","v":""},{"$f":"\"\"","v":""},{"$f":"\"\"","v":""},{"$f":"\"\"","v":""},{"$f":"\"\"","v":""},{"$f":"\"\"","v":""},{"$f":"\"\"","v":""},{"$f":"\"\"","v":""},1.2,{"$f":"\"\"","v":""},{"$f":"\"\"","v":""},{"$f":"\"\"","v":""}]
["27013515",null,null,2,70,135,15,15.9,{"$f":"\"\"","v":""},{"$f":"\"\"","v":""},{"$f":"\"\"","v":""},{"$f":"\"\"","v":""},{"v":2198.44,"d":"2198"},{"v":2198.44,"d":"2198"},{"v":2198.44,"d":"2198"},{"v":2198.44,"d":"2198"},1.3358,1.3358,1.3358,1.3358,340,340,340,340,58,58,58,58,{"v":0.02062581520068427,"d":"0.02"},{"v":0.02062581520068427,"d":"0.02"},{"v":0.02062581520068427,"d":"0.02"},{"v":0.02062581520068427,"d":"0.02"},0.0002083,1.724,2,0.000461829,{"$f":"\"\"","v":""},{"$f":"\"\"","v":""},{"$f":"\"\"","v":""},{"$f":"\"\"","v":""},{"$f":"\"\"","v":""},{"$f":"\"\"","v":""},{"$f":"\"\"","v":""},{"$f":"\"\"","v":""},{"$f":"\"\"","v":""},{"$f":"\"\"","v":""},{"$f":"\"\"","v":""},{"$f":"\"\"","v":""},{"$f":"\"\"","v":""},{"$f":"\"\"","v":""},{"$f":"\"\"","v":""},1.4,{"$f":"\"\"","v":""},{"$f":"\"\"","v":""},{"$f":"\"\"","v":""}]
["27015515",null,null,2,70,155,15,15.9,{"$f":"\"\"","v":""},{"$f":"\"\"","v":""},{"$f":"\"\"","v":""},{"$f":"\"\"","v":""},{"v":2558.84,"d":"2559"},{"v":2558.84,"d":"2559"},{"v":2558.84,"d":"2559"},{"v":2558.84,"d":"2559"},1.3358,1.3358,1.3358,1.3358,396,396,396,396,68,68,68,68,{"v":0.029210651619058444,"d":"0.03"},{"v":0.029210651619058444,"d":"0.03"},{"v":0.029210651619058444,"d":"0.03"},{"v":0.029210651619058444,"d":"0.03"},0.0002083,1.724,2,0.000461829,{"$f":"\"\"","v":""},{"$f":"\"\"","v":""},{"$f":"\"\"","v":""},{"$f":"\"\"","v":""},{"$f":"\"\"","v":""},{"$f":"\"\"","v":""},{"$f":"\"\"","v":""},{"$f":"\"\"","v":""},{"$f":"\"\"","v":""},{"$f":"\"\"","v":""},{"$f":"\"\"","v":""},{"$f":"\"\"","v":""},{"$f":"\"\"","v":""},{"$f":"\"\"","v":""},{"$f":"\"\"","v":""},1.6,{"$f":"\"\"","v":""},{"$f":"\"\"","v":""},{"$f":"\"\"","v":""}]
["27017515",null,null,2,70,175,15,15.9,{"$f":"\"\"","v":""},{"$f":"\"\"","v":""},{"$f":"\"\"","v":""},{"$f":"\"\"","v":""},{"v":2919.24,"d":"2919"},{"v":2919.24,"d":"2919"},{"v":2919.24,"d":"2919"},{"v":2919.24,"d":"2919"},1.3358,1.3358,1.3358,1.3358,452,452,452,452,78,78,78,78,{"v":0.039521383480869324,"d":"0.04"},{"v":0.039521383480869324,"d":"0.04"},{"v":0.039521383480869324,"d":"0.04"},{"v":0.039521383480869324,"d":"0.04"},0.0002083,1.724,2,0.000461829,{"$f":"\"\"","v":""},{"$f":"\"\"","v":""},{"$f":"\"\"","v":""},{"$f":"\"\"","v":""},{"$f":"\"\"","v":""},{"$f":"\"\"","v":""},{"$f":"\"\"","v":""},{"$f":"\"\"","v":""},{"$f":"\"\"","v":""},{"$f":"\"\"","v":""},{"$f":"\"\"","v":""},{"$f":"\"\"","v":""},{"$f":"\"\"","v":""},{"$f":"\"\"","v":""},{"$f":"\"\"","v":""},1.8,{"$f":"\"\"","v":""},{"$f":"\"\"","v":""},{"$f":"\"\"","v":""}]
["27019515",null,null,2,70,195,15,15.9,{"$f":"\"\"","v":""},{"$f":"\"\"","v":""},{"$f":"\"\"","v":""},{"$f":"\"\"","v":""},{"v":3279.64,"d":"3280"},{"v":3279.64,"d":"3280"},{"v":3279.64,"d":"3280"},{"v":3279.64,"d":"3280"},1.3358,1.3358,1.3358,1.3358,508,508,508,508,87,87,87,87,{"v":0.050526972243019844,"d":"0.05"},{"v":0.050526972243019844,"d":"0.05"},{"v":0.050526972243019844,"d":"0.05"},{"v":0.050526972243019844,"d":"0.05"},0.0002083,1.724,2,0.000461829,{"$f":"\"\"","v":""},{"$f":"\"\"","v":""},{"$f":"\"\"","v":""},{"$f":"\"\"","v":""},{"$f":"\"\"","v":""},{"$f":"\"\"","v":""},{"$f":"\"\"","v":""},{"$f":"\"\"","v":""},{"$f":"\"\"","v":""},{"$f":"\"\"","v":""},{"$f":"\"\"","v":""},{"$f":"\"\"","v":""},{"$f":"\"\"","v":""},{"$f":"\"\"","v":""},{"$f":"\"\"","v":""},{"v":2,"d":"2.0"},{"$f":"\"\"","v":""},{"$f":"\"\"","v":""},{"$f":"\"\"","v":""}]
["27021515",null,null,2,70,215,15,15.9,{"$f":"\"\"","v":""},{"$f":"\"\"","v":""},{"$f":"\"\"","v":""},{"$f":"\"\"","v":""},{"v":3640.04,"d":"3640"},{"v":3640.04,"d":"3640"},{"v":3640.04,"d":"3640"},{"v":3640.04,"d":"3640"},1.3358,1.3358,1.3358,1.3358,564,564,564,564,97,97,97,97,{"v":0.06438513591980478,"d":"0.06"},{"v":0.06438513591980478,"d":"0.06"},{"v":0.06438513591980478,"d":"0.06"},{"v":0.06438513591980478,"d":"0.06"},0.0002083,1.724,2,0.000461829,{"$f":"\"\"","v":""},{"$f":"\"\"","v":""},{"$f":"\"\"","v":""},{"$f":"\"\"","v":""},{"$f":"\"\"","v":""},{"$f":"\"\"","v":""},{"$f":"\"\"","v":""},{"$f":"\"\"","v":""},{"$f":"\"\"","v":""},{"$f":"\"\"","v":""},{"$f":"\"\"","v":""},{"$f":"\"\"","v":""},{"$f":"\"\"","v":""},{"$f":"\"\"","v":""},{"$f":"\"\"","v":""},2.2,{"$f":"\"\"","v":""},{"$f":"\"\"","v":""},{"$f":"\"\"","v":""}]
["27023515",null,null,2,70,235,15,15.9,{"$f":"\"\"","v":""},{"$f":"\"\"","v":""},{"$f":"\"\"","v":""},{"$f":"\"\"","v":""},{"v":4000.44,"d":"4000"},{"v":4000.44,"d":"4000"},{"v":4000.44,"d":"4000"},{"v":4000.44,"d":"4000"},1.3358,1.3358,1.3358,1.3358,619,619,619,619,106,106,106,106,{"v":0.0787901809583962,"d":"0.08"},{"v":0.0787901809583962,"d":"0.08"},{"v":0.0787901809583962,"d":"0.08"},{"v":0.0787901809583962,"d":"0.08"},0.0002083,1.724,2,0.000461829,{"$f":"\"\"","v":""},{"$f":"\"\"","v":""},{"$f":"\"\"","v":""},{"$f":"\"\"","v":""},{"$f":"\"\"","v":""},{"$f":"\"\"","v":""},{"$f":"\"\"","v":""},{"$f":"\"\"","v":""},{"$f":"\"\"","v":""},{"$f":"\"\"","v":""},{"$f":"\"\"","v":""},{"$f":"\"\"","v":""},{"$f":"\"\"","v":""},{"$f":"\"\"","v":""},{"$f":"\"\"","v":""},2.4,{"$f":"\"\"","v":""},{"$f":"\"\"","v":""},{"$f":"\"\"","v":""}]
["2755515",null,null,2,75,55,15,15.9,{"$f":"\"\"","v":""},{"$f":"\"\"","v":""},{"$f":"\"\"","v":""},{"$f":"\"\"","v":""},{"v":771.96,"d":"772"},{"v":771.96,"d":"772"},{"v":771.96,"d":"772"},{"v":771.96,"d":"772"},1.3295,1.3295,1.3295,1.3295,121,121,121,121,21,21,21,21,{"v":2.3114166451507776E-3,"d":"0.00"},{"v":2.3114166451507776E-3,"d":"0.00"},{"v":2.3114166451507776E-3,"d":"0.00"},{"v":2.3114166451507776E-3,"d":"0.00"},0.0002083,1.724,2,0.000461829,{"$f":"\"\"","v":""},{"$f":"\"\"","v":""},{"$f":"\"\"","v":""},{"$f":"\"\"","v":""},{"$f":"\"\"","v":""},{"$f":"\"\"","v":""},{"$f":"\"\"","v":""},{"$f":"\"\"","v":""},{"$f":"\"\"","v":""},{"$f":"\"\"","v":""},{"$f":"\"\"","v":""},{"$f":"\"\"","v":""},{"$f":"\"\"","v":""},{"$f":"\"\"","v":""},{"$f":"\"\"","v":""},0.6,{"$f":"\"\"","v":""},{"$f":"\"\"","v":""},{"$f":"\"\"","v":""}]
["2756515",null,null,2,75,65,15,15.9,{"$f":"\"\"","v":""},{"$f":"\"\"","v":""},{"$f":"\"\"","v":""},{"$f":"\"\"","v":""},{"v":955.76,"d":"956"},{"v":955.76,"d":"956"},{"v":955.76,"d":"956"},{"v":955.76,"d":"956"},1.3295,1.3295,1.3295,1.3295,149,149,149,149,26,26,26,26,{"v":0.00362773611646984,"d":"0.00"},{"v":0.00362773611646984,"d":"0.00"},{"v":0.00362773611646984,"d":"0.00"},{"v":0.00362773611646984,"d":"0.00"},0.0002083,1.724,2,0.000461829,{"$f":"\"\"","v":""},{"$f":"\"\"","v":""},{"$f":"\"\"","v":""},{"$f":"\"\"","v":""},{"$f":"\"\"","v":""},{"$f":"\"\"","v":""},{"$f":"\"\"","v":""},{"$f":"\"\"","v":""},{"$f":"\"\"","v":""},{"$f":"\"\"","v":""},{"$f":"\"\"","v":""},{"$f":"\"\"","v":""},{"$f":"\"\"","v":""},{"$f":"\"\"","v":""},{"$f":"\"\"","v":""},0.7,{"$f":"\"\"","v":""},{"$f":"\"\"","v":""},{"$f":"\"\"","v":""}]
["2757515",null,null,2,75,75,15,15.9,{"$f":"\"\"","v":""},{"$f":"\"\"","v":""},{"$f":"\"\"","v":""},{"$f":"\"\"","v":""},{"v":1139.56,"d":"1140"},{"v":1139.56,"d":"1140"},{"v":1139.56,"d":"1140"},{"v":1139.56,"d":"1140"},1.3295,1.3295,1.3295,1.3295,178,178,178,178,31,31,31,31,{"v":0.005270977208233498,"d":"0.01"},{"v":0.005270977208233498,"d":"0.01"},{"v":0.005270977208233498,"d":"0.01"},{"v":0.005270977208233498,"d":"0.01"},0.0002083,1.724,2,0.000461829,{"$f":"\"\"","v":""},{"$f":"\"\"","v":""},{"$f":"\"\"","v":""},{"$f":"\"\"","v":""},{"$f":"\"\"","v":""},{"$f":"\"\"","v":""},{"$f":"\"\"","v":""},{"$f":"\"\"","v":""},{"$f":"\"\"","v":""},{"$f":"\"\"","v":""},{"$f":"\"\"","v":""},{"$f":"\"\"","v":""},{"$f":"\"\"","v":""},{"$f":"\"\"","v":""},{"$f":"\"\"","v":""},0.8,{"$f":"\"\"","v":""},{"$f":"\"\"","v":""},{"$f":"\"\"","v":""}]
["2758515",null,null,2,75,85,15,15.9,{"$f":"\"\"","v":""},{"$f":"\"\"","v":""},{"$f":"\"\"","v":""},{"$f":"\"\"","v":""},{"v":1323.36,"d":"1323"},{"v":1323.36,"d":"1323"},{"v":1323.36,"d":"1323"},{"v":1323.36,"d":"1323"},1.3295,1.3295,1.3295,1.3295,207,207,207,207,36,36,36,36,{"v":0.007254960202212284,"d":"0.01"},{"v":0.007254960202212284,"d":"0.01"},{"v":0.007254960202212284,"d":"0.01"},{"v":0.007254960202212284,"d":"0.01"},0.0002083,1.724,2,0.000461829,{"$f":"\"\"","v":""},{"$f":"\"\"","v":""},{"$f":"\"\"","v":""},{"$f":"\"\"","v":""},{"$f":"\"\"","v":""},{"$f":"\"\"","v":""},{"$f":"\"\"","v":""},{"$f":"\"\"","v":""},{"$f":"\"\"","v":""},{"$f":"\"\"","v":""},{"$f":"\"\"","v":""},{"$f":"\"\"","v":""},{"$f":"\"\"","v":""},{"$f":"\"\"","v":""},{"$f":"\"\"","v":""},0.9,{"$f":"\"\"","v":""},{"$f":"\"\"","v":""},{"$f":"\"\"","v":""}]
["2759515",null,null,2,75,95,15,15.9,{"$f":"\"\"","v":""},{"$f":"\"\"","v":""},{"$f":"\"\"","v":""},{"$f":"\"\"","v":""},{"v":1507.16,"d":"1507"},{"v":1507.16,"d":"1507"},{"v":1507.16,"d":"1507"},{"v":1507.16,"d":"1507"},1.3295,1.3295,1.3295,1.3295,235,235,235,235,40,40,40,40,{"v":0.009143571986538703,"d":"0.01"},{"v":0.009143571986538703,"d":"0.01"},{"v":0.009143571986538703,"d":"0.01"},{"v":0.009143571986538703,"d":"0.01"},0.0002083,1.724,2,0.000461829,{"$f":"\"\"","v":""},{"$f":"\"\"","v":""},{"$f":"\"\"","v":""},{"$f":"\"\"","v":""},{"$f":"\"\"","v":""},{"$f":"\"\"","v":""},{"$f":"\"\"","v":""},{"$f":"\"\"","v":""},{"$f":"\"\"","v":""},{"$f":"\"\"","v":""},{"$f":"\"\"","v":""},{"$f":"\"\"","v":""},{"$f":"\"\"","v":""},{"$f":"\"\"","v":""},{"$f":"\"\"","v":""},{"v":1,"d":"1.0"},{"$f":"\"\"","v":""},{"$f":"\"\"","v":""},{"$f":"\"\"","v":""}]
["27510515",null,null,2,75,105,15,15.9,{"$f":"\"\"","v":""},{"$f":"\"\"","v":""},{"$f":"\"\"","v":""},{"$f":"\"\"","v":""},{"v":1690.96,"d":"1691"},{"v":1690.96,"d":"1691"},{"v":1690.96,"d":"1691"},{"v":1690.96,"d":"1691"},1.3295,1.3295,1.3295,1.3295,264,264,264,264,45,45,45,45,{"v":0.011784457359740834,"d":"0.01"},{"v":0.011784457359740834,"d":"0.01"},{"v":0.011784457359740834,"d":"0.01"},{"v":0.011784457359740834,"d":"0.01"},0.0002083,1.724,2,0.000461829,{"$f":"\"\"","v":""},{"$f":"\"\"","v":""},{"$f":"\"\"","v":""},{"$f":"\"\"","v":""},{"$f":"\"\"","v":""},{"$f":"\"\"","v":""},{"$f":"\"\"","v":""},{"$f":"\"\"","v":""},{"$f":"\"\"","v":""},{"$f":"\"\"","v":""},{"$f":"\"\"","v":""},{"$f":"\"\"","v":""},{"$f":"\"\"","v":""},{"$f":"\"\"","v":""},{"$f":"\"\"","v":""},1.1,{"$f":"\"\"","v":""},{"$f":"\"\"","v":""},{"$f":"\"\"","v":""}]
["27511515",null,null,2,75,115,15,15.9,{"$f":"\"\"","v":""},{"$f":"\"\"","v":""},{"$f":"\"\"","v":""},{"$f":"\"\"","v":""},{"v":1874.76,"d":"1875"},{"v":1874.76,"d":"1875"},{"v":1874.76,"d":"1875"},{"v":1874.76,"d":"1875"},1.3295,1.3295,1.3295,1.3295,293,293,293,293,50,50,50,50,{"v":0.014802739288072827,"d":"0.01"},{"v":0.014802739288072827,"d":"0.01"},{"v":0.014802739288072827,"d":"0.01"},{"v":0.014802739288072827,"d":"0.01"},0.0002083,1.724,2,0.000461829,{"$f":"\"\"","v":""},{"$f":"\"\"","v":""},{"$f":"\"\"","v":""},{"$f":"\"\"","v":""},{"$f":"\"\"","v":""},{"$f":"\"\"","v":""},{"$f":"\"\"","v":""},{"$f":"\"\"","v":""},{"$f":"\"\"","v":""},{"$f":"\"\"","v":""},{"$f":"\"\"","v":""},{"$f":"\"\"","v":""},{"$f":"\"\"","v":""},{"$f":"\"\"","v":""},{"$f":"\"\"","v":""},1.2,{"$f":"\"\"","v":""},{"$f":"\"\"","v":""},{"$f":"\"\"","v":""}]
["27513515",null,null,2,75,135,15,15.9,{"$f":"\"\"","v":""},{"$f":"\"\"","v":""},{"$f":"\"\"","v":""},{"$f":"\"\"","v":""},{"v":2242.36,"d":"2242"},{"v":2242.36,"d":"2242"},{"v":2242.36,"d":"2242"},{"v":2242.36,"d":"2242"},1.3295,1.3295,1.3295,1.3295,350,350,350,350,60,60,60,60,{"v":0.02201898513592513,"d":"0.02"},{"v":0.02201898513592513,"d":"0.02"},{"v":0.02201898513592513,"d":"0.02"},{"v":0.02201898513592513,"d":"0.02"},0.0002083,1.724,2,0.000461829,{"$f":"\"\"","v":""},{"$f":"\"\"","v":""},{"$f":"\"\"","v":""},{"$f":"\"\"","v":""},{"$f":"\"\"","v":""},{"$f":"\"\"","v":""},{"$f":"\"\"","v":""},{"$f":"\"\"","v":""},{"$f":"\"\"","v":""},{"$f":"\"\"","v":""},{"$f":"\"\"","v":""},{"$f":"\"\"","v":""},{"$f":"\"\"","v":""},{"$f":"\"\"","v":""},{"$f":"\"\"","v":""},1.4,{"$f":"\"\"","v":""},{"$f":"\"\"","v":""},{"$f":"\"\"","v":""}]
["27515515",null,null,2,75,155,15,15.9,{"$f":"\"\"","v":""},{"$f":"\"\"","v":""},{"$f":"\"\"","v":""},{"$f":"\"\"","v":""},{"v":2609.96,"d":"2610"},{"v":2609.96,"d":"2610"},{"v":2609.96,"d":"2610"},{"v":2609.96,"d":"2610"},1.3295,1.3295,1.3295,1.3295,408,408,408,408,70,70,70,70,{"v":0.03088425189455098,"d":"0.03"},{"v":0.03088425189455098,"d":"0.03"},{"v":0.03088425189455098,"d":"0.03"},{"v":0.03088425189455098,"d":"0.03"},0.0002083,1.724,2,0.000461829,{"$f":"\"\"","v":""},{"$f":"\"\"","v":""},{"$f":"\"\"","v":""},{"$f":"\"\"","v":""},{"$f":"\"\"","v":""},{"$f":"\"\"","v":""},{"$f":"\"\"","v":""},{"$f":"\"\"","v":""},{"$f":"\"\"","v":""},{"$f":"\"\"","v":""},{"$f":"\"\"","v":""},{"$f":"\"\"","v":""},{"$f":"\"\"","v":""},{"$f":"\"\"","v":""},{"$f":"\"\"","v":""},1.6,{"$f":"\"\"","v":""},{"$f":"\"\"","v":""},{"$f":"\"\"","v":""}]
["27517515",null,null,2,75,175,15,15.9,{"$f":"\"\"","v":""},{"$f":"\"\"","v":""},{"$f":"\"\"","v":""},{"$f":"\"\"","v":""},{"v":2977.56,"d":"2978"},{"v":2977.56,"d":"2978"},{"v":2977.56,"d":"2978"},{"v":2977.56,"d":"2978"},1.3295,1.3295,1.3295,1.3295,465,465,465,465,80,80,80,80,{"v":0.04148630957383153,"d":"0.04"},{"v":0.04148630957383153,"d":"0.04"},{"v":0.04148630957383153,"d":"0.04"},{"v":0.04148630957383153,"d":"0.04"},0.0002083,1.724,2,0.000461829,{"$f":"\"\"","v":""},{"$f":"\"\"","v":""},{"$f":"\"\"","v":""},{"$f":"\"\"","v":""},{"$f":"\"\"","v":""},{"$f":"\"\"","v":""},{"$f":"\"\"","v":""},{"$f":"\"\"","v":""},{"$f":"\"\"","v":""},{"$f":"\"\"","v":""},{"$f":"\"\"","v":""},{"$f":"\"\"","v":""},{"$f":"\"\"","v":""},{"$f":"\"\"","v":""},{"$f":"\"\"","v":""},1.8,{"$f":"\"\"","v":""},{"$f":"\"\"","v":""},{"$f":"\"\"","v":""}]
["27519515",null,null,2,75,195,15,15.9,{"$f":"\"\"","v":""},{"$f":"\"\"","v":""},{"$f":"\"\"","v":""},{"$f":"\"\"","v":""},{"v":3345.16,"d":"3345"},{"v":3345.16,"d":"3345"},{"v":3345.16,"d":"3345"},{"v":3345.16,"d":"3345"},1.3295,1.3295,1.3295,1.3295,522,522,522,522,90,90,90,90,{"v":0.05390951233643099,"d":"0.05"},{"v":0.05390951233643099,"d":"0.05"},{"v":0.05390951233643099,"d":"0.05"},{"v":0.05390951233643099,"d":"0.05"},0.0002083,1.724,2,0.000461829,{"$f":"\"\"","v":""},{"$f":"\"\"","v":""},{"$f":"\"\"","v":""},{"$f":"\"\"","v":""},{"$f":"\"\"","v":""},{"$f":"\"\"","v":""},{"$f":"\"\"","v":""},{"$f":"\"\"","v":""},{"$f":"\"\"","v":""},{"$f":"\"\"","v":""},{"$f":"\"\"","v":""},{"$f":"\"\"","v":""},{"$f":"\"\"","v":""},{"$f":"\"\"","v":""},{"$f":"\"\"","v":""},{"v":2,"d":"2.0"},{"$f":"\"\"","v":""},{"$f":"\"\"","v":""},{"$f":"\"\"","v":""}]
["27521515",null,null,2,75,215,15,15.9,{"$f":"\"\"","v":""},{"$f":"\"\"","v":""},{"$f":"\"\"","v":""},{"$f":"\"\"","v":""},{"v":3712.76,"d":"3713"},{"v":3712.76,"d":"3713"},{"v":3712.76,"d":"3713"},{"v":3712.76,"d":"3713"},1.3295,1.3295,1.3295,1.3295,580,580,580,580,100,100,100,100,{"v":0.06823533973681536,"d":"0.07"},{"v":0.06823533973681536,"d":"0.07"},{"v":0.06823533973681536,"d":"0.07"},{"v":0.06823533973681536,"d":"0.07"},0.0002083,1.724,2,0.000461829,{"$f":"\"\"","v":""},{"$f":"\"\"","v":""},{"$f":"\"\"","v":""},{"$f":"\"\"","v":""},{"$f":"\"\"","v":""},{"$f":"\"\"","v":""},{"$f":"\"\"","v":""},{"$f":"\"\"","v":""},{"$f":"\"\"","v":""},{"$f":"\"\"","v":""},{"$f":"\"\"","v":""},{"$f":"\"\"","v":""},{"$f":"\"\"","v":""},{"$f":"\"\"","v":""},{"$f":"\"\"","v":""},2.2,{"$f":"\"\"","v":""},{"$f":"\"\"","v":""},{"$f":"\"\"","v":""}]
["27523515",null,null,2,75,235,15,15.9,{"$f":"\"\"","v":""},{"$f":"\"\"","v":""},{"$f":"\"\"","v":""},{"$f":"\"\"","v":""},{"v":4080.36,"d":"4080"},{"v":4080.36,"d":"4080"},{"v":4080.36,"d":"4080"},{"v":4080.36,"d":"4080"},1.3295,1.3295,1.3295,1.3295,637,637,637,637,110,110,110,110,{"v":0.0845428013671032,"d":"0.08"},{"v":0.0845428013671032,"d":"0.08"},{"v":0.0845428013671032,"d":"0.08"},{"v":0.0845428013671032,"d":"0.08"},0.0002083,1.724,2,0.000461829,{"$f":"\"\"","v":""},{"$f":"\"\"","v":""},{"$f":"\"\"","v":""},{"$f":"\"\"","v":""},{"$f":"\"\"","v":""},{"$f":"\"\"","v":""},{"$f":"\"\"","v":""},{"$f":"\"\"","v":""},{"$f":"\"\"","v":""},{"$f":"\"\"","v":""},{"$f":"\"\"","v":""},{"$f":"\"\"","v":""},{"$f":"\"\"","v":""},{"$f":"\"\"","v":""},{"$f":"\"\"","v":""},2.4,{"$f":"\"\"","v":""},{"$f":"\"\"","v":""},{"$f":"\"\"","v":""}]
["2805515",null,null,2,80,55,15,15.9,{"$f":"\"\"","v":""},{"$f":"\"\"","v":""},{"$f":"\"\"","v":""},{"$f":"\"\"","v":""},{"v":785.4,"d":"785"},{"v":785.4,"d":"785"},{"v":785.4,"d":"785"},{"v":785.4,"d":"785"},1.3232,1.3232,1.3232,1.3232,124,124,124,124,21,21,21,21,{"v":2.3114166451507776E-3,"d":"0.00"},{"v":2.3114166451507776E-3,"d":"0.00"},{"v":2.3114166451507776E-3,"d":"0.00"},{"v":2.3114166451507776E-3,"d":"0.00"},0.0002083,1.724,2,0.000461829,{"$f":"\"\"","v":""},{"$f":"\"\"","v":""},{"$f":"\"\"","v":""},{"$f":"\"\"","v":""},{"$f":"\"\"","v":""},{"$f":"\"\"","v":""},{"$f":"\"\"","v":""},{"$f":"\"\"","v":""},{"$f":"\"\"","v":""},{"$f":"\"\"","v":""},{"$f":"\"\"","v":""},{"$f":"\"\"","v":""},{"$f":"\"\"","v":""},{"$f":"\"\"","v":""},{"$f":"\"\"","v":""},0.6,{"$f":"\"\"","v":""},{"$f":"\"\"","v":""},{"$f":"\"\"","v":""}]
["2806515",null,null,2,80,65,15,15.9,{"$f":"\"\"","v":""},{"$f":"\"\"","v":""},{"$f":"\"\"","v":""},{"$f":"\"\"","v":""},{"v":972.4,"d":"972"},{"v":972.4,"d":"972"},{"v":972.4,"d":"972"},{"v":972.4,"d":"972"},1.3232,1.3232,1.3232,1.3232,153,153,153,153,26,26,26,26,{"v":0.00362773611646984,"d":"0.00"},{"v":0.00362773611646984,"d":"0.00"},{"v":0.00362773611646984,"d":"0.00"},{"v":0.00362773611646984,"d":"0.00"},0.0002083,1.724,2,0.000461829,{"$f":"\"\"","v":""},{"$f":"\"\"","v":""},{"$f":"\"\"","v":""},{"$f":"\"\"","v":""},{"$f":"\"\"","v":""},{"$f":"\"\"","v":""},{"$f":"\"\"","v":""},{"$f":"\"\"","v":""},{"$f":"\"\"","v":""},{"$f":"\"\"","v":""},{"$f":"\"\"","v":""},{"$f":"\"\"","v":""},{"$f":"\"\"","v":""},{"$f":"\"\"","v":""},{"$f":"\"\"","v":""},0.7,{"$f":"\"\"","v":""},{"$f":"\"\"","v":""},{"$f":"\"\"","v":""}]
["2807515",null,null,2,80,75,15,15.9,{"$f":"\"\"","v":""},{"$f":"\"\"","v":""},{"$f":"\"\"","v":""},{"$f":"\"\"","v":""},{"v":1159.4,"d":"1159"},{"v":1159.4,"d":"1159"},{"v":1159.4,"d":"1159"},{"v":1159.4,"d":"1159"},1.3232,1.3232,1.3232,1.3232,183,183,183,183,31,31,31,31,{"v":0.005270977208233498,"d":"0.01"},{"v":0.005270977208233498,"d":"0.01"},{"v":0.005270977208233498,"d":"0.01"},{"v":0.005270977208233498,"d":"0.01"},0.0002083,1.724,2,0.000461829,{"$f":"\"\"","v":""},{"$f":"\"\"","v":""},{"$f":"\"\"","v":""},{"$f":"\"\"","v":""},{"$f":"\"\"","v":""},{"$f":"\"\"","v":""},{"$f":"\"\"","v":""},{"$f":"\"\"","v":""},{"$f":"\"\"","v":""},{"$f":"\"\"","v":""},{"$f":"\"\"","v":""},{"$f":"\"\"","v":""},{"$f":"\"\"","v":""},{"$f":"\"\"","v":""},{"$f":"\"\"","v":""},0.8,{"$f":"\"\"","v":""},{"$f":"\"\"","v":""},{"$f":"\"\"","v":""}]
["2808515",null,null,2,80,85,15,15.9,{"$f":"\"\"","v":""},{"$f":"\"\"","v":""},{"$f":"\"\"","v":""},{"$f":"\"\"","v":""},{"v":1346.4,"d":"1346"},{"v":1346.4,"d":"1346"},{"v":1346.4,"d":"1346"},{"v":1346.4,"d":"1346"},1.3232,1.3232,1.3232,1.3232,212,212,212,212,36,36,36,36,{"v":0.007254960202212284,"d":"0.01"},{"v":0.007254960202212284,"d":"0.01"},{"v":0.007254960202212284,"d":"0.01"},{"v":0.007254960202212284,"d":"0.01"},0.0002083,1.724,2,0.000461829,{"$f":"\"\"","v":""},{"$f":"\"\"","v":""},{"$f":"\"\"","v":""},{"$f":"\"\"","v":""},{"$f":"\"\"","v":""},{"$f":"\"\"","v":""},{"$f":"\"\"","v":""},{"$f":"\"\"","v":""},{"$f":"\"\"","v":""},{"$f":"\"\"","v":""},{"$f":"\"\"","v":""},{"$f":"\"\"","v":""},{"$f":"\"\"","v":""},{"$f":"\"\"","v":""},{"$f":"\"\"","v":""},0.9,{"$f":"\"\"","v":""},{"$f":"\"\"","v":""},{"$f":"\"\"","v":""}]
["2809515",null,null,2,80,95,15,15.9,{"$f":"\"\"","v":""},{"$f":"\"\"","v":""},{"$f":"\"\"","v":""},{"$f":"\"\"","v":""},{"v":1533.4,"d":"1533"},{"v":1533.4,"d":"1533"},{"v":1533.4,"d":"1533"},{"v":1533.4,"d":"1533"},1.3232,1.3232,1.3232,1.3232,242,242,242,242,42,42,42,42,{"v":0.010052738240438983,"d":"0.01"},{"v":0.010052738240438983,"d":"0.01"},{"v":0.010052738240438983,"d":"0.01"},{"v":0.010052738240438983,"d":"0.01"},0.0002083,1.724,2,0.000461829,{"$f":"\"\"","v":""},{"$f":"\"\"","v":""},{"$f":"\"\"","v":""},{"$f":"\"\"","v":""},{"$f":"\"\"","v":""},{"$f":"\"\"","v":""},{"$f":"\"\"","v":""},{"$f":"\"\"","v":""},{"$f":"\"\"","v":""},{"$f":"\"\"","v":""},{"$f":"\"\"","v":""},{"$f":"\"\"","v":""},{"$f":"\"\"","v":""},{"$f":"\"\"","v":""},{"$f":"\"\"","v":""},{"v":1,"d":"1.0"},{"$f":"\"\"","v":""},{"$f":"\"\"","v":""},{"$f":"\"\"","v":""}]
["28010515",null,null,2,80,105,15,15.9,{"$f":"\"\"","v":""},{"$f":"\"\"","v":""},{"$f":"\"\"","v":""},{"$f":"\"\"","v":""},{"v":1720.4,"d":"1720"},{"v":1720.4,"d":"1720"},{"v":1720.4,"d":"1720"},{"v":1720.4,"d":"1720"},1.3232,1.3232,1.3232,1.3232,271,271,271,271,47,47,47,47,{"v":0.012821152487365102,"d":"0.01"},{"v":0.012821152487365102,"d":"0.01"},{"v":0.012821152487365102,"d":"0.01"},{"v":0.012821152487365102,"d":"0.01"},0.0002083,1.724,2,0.000461829,{"$f":"\"\"","v":""},{"$f":"\"\"","v":""},{"$f":"\"\"","v":""},{"$f":"\"\"","v":""},{"$f":"\"\"","v":""},{"$f":"\"\"","v":""},{"$f":"\"\"","v":""},{"$f":"\"\"","v":""},{"$f":"\"\"","v":""},{"$f":"\"\"","v":""},{"$f":"\"\"","v":""},{"$f":"\"\"","v":""},{"$f":"\"\"","v":""},{"$f":"\"\"","v":""},{"$f":"\"\"","v":""},1.1,{"$f":"\"\"","v":""},{"$f":"\"\"","v":""},{"$f":"\"\"","v":""}]
["28011515",null,null,2,80,115,15,15.9,{"$f":"\"\"","v":""},{"$f":"\"\"","v":""},{"$f":"\"\"","v":""},{"$f":"\"\"","v":""},{"v":1907.4,"d":"1907"},{"v":1907.4,"d":"1907"},{"v":1907.4,"d":"1907"},{"v":1907.4,"d":"1907"},1.3232,1.3232,1.3232,1.3232,301,301,301,301,52,52,52,52,{"v":0.015970025577081135,"d":"0.02"},{"v":0.015970025577081135,"d":"0.02"},{"v":0.015970025577081135,"d":"0.02"},{"v":0.015970025577081135,"d":"0.02"},0.0002083,1.724,2,0.000461829,{"$f":"\"\"","v":""},{"$f":"\"\"","v":""},{"$f":"\"\"","v":""},{"$f":"\"\"","v":""},{"$f":"\"\"","v":""},{"$f":"\"\"","v":""},{"$f":"\"\"","v":""},{"$f":"\"\"","v":""},{"$f":"\"\"","v":""},{"$f":"\"\"","v":""},{"$f":"\"\"","v":""},{"$f":"\"\"","v":""},{"$f":"\"\"","v":""},{"$f":"\"\"","v":""},{"$f":"\"\"","v":""},1.2,{"$f":"\"\"","v":""},{"$f":"\"\"","v":""},{"$f":"\"\"","v":""}]
["28013515",null,null,2,80,135,15,15.9,{"$f":"\"\"","v":""},{"$f":"\"\"","v":""},{"$f":"\"\"","v":""},{"$f":"\"\"","v":""},{"v":2281.4,"d":"2281"},{"v":2281.4,"d":"2281"},{"v":2281.4,"d":"2281"},{"v":2281.4,"d":"2281"},1.3232,1.3232,1.3232,1.3232,359,359,359,359,62,62,62,62,{"v":0.023456303422574543,"d":"0.02"},{"v":0.023456303422574543,"d":"0.02"},{"v":0.023456303422574543,"d":"0.02"},{"v":0.023456303422574543,"d":"0.02"},0.0002083,1.724,2,0.000461829,{"$f":"\"\"","v":""},{"$f":"\"\"","v":""},{"$f":"\"\"","v":""},{"$f":"\"\"","v":""},{"$f":"\"\"","v":""},{"$f":"\"\"","v":""},{"$f":"\"\"","v":""},{"$f":"\"\"","v":""},{"$f":"\"\"","v":""},{"$f":"\"\"","v":""},{"$f":"\"\"","v":""},{"$f":"\"\"","v":""},{"$f":"\"\"","v":""},{"$f":"\"\"","v":""},{"$f":"\"\"","v":""},1.4,{"$f":"\"\"","v":""},{"$f":"\"\"","v":""},{"$f":"\"\"","v":""}]
["28015515",null,null,2,80,155,15,15.9,{"$f":"\"\"","v":""},{"$f":"\"\"","v":""},{"$f":"\"\"","v":""},{"$f":"\"\"","v":""},{"v":2655.4,"d":"2655"},{"v":2655.4,"d":"2655"},{"v":2655.4,"d":"2655"},{"v":2655.4,"d":"2655"},1.3232,1.3232,1.3232,1.3232,418,418,418,418,72,72,72,72,{"v":0.03260293173310873,"d":"0.03"},{"v":0.03260293173310873,"d":"0.03"},{"v":0.03260293173310873,"d":"0.03"},{"v":0.03260293173310873,"d":"0.03"},0.0002083,1.724,2,0.000461829,{"$f":"\"\"","v":""},{"$f":"\"\"","v":""},{"$f":"\"\"","v":""},{"$f":"\"\"","v":""},{"$f":"\"\"","v":""},{"$f":"\"\"","v":""},{"$f":"\"\"","v":""},{"$f":"\"\"","v":""},{"$f":"\"\"","v":""},{"$f":"\"\"","v":""},{"$f":"\"\"","v":""},{"$f":"\"\"","v":""},{"$f":"\"\"","v":""},{"$f":"\"\"","v":""},{"$f":"\"\"","v":""},1.6,{"$f":"\"\"","v":""},{"$f":"\"\"","v":""},{"$f":"\"\"","v":""}]
["28017515",null,null,2,80,175,15,15.9,{"$f":"\"\"","v":""},{"$f":"\"\"","v":""},{"$f":"\"\"","v":""},{"$f":"\"\"","v":""},{"v":3029.4,"d":"3029"},{"v":3029.4,"d":"3029"},{"v":3029.4,"d":"3029"},{"v":3029.4,"d":"3029"},1.3232,1.3232,1.3232,1.3232,477,477,477,477,82,82,82,82,{"v":0.04349721052468265,"d":"0.04"},{"v":0.04349721052468265,"d":"0.04"},{"v":0.04349721052468265,"d":"0.04"},{"v":0.04349721052468265,"d":"0.04"},0.0002083,1.724,2,0.000461829,{"$f":"\"\"","v":""},{"$f":"\"\"","v":""},{"$f":"\"\"","v":""},{"$f":"\"\"","v":""},{"$f":"\"\"","v":""},{"$f":"\"\"","v":""},{"$f":"\"\"","v":""},{"$f":"\"\"","v":""},{"$f":"\"\"","v":""},{"$f":"\"\"","v":""},{"$f":"\"\"","v":""},{"$f":"\"\"","v":""},{"$f":"\"\"","v":""},{"$f":"\"\"","v":""},{"$f":"\"\"","v":""},1.8,{"$f":"\"\"","v":""},{"$f":"\"\"","v":""},{"$f":"\"\"","v":""}]
["28019515",null,null,2,80,195,15,15.9,{"$f":"\"\"","v":""},{"$f":"\"\"","v":""},{"$f":"\"\"","v":""},{"$f":"\"\"","v":""},{"v":3403.4,"d":"3403"},{"v":3403.4,"d":"3403"},{"v":3403.4,"d":"3403"},{"v":3403.4,"d":"3403"},1.3232,1.3232,1.3232,1.3232,536,536,536,536,92,92,92,92,{"v":0.05622310263143776,"d":"0.06"},{"v":0.05622310263143776,"d":"0.06"},{"v":0.05622310263143776,"d":"0.06"},{"v":0.05622310263143776,"d":"0.06"},0.0002083,1.724,2,0.000461829,{"$f":"\"\"","v":""},{"$f":"\"\"","v":""},{"$f":"\"\"","v":""},{"$f":"\"\"","v":""},{"$f":"\"\"","v":""},{"$f":"\"\"","v":""},{"$f":"\"\"","v":""},{"$f":"\"\"","v":""},{"$f":"\"\"","v":""},{"$f":"\"\"","v":""},{"$f":"\"\"","v":""},{"$f":"\"\"","v":""},{"$f":"\"\"","v":""},{"$f":"\"\"","v":""},{"$f":"\"\"","v":""},{"v":2,"d":"2.0"},{"$f":"\"\"","v":""},{"$f":"\"\"","v":""},{"$f":"\"\"","v":""}]
["28021515",null,null,2,80,215,15,15.9,{"$f":"\"\"","v":""},{"$f":"\"\"","v":""},{"$f":"\"\"","v":""},{"$f":"\"\"","v":""},{"v":3777.4,"d":"3777"},{"v":3777.4,"d":"3777"},{"v":3777.4,"d":"3777"},{"v":3777.4,"d":"3777"},1.3232,1.3232,1.3232,1.3232,595,595,595,595,102,102,102,102,{"v":0.07086175411947727,"d":"0.07"},{"v":0.07086175411947727,"d":"0.07"},{"v":0.07086175411947727,"d":"0.07"},{"v":0.07086175411947727,"d":"0.07"},0.0002083,1.724,2,0.000461829,{"$f":"\"\"","v":""},{"$f":"\"\"","v":""},{"$f":"\"\"","v":""},{"$f":"\"\"","v":""},{"$f":"\"\"","v":""},{"$f":"\"\"","v":""},{"$f":"\"\"","v":""},{"$f":"\"\"","v":""},{"$f":"\"\"","v":""},{"$f":"\"\"","v":""},{"$f":"\"\"","v":""},{"$f":"\"\"","v":""},{"$f":"\"\"","v":""},{"$f":"\"\"","v":""},{"$f":"\"\"","v":""},2.2,{"$f":"\"\"","v":""},{"$f":"\"\"","v":""},{"$f":"\"\"","v":""}]
["28023515",null,null,2,80,235,15,15.9,{"$f":"\"\"","v":""},{"$f":"\"\"","v":""},{"$f":"\"\"","v":""},{"$f":"\"\"","v":""},{"v":4151.4,"d":"4151"},{"v":4151.4,"d":"4151"},{"v":4151.4,"d":"4151"},{"v":4151.4,"d":"4151"},1.3232,1.3232,1.3232,1.3232,654,654,654,654,112,112,112,112,{"v":0.0874918852334618,"d":"0.09"},{"v":0.0874918852334618,"d":"0.09"},{"v":0.0874918852334618,"d":"0.09"},{"v":0.0874918852334618,"d":"0.09"},0.0002083,1.724,2,0.000461829,{"$f":"\"\"","v":""},{"$f":"\"\"","v":""},{"$f":"\"\"","v":""},{"$f":"\"\"","v":""},{"$f":"\"\"","v":""},{"$f":"\"\"","v":""},{"$f":"\"\"","v":""},{"$f":"\"\"","v":""},{"$f":"\"\"","v":""},{"$f":"\"\"","v":""},{"$f":"\"\"","v":""},{"$f":"\"\"","v":""},{"$f":"\"\"","v":""},{"$f":"\"\"","v":""},{"$f":"\"\"","v":""},2.4,{"$f":"\"\"","v":""},{"$f":"\"\"","v":""},{"$f":"\"\"","v":""}]
["2855515",null,null,2,85,55,15,15.9,{"$f":"\"\"","v":""},{"$f":"\"\"","v":""},{"$f":"\"\"","v":""},{"$f":"\"\"","v":""},{"v":797.58,"d":"798"},{"v":797.58,"d":"798"},{"v":797.58,"d":"798"},{"v":797.58,"d":"798"},1.317,1.317,1.317,1.317,127,127,127,127,22,22,22,22,{"v":2.5323756611753045E-3,"d":"0.00"},{"v":2.5323756611753045E-3,"d":"0.00"},{"v":2.5323756611753045E-3,"d":"0.00"},{"v":2.5323756611753045E-3,"d":"0.00"},0.0002083,1.724,2,0.000461829,{"$f":"\"\"","v":""},{"$f":"\"\"","v":""},{"$f":"\"\"","v":""},{"$f":"\"\"","v":""},{"$f":"\"\"","v":""},{"$f":"\"\"","v":""},{"$f":"\"\"","v":""},{"$f":"\"\"","v":""},{"$f":"\"\"","v":""},{"$f":"\"\"","v":""},{"$f":"\"\"","v":""},{"$f":"\"\"","v":""},{"$f":"\"\"","v":""},{"$f":"\"\"","v":""},{"$f":"\"\"","v":""},0.6,{"$f":"\"\"","v":""},{"$f":"\"\"","v":""},{"$f":"\"\"","v":""}]
["2856515",null,null,2,85,65,15,15.9,{"$f":"\"\"","v":""},{"$f":"\"\"","v":""},{"$f":"\"\"","v":""},{"$f":"\"\"","v":""},{"v":987.48,"d":"987"},{"v":987.48,"d":"987"},{"v":987.48,"d":"987"},{"v":987.48,"d":"987"},1.317,1.317,1.317,1.317,157,157,157,157,27,27,27,27,{"v":3.9058096258619457E-3,"d":"0.00"},{"v":3.9058096258619457E-3,"d":"0.00"},{"v":3.9058096258619457E-3,"d":"0.00"},{"v":3.9058096258619457E-3,"d":"0.00"},0.0002083,1.724,2,0.000461829,{"$f":"\"\"","v":""},{"$f":"\"\"","v":""},{"$f":"\"\"","v":""},{"$f":"\"\"","v":""},{"$f":"\"\"","v":""},{"$f":"\"\"","v":""},{"$f":"\"\"","v":""},{"$f":"\"\"","v":""},{"$f":"\"\"","v":""},{"$f":"\"\"","v":""},{"$f":"\"\"","v":""},{"$f":"\"\"","v":""},{"$f":"\"\"","v":""},{"$f":"\"\"","v":""},{"$f":"\"\"","v":""},0.7,{"$f":"\"\"","v":""},{"$f":"\"\"","v":""},{"$f":"\"\"","v":""}]
["2857515",null,null,2,85,75,15,15.9,{"$f":"\"\"","v":""},{"$f":"\"\"","v":""},{"$f":"\"\"","v":""},{"$f":"\"\"","v":""},{"v":1177.38,"d":"1177"},{"v":1177.38,"d":"1177"},{"v":1177.38,"d":"1177"},{"v":1177.38,"d":"1177"},1.317,1.317,1.317,1.317,187,187,187,187,32,32,32,32,{"v":0.005607958004857705,"d":"0.01"},{"v":0.005607958004857705,"d":"0.01"},{"v":0.005607958004857705,"d":"0.01"},{"v":0.005607958004857705,"d":"0.01"},0.0002083,1.724,2,0.000461829,{"$f":"\"\"","v":""},{"$f":"\"\"","v":""},{"$f":"\"\"","v":""},{"$f":"\"\"","v":""},{"$f":"\"\"","v":""},{"$f":"\"\"","v":""},{"$f":"\"\"","v":""},{"$f":"\"\"","v":""},{"$f":"\"\"","v":""},{"$f":"\"\"","v":""},{"$f":"\"\"","v":""},{"$f":"\"\"","v":""},{"$f":"\"\"","v":""},{"$f":"\"\"","v":""},{"$f":"\"\"","v":""},0.8,{"$f":"\"\"","v":""},{"$f":"\"\"","v":""},{"$f":"\"\"","v":""}]
["2858515",null,null,2,85,85,15,15.9,{"$f":"\"\"","v":""},{"$f":"\"\"","v":""},{"$f":"\"\"","v":""},{"$f":"\"\"","v":""},{"v":1367.28,"d":"1367"},{"v":1367.28,"d":"1367"},{"v":1367.28,"d":"1367"},{"v":1367.28,"d":"1367"},1.317,1.317,1.317,1.317,217,217,217,217,37,37,37,37,{"v":7.6525550440814825E-3,"d":"0.01"},{"v":7.6525550440814825E-3,"d":"0.01"},{"v":7.6525550440814825E-3,"d":"0.01"},{"v":7.6525550440814825E-3,"d":"0.01"},0.0002083,1.724,2,0.000461829,{"$f":"\"\"","v":""},{"$f":"\"\"","v":""},{"$f":"\"\"","v":""},{"$f":"\"\"","v":""},{"$f":"\"\"","v":""},{"$f":"\"\"","v":""},{"$f":"\"\"","v":""},{"$f":"\"\"","v":""},{"$f":"\"\"","v":""},{"$f":"\"\"","v":""},{"$f":"\"\"","v":""},{"$f":"\"\"","v":""},{"$f":"\"\"","v":""},{"$f":"\"\"","v":""},{"$f":"\"\"","v":""},0.9,{"$f":"\"\"","v":""},{"$f":"\"\"","v":""},{"$f":"\"\"","v":""}]
["2859515",null,null,2,85,95,15,15.9,{"$f":"\"\"","v":""},{"$f":"\"\"","v":""},{"$f":"\"\"","v":""},{"$f":"\"\"","v":""},{"v":1557.18,"d":"1557"},{"v":1557.18,"d":"1557"},{"v":1557.18,"d":"1557"},{"v":1557.18,"d":"1557"},1.317,1.317,1.317,1.317,248,248,248,248,43,43,43,43,{"v":0.01052310005345513,"d":"0.01"},{"v":0.01052310005345513,"d":"0.01"},{"v":0.01052310005345513,"d":"0.01"},{"v":0.01052310005345513,"d":"0.01"},0.0002083,1.724,2,0.000461829,{"$f":"\"\"","v":""},{"$f":"\"\"","v":""},{"$f":"\"\"","v":""},{"$f":"\"\"","v":""},{"$f":"\"\"","v":""},{"$f":"\"\"","v":""},{"$f":"\"\"","v":""},{"$f":"\"\"","v":""},{"$f":"\"\"","v":""},{"$f":"\"\"","v":""},{"$f":"\"\"","v":""},{"$f":"\"\"","v":""},{"$f":"\"\"","v":""},{"$f":"\"\"","v":""},{"$f":"\"\"","v":""},{"v":1,"d":"1.0"},{"$f":"\"\"","v":""},{"$f":"\"\"","v":""},{"$f":"\"\"","v":""}]
["28510515",null,null,2,85,105,15,15.9,{"$f":"\"\"","v":""},{"$f":"\"\"","v":""},{"$f":"\"\"","v":""},{"$f":"\"\"","v":""},{"v":1747.08,"d":"1747"},{"v":1747.08,"d":"1747"},{"v":1747.08,"d":"1747"},{"v":1747.08,"d":"1747"},1.317,1.317,1.317,1.317,278,278,278,278,48,48,48,48,{"v":0.01335547559893299,"d":"0.01"},{"v":0.01335547559893299,"d":"0.01"},{"v":0.01335547559893299,"d":"0.01"},{"v":0.01335547559893299,"d":"0.01"},0.0002083,1.724,2,0.000461829,{"$f":"\"\"","v":""},{"$f":"\"\"","v":""},{"$f":"\"\"","v":""},{"$f":"\"\"","v":""},{"$f":"\"\"","v":""},{"$f":"\"\"","v":""},{"$f":"\"\"","v":""},{"$f":"\"\"","v":""},{"$f":"\"\"","v":""},{"$f":"\"\"","v":""},{"$f":"\"\"","v":""},{"$f":"\"\"","v":""},{"$f":"\"\"","v":""},{"$f":"\"\"","v":""},{"$f":"\"\"","v":""},1.1,{"$f":"\"\"","v":""},{"$f":"\"\"","v":""},{"$f":"\"\"","v":""}]
["28511515",null,null,2,85,115,15,15.9,{"$f":"\"\"","v":""},{"$f":"\"\"","v":""},{"$f":"\"\"","v":""},{"$f":"\"\"","v":""},{"v":1936.98,"d":"1937"},{"v":1936.98,"d":"1937"},{"v":1936.98,"d":"1937"},{"v":1936.98,"d":"1937"},1.317,1.317,1.317,1.317,308,308,308,308,53,53,53,53,{"v":0.016569835157091983,"d":"0.02"},{"v":0.016569835157091983,"d":"0.02"},{"v":0.016569835157091983,"d":"0.02"},{"v":0.016569835157091983,"d":"0.02"},0.0002083,1.724,2,0.000461829,{"$f":"\"\"","v":""},{"$f":"\"\"","v":""},{"$f":"\"\"","v":""},{"$f":"\"\"","v":""},{"$f":"\"\"","v":""},{"$f":"\"\"","v":""},{"$f":"\"\"","v":""},{"$f":"\"\"","v":""},{"$f":"\"\"","v":""},{"$f":"\"\"","v":""},{"$f":"\"\"","v":""},{"$f":"\"\"","v":""},{"$f":"\"\"","v":""},{"$f":"\"\"","v":""},{"$f":"\"\"","v":""},1.2,{"$f":"\"\"","v":""},{"$f":"\"\"","v":""},{"$f":"\"\"","v":""}]
["28513515",null,null,2,85,135,15,15.9,{"$f":"\"\"","v":""},{"$f":"\"\"","v":""},{"$f":"\"\"","v":""},{"$f":"\"\"","v":""},{"v":2316.78,"d":"2317"},{"v":2316.78,"d":"2317"},{"v":2316.78,"d":"2317"},{"v":2316.78,"d":"2317"},1.317,1.317,1.317,1.317,368,368,368,368,63,63,63,63,{"v":0.024191495720643903,"d":"0.02"},{"v":0.024191495720643903,"d":"0.02"},{"v":0.024191495720643903,"d":"0.02"},{"v":0.024191495720643903,"d":"0.02"},0.0002083,1.724,2,0.000461829,{"$f":"\"\"","v":""},{"$f":"\"\"","v":""},{"$f":"\"\"","v":""},{"$f":"\"\"","v":""},{"$f":"\"\"","v":""},{"$f":"\"\"","v":""},{"$f":"\"\"","v":""},{"$f":"\"\"","v":""},{"$f":"\"\"","v":""},{"$f":"\"\"","v":""},{"$f":"\"\"","v":""},{"$f":"\"\"","v":""},{"$f":"\"\"","v":""},{"$f":"\"\"","v":""},{"$f":"\"\"","v":""},1.4,{"$f":"\"\"","v":""},{"$f":"\"\"","v":""},{"$f":"\"\"","v":""}]
["28515515",null,null,2,85,155,15,15.9,{"$f":"\"\"","v":""},{"$f":"\"\"","v":""},{"$f":"\"\"","v":""},{"$f":"\"\"","v":""},{"v":2696.58,"d":"2697"},{"v":2696.58,"d":"2697"},{"v":2696.58,"d":"2697"},{"v":2696.58,"d":"2697"},1.317,1.317,1.317,1.317,429,429,429,429,74,74,74,74,{"v":0.03436662240809932,"d":"0.03"},{"v":0.03436662240809932,"d":"0.03"},{"v":0.03436662240809932,"d":"0.03"},{"v":0.03436662240809932,"d":"0.03"},0.0002083,1.724,2,0.000461829,{"$f":"\"\"","v":""},{"$f":"\"\"","v":""},{"$f":"\"\"","v":""},{"$f":"\"\"","v":""},{"$f":"\"\"","v":""},{"$f":"\"\"","v":""},{"$f":"\"\"","v":""},{"$f":"\"\"","v":""},{"$f":"\"\"","v":""},{"$f":"\"\"","v":""},{"$f":"\"\"","v":""},{"$f":"\"\"","v":""},{"$f":"\"\"","v":""},{"$f":"\"\"","v":""},{"$f":"\"\"","v":""},1.6,{"$f":"\"\"","v":""},{"$f":"\"\"","v":""},{"$f":"\"\"","v":""}]
["28517515",null,null,2,85,175,15,15.9,{"$f":"\"\"","v":""},{"$f":"\"\"","v":""},{"$f":"\"\"","v":""},{"$f":"\"\"","v":""},{"v":3076.38,"d":"3076"},{"v":3076.38,"d":"3076"},{"v":3076.38,"d":"3076"},{"v":3076.38,"d":"3076"},1.317,1.317,1.317,1.317,489,489,489,489,84,84,84,84,{"v":0.0455540199843209,"d":"0.05"},{"v":0.0455540199843209,"d":"0.05"},{"v":0.0455540199843209,"d":"0.05"},{"v":0.0455540199843209,"d":"0.05"},0.0002083,1.724,2,0.000461829,{"$f":"\"\"","v":""},{"$f":"\"\"","v":""},{"$f":"\"\"","v":""},{"$f":"\"\"","v":""},{"$f":"\"\"","v":""},{"$f":"\"\"","v":""},{"$f":"\"\"","v":""},{"$f":"\"\"","v":""},{"$f":"\"\"","v":""},{"$f":"\"\"","v":""},{"$f":"\"\"","v":""},{"$f":"\"\"","v":""},{"$f":"\"\"","v":""},{"$f":"\"\"","v":""},{"$f":"\"\"","v":""},1.8,{"$f":"\"\"","v":""},{"$f":"\"\"","v":""},{"$f":"\"\"","v":""}]
["28519515",null,null,2,85,195,15,15.9,{"$f":"\"\"","v":""},{"$f":"\"\"","v":""},{"$f":"\"\"","v":""},{"$f":"\"\"","v":""},{"v":3456.18,"d":"3456"},{"v":3456.18,"d":"3456"},{"v":3456.18,"d":"3456"},{"v":3456.18,"d":"3456"},1.317,1.317,1.317,1.317,549,549,549,549,94,94,94,94,{"v":0.05858346848272847,"d":"0.06"},{"v":0.05858346848272847,"d":"0.06"},{"v":0.05858346848272847,"d":"0.06"},{"v":0.05858346848272847,"d":"0.06"},0.0002083,1.724,2,0.000461829,{"$f":"\"\"","v":""},{"$f":"\"\"","v":""},{"$f":"\"\"","v":""},{"$f":"\"\"","v":""},{"$f":"\"\"","v":""},{"$f":"\"\"","v":""},{"$f":"\"\"","v":""},{"$f":"\"\"","v":""},{"$f":"\"\"","v":""},{"$f":"\"\"","v":""},{"$f":"\"\"","v":""},{"$f":"\"\"","v":""},{"$f":"\"\"","v":""},{"$f":"\"\"","v":""},{"$f":"\"\"","v":""},{"v":2,"d":"2.0"},{"$f":"\"\"","v":""},{"$f":"\"\"","v":""},{"$f":"\"\"","v":""}]
["28521515",null,null,2,85,215,15,15.9,{"$f":"\"\"","v":""},{"$f":"\"\"","v":""},{"$f":"\"\"","v":""},{"$f":"\"\"","v":""},{"v":3835.98,"d":"3836"},{"v":3835.98,"d":"3836"},{"v":3835.98,"d":"3836"},{"v":3835.98,"d":"3836"},1.317,1.317,1.317,1.317,610,610,610,610,105,105,105,105,{"v":0.07489063710608494,"d":"0.07"},{"v":0.07489063710608494,"d":"0.07"},{"v":0.07489063710608494,"d":"0.07"},{"v":0.07489063710608494,"d":"0.07"},0.0002083,1.724,2,0.000461829,{"$f":"\"\"","v":""},{"$f":"\"\"","v":""},{"$f":"\"\"","v":""},{"$f":"\"\"","v":""},{"$f":"\"\"","v":""},{"$f":"\"\"","v":""},{"$f":"\"\"","v":""},{"$f":"\"\"","v":""},{"$f":"\"\"","v":""},{"$f":"\"\"","v":""},{"$f":"\"\"","v":""},{"$f":"\"\"","v":""},{"$f":"\"\"","v":""},{"$f":"\"\"","v":""},{"$f":"\"\"","v":""},2.2,{"$f":"\"\"","v":""},{"$f":"\"\"","v":""},{"$f":"\"\"","v":""}]
["28523515",null,null,2,85,235,15,15.9,{"$f":"\"\"","v":""},{"$f":"\"\"","v":""},{"$f":"\"\"","v":""},{"$f":"\"\"","v":""},{"v":4215.78,"d":"4216"},{"v":4215.78,"d":"4216"},{"v":4215.78,"d":"4216"},{"v":4215.78,"d":"4216"},1.317,1.317,1.317,1.317,670,670,670,670,115,115,115,115,{"v":0.09200630614321001,"d":"0.09"},{"v":0.09200630614321001,"d":"0.09"},{"v":0.09200630614321001,"d":"0.09"},{"v":0.09200630614321001,"d":"0.09"},0.0002083,1.724,2,0.000461829,{"$f":"\"\"","v":""},{"$f":"\"\"","v":""},{"$f":"\"\"","v":""},{"$f":"\"\"","v":""},{"$f":"\"\"","v":""},{"$f":"\"\"","v":""},{"$f":"\"\"","v":""},{"$f":"\"\"","v":""},{"$f":"\"\"","v":""},{"$f":"\"\"","v":""},{"$f":"\"\"","v":""},{"$f":"\"\"","v":""},{"$f":"\"\"","v":""},{"$f":"\"\"","v":""},{"$f":"\"\"","v":""},2.4,{"$f":"\"\"","v":""},{"$f":"\"\"","v":""},{"$f":"\"\"","v":""}]
["2905515",null,null,2,90,55,15,15.9,{"$f":"\"\"","v":""},{"$f":"\"\"","v":""},{"$f":"\"\"","v":""},{"$f":"\"\"","v":""},{"v":808.08,"d":"808"},{"v":808.08,"d":"808"},{"v":808.08,"d":"808"},{"v":808.08,"d":"808"},1.3107,1.3107,1.3107,1.3107,130,130,130,130,22,22,22,22,{"v":2.5323756611753045E-3,"d":"0.00"},{"v":2.5323756611753045E-3,"d":"0.00"},{"v":2.5323756611753045E-3,"d":"0.00"},{"v":2.5323756611753045E-3,"d":"0.00"},0.0002083,1.724,2,0.000461829,{"$f":"\"\"","v":""},{"$f":"\"\"","v":""},{"$f":"\"\"","v":""},{"$f":"\"\"","v":""},{"$f":"\"\"","v":""},{"$f":"\"\"","v":""},{"$f":"\"\"","v":""},{"$f":"\"\"","v":""},{"$f":"\"\"","v":""},{"$f":"\"\"","v":""},{"$f":"\"\"","v":""},{"$f":"\"\"","v":""},{"$f":"\"\"","v":""},{"$f":"\"\"","v":""},{"$f":"\"\"","v":""},0.6,{"$f":"\"\"","v":""},{"$f":"\"\"","v":""},{"$f":"\"\"","v":""}]
["2906515",null,null,2,90,65,15,15.9,{"$f":"\"\"","v":""},{"$f":"\"\"","v":""},{"$f":"\"\"","v":""},{"$f":"\"\"","v":""},{"v":1000.48,"d":"1000"},{"v":1000.48,"d":"1000"},{"v":1000.48,"d":"1000"},{"v":1000.48,"d":"1000"},1.3107,1.3107,1.3107,1.3107,160,160,160,160,28,28,28,28,{"v":4.1939733073762964E-3,"d":"0.00"},{"v":4.1939733073762964E-3,"d":"0.00"},{"v":4.1939733073762964E-3,"d":"0.00"},{"v":4.1939733073762964E-3,"d":"0.00"},0.0002083,1.724,2,0.000461829,{"$f":"\"\"","v":""},{"$f":"\"\"","v":""},{"$f":"\"\"","v":""},{"$f":"\"\"","v":""},{"$f":"\"\"","v":""},{"$f":"\"\"","v":""},{"$f":"\"\"","v":""},{"$f":"\"\"","v":""},{"$f":"\"\"","v":""},{"$f":"\"\"","v":""},{"$f":"\"\"","v":""},{"$f":"\"\"","v":""},{"$f":"\"\"","v":""},{"$f":"\"\"","v":""},{"$f":"\"\"","v":""},0.7,{"$f":"\"\"","v":""},{"$f":"\"\"","v":""},{"$f":"\"\"","v":""}]
["2907515",null,null,2,90,75,15,15.9,{"$f":"\"\"","v":""},{"$f":"\"\"","v":""},{"$f":"\"\"","v":""},{"$f":"\"\"","v":""},{"v":1192.88,"d":"1193"},{"v":1192.88,"d":"1193"},{"v":1192.88,"d":"1193"},{"v":1192.88,"d":"1193"},1.3107,1.3107,1.3107,1.3107,191,191,191,191,33,33,33,33,{"v":0.005955177196617752,"d":"0.01"},{"v":0.005955177196617752,"d":"0.01"},{"v":0.005955177196617752,"d":"0.01"},{"v":0.005955177196617752,"d":"0.01"},0.0002083,1.724,2,0.000461829,{"$f":"\"\"","v":""},{"$f":"\"\"","v":""},{"$f":"\"\"","v":""},{"$f":"\"\"","v":""},{"$f":"\"\"","v":""},{"$f":"\"\"","v":""},{"$f":"\"\"","v":""},{"$f":"\"\"","v":""},{"$f":"\"\"","v":""},{"$f":"\"\"","v":""},{"$f":"\"\"","v":""},{"$f":"\"\"","v":""},{"$f":"\"\"","v":""},{"$f":"\"\"","v":""},{"$f":"\"\"","v":""},0.8,{"$f":"\"\"","v":""},{"$f":"\"\"","v":""},{"$f":"\"\"","v":""}]
["2908515",null,null,2,90,85,15,15.9,{"$f":"\"\"","v":""},{"$f":"\"\"","v":""},{"$f":"\"\"","v":""},{"$f":"\"\"","v":""},{"v":1385.28,"d":"1385"},{"v":1385.28,"d":"1385"},{"v":1385.28,"d":"1385"},{"v":1385.28,"d":"1385"},1.3107,1.3107,1.3107,1.3107,222,222,222,222,38,38,38,38,{"v":0.008060529775420969,"d":"0.01"},{"v":0.008060529775420969,"d":"0.01"},{"v":0.008060529775420969,"d":"0.01"},{"v":0.008060529775420969,"d":"0.01"},0.0002083,1.724,2,0.000461829,{"$f":"\"\"","v":""},{"$f":"\"\"","v":""},{"$f":"\"\"","v":""},{"$f":"\"\"","v":""},{"$f":"\"\"","v":""},{"$f":"\"\"","v":""},{"$f":"\"\"","v":""},{"$f":"\"\"","v":""},{"$f":"\"\"","v":""},{"$f":"\"\"","v":""},{"$f":"\"\"","v":""},{"$f":"\"\"","v":""},{"$f":"\"\"","v":""},{"$f":"\"\"","v":""},{"$f":"\"\"","v":""},0.9,{"$f":"\"\"","v":""},{"$f":"\"\"","v":""},{"$f":"\"\"","v":""}]
["2909515",null,null,2,90,95,15,15.9,{"$f":"\"\"","v":""},{"$f":"\"\"","v":""},{"$f":"\"\"","v":""},{"$f":"\"\"","v":""},{"v":1577.68,"d":"1578"},{"v":1577.68,"d":"1578"},{"v":1577.68,"d":"1578"},{"v":1577.68,"d":"1578"},1.3107,1.3107,1.3107,1.3107,253,253,253,253,44,44,44,44,{"v":0.011003968255347921,"d":"0.01"},{"v":0.011003968255347921,"d":"0.01"},{"v":0.011003968255347921,"d":"0.01"},{"v":0.011003968255347921,"d":"0.01"},0.0002083,1.724,2,0.000461829,{"$f":"\"\"","v":""},{"$f":"\"\"","v":""},{"$f":"\"\"","v":""},{"$f":"\"\"","v":""},{"$f":"\"\"","v":""},{"$f":"\"\"","v":""},{"$f":"\"\"","v":""},{"$f":"\"\"","v":""},{"$f":"\"\"","v":""},{"$f":"\"\"","v":""},{"$f":"\"\"","v":""},{"$f":"\"\"","v":""},{"$f":"\"\"","v":""},{"$f":"\"\"","v":""},{"$f":"\"\"","v":""},{"v":1,"d":"1.0"},{"$f":"\"\"","v":""},{"$f":"\"\"","v":""},{"$f":"\"\"","v":""}]
[{"$f":"CONCATENATE(D412,E412,F412,G412)","v":"29010515"},null,null,2,90,105,15,15.9,{"$f":"\"\"","v":""},{"$f":"\"\"","v":""},{"$f":"\"\"","v":""},{"$f":"\"\"","v":""},{"v":1770.08,"d":"1770"},{"v":1770.08,"d":"1770"},{"v":1770.08,"d":"1770"},{"v":1770.08,"d":"1770"},1.3107,1.3107,1.3107,1.3107,{"$f":"ROUND(M412*POWER(CF_heat,Q412),0)","v":284},284,284,284,{"$f":"ROUND(U412*3600/(4186*ABS($O$1-$O$2)),0)","v":49},49,49,49,{"$f":"(($AG412*(Y412^$AH412)*((($F412-14.4)*$AI412)/100))+($AJ412*(Y412^2)))*0.0098","v":{"v":0.013900436665301488,"d":"0.01"}},{"v":0.013900436665301488,"d":"0.01"},{"v":0.013900436665301488,"d":"0.01"},{"v":0.013900436665301488,"d":"0.01"},{"$f":"IF($G412=$CO$103,CP$103,IF($G412=$CO$104,CP$104,IF($G412=$CO$105,CP$105,IF($G412=$CO$107,CP$107,IF($G412=$CO$108,CP$108,IF($G412=$CO$109,CP$109,IF($G412=$CO$111,CP$111,IF($G412=$CO$112,CP$112,IF($G412=$CO$113,CP$113,IF($G412=$CO$115,CP$115,IF($G412=$CO$116,CP$116,IF($G412=$CO$117,CP$117,IF($G412=$CO$119,CP$119,IF($G412=$CO$120,CP$120,))))))))))))))","v":0.0002083},1.724,2,0.000461829,{"$f":"\"\"","v":""},{"$f":"\"\"","v":""},{"$f":"\"\"","v":""},{"$f":"\"\"","v":""},{"$f":"\"\"","v":""},{"$f":"\"\"","v":""},{"$f":"\"\"","v":""},{"$f":"\"\"","v":""},{"$f":"\"\"","v":""},{"$f":"\"\"","v":""},{"$f":"\"\"","v":""},{"$f":"\"\"","v":""},{"$f":"\"\"","v":""},{"$f":"\"\"","v":""},{"$f":"\"\"","v":""},{"$f":"ROUND(IF(G412=10,$CO$92*F412,IF(G412=11,$CO$93*F412,IF(G412=15,$CO$94*F412,IF(G412=16,$CO$95*F412,IF(G412=20,$CO$96*F412,IF(G412=21,$CO$97*F412,)))))),1)","v":1.1},{"$f":"\"\"","v":""},{"$f":"\"\"","v":""},{"$f":"\"\"","v":""}]
["29011515",null,null,2,90,115,15,15.9,{"$f":"\"\"","v":""},{"$f":"\"\"","v":""},{"$f":"\"\"","v":""},{"$f":"\"\"","v":""},{"v":1962.48,"d":"1962"},{"v":1962.48,"d":"1962"},{"v":1962.48,"d":"1962"},{"v":1962.48,"d":"1962"},1.3107,1.3107,1.3107,1.3107,315,315,315,315,54,54,54,54,{"v":0.017180410241114698,"d":"0.02"},{"v":0.017180410241114698,"d":"0.02"},{"v":0.017180410241114698,"d":"0.02"},{"v":0.017180410241114698,"d":"0.02"},0.0002083,1.724,2,0.000461829,{"$f":"\"\"","v":""},{"$f":"\"\"","v":""},{"$f":"\"\"","v":""},{"$f":"\"\"","v":""},{"$f":"\"\"","v":""},{"$f":"\"\"","v":""},{"$f":"\"\"","v":""},{"$f":"\"\"","v":""},{"$f":"\"\"","v":""},{"$f":"\"\"","v":""},{"$f":"\"\"","v":""},{"$f":"\"\"","v":""},{"$f":"\"\"","v":""},{"$f":"\"\"","v":""},{"$f":"\"\"","v":""},1.2,{"$f":"\"\"","v":""},{"$f":"\"\"","v":""},{"$f":"\"\"","v":""}]
["29013515",null,null,2,90,135,15,15.9,{"$f":"\"\"","v":""},{"$f":"\"\"","v":""},{"$f":"\"\"","v":""},{"$f":"\"\"","v":""},{"v":2347.28,"d":"2347"},{"v":2347.28,"d":"2347"},{"v":2347.28,"d":"2347"},{"v":2347.28,"d":"2347"},1.3107,1.3107,1.3107,1.3107,376,376,376,376,65,65,65,65,{"v":0.02569490327422162,"d":"0.03"},{"v":0.02569490327422162,"d":"0.03"},{"v":0.02569490327422162,"d":"0.03"},{"v":0.02569490327422162,"d":"0.03"},0.0002083,1.724,2,0.000461829,{"$f":"\"\"","v":""},{"$f":"\"\"","v":""},{"$f":"\"\"","v":""},{"$f":"\"\"","v":""},{"$f":"\"\"","v":""},{"$f":"\"\"","v":""},{"$f":"\"\"","v":""},{"$f":"\"\"","v":""},{"$f":"\"\"","v":""},{"$f":"\"\"","v":""},{"$f":"\"\"","v":""},{"$f":"\"\"","v":""},{"$f":"\"\"","v":""},{"$f":"\"\"","v":""},{"$f":"\"\"","v":""},1.4,{"$f":"\"\"","v":""},{"$f":"\"\"","v":""},{"$f":"\"\"","v":""}]
["29015515",null,null,2,90,155,15,15.9,{"$f":"\"\"","v":""},{"$f":"\"\"","v":""},{"$f":"\"\"","v":""},{"$f":"\"\"","v":""},{"v":2732.08,"d":"2732"},{"v":2732.08,"d":"2732"},{"v":2732.08,"d":"2732"},{"v":2732.08,"d":"2732"},1.3107,1.3107,1.3107,1.3107,438,438,438,438,75,75,75,75,{"v":0.03526532599097838,"d":"0.04"},{"v":0.03526532599097838,"d":"0.04"},{"v":0.03526532599097838,"d":"0.04"},{"v":0.03526532599097838,"d":"0.04"},0.0002083,1.724,2,0.000461829,{"$f":"\"\"","v":""},{"$f":"\"\"","v":""},{"$f":"\"\"","v":""},{"$f":"\"\"","v":""},{"$f":"\"\"","v":""},{"$f":"\"\"","v":""},{"$f":"\"\"","v":""},{"$f":"\"\"","v":""},{"$f":"\"\"","v":""},{"$f":"\"\"","v":""},{"$f":"\"\"","v":""},{"$f":"\"\"","v":""},{"$f":"\"\"","v":""},{"$f":"\"\"","v":""},{"$f":"\"\"","v":""},1.6,{"$f":"\"\"","v":""},{"$f":"\"\"","v":""},{"$f":"\"\"","v":""}]
["29017515",null,null,2,90,175,15,15.9,{"$f":"\"\"","v":""},{"$f":"\"\"","v":""},{"$f":"\"\"","v":""},{"$f":"\"\"","v":""},{"v":3116.88,"d":"3117"},{"v":3116.88,"d":"3117"},{"v":3116.88,"d":"3117"},{"v":3116.88,"d":"3117"},1.3107,1.3107,1.3107,1.3107,500,500,500,500,86,86,86,86,{"v":0.047656673637534265,"d":"0.05"},{"v":0.047656673637534265,"d":"0.05"},{"v":0.047656673637534265,"d":"0.05"},{"v":0.047656673637534265,"d":"0.05"},0.0002083,1.724,2,0.000461829,{"$f":"\"\"","v":""},{"$f":"\"\"","v":""},{"$f":"\"\"","v":""},{"$f":"\"\"","v":""},{"$f":"\"\"","v":""},{"$f":"\"\"","v":""},{"$f":"\"\"","v":""},{"$f":"\"\"","v":""},{"$f":"\"\"","v":""},{"$f":"\"\"","v":""},{"$f":"\"\"","v":""},{"$f":"\"\"","v":""},{"$f":"\"\"","v":""},{"$f":"\"\"","v":""},{"$f":"\"\"","v":""},1.8,{"$f":"\"\"","v":""},{"$f":"\"\"","v":""},{"$f":"\"\"","v":""}]
["29019515",null,null,2,90,195,15,15.9,{"$f":"\"\"","v":""},{"$f":"\"\"","v":""},{"$f":"\"\"","v":""},{"$f":"\"\"","v":""},{"v":3501.68,"d":"3502"},{"v":3501.68,"d":"3502"},{"v":3501.68,"d":"3502"},{"v":3501.68,"d":"3502"},1.3107,1.3107,1.3107,1.3107,561,561,561,561,96,96,96,96,{"v":0.060990547340395086,"d":"0.06"},{"v":0.060990547340395086,"d":"0.06"},{"v":0.060990547340395086,"d":"0.06"},{"v":0.060990547340395086,"d":"0.06"},0.0002083,1.724,2,0.000461829,{"$f":"\"\"","v":""},{"$f":"\"\"","v":""},{"$f":"\"\"","v":""},{"$f":"\"\"","v":""},{"$f":"\"\"","v":""},{"$f":"\"\"","v":""},{"$f":"\"\"","v":""},{"$f":"\"\"","v":""},{"$f":"\"\"","v":""},{"$f":"\"\"","v":""},{"$f":"\"\"","v":""},{"$f":"\"\"","v":""},{"$f":"\"\"","v":""},{"$f":"\"\"","v":""},{"$f":"\"\"","v":""},{"v":2,"d":"2.0"},{"$f":"\"\"","v":""},{"$f":"\"\"","v":""},{"$f":"\"\"","v":""}]
["29021515",null,null,2,90,215,15,15.9,{"$f":"\"\"","v":""},{"$f":"\"\"","v":""},{"$f":"\"\"","v":""},{"$f":"\"\"","v":""},{"v":3886.48,"d":"3886"},{"v":3886.48,"d":"3886"},{"v":3886.48,"d":"3886"},{"v":3886.48,"d":"3886"},1.3107,1.3107,1.3107,1.3107,623,623,623,623,107,107,107,107,{"v":0.07763597831020627,"d":"0.08"},{"v":0.07763597831020627,"d":"0.08"},{"v":0.07763597831020627,"d":"0.08"},{"v":0.07763597831020627,"d":"0.08"},0.0002083,1.724,2,0.000461829,{"$f":"\"\"","v":""},{"$f":"\"\"","v":""},{"$f":"\"\"","v":""},{"$f":"\"\"","v":""},{"$f":"\"\"","v":""},{"$f":"\"\"","v":""},{"$f":"\"\"","v":""},{"$f":"\"\"","v":""},{"$f":"\"\"","v":""},{"$f":"\"\"","v":""},{"$f":"\"\"","v":""},{"$f":"\"\"","v":""},{"$f":"\"\"","v":""},{"$f":"\"\"","v":""},{"$f":"\"\"","v":""},2.2,{"$f":"\"\"","v":""},{"$f":"\"\"","v":""},{"$f":"\"\"","v":""}]
["29023515",null,null,2,90,235,15,15.9,{"$f":"\"\"","v":""},{"$f":"\"\"","v":""},{"$f":"\"\"","v":""},{"$f":"\"\"","v":""},{"v":4271.28,"d":"4271"},{"v":4271.28,"d":"4271"},{"v":4271.28,"d":"4271"},{"v":4271.28,"d":"4271"},1.3107,1.3107,1.3107,1.3107,685,685,685,685,118,118,118,118,{"v":0.0966295039122765,"d":"0.10"},{"v":0.0966295039122765,"d":"0.10"},{"v":0.0966295039122765,"d":"0.10"},{"v":0.0966295039122765,"d":"0.10"},0.0002083,1.724,2,0.000461829,{"$f":"\"\"","v":""},{"$f":"\"\"","v":""},{"$f":"\"\"","v":""},{"$f":"\"\"","v":""},{"$f":"\"\"","v":""},{"$f":"\"\"","v":""},{"$f":"\"\"","v":""},{"$f":"\"\"","v":""},{"$f":"\"\"","v":""},{"$f":"\"\"","v":""},{"$f":"\"\"","v":""},{"$f":"\"\"","v":""},{"$f":"\"\"","v":""},{"$f":"\"\"","v":""},{"$f":"\"\"","v":""},2.4,{"$f":"\"\"","v":""},{"$f":"\"\"","v":""},{"$f":"\"\"","v":""}]
["2955515",null,null,2,95,55,15,15.9,{"$f":"\"\"","v":""},{"$f":"\"\"","v":""},{"$f":"\"\"","v":""},{"$f":"\"\"","v":""},{"v":817.32,"d":"817"},{"v":817.32,"d":"817"},{"v":817.32,"d":"817"},{"v":817.32,"d":"817"},1.3044,1.3044,1.3044,1.3044,132,132,132,132,23,23,23,23,{"v":2.7632681120152982E-3,"d":"0.00"},{"v":2.7632681120152982E-3,"d":"0.00"},{"v":2.7632681120152982E-3,"d":"0.00"},{"v":2.7632681120152982E-3,"d":"0.00"},0.0002083,1.724,2,0.000461829,{"$f":"\"\"","v":""},{"$f":"\"\"","v":""},{"$f":"\"\"","v":""},{"$f":"\"\"","v":""},{"$f":"\"\"","v":""},{"$f":"\"\"","v":""},{"$f":"\"\"","v":""},{"$f":"\"\"","v":""},{"$f":"\"\"","v":""},{"$f":"\"\"","v":""},{"$f":"\"\"","v":""},{"$f":"\"\"","v":""},{"$f":"\"\"","v":""},{"$f":"\"\"","v":""},{"$f":"\"\"","v":""},0.6,{"$f":"\"\"","v":""},{"$f":"\"\"","v":""},{"$f":"\"\"","v":""}]
["2956515",null,null,2,95,65,15,15.9,{"$f":"\"\"","v":""},{"$f":"\"\"","v":""},{"$f":"\"\"","v":""},{"$f":"\"\"","v":""},{"v":1011.92,"d":"1012"},{"v":1011.92,"d":"1012"},{"v":1011.92,"d":"1012"},{"v":1011.92,"d":"1012"},1.3044,1.3044,1.3044,1.3044,164,164,164,164,28,28,28,28,{"v":4.1939733073762964E-3,"d":"0.00"},{"v":4.1939733073762964E-3,"d":"0.00"},{"v":4.1939733073762964E-3,"d":"0.00"},{"v":4.1939733073762964E-3,"d":"0.00"},0.0002083,1.724,2,0.000461829,{"$f":"\"\"","v":""},{"$f":"\"\"","v":""},{"$f":"\"\"","v":""},{"$f":"\"\"","v":""},{"$f":"\"\"","v":""},{"$f":"\"\"","v":""},{"$f":"\"\"","v":""},{"$f":"\"\"","v":""},{"$f":"\"\"","v":""},{"$f":"\"\"","v":""},{"$f":"\"\"","v":""},{"$f":"\"\"","v":""},{"$f":"\"\"","v":""},{"$f":"\"\"","v":""},{"$f":"\"\"","v":""},0.7,{"$f":"\"\"","v":""},{"$f":"\"\"","v":""},{"$f":"\"\"","v":""}]
["2957515",null,null,2,95,75,15,15.9,{"$f":"\"\"","v":""},{"$f":"\"\"","v":""},{"$f":"\"\"","v":""},{"$f":"\"\"","v":""},{"v":1206.52,"d":"1207"},{"v":1206.52,"d":"1207"},{"v":1206.52,"d":"1207"},{"v":1206.52,"d":"1207"},1.3044,1.3044,1.3044,1.3044,195,195,195,195,34,34,34,34,{"v":0.006312624746857375,"d":"0.01"},{"v":0.006312624746857375,"d":"0.01"},{"v":0.006312624746857375,"d":"0.01"},{"v":0.006312624746857375,"d":"0.01"},0.0002083,1.724,2,0.000461829,{"$f":"\"\"","v":""},{"$f":"\"\"","v":""},{"$f":"\"\"","v":""},{"$f":"\"\"","v":""},{"$f":"\"\"","v":""},{"$f":"\"\"","v":""},{"$f":"\"\"","v":""},{"$f":"\"\"","v":""},{"$f":"\"\"","v":""},{"$f":"\"\"","v":""},{"$f":"\"\"","v":""},{"$f":"\"\"","v":""},{"$f":"\"\"","v":""},{"$f":"\"\"","v":""},{"$f":"\"\"","v":""},0.8,{"$f":"\"\"","v":""},{"$f":"\"\"","v":""},{"$f":"\"\"","v":""}]
["2958515",null,null,2,95,85,15,15.9,{"$f":"\"\"","v":""},{"$f":"\"\"","v":""},{"$f":"\"\"","v":""},{"$f":"\"\"","v":""},{"v":1401.12,"d":"1401"},{"v":1401.12,"d":"1401"},{"v":1401.12,"d":"1401"},{"v":1401.12,"d":"1401"},1.3044,1.3044,1.3044,1.3044,227,227,227,227,39,39,39,39,{"v":0.008478874655686724,"d":"0.01"},{"v":0.008478874655686724,"d":"0.01"},{"v":0.008478874655686724,"d":"0.01"},{"v":0.008478874655686724,"d":"0.01"},0.0002083,1.724,2,0.000461829,{"$f":"\"\"","v":""},{"$f":"\"\"","v":""},{"$f":"\"\"","v":""},{"$f":"\"\"","v":""},{"$f":"\"\"","v":""},{"$f":"\"\"","v":""},{"$f":"\"\"","v":""},{"$f":"\"\"","v":""},{"$f":"\"\"","v":""},{"$f":"\"\"","v":""},{"$f":"\"\"","v":""},{"$f":"\"\"","v":""},{"$f":"\"\"","v":""},{"$f":"\"\"","v":""},{"$f":"\"\"","v":""},0.9,{"$f":"\"\"","v":""},{"$f":"\"\"","v":""},{"$f":"\"\"","v":""}]
["2959515",null,null,2,95,95,15,15.9,{"$f":"\"\"","v":""},{"$f":"\"\"","v":""},{"$f":"\"\"","v":""},{"$f":"\"\"","v":""},{"v":1595.72,"d":"1596"},{"v":1595.72,"d":"1596"},{"v":1595.72,"d":"1596"},{"v":1595.72,"d":"1596"},1.3044,1.3044,1.3044,1.3044,258,258,258,258,44,44,44,44,{"v":0.011003968255347921,"d":"0.01"},{"v":0.011003968255347921,"d":"0.01"},{"v":0.011003968255347921,"d":"0.01"},{"v":0.011003968255347921,"d":"0.01"},0.0002083,1.724,2,0.000461829,{"$f":"\"\"","v":""},{"$f":"\"\"","v":""},{"$f":"\"\"","v":""},{"$f":"\"\"","v":""},{"$f":"\"\"","v":""},{"$f":"\"\"","v":""},{"$f":"\"\"","v":""},{"$f":"\"\"","v":""},{"$f":"\"\"","v":""},{"$f":"\"\"","v":""},{"$f":"\"\"","v":""},{"$f":"\"\"","v":""},{"$f":"\"\"","v":""},{"$f":"\"\"","v":""},{"$f":"\"\"","v":""},{"v":1,"d":"1.0"},{"$f":"\"\"","v":""},{"$f":"\"\"","v":""},{"$f":"\"\"","v":""}]
["29510515",null,null,2,95,105,15,15.9,{"$f":"\"\"","v":""},{"$f":"\"\"","v":""},{"$f":"\"\"","v":""},{"$f":"\"\"","v":""},{"v":1790.32,"d":"1790"},{"v":1790.32,"d":"1790"},{"v":1790.32,"d":"1790"},{"v":1790.32,"d":"1790"},1.3044,1.3044,1.3044,1.3044,290,290,290,290,50,50,50,50,{"v":0.014456026684884674,"d":"0.01"},{"v":0.014456026684884674,"d":"0.01"},{"v":0.014456026684884674,"d":"0.01"},{"v":0.014456026684884674,"d":"0.01"},0.0002083,1.724,2,0.000461829,{"$f":"\"\"","v":""},{"$f":"\"\"","v":""},{"$f":"\"\"","v":""},{"$f":"\"\"","v":""},{"$f":"\"\"","v":""},{"$f":"\"\"","v":""},{"$f":"\"\"","v":""},{"$f":"\"\"","v":""},{"$f":"\"\"","v":""},{"$f":"\"\"","v":""},{"$f":"\"\"","v":""},{"$f":"\"\"","v":""},{"$f":"\"\"","v":""},{"$f":"\"\"","v":""},{"$f":"\"\"","v":""},1.1,{"$f":"\"\"","v":""},{"$f":"\"\"","v":""},{"$f":"\"\"","v":""}]
["29511515",null,null,2,95,115,15,15.9,{"$f":"\"\"","v":""},{"$f":"\"\"","v":""},{"$f":"\"\"","v":""},{"$f":"\"\"","v":""},{"v":1984.92,"d":"1985"},{"v":1984.92,"d":"1985"},{"v":1984.92,"d":"1985"},{"v":1984.92,"d":"1985"},1.3044,1.3044,1.3044,1.3044,321,321,321,321,55,55,55,55,{"v":0.01780174201046288,"d":"0.02"},{"v":0.01780174201046288,"d":"0.02"},{"v":0.01780174201046288,"d":"0.02"},{"v":0.01780174201046288,"d":"0.02"},0.0002083,1.724,2,0.000461829,{"$f":"\"\"","v":""},{"$f":"\"\"","v":""},{"$f":"\"\"","v":""},{"$f":"\"\"","v":""},{"$f":"\"\"","v":""},{"$f":"\"\"","v":""},{"$f":"\"\"","v":""},{"$f":"\"\"","v":""},{"$f":"\"\"","v":""},{"$f":"\"\"","v":""},{"$f":"\"\"","v":""},{"$f":"\"\"","v":""},{"$f":"\"\"","v":""},{"$f":"\"\"","v":""},{"$f":"\"\"","v":""},1.2,{"$f":"\"\"","v":""},{"$f":"\"\"","v":""},{"$f":"\"\"","v":""}]
["29513515",null,null,2,95,135,15,15.9,{"$f":"\"\"","v":""},{"$f":"\"\"","v":""},{"$f":"\"\"","v":""},{"$f":"\"\"","v":""},{"v":2374.12,"d":"2374"},{"v":2374.12,"d":"2374"},{"v":2374.12,"d":"2374"},{"v":2374.12,"d":"2374"},1.3044,1.3044,1.3044,1.3044,384,384,384,384,66,66,66,66,{"v":0.026463101706905683,"d":"0.03"},{"v":0.026463101706905683,"d":"0.03"},{"v":0.026463101706905683,"d":"0.03"},{"v":0.026463101706905683,"d":"0.03"},0.0002083,1.724,2,0.000461829,{"$f":"\"\"","v":""},{"$f":"\"\"","v":""},{"$f":"\"\"","v":""},{"$f":"\"\"","v":""},{"$f":"\"\"","v":""},{"$f":"\"\"","v":""},{"$f":"\"\"","v":""},{"$f":"\"\"","v":""},{"$f":"\"\"","v":""},{"$f":"\"\"","v":""},{"$f":"\"\"","v":""},{"$f":"\"\"","v":""},{"$f":"\"\"","v":""},{"$f":"\"\"","v":""},{"$f":"\"\"","v":""},1.4,{"$f":"\"\"","v":""},{"$f":"\"\"","v":""},{"$f":"\"\"","v":""}]
["29515515",null,null,2,95,155,15,15.9,{"$f":"\"\"","v":""},{"$f":"\"\"","v":""},{"$f":"\"\"","v":""},{"$f":"\"\"","v":""},{"v":2763.32,"d":"2763"},{"v":2763.32,"d":"2763"},{"v":2763.32,"d":"2763"},{"v":2763.32,"d":"2763"},1.3044,1.3044,1.3044,1.3044,447,447,447,447,77,77,77,77,{"v":0.037096409256183925,"d":"0.04"},{"v":0.037096409256183925,"d":"0.04"},{"v":0.037096409256183925,"d":"0.04"},{"v":0.037096409256183925,"d":"0.04"},0.0002083,1.724,2,0.000461829,{"$f":"\"\"","v":""},{"$f":"\"\"","v":""},{"$f":"\"\"","v":""},{"$f":"\"\"","v":""},{"$f":"\"\"","v":""},{"$f":"\"\"","v":""},{"$f":"\"\"","v":""},{"$f":"\"\"","v":""},{"$f":"\"\"","v":""},{"$f":"\"\"","v":""},{"$f":"\"\"","v":""},{"$f":"\"\"","v":""},{"$f":"\"\"","v":""},{"$f":"\"\"","v":""},{"$f":"\"\"","v":""},1.6,{"$f":"\"\"","v":""},{"$f":"\"\"","v":""},{"$f":"\"\"","v":""}]
["29517515",null,null,2,95,175,15,15.9,{"$f":"\"\"","v":""},{"$f":"\"\"","v":""},{"$f":"\"\"","v":""},{"$f":"\"\"","v":""},{"v":3152.52,"d":"3153"},{"v":3152.52,"d":"3153"},{"v":3152.52,"d":"3153"},{"v":3152.52,"d":"3153"},1.3044,1.3044,1.3044,1.3044,510,510,510,510,88,88,88,88,{"v":0.04980510909438641,"d":"0.05"},{"v":0.04980510909438641,"d":"0.05"},{"v":0.04980510909438641,"d":"0.05"},{"v":0.04980510909438641,"d":"0.05"},0.0002083,1.724,2,0.000461829,{"$f":"\"\"","v":""},{"$f":"\"\"","v":""},{"$f":"\"\"","v":""},{"$f":"\"\"","v":""},{"$f":"\"\"","v":""},{"$f":"\"\"","v":""},{"$f":"\"\"","v":""},{"$f":"\"\"","v":""},{"$f":"\"\"","v":""},{"$f":"\"\"","v":""},{"$f":"\"\"","v":""},{"$f":"\"\"","v":""},{"$f":"\"\"","v":""},{"$f":"\"\"","v":""},{"$f":"\"\"","v":""},1.8,{"$f":"\"\"","v":""},{"$f":"\"\"","v":""},{"$f":"\"\"","v":""}]
["29519515",null,null,2,95,195,15,15.9,{"$f":"\"\"","v":""},{"$f":"\"\"","v":""},{"$f":"\"\"","v":""},{"$f":"\"\"","v":""},{"v":3541.72,"d":"3542"},{"v":3541.72,"d":"3542"},{"v":3541.72,"d":"3542"},{"v":3541.72,"d":"3542"},1.3044,1.3044,1.3044,1.3044,573,573,573,573,99,99,99,99,{"v":0.06468861979057051,"d":"0.06"},{"v":0.06468861979057051,"d":"0.06"},{"v":0.06468861979057051,"d":"0.06"},{"v":0.06468861979057051,"d":"0.06"},0.0002083,1.724,2,0.000461829,{"$f":"\"\"","v":""},{"$f":"\"\"","v":""},{"$f":"\"\"","v":""},{"$f":"\"\"","v":""},{"$f":"\"\"","v":""},{"$f":"\"\"","v":""},{"$f":"\"\"","v":""},{"$f":"\"\"","v":""},{"$f":"\"\"","v":""},{"$f":"\"\"","v":""},{"$f":"\"\"","v":""},{"$f":"\"\"","v":""},{"$f":"\"\"","v":""},{"$f":"\"\"","v":""},{"$f":"\"\"","v":""},{"v":2,"d":"2.0"},{"$f":"\"\"","v":""},{"$f":"\"\"","v":""},{"$f":"\"\"","v":""}]
["29521515",null,null,2,95,215,15,15.9,{"$f":"\"\"","v":""},{"$f":"\"\"","v":""},{"$f":"\"\"","v":""},{"$f":"\"\"","v":""},{"v":3930.92,"d":"3931"},{"v":3930.92,"d":"3931"},{"v":3930.92,"d":"3931"},{"v":3930.92,"d":"3931"},1.3044,1.3044,1.3044,1.3044,636,636,636,636,109,109,109,109,{"v":0.08042878608423368,"d":"0.08"},{"v":0.08042878608423368,"d":"0.08"},{"v":0.08042878608423368,"d":"0.08"},{"v":0.08042878608423368,"d":"0.08"},0.0002083,1.724,2,0.000461829,{"$f":"\"\"","v":""},{"$f":"\"\"","v":""},{"$f":"\"\"","v":""},{"$f":"\"\"","v":""},{"$f":"\"\"","v":""},{"$f":"\"\"","v":""},{"$f":"\"\"","v":""},{"$f":"\"\"","v":""},{"$f":"\"\"","v":""},{"$f":"\"\"","v":""},{"$f":"\"\"","v":""},{"$f":"\"\"","v":""},{"$f":"\"\"","v":""},{"$f":"\"\"","v":""},{"$f":"\"\"","v":""},2.2,{"$f":"\"\"","v":""},{"$f":"\"\"","v":""},{"$f":"\"\"","v":""}]
["29523515",null,null,2,95,235,15,15.9,{"$f":"\"\"","v":""},{"$f":"\"\"","v":""},{"$f":"\"\"","v":""},{"$f":"\"\"","v":""},{"v":4320.12,"d":"4320"},{"v":4320.12,"d":"4320"},{"v":4320.12,"d":"4320"},{"v":4320.12,"d":"4320"},1.3044,1.3044,1.3044,1.3044,699,699,699,699,120,120,120,120,{"v":0.0997719715570895,"d":"0.10"},{"v":0.0997719715570895,"d":"0.10"},{"v":0.0997719715570895,"d":"0.10"},{"v":0.0997719715570895,"d":"0.10"},0.0002083,1.724,2,0.000461829,{"$f":"\"\"","v":""},{"$f":"\"\"","v":""},{"$f":"\"\"","v":""},{"$f":"\"\"","v":""},{"$f":"\"\"","v":""},{"$f":"\"\"","v":""},{"$f":"\"\"","v":""},{"$f":"\"\"","v":""},{"$f":"\"\"","v":""},{"$f":"\"\"","v":""},{"$f":"\"\"","v":""},{"$f":"\"\"","v":""},{"$f":"\"\"","v":""},{"$f":"\"\"","v":""},{"$f":"\"\"","v":""},2.4,{"$f":"\"\"","v":""},{"$f":"\"\"","v":""},{"$f":"\"\"","v":""}]
["21005515",null,null,2,100,55,15,15.9,{"$f":"\"\"","v":""},{"$f":"\"\"","v":""},{"$f":"\"\"","v":""},{"$f":"\"\"","v":""},{"v":825.3,"d":"825"},{"v":825.3,"d":"825"},{"v":825.3,"d":"825"},{"v":825.3,"d":"825"},1.2981,1.2981,1.2981,1.2981,135,135,135,135,23,23,23,23,{"v":2.7632681120152982E-3,"d":"0.00"},{"v":2.7632681120152982E-3,"d":"0.00"},{"v":2.7632681120152982E-3,"d":"0.00"},{"v":2.7632681120152982E-3,"d":"0.00"},0.0002083,1.724,2,0.000461829,{"$f":"\"\"","v":""},{"$f":"\"\"","v":""},{"$f":"\"\"","v":""},{"$f":"\"\"","v":""},{"$f":"\"\"","v":""},{"$f":"\"\"","v":""},{"$f":"\"\"","v":""},{"$f":"\"\"","v":""},{"$f":"\"\"","v":""},{"$f":"\"\"","v":""},{"$f":"\"\"","v":""},{"$f":"\"\"","v":""},{"$f":"\"\"","v":""},{"$f":"\"\"","v":""},{"$f":"\"\"","v":""},0.6,{"$f":"\"\"","v":""},{"$f":"\"\"","v":""},{"$f":"\"\"","v":""}]
["21006515",null,null,2,100,65,15,15.9,{"$f":"\"\"","v":""},{"$f":"\"\"","v":""},{"$f":"\"\"","v":""},{"$f":"\"\"","v":""},{"v":1021.8,"d":"1022"},{"v":1021.8,"d":"1022"},{"v":1021.8,"d":"1022"},{"v":1021.8,"d":"1022"},1.2981,1.2981,1.2981,1.2981,167,167,167,167,29,29,29,29,{"v":0.004492216788096346,"d":"0.00"},{"v":0.004492216788096346,"d":"0.00"},{"v":0.004492216788096346,"d":"0.00"},{"v":0.004492216788096346,"d":"0.00"},0.0002083,1.724,2,0.000461829,{"$f":"\"\"","v":""},{"$f":"\"\"","v":""},{"$f":"\"\"","v":""},{"$f":"\"\"","v":""},{"$f":"\"\"","v":""},{"$f":"\"\"","v":""},{"$f":"\"\"","v":""},{"$f":"\"\"","v":""},{"$f":"\"\"","v":""},{"$f":"\"\"","v":""},{"$f":"\"\"","v":""},{"$f":"\"\"","v":""},{"$f":"\"\"","v":""},{"$f":"\"\"","v":""},{"$f":"\"\"","v":""},0.7,{"$f":"\"\"","v":""},{"$f":"\"\"","v":""},{"$f":"\"\"","v":""}]
["21007515",null,null,2,100,75,15,15.9,{"$f":"\"\"","v":""},{"$f":"\"\"","v":""},{"$f":"\"\"","v":""},{"$f":"\"\"","v":""},{"v":1218.3,"d":"1218"},{"v":1218.3,"d":"1218"},{"v":1218.3,"d":"1218"},{"v":1218.3,"d":"1218"},1.2981,1.2981,1.2981,1.2981,199,199,199,199,34,34,34,34,{"v":0.006312624746857375,"d":"0.01"},{"v":0.006312624746857375,"d":"0.01"},{"v":0.006312624746857375,"d":"0.01"},{"v":0.006312624746857375,"d":"0.01"},0.0002083,1.724,2,0.000461829,{"$f":"\"\"","v":""},{"$f":"\"\"","v":""},{"$f":"\"\"","v":""},{"$f":"\"\"","v":""},{"$f":"\"\"","v":""},{"$f":"\"\"","v":""},{"$f":"\"\"","v":""},{"$f":"\"\"","v":""},{"$f":"\"\"","v":""},{"$f":"\"\"","v":""},{"$f":"\"\"","v":""},{"$f":"\"\"","v":""},{"$f":"\"\"","v":""},{"$f":"\"\"","v":""},{"$f":"\"\"","v":""},0.8,{"$f":"\"\"","v":""},{"$f":"\"\"","v":""},{"$f":"\"\"","v":""}]
["21008515",null,null,2,100,85,15,15.9,{"$f":"\"\"","v":""},{"$f":"\"\"","v":""},{"$f":"\"\"","v":""},{"$f":"\"\"","v":""},{"v":1414.8,"d":"1415"},{"v":1414.8,"d":"1415"},{"v":1414.8,"d":"1415"},{"v":1414.8,"d":"1415"},1.2981,1.2981,1.2981,1.2981,231,231,231,231,40,40,40,40,{"v":0.008907580266124471,"d":"0.01"},{"v":0.008907580266124471,"d":"0.01"},{"v":0.008907580266124471,"d":"0.01"},{"v":0.008907580266124471,"d":"0.01"},0.0002083,1.724,2,0.000461829,{"$f":"\"\"","v":""},{"$f":"\"\"","v":""},{"$f":"\"\"","v":""},{"$f":"\"\"","v":""},{"$f":"\"\"","v":""},{"$f":"\"\"","v":""},{"$f":"\"\"","v":""},{"$f":"\"\"","v":""},{"$f":"\"\"","v":""},{"$f":"\"\"","v":""},{"$f":"\"\"","v":""},{"$f":"\"\"","v":""},{"$f":"\"\"","v":""},{"$f":"\"\"","v":""},{"$f":"\"\"","v":""},0.9,{"$f":"\"\"","v":""},{"$f":"\"\"","v":""},{"$f":"\"\"","v":""}]
["21009515",null,null,2,100,95,15,15.9,{"$f":"\"\"","v":""},{"$f":"\"\"","v":""},{"$f":"\"\"","v":""},{"$f":"\"\"","v":""},{"v":1611.3,"d":"1611"},{"v":1611.3,"d":"1611"},{"v":1611.3,"d":"1611"},{"v":1611.3,"d":"1611"},1.2981,1.2981,1.2981,1.2981,263,263,263,263,45,45,45,45,{"v":0.011495333645089529,"d":"0.01"},{"v":0.011495333645089529,"d":"0.01"},{"v":0.011495333645089529,"d":"0.01"},{"v":0.011495333645089529,"d":"0.01"},0.0002083,1.724,2,0.000461829,{"$f":"\"\"","v":""},{"$f":"\"\"","v":""},{"$f":"\"\"","v":""},{"$f":"\"\"","v":""},{"$f":"\"\"","v":""},{"$f":"\"\"","v":""},{"$f":"\"\"","v":""},{"$f":"\"\"","v":""},{"$f":"\"\"","v":""},{"$f":"\"\"","v":""},{"$f":"\"\"","v":""},{"$f":"\"\"","v":""},{"$f":"\"\"","v":""},{"$f":"\"\"","v":""},{"$f":"\"\"","v":""},{"v":1,"d":"1.0"},{"$f":"\"\"","v":""},{"$f":"\"\"","v":""},{"$f":"\"\"","v":""}]
["210010515",null,null,2,100,105,15,15.9,{"$f":"\"\"","v":""},{"$f":"\"\"","v":""},{"$f":"\"\"","v":""},{"$f":"\"\"","v":""},{"v":1807.8,"d":"1808"},{"v":1807.8,"d":"1808"},{"v":1807.8,"d":"1808"},{"v":1807.8,"d":"1808"},1.2981,1.2981,1.2981,1.2981,295,295,295,295,51,51,51,51,{"v":0.015022236887541583,"d":"0.02"},{"v":0.015022236887541583,"d":"0.02"},{"v":0.015022236887541583,"d":"0.02"},{"v":0.015022236887541583,"d":"0.02"},0.0002083,1.724,2,0.000461829,{"$f":"\"\"","v":""},{"$f":"\"\"","v":""},{"$f":"\"\"","v":""},{"$f":"\"\"","v":""},{"$f":"\"\"","v":""},{"$f":"\"\"","v":""},{"$f":"\"\"","v":""},{"$f":"\"\"","v":""},{"$f":"\"\"","v":""},{"$f":"\"\"","v":""},{"$f":"\"\"","v":""},{"$f":"\"\"","v":""},{"$f":"\"\"","v":""},{"$f":"\"\"","v":""},{"$f":"\"\"","v":""},1.1,{"$f":"\"\"","v":""},{"$f":"\"\"","v":""},{"$f":"\"\"","v":""}]
["210011515",null,null,2,100,115,15,15.9,{"$f":"\"\"","v":""},{"$f":"\"\"","v":""},{"$f":"\"\"","v":""},{"$f":"\"\"","v":""},{"v":2004.3,"d":"2004"},{"v":2004.3,"d":"2004"},{"v":2004.3,"d":"2004"},{"v":2004.3,"d":"2004"},1.2981,1.2981,1.2981,1.2981,327,327,327,327,56,56,56,56,{"v":0.018433821852435243,"d":"0.02"},{"v":0.018433821852435243,"d":"0.02"},{"v":0.018433821852435243,"d":"0.02"},{"v":0.018433821852435243,"d":"0.02"},0.0002083,1.724,2,0.000461829,{"$f":"\"\"","v":""},{"$f":"\"\"","v":""},{"$f":"\"\"","v":""},{"$f":"\"\"","v":""},{"$f":"\"\"","v":""},{"$f":"\"\"","v":""},{"$f":"\"\"","v":""},{"$f":"\"\"","v":""},{"$f":"\"\"","v":""},{"$f":"\"\"","v":""},{"$f":"\"\"","v":""},{"$f":"\"\"","v":""},{"$f":"\"\"","v":""},{"$f":"\"\"","v":""},{"$f":"\"\"","v":""},1.2,{"$f":"\"\"","v":""},{"$f":"\"\"","v":""},{"$f":"\"\"","v":""}]
["210013515",null,null,2,100,135,15,15.9,{"$f":"\"\"","v":""},{"$f":"\"\"","v":""},{"$f":"\"\"","v":""},{"$f":"\"\"","v":""},{"v":2397.3,"d":"2397"},{"v":2397.3,"d":"2397"},{"v":2397.3,"d":"2397"},{"v":2397.3,"d":"2397"},1.2981,1.2981,1.2981,1.2981,391,391,391,391,67,67,67,67,{"v":0.02724228563535967,"d":"0.03"},{"v":0.02724228563535967,"d":"0.03"},{"v":0.02724228563535967,"d":"0.03"},{"v":0.02724228563535967,"d":"0.03"},0.0002083,1.724,2,0.000461829,{"$f":"\"\"","v":""},{"$f":"\"\"","v":""},{"$f":"\"\"","v":""},{"$f":"\"\"","v":""},{"$f":"\"\"","v":""},{"$f":"\"\"","v":""},{"$f":"\"\"","v":""},{"$f":"\"\"","v":""},{"$f":"\"\"","v":""},{"$f":"\"\"","v":""},{"$f":"\"\"","v":""},{"$f":"\"\"","v":""},{"$f":"\"\"","v":""},{"$f":"\"\"","v":""},{"$f":"\"\"","v":""},1.4,{"$f":"\"\"","v":""},{"$f":"\"\"","v":""},{"$f":"\"\"","v":""}]
["210015515",null,null,2,100,155,15,15.9,{"$f":"\"\"","v":""},{"$f":"\"\"","v":""},{"$f":"\"\"","v":""},{"$f":"\"\"","v":""},{"v":2790.3,"d":"2790"},{"v":2790.3,"d":"2790"},{"v":2790.3,"d":"2790"},{"v":2790.3,"d":"2790"},1.2981,1.2981,1.2981,1.2981,455,455,455,455,78,78,78,78,{"v":0.0380287731884572,"d":"0.04"},{"v":0.0380287731884572,"d":"0.04"},{"v":0.0380287731884572,"d":"0.04"},{"v":0.0380287731884572,"d":"0.04"},0.0002083,1.724,2,0.000461829,{"$f":"\"\"","v":""},{"$f":"\"\"","v":""},{"$f":"\"\"","v":""},{"$f":"\"\"","v":""},{"$f":"\"\"","v":""},{"$f":"\"\"","v":""},{"$f":"\"\"","v":""},{"$f":"\"\"","v":""},{"$f":"\"\"","v":""},{"$f":"\"\"","v":""},{"$f":"\"\"","v":""},{"$f":"\"\"","v":""},{"$f":"\"\"","v":""},{"$f":"\"\"","v":""},{"$f":"\"\"","v":""},1.6,{"$f":"\"\"","v":""},{"$f":"\"\"","v":""},{"$f":"\"\"","v":""}]
["210017515",null,null,2,100,175,15,15.9,{"$f":"\"\"","v":""},{"$f":"\"\"","v":""},{"$f":"\"\"","v":""},{"$f":"\"\"","v":""},{"v":3183.3,"d":"3183"},{"v":3183.3,"d":"3183"},{"v":3183.3,"d":"3183"},{"v":3183.3,"d":"3183"},1.2981,1.2981,1.2981,1.2981,519,519,519,519,89,89,89,89,{"v":0.050896476003888504,"d":"0.05"},{"v":0.050896476003888504,"d":"0.05"},{"v":0.050896476003888504,"d":"0.05"},{"v":0.050896476003888504,"d":"0.05"},0.0002083,1.724,2,0.000461829,{"$f":"\"\"","v":""},{"$f":"\"\"","v":""},{"$f":"\"\"","v":""},{"$f":"\"\"","v":""},{"$f":"\"\"","v":""},{"$f":"\"\"","v":""},{"$f":"\"\"","v":""},{"$f":"\"\"","v":""},{"$f":"\"\"","v":""},{"$f":"\"\"","v":""},{"$f":"\"\"","v":""},{"$f":"\"\"","v":""},{"$f":"\"\"","v":""},{"$f":"\"\"","v":""},{"$f":"\"\"","v":""},1.8,{"$f":"\"\"","v":""},{"$f":"\"\"","v":""},{"$f":"\"\"","v":""}]
["210019515",null,null,2,100,195,15,15.9,{"$f":"\"\"","v":""},{"$f":"\"\"","v":""},{"$f":"\"\"","v":""},{"$f":"\"\"","v":""},{"v":3576.3,"d":"3576"},{"v":3576.3,"d":"3576"},{"v":3576.3,"d":"3576"},{"v":3576.3,"d":"3576"},1.2981,1.2981,1.2981,1.2981,584,584,584,584,100,100,100,100,{"v":0.06594460217581682,"d":"0.07"},{"v":0.06594460217581682,"d":"0.07"},{"v":0.06594460217581682,"d":"0.07"},{"v":0.06594460217581682,"d":"0.07"},0.0002083,1.724,2,0.000461829,{"$f":"\"\"","v":""},{"$f":"\"\"","v":""},{"$f":"\"\"","v":""},{"$f":"\"\"","v":""},{"$f":"\"\"","v":""},{"$f":"\"\"","v":""},{"$f":"\"\"","v":""},{"$f":"\"\"","v":""},{"$f":"\"\"","v":""},{"$f":"\"\"","v":""},{"$f":"\"\"","v":""},{"$f":"\"\"","v":""},{"$f":"\"\"","v":""},{"$f":"\"\"","v":""},{"$f":"\"\"","v":""},{"v":2,"d":"2.0"},{"$f":"\"\"","v":""},{"$f":"\"\"","v":""},{"$f":"\"\"","v":""}]
["210021515",null,null,2,100,215,15,15.9,{"$f":"\"\"","v":""},{"$f":"\"\"","v":""},{"$f":"\"\"","v":""},{"$f":"\"\"","v":""},{"v":3969.3,"d":"3969"},{"v":3969.3,"d":"3969"},{"v":3969.3,"d":"3969"},{"v":3969.3,"d":"3969"},1.2981,1.2981,1.2981,1.2981,648,648,648,648,111,111,111,111,{"v":0.08326900302226697,"d":"0.08"},{"v":0.08326900302226697,"d":"0.08"},{"v":0.08326900302226697,"d":"0.08"},{"v":0.08326900302226697,"d":"0.08"},0.0002083,1.724,2,0.000461829,{"$f":"\"\"","v":""},{"$f":"\"\"","v":""},{"$f":"\"\"","v":""},{"$f":"\"\"","v":""},{"$f":"\"\"","v":""},{"$f":"\"\"","v":""},{"$f":"\"\"","v":""},{"$f":"\"\"","v":""},{"$f":"\"\"","v":""},{"$f":"\"\"","v":""},{"$f":"\"\"","v":""},{"$f":"\"\"","v":""},{"$f":"\"\"","v":""},{"$f":"\"\"","v":""},{"$f":"\"\"","v":""},2.2,{"$f":"\"\"","v":""},{"$f":"\"\"","v":""},{"$f":"\"\"","v":""}]
["210023515",null,null,2,100,235,15,15.9,{"$f":"\"\"","v":""},{"$f":"\"\"","v":""},{"$f":"\"\"","v":""},{"$f":"\"\"","v":""},{"v":4362.3,"d":"4362"},{"v":4362.3,"d":"4362"},{"v":4362.3,"d":"4362"},{"v":4362.3,"d":"4362"},1.2981,1.2981,1.2981,1.2981,712,712,712,712,122,122,122,122,{"v":0.10296264258799273,"d":"0.10"},{"v":0.10296264258799273,"d":"0.10"},{"v":0.10296264258799273,"d":"0.10"},{"v":0.10296264258799273,"d":"0.10"},0.0002083,1.724,2,0.000461829,{"$f":"\"\"","v":""},{"$f":"\"\"","v":""},{"$f":"\"\"","v":""},{"$f":"\"\"","v":""},{"$f":"\"\"","v":""},{"$f":"\"\"","v":""},{"$f":"\"\"","v":""},{"$f":"\"\"","v":""},{"$f":"\"\"","v":""},{"$f":"\"\"","v":""},{"$f":"\"\"","v":""},{"$f":"\"\"","v":""},{"$f":"\"\"","v":""},{"$f":"\"\"","v":""},{"$f":"\"\"","v":""},2.4,{"$f":"\"\"","v":""},{"$f":"\"\"","v":""},{"$f":"\"\"","v":""}]
["2405520",null,null,2,40,55,20,20.9,{"$f":"\"\"","v":""},{"$f":"\"\"","v":""},{"$f":"\"\"","v":""},{"$f":"\"\"","v":""},{"v":832.02,"d":"832"},{"v":832.02,"d":"832"},{"v":832.02,"d":"832"},{"v":832.02,"d":"832"},1.397,1.397,1.397,1.397,118,118,118,118,20,20,20,20,{"v":1.6528686189454449E-3,"d":"0.00"},{"v":1.6528686189454449E-3,"d":"0.00"},{"v":1.6528686189454449E-3,"d":"0.00"},{"v":1.6528686189454449E-3,"d":"0.00"},0.0001276,1.7219,2,3.76611E-4,{"$f":"\"\"","v":""},{"$f":"\"\"","v":""},{"$f":"\"\"","v":""},{"$f":"\"\"","v":""},{"$f":"\"\"","v":""},{"$f":"\"\"","v":""},{"$f":"\"\"","v":""},{"$f":"\"\"","v":""},{"$f":"\"\"","v":""},{"$f":"\"\"","v":""},{"$f":"\"\"","v":""},{"$f":"\"\"","v":""},{"$f":"\"\"","v":""},{"$f":"\"\"","v":""},{"$f":"\"\"","v":""},0.7,{"$f":"\"\"","v":""},{"$f":"\"\"","v":""},{"$f":"\"\"","v":""}]
["2406520",null,null,2,40,65,20,20.9,{"$f":"\"\"","v":""},{"$f":"\"\"","v":""},{"$f":"\"\"","v":""},{"$f":"\"\"","v":""},{"v":1030.12,"d":"1030"},{"v":1030.12,"d":"1030"},{"v":1030.12,"d":"1030"},{"v":1030.12,"d":"1030"},1.397,1.397,1.397,1.397,146,146,146,146,25,25,25,25,{"v":2.6298670796794637E-3,"d":"0.00"},{"v":2.6298670796794637E-3,"d":"0.00"},{"v":2.6298670796794637E-3,"d":"0.00"},{"v":2.6298670796794637E-3,"d":"0.00"},0.0001276,1.7219,2,3.76611E-4,{"$f":"\"\"","v":""},{"$f":"\"\"","v":""},{"$f":"\"\"","v":""},{"$f":"\"\"","v":""},{"$f":"\"\"","v":""},{"$f":"\"\"","v":""},{"$f":"\"\"","v":""},{"$f":"\"\"","v":""},{"$f":"\"\"","v":""},{"$f":"\"\"","v":""},{"$f":"\"\"","v":""},{"$f":"\"\"","v":""},{"$f":"\"\"","v":""},{"$f":"\"\"","v":""},{"$f":"\"\"","v":""},0.9,{"$f":"\"\"","v":""},{"$f":"\"\"","v":""},{"$f":"\"\"","v":""}]
["2407520",null,null,2,40,75,20,20.9,{"$f":"\"\"","v":""},{"$f":"\"\"","v":""},{"$f":"\"\"","v":""},{"$f":"\"\"","v":""},{"v":1228.22,"d":"1228"},{"v":1228.22,"d":"1228"},{"v":1228.22,"d":"1228"},{"v":1228.22,"d":"1228"},1.397,1.397,1.397,1.397,175,175,175,175,30,30,30,30,{"v":0.003851414490868263,"d":"0.00"},{"v":0.003851414490868263,"d":"0.00"},{"v":0.003851414490868263,"d":"0.00"},{"v":0.003851414490868263,"d":"0.00"},0.0001276,1.7219,2,3.76611E-4,{"$f":"\"\"","v":""},{"$f":"\"\"","v":""},{"$f":"\"\"","v":""},{"$f":"\"\"","v":""},{"$f":"\"\"","v":""},{"$f":"\"\"","v":""},{"$f":"\"\"","v":""},{"$f":"\"\"","v":""},{"$f":"\"\"","v":""},{"$f":"\"\"","v":""},{"$f":"\"\"","v":""},{"$f":"\"\"","v":""},{"$f":"\"\"","v":""},{"$f":"\"\"","v":""},{"$f":"\"\"","v":""},{"v":1,"d":"1.0"},{"$f":"\"\"","v":""},{"$f":"\"\"","v":""},{"$f":"\"\"","v":""}]
["2408520",null,null,2,40,85,20,20.9,{"$f":"\"\"","v":""},{"$f":"\"\"","v":""},{"$f":"\"\"","v":""},{"$f":"\"\"","v":""},{"v":1426.32,"d":"1426"},{"v":1426.32,"d":"1426"},{"v":1426.32,"d":"1426"},{"v":1426.32,"d":"1426"},1.397,1.397,1.397,1.397,203,203,203,203,35,35,35,35,{"v":0.005325930269286987,"d":"0.01"},{"v":0.005325930269286987,"d":"0.01"},{"v":0.005325930269286987,"d":"0.01"},{"v":0.005325930269286987,"d":"0.01"},0.0001276,1.7219,2,3.76611E-4,{"$f":"\"\"","v":""},{"$f":"\"\"","v":""},{"$f":"\"\"","v":""},{"$f":"\"\"","v":""},{"$f":"\"\"","v":""},{"$f":"\"\"","v":""},{"$f":"\"\"","v":""},{"$f":"\"\"","v":""},{"$f":"\"\"","v":""},{"$f":"\"\"","v":""},{"$f":"\"\"","v":""},{"$f":"\"\"","v":""},{"$f":"\"\"","v":""},{"$f":"\"\"","v":""},{"$f":"\"\"","v":""},1.1,{"$f":"\"\"","v":""},{"$f":"\"\"","v":""},{"$f":"\"\"","v":""}]
["2409520",null,null,2,40,95,20,20.9,{"$f":"\"\"","v":""},{"$f":"\"\"","v":""},{"$f":"\"\"","v":""},{"$f":"\"\"","v":""},{"v":1624.42,"d":"1624"},{"v":1624.42,"d":"1624"},{"v":1624.42,"d":"1624"},{"v":1624.42,"d":"1624"},1.397,1.397,1.397,1.397,231,231,231,231,40,40,40,40,{"v":0.007061449622269194,"d":"0.01"},{"v":0.007061449622269194,"d":"0.01"},{"v":0.007061449622269194,"d":"0.01"},{"v":0.007061449622269194,"d":"0.01"},0.0001276,1.7219,2,3.76611E-4,{"$f":"\"\"","v":""},{"$f":"\"\"","v":""},{"$f":"\"\"","v":""},{"$f":"\"\"","v":""},{"$f":"\"\"","v":""},{"$f":"\"\"","v":""},{"$f":"\"\"","v":""},{"$f":"\"\"","v":""},{"$f":"\"\"","v":""},{"$f":"\"\"","v":""},{"$f":"\"\"","v":""},{"$f":"\"\"","v":""},{"$f":"\"\"","v":""},{"$f":"\"\"","v":""},{"$f":"\"\"","v":""},1.3,{"$f":"\"\"","v":""},{"$f":"\"\"","v":""},{"$f":"\"\"","v":""}]
["24010520",null,null,2,40,105,20,20.9,{"$f":"\"\"","v":""},{"$f":"\"\"","v":""},{"$f":"\"\"","v":""},{"$f":"\"\"","v":""},{"v":1822.52,"d":"1823"},{"v":1822.52,"d":"1823"},{"v":1822.52,"d":"1823"},{"v":1822.52,"d":"1823"},1.397,1.397,1.397,1.397,259,259,259,259,45,45,45,45,{"v":0.009065693202517202,"d":"0.01"},{"v":0.009065693202517202,"d":"0.01"},{"v":0.009065693202517202,"d":"0.01"},{"v":0.009065693202517202,"d":"0.01"},0.0001276,1.7219,2,3.76611E-4,{"$f":"\"\"","v":""},{"$f":"\"\"","v":""},{"$f":"\"\"","v":""},{"$f":"\"\"","v":""},{"$f":"\"\"","v":""},{"$f":"\"\"","v":""},{"$f":"\"\"","v":""},{"$f":"\"\"","v":""},{"$f":"\"\"","v":""},{"$f":"\"\"","v":""},{"$f":"\"\"","v":""},{"$f":"\"\"","v":""},{"$f":"\"\"","v":""},{"$f":"\"\"","v":""},{"$f":"\"\"","v":""},1.4,{"$f":"\"\"","v":""},{"$f":"\"\"","v":""},{"$f":"\"\"","v":""}]
["24011520",null,null,2,40,115,20,20.9,{"$f":"\"\"","v":""},{"$f":"\"\"","v":""},{"$f":"\"\"","v":""},{"$f":"\"\"","v":""},{"v":2020.62,"d":"2021"},{"v":2020.62,"d":"2021"},{"v":2020.62,"d":"2021"},{"v":2020.62,"d":"2021"},1.397,1.397,1.397,1.397,287,287,287,287,49,49,49,49,{"v":0.010908277582588994,"d":"0.01"},{"v":0.010908277582588994,"d":"0.01"},{"v":0.010908277582588994,"d":"0.01"},{"v":0.010908277582588994,"d":"0.01"},0.0001276,1.7219,2,3.76611E-4,{"$f":"\"\"","v":""},{"$f":"\"\"","v":""},{"$f":"\"\"","v":""},{"$f":"\"\"","v":""},{"$f":"\"\"","v":""},{"$f":"\"\"","v":""},{"$f":"\"\"","v":""},{"$f":"\"\"","v":""},{"$f":"\"\"","v":""},{"$f":"\"\"","v":""},{"$f":"\"\"","v":""},{"$f":"\"\"","v":""},{"$f":"\"\"","v":""},{"$f":"\"\"","v":""},{"$f":"\"\"","v":""},1.5,{"$f":"\"\"","v":""},{"$f":"\"\"","v":""},{"$f":"\"\"","v":""}]
["24013520",null,null,2,40,135,20,20.9,{"$f":"\"\"","v":""},{"$f":"\"\"","v":""},{"$f":"\"\"","v":""},{"$f":"\"\"","v":""},{"v":2416.82,"d":"2417"},{"v":2416.82,"d":"2417"},{"v":2416.82,"d":"2417"},{"v":2416.82,"d":"2417"},1.397,1.397,1.397,1.397,344,344,344,344,59,59,59,59,{"v":0.016225822801522856,"d":"0.02"},{"v":0.016225822801522856,"d":"0.02"},{"v":0.016225822801522856,"d":"0.02"},{"v":0.016225822801522856,"d":"0.02"},0.0001276,1.7219,2,3.76611E-4,{"$f":"\"\"","v":""},{"$f":"\"\"","v":""},{"$f":"\"\"","v":""},{"$f":"\"\"","v":""},{"$f":"\"\"","v":""},{"$f":"\"\"","v":""},{"$f":"\"\"","v":""},{"$f":"\"\"","v":""},{"$f":"\"\"","v":""},{"$f":"\"\"","v":""},{"$f":"\"\"","v":""},{"$f":"\"\"","v":""},{"$f":"\"\"","v":""},{"$f":"\"\"","v":""},{"$f":"\"\"","v":""},1.8,{"$f":"\"\"","v":""},{"$f":"\"\"","v":""},{"$f":"\"\"","v":""}]
["24015520",null,null,2,40,155,20,20.9,{"$f":"\"\"","v":""},{"$f":"\"\"","v":""},{"$f":"\"\"","v":""},{"$f":"\"\"","v":""},{"v":2813.02,"d":"2813"},{"v":2813.02,"d":"2813"},{"v":2813.02,"d":"2813"},{"v":2813.02,"d":"2813"},1.397,1.397,1.397,1.397,400,400,400,400,69,69,69,69,{"v":0.02272894977599565,"d":"0.02"},{"v":0.02272894977599565,"d":"0.02"},{"v":0.02272894977599565,"d":"0.02"},{"v":0.02272894977599565,"d":"0.02"},0.0001276,1.7219,2,3.76611E-4,{"$f":"\"\"","v":""},{"$f":"\"\"","v":""},{"$f":"\"\"","v":""},{"$f":"\"\"","v":""},{"$f":"\"\"","v":""},{"$f":"\"\"","v":""},{"$f":"\"\"","v":""},{"$f":"\"\"","v":""},{"$f":"\"\"","v":""},{"$f":"\"\"","v":""},{"$f":"\"\"","v":""},{"$f":"\"\"","v":""},{"$f":"\"\"","v":""},{"$f":"\"\"","v":""},{"$f":"\"\"","v":""},2.1,{"$f":"\"\"","v":""},{"$f":"\"\"","v":""},{"$f":"\"\"","v":""}]
["24017520",null,null,2,40,175,20,20.9,{"$f":"\"\"","v":""},{"$f":"\"\"","v":""},{"$f":"\"\"","v":""},{"$f":"\"\"","v":""},{"v":3209.22,"d":"3209"},{"v":3209.22,"d":"3209"},{"v":3209.22,"d":"3209"},{"v":3209.22,"d":"3209"},1.397,1.397,1.397,1.397,456,456,456,456,78,78,78,78,{"v":0.02973003750839086,"d":"0.03"},{"v":0.02973003750839086,"d":"0.03"},{"v":0.02973003750839086,"d":"0.03"},{"v":0.02973003750839086,"d":"0.03"},0.0001276,1.7219,2,3.76611E-4,{"$f":"\"\"","v":""},{"$f":"\"\"","v":""},{"$f":"\"\"","v":""},{"$f":"\"\"","v":""},{"$f":"\"\"","v":""},{"$f":"\"\"","v":""},{"$f":"\"\"","v":""},{"$f":"\"\"","v":""},{"$f":"\"\"","v":""},{"$f":"\"\"","v":""},{"$f":"\"\"","v":""},{"$f":"\"\"","v":""},{"$f":"\"\"","v":""},{"$f":"\"\"","v":""},{"$f":"\"\"","v":""},2.3,{"$f":"\"\"","v":""},{"$f":"\"\"","v":""},{"$f":"\"\"","v":""}]
["24019520",null,null,2,40,195,20,20.9,{"$f":"\"\"","v":""},{"$f":"\"\"","v":""},{"$f":"\"\"","v":""},{"$f":"\"\"","v":""},{"v":3605.42,"d":"3605"},{"v":3605.42,"d":"3605"},{"v":3605.42,"d":"3605"},{"v":3605.42,"d":"3605"},1.397,1.397,1.397,1.397,512,512,512,512,88,88,88,88,{"v":0.03865145456335503,"d":"0.04"},{"v":0.03865145456335503,"d":"0.04"},{"v":0.03865145456335503,"d":"0.04"},{"v":0.03865145456335503,"d":"0.04"},0.0001276,1.7219,2,3.76611E-4,{"$f":"\"\"","v":""},{"$f":"\"\"","v":""},{"$f":"\"\"","v":""},{"$f":"\"\"","v":""},{"$f":"\"\"","v":""},{"$f":"\"\"","v":""},{"$f":"\"\"","v":""},{"$f":"\"\"","v":""},{"$f":"\"\"","v":""},{"$f":"\"\"","v":""},{"$f":"\"\"","v":""},{"$f":"\"\"","v":""},{"$f":"\"\"","v":""},{"$f":"\"\"","v":""},{"$f":"\"\"","v":""},2.6,{"$f":"\"\"","v":""},{"$f":"\"\"","v":""},{"$f":"\"\"","v":""}]
["24021520",null,null,2,40,215,20,20.9,{"$f":"\"\"","v":""},{"$f":"\"\"","v":""},{"$f":"\"\"","v":""},{"$f":"\"\"","v":""},{"v":4001.62,"d":"4002"},{"v":4001.62,"d":"4002"},{"v":4001.62,"d":"4002"},{"v":4001.62,"d":"4002"},1.397,1.397,1.397,1.397,569,569,569,569,98,98,98,98,{"v":0.048908954299320205,"d":"0.05"},{"v":0.048908954299320205,"d":"0.05"},{"v":0.048908954299320205,"d":"0.05"},{"v":0.048908954299320205,"d":"0.05"},0.0001276,1.7219,2,3.76611E-4,{"$f":"\"\"","v":""},{"$f":"\"\"","v":""},{"$f":"\"\"","v":""},{"$f":"\"\"","v":""},{"$f":"\"\"","v":""},{"$f":"\"\"","v":""},{"$f":"\"\"","v":""},{"$f":"\"\"","v":""},{"$f":"\"\"","v":""},{"$f":"\"\"","v":""},{"$f":"\"\"","v":""},{"$f":"\"\"","v":""},{"$f":"\"\"","v":""},{"$f":"\"\"","v":""},{"$f":"\"\"","v":""},2.9,{"$f":"\"\"","v":""},{"$f":"\"\"","v":""},{"$f":"\"\"","v":""}]
["24023520",null,null,2,40,235,20,20.9,{"$f":"\"\"","v":""},{"$f":"\"\"","v":""},{"$f":"\"\"","v":""},{"$f":"\"\"","v":""},{"v":4397.82,"d":"4398"},{"v":4397.82,"d":"4398"},{"v":4397.82,"d":"4398"},{"v":4397.82,"d":"4398"},1.397,1.397,1.397,1.397,625,625,625,625,108,108,108,108,{"v":0.06055041956567452,"d":"0.06"},{"v":0.06055041956567452,"d":"0.06"},{"v":0.06055041956567452,"d":"0.06"},{"v":0.06055041956567452,"d":"0.06"},0.0001276,1.7219,2,3.76611E-4,{"$f":"\"\"","v":""},{"$f":"\"\"","v":""},{"$f":"\"\"","v":""},{"$f":"\"\"","v":""},{"$f":"\"\"","v":""},{"$f":"\"\"","v":""},{"$f":"\"\"","v":""},{"$f":"\"\"","v":""},{"$f":"\"\"","v":""},{"$f":"\"\"","v":""},{"$f":"\"\"","v":""},{"$f":"\"\"","v":""},{"$f":"\"\"","v":""},{"$f":"\"\"","v":""},{"$f":"\"\"","v":""},3.1,{"$f":"\"\"","v":""},{"$f":"\"\"","v":""},{"$f":"\"\"","v":""}]
["2455520",null,null,2,45,55,20,20.9,{"$f":"\"\"","v":""},{"$f":"\"\"","v":""},{"$f":"\"\"","v":""},{"$f":"\"\"","v":""},{"v":870.66,"d":"871"},{"v":870.66,"d":"871"},{"v":870.66,"d":"871"},{"v":870.66,"d":"871"},1.3839,1.3839,1.3839,1.3839,126,126,126,126,22,22,22,22,{"v":1.9943829949597824E-3,"d":"0.00"},{"v":1.9943829949597824E-3,"d":"0.00"},{"v":1.9943829949597824E-3,"d":"0.00"},{"v":1.9943829949597824E-3,"d":"0.00"},0.0001276,1.7219,2,3.76611E-4,{"$f":"\"\"","v":""},{"$f":"\"\"","v":""},{"$f":"\"\"","v":""},{"$f":"\"\"","v":""},{"$f":"\"\"","v":""},{"$f":"\"\"","v":""},{"$f":"\"\"","v":""},{"$f":"\"\"","v":""},{"$f":"\"\"","v":""},{"$f":"\"\"","v":""},{"$f":"\"\"","v":""},{"$f":"\"\"","v":""},{"$f":"\"\"","v":""},{"$f":"\"\"","v":""},{"$f":"\"\"","v":""},0.7,{"$f":"\"\"","v":""},{"$f":"\"\"","v":""},{"$f":"\"\"","v":""}]
["2456520",null,null,2,45,65,20,20.9,{"$f":"\"\"","v":""},{"$f":"\"\"","v":""},{"$f":"\"\"","v":""},{"$f":"\"\"","v":""},{"v":1077.96,"d":"1078"},{"v":1077.96,"d":"1078"},{"v":1077.96,"d":"1078"},{"v":1077.96,"d":"1078"},1.3839,1.3839,1.3839,1.3839,156,156,156,156,27,27,27,27,{"v":3.0594960903234402E-3,"d":"0.00"},{"v":3.0594960903234402E-3,"d":"0.00"},{"v":3.0594960903234402E-3,"d":"0.00"},{"v":3.0594960903234402E-3,"d":"0.00"},0.0001276,1.7219,2,3.76611E-4,{"$f":"\"\"","v":""},{"$f":"\"\"","v":""},{"$f":"\"\"","v":""},{"$f":"\"\"","v":""},{"$f":"\"\"","v":""},{"$f":"\"\"","v":""},{"$f":"\"\"","v":""},{"$f":"\"\"","v":""},{"$f":"\"\"","v":""},{"$f":"\"\"","v":""},{"$f":"\"\"","v":""},{"$f":"\"\"","v":""},{"$f":"\"\"","v":""},{"$f":"\"\"","v":""},{"$f":"\"\"","v":""},0.9,{"$f":"\"\"","v":""},{"$f":"\"\"","v":""},{"$f":"\"\"","v":""}]
["2457520",null,null,2,45,75,20,20.9,{"$f":"\"\"","v":""},{"$f":"\"\"","v":""},{"$f":"\"\"","v":""},{"$f":"\"\"","v":""},{"v":1285.26,"d":"1285"},{"v":1285.26,"d":"1285"},{"v":1285.26,"d":"1285"},{"v":1285.26,"d":"1285"},1.3839,1.3839,1.3839,1.3839,186,186,186,186,32,32,32,32,{"v":0.004371333189937094,"d":"0.00"},{"v":0.004371333189937094,"d":"0.00"},{"v":0.004371333189937094,"d":"0.00"},{"v":0.004371333189937094,"d":"0.00"},0.0001276,1.7219,2,3.76611E-4,{"$f":"\"\"","v":""},{"$f":"\"\"","v":""},{"$f":"\"\"","v":""},{"$f":"\"\"","v":""},{"$f":"\"\"","v":""},{"$f":"\"\"","v":""},{"$f":"\"\"","v":""},{"$f":"\"\"","v":""},{"$f":"\"\"","v":""},{"$f":"\"\"","v":""},{"$f":"\"\"","v":""},{"$f":"\"\"","v":""},{"$f":"\"\"","v":""},{"$f":"\"\"","v":""},{"$f":"\"\"","v":""},{"v":1,"d":"1.0"},{"$f":"\"\"","v":""},{"$f":"\"\"","v":""},{"$f":"\"\"","v":""}]
["2458520",null,null,2,45,85,20,20.9,{"$f":"\"\"","v":""},{"$f":"\"\"","v":""},{"$f":"\"\"","v":""},{"$f":"\"\"","v":""},{"v":1492.56,"d":"1493"},{"v":1492.56,"d":"1493"},{"v":1492.56,"d":"1493"},{"v":1492.56,"d":"1493"},1.3839,1.3839,1.3839,1.3839,216,216,216,216,37,37,37,37,{"v":0.005938207725478628,"d":"0.01"},{"v":0.005938207725478628,"d":"0.01"},{"v":0.005938207725478628,"d":"0.01"},{"v":0.005938207725478628,"d":"0.01"},0.0001276,1.7219,2,3.76611E-4,{"$f":"\"\"","v":""},{"$f":"\"\"","v":""},{"$f":"\"\"","v":""},{"$f":"\"\"","v":""},{"$f":"\"\"","v":""},{"$f":"\"\"","v":""},{"$f":"\"\"","v":""},{"$f":"\"\"","v":""},{"$f":"\"\"","v":""},{"$f":"\"\"","v":""},{"$f":"\"\"","v":""},{"$f":"\"\"","v":""},{"$f":"\"\"","v":""},{"$f":"\"\"","v":""},{"$f":"\"\"","v":""},1.1,{"$f":"\"\"","v":""},{"$f":"\"\"","v":""},{"$f":"\"\"","v":""}]
["2459520",null,null,2,45,95,20,20.9,{"$f":"\"\"","v":""},{"$f":"\"\"","v":""},{"$f":"\"\"","v":""},{"$f":"\"\"","v":""},{"v":1699.86,"d":"1700"},{"v":1699.86,"d":"1700"},{"v":1699.86,"d":"1700"},{"v":1699.86,"d":"1700"},1.3839,1.3839,1.3839,1.3839,246,246,246,246,42,42,42,42,{"v":7.7680692151647236E-3,"d":"0.01"},{"v":7.7680692151647236E-3,"d":"0.01"},{"v":7.7680692151647236E-3,"d":"0.01"},{"v":7.7680692151647236E-3,"d":"0.01"},0.0001276,1.7219,2,3.76611E-4,{"$f":"\"\"","v":""},{"$f":"\"\"","v":""},{"$f":"\"\"","v":""},{"$f":"\"\"","v":""},{"$f":"\"\"","v":""},{"$f":"\"\"","v":""},{"$f":"\"\"","v":""},{"$f":"\"\"","v":""},{"$f":"\"\"","v":""},{"$f":"\"\"","v":""},{"$f":"\"\"","v":""},{"$f":"\"\"","v":""},{"$f":"\"\"","v":""},{"$f":"\"\"","v":""},{"$f":"\"\"","v":""},1.3,{"$f":"\"\"","v":""},{"$f":"\"\"","v":""},{"$f":"\"\"","v":""}]
["24510520",null,null,2,45,105,20,20.9,{"$f":"\"\"","v":""},{"$f":"\"\"","v":""},{"$f":"\"\"","v":""},{"$f":"\"\"","v":""},{"v":1907.16,"d":"1907"},{"v":1907.16,"d":"1907"},{"v":1907.16,"d":"1907"},{"v":1907.16,"d":"1907"},1.3839,1.3839,1.3839,1.3839,276,276,276,276,47,47,47,47,{"v":9.868566870957881E-3,"d":"0.01"},{"v":9.868566870957881E-3,"d":"0.01"},{"v":9.868566870957881E-3,"d":"0.01"},{"v":9.868566870957881E-3,"d":"0.01"},0.0001276,1.7219,2,3.76611E-4,{"$f":"\"\"","v":""},{"$f":"\"\"","v":""},{"$f":"\"\"","v":""},{"$f":"\"\"","v":""},{"$f":"\"\"","v":""},{"$f":"\"\"","v":""},{"$f":"\"\"","v":""},{"$f":"\"\"","v":""},{"$f":"\"\"","v":""},{"$f":"\"\"","v":""},{"$f":"\"\"","v":""},{"$f":"\"\"","v":""},{"$f":"\"\"","v":""},{"$f":"\"\"","v":""},{"$f":"\"\"","v":""},1.4,{"$f":"\"\"","v":""},{"$f":"\"\"","v":""},{"$f":"\"\"","v":""}]
["24511520",null,null,2,45,115,20,20.9,{"$f":"\"\"","v":""},{"$f":"\"\"","v":""},{"$f":"\"\"","v":""},{"$f":"\"\"","v":""},{"v":2114.46,"d":"2114"},{"v":2114.46,"d":"2114"},{"v":2114.46,"d":"2114"},{"v":2114.46,"d":"2114"},1.3839,1.3839,1.3839,1.3839,306,306,306,306,53,53,53,53,{"v":0.012710223636723791,"d":"0.01"},{"v":0.012710223636723791,"d":"0.01"},{"v":0.012710223636723791,"d":"0.01"},{"v":0.012710223636723791,"d":"0.01"},0.0001276,1.7219,2,3.76611E-4,{"$f":"\"\"","v":""},{"$f":"\"\"","v":""},{"$f":"\"\"","v":""},{"$f":"\"\"","v":""},{"$f":"\"\"","v":""},{"$f":"\"\"","v":""},{"$f":"\"\"","v":""},{"$f":"\"\"","v":""},{"$f":"\"\"","v":""},{"$f":"\"\"","v":""},{"$f":"\"\"","v":""},{"$f":"\"\"","v":""},{"$f":"\"\"","v":""},{"$f":"\"\"","v":""},{"$f":"\"\"","v":""},1.5,{"$f":"\"\"","v":""},{"$f":"\"\"","v":""},{"$f":"\"\"","v":""}]
["24513520",null,null,2,45,135,20,20.9,{"$f":"\"\"","v":""},{"$f":"\"\"","v":""},{"$f":"\"\"","v":""},{"$f":"\"\"","v":""},{"v":2529.06,"d":"2529"},{"v":2529.06,"d":"2529"},{"v":2529.06,"d":"2529"},{"v":2529.06,"d":"2529"},1.3839,1.3839,1.3839,1.3839,366,366,366,366,63,63,63,63,{"v":0.018430885007613213,"d":"0.02"},{"v":0.018430885007613213,"d":"0.02"},{"v":0.018430885007613213,"d":"0.02"},{"v":0.018430885007613213,"d":"0.02"},0.0001276,1.7219,2,3.76611E-4,{"$f":"\"\"","v":""},{"$f":"\"\"","v":""},{"$f":"\"\"","v":""},{"$f":"\"\"","v":""},{"$f":"\"\"","v":""},{"$f":"\"\"","v":""},{"$f":"\"\"","v":""},{"$f":"\"\"","v":""},{"$f":"\"\"","v":""},{"$f":"\"\"","v":""},{"$f":"\"\"","v":""},{"$f":"\"\"","v":""},{"$f":"\"\"","v":""},{"$f":"\"\"","v":""},{"$f":"\"\"","v":""},1.8,{"$f":"\"\"","v":""},{"$f":"\"\"","v":""},{"$f":"\"\"","v":""}]
["24515520",null,null,2,45,155,20,20.9,{"$f":"\"\"","v":""},{"$f":"\"\"","v":""},{"$f":"\"\"","v":""},{"$f":"\"\"","v":""},{"v":2943.66,"d":"2944"},{"v":2943.66,"d":"2944"},{"v":2943.66,"d":"2944"},{"v":2943.66,"d":"2944"},1.3839,1.3839,1.3839,1.3839,426,426,426,426,73,73,73,73,{"v":0.02535081619757377,"d":"0.03"},{"v":0.02535081619757377,"d":"0.03"},{"v":0.02535081619757377,"d":"0.03"},{"v":0.02535081619757377,"d":"0.03"},0.0001276,1.7219,2,3.76611E-4,{"$f":"\"\"","v":""},{"$f":"\"\"","v":""},{"$f":"\"\"","v":""},{"$f":"\"\"","v":""},{"$f":"\"\"","v":""},{"$f":"\"\"","v":""},{"$f":"\"\"","v":""},{"$f":"\"\"","v":""},{"$f":"\"\"","v":""},{"$f":"\"\"","v":""},{"$f":"\"\"","v":""},{"$f":"\"\"","v":""},{"$f":"\"\"","v":""},{"$f":"\"\"","v":""},{"$f":"\"\"","v":""},2.1,{"$f":"\"\"","v":""},{"$f":"\"\"","v":""},{"$f":"\"\"","v":""}]
["24517520",null,null,2,45,175,20,20.9,{"$f":"\"\"","v":""},{"$f":"\"\"","v":""},{"$f":"\"\"","v":""},{"$f":"\"\"","v":""},{"v":3358.26,"d":"3358"},{"v":3358.26,"d":"3358"},{"v":3358.26,"d":"3358"},{"v":3358.26,"d":"3358"},1.3839,1.3839,1.3839,1.3839,486,486,486,486,84,84,84,84,{"v":0.03430769222941682,"d":"0.03"},{"v":0.03430769222941682,"d":"0.03"},{"v":0.03430769222941682,"d":"0.03"},{"v":0.03430769222941682,"d":"0.03"},0.0001276,1.7219,2,3.76611E-4,{"$f":"\"\"","v":""},{"$f":"\"\"","v":""},{"$f":"\"\"","v":""},{"$f":"\"\"","v":""},{"$f":"\"\"","v":""},{"$f":"\"\"","v":""},{"$f":"\"\"","v":""},{"$f":"\"\"","v":""},{"$f":"\"\"","v":""},{"$f":"\"\"","v":""},{"$f":"\"\"","v":""},{"$f":"\"\"","v":""},{"$f":"\"\"","v":""},{"$f":"\"\"","v":""},{"$f":"\"\"","v":""},2.3,{"$f":"\"\"","v":""},{"$f":"\"\"","v":""},{"$f":"\"\"","v":""}]
["24519520",null,null,2,45,195,20,20.9,{"$f":"\"\"","v":""},{"$f":"\"\"","v":""},{"$f":"\"\"","v":""},{"$f":"\"\"","v":""},{"v":3772.86,"d":"3773"},{"v":3772.86,"d":"3773"},{"v":3772.86,"d":"3773"},{"v":3772.86,"d":"3773"},1.3839,1.3839,1.3839,1.3839,546,546,546,546,94,94,94,94,{"v":0.04389295019465425,"d":"0.04"},{"v":0.04389295019465425,"d":"0.04"},{"v":0.04389295019465425,"d":"0.04"},{"v":0.04389295019465425,"d":"0.04"},0.0001276,1.7219,2,3.76611E-4,{"$f":"\"\"","v":""},{"$f":"\"\"","v":""},{"$f":"\"\"","v":""},{"$f":"\"\"","v":""},{"$f":"\"\"","v":""},{"$f":"\"\"","v":""},{"$f":"\"\"","v":""},{"$f":"\"\"","v":""},{"$f":"\"\"","v":""},{"$f":"\"\"","v":""},{"$f":"\"\"","v":""},{"$f":"\"\"","v":""},{"$f":"\"\"","v":""},{"$f":"\"\"","v":""},{"$f":"\"\"","v":""},2.6,{"$f":"\"\"","v":""},{"$f":"\"\"","v":""},{"$f":"\"\"","v":""}]
["24521520",null,null,2,45,215,20,20.9,{"$f":"\"\"","v":""},{"$f":"\"\"","v":""},{"$f":"\"\"","v":""},{"$f":"\"\"","v":""},{"v":4187.46,"d":"4187"},{"v":4187.46,"d":"4187"},{"v":4187.46,"d":"4187"},{"v":4187.46,"d":"4187"},1.3839,1.3839,1.3839,1.3839,606,606,606,606,104,104,104,104,{"v":0.05483264200415446,"d":"0.05"},{"v":0.05483264200415446,"d":"0.05"},{"v":0.05483264200415446,"d":"0.05"},{"v":0.05483264200415446,"d":"0.05"},0.0001276,1.7219,2,3.76611E-4,{"$f":"\"\"","v":""},{"$f":"\"\"","v":""},{"$f":"\"\"","v":""},{"$f":"\"\"","v":""},{"$f":"\"\"","v":""},{"$f":"\"\"","v":""},{"$f":"\"\"","v":""},{"$f":"\"\"","v":""},{"$f":"\"\"","v":""},{"$f":"\"\"","v":""},{"$f":"\"\"","v":""},{"$f":"\"\"","v":""},{"$f":"\"\"","v":""},{"$f":"\"\"","v":""},{"$f":"\"\"","v":""},2.9,{"$f":"\"\"","v":""},{"$f":"\"\"","v":""},{"$f":"\"\"","v":""}]
["24523520",null,null,2,45,235,20,20.9,{"$f":"\"\"","v":""},{"$f":"\"\"","v":""},{"$f":"\"\"","v":""},{"$f":"\"\"","v":""},{"v":4602.06,"d":"4602"},{"v":4602.06,"d":"4602"},{"v":4602.06,"d":"4602"},{"v":4602.06,"d":"4602"},1.3839,1.3839,1.3839,1.3839,666,666,666,666,115,115,115,115,{"v":0.06831036574967958,"d":"0.07"},{"v":0.06831036574967958,"d":"0.07"},{"v":0.06831036574967958,"d":"0.07"},{"v":0.06831036574967958,"d":"0.07"},0.0001276,1.7219,2,3.76611E-4,{"$f":"\"\"","v":""},{"$f":"\"\"","v":""},{"$f":"\"\"","v":""},{"$f":"\"\"","v":""},{"$f":"\"\"","v":""},{"$f":"\"\"","v":""},{"$f":"\"\"","v":""},{"$f":"\"\"","v":""},{"$f":"\"\"","v":""},{"$f":"\"\"","v":""},{"$f":"\"\"","v":""},{"$f":"\"\"","v":""},{"$f":"\"\"","v":""},{"$f":"\"\"","v":""},{"$f":"\"\"","v":""},3.1,{"$f":"\"\"","v":""},{"$f":"\"\"","v":""},{"$f":"\"\"","v":""}]
["2505520",null,null,2,50,55,20,20.9,{"$f":"\"\"","v":""},{"$f":"\"\"","v":""},{"$f":"\"\"","v":""},{"$f":"\"\"","v":""},{"v":904.68,"d":"905"},{"v":904.68,"d":"905"},{"v":904.68,"d":"905"},{"v":904.68,"d":"905"},1.3707,1.3707,1.3707,1.3707,133,133,133,133,23,23,23,23,{"v":2.177017534844092E-3,"d":"0.00"},{"v":2.177017534844092E-3,"d":"0.00"},{"v":2.177017534844092E-3,"d":"0.00"},{"v":2.177017534844092E-3,"d":"0.00"},0.0001276,1.7219,2,3.76611E-4,{"$f":"\"\"","v":""},{"$f":"\"\"","v":""},{"$f":"\"\"","v":""},{"$f":"\"\"","v":""},{"$f":"\"\"","v":""},{"$f":"\"\"","v":""},{"$f":"\"\"","v":""},{"$f":"\"\"","v":""},{"$f":"\"\"","v":""},{"$f":"\"\"","v":""},{"$f":"\"\"","v":""},{"$f":"\"\"","v":""},{"$f":"\"\"","v":""},{"$f":"\"\"","v":""},{"$f":"\"\"","v":""},0.7,{"$f":"\"\"","v":""},{"$f":"\"\"","v":""},{"$f":"\"\"","v":""}]
["2506520",null,null,2,50,65,20,20.9,{"$f":"\"\"","v":""},{"$f":"\"\"","v":""},{"$f":"\"\"","v":""},{"$f":"\"\"","v":""},{"v":1120.08,"d":"1120"},{"v":1120.08,"d":"1120"},{"v":1120.08,"d":"1120"},{"v":1120.08,"d":"1120"},1.3707,1.3707,1.3707,1.3707,165,165,165,165,28,28,28,28,{"v":0.003286329880717353,"d":"0.00"},{"v":0.003286329880717353,"d":"0.00"},{"v":0.003286329880717353,"d":"0.00"},{"v":0.003286329880717353,"d":"0.00"},0.0001276,1.7219,2,3.76611E-4,{"$f":"\"\"","v":""},{"$f":"\"\"","v":""},{"$f":"\"\"","v":""},{"$f":"\"\"","v":""},{"$f":"\"\"","v":""},{"$f":"\"\"","v":""},{"$f":"\"\"","v":""},{"$f":"\"\"","v":""},{"$f":"\"\"","v":""},{"$f":"\"\"","v":""},{"$f":"\"\"","v":""},{"$f":"\"\"","v":""},{"$f":"\"\"","v":""},{"$f":"\"\"","v":""},{"$f":"\"\"","v":""},0.9,{"$f":"\"\"","v":""},{"$f":"\"\"","v":""},{"$f":"\"\"","v":""}]
["2507520",null,null,2,50,75,20,20.9,{"$f":"\"\"","v":""},{"$f":"\"\"","v":""},{"$f":"\"\"","v":""},{"$f":"\"\"","v":""},{"v":1335.48,"d":"1335"},{"v":1335.48,"d":"1335"},{"v":1335.48,"d":"1335"},{"v":1335.48,"d":"1335"},1.3707,1.3707,1.3707,1.3707,197,197,197,197,34,34,34,34,{"v":0.004923652890653541,"d":"0.00"},{"v":0.004923652890653541,"d":"0.00"},{"v":0.004923652890653541,"d":"0.00"},{"v":0.004923652890653541,"d":"0.00"},0.0001276,1.7219,2,3.76611E-4,{"$f":"\"\"","v":""},{"$f":"\"\"","v":""},{"$f":"\"\"","v":""},{"$f":"\"\"","v":""},{"$f":"\"\"","v":""},{"$f":"\"\"","v":""},{"$f":"\"\"","v":""},{"$f":"\"\"","v":""},{"$f":"\"\"","v":""},{"$f":"\"\"","v":""},{"$f":"\"\"","v":""},{"$f":"\"\"","v":""},{"$f":"\"\"","v":""},{"$f":"\"\"","v":""},{"$f":"\"\"","v":""},{"v":1,"d":"1.0"},{"$f":"\"\"","v":""},{"$f":"\"\"","v":""},{"$f":"\"\"","v":""}]
["2508520",null,null,2,50,85,20,20.9,{"$f":"\"\"","v":""},{"$f":"\"\"","v":""},{"$f":"\"\"","v":""},{"$f":"\"\"","v":""},{"v":1550.88,"d":"1551"},{"v":1550.88,"d":"1551"},{"v":1550.88,"d":"1551"},{"v":1550.88,"d":"1551"},1.3707,1.3707,1.3707,1.3707,229,229,229,{"$f":"ROUND(P475*POWER(CF_heat,T475),0)","v":229},39,39,39,{"$f":"ROUND(X475*3600/(4186*ABS($O$1-$O$2)),0)","v":39},{"v":0.006583227936392417,"d":"0.01"},{"v":0.006583227936392417,"d":"0.01"},{"v":0.006583227936392417,"d":"0.01"},{"$f":"(($AG475*(AB475^$AH475)*((($F475-14.4)*$AI475)/100))+($AJ475*(AB475^2)))*0.0098","v":{"v":0.006583227936392417,"d":"0.01"}},0.0001276,1.7219,2,{"$f":"IF($G475=$CO$103,CS$103,IF($G475=$CO$104,CS$104,IF($G475=$CO$105,CS$105,IF($G475=$CO$107,CS$107,IF($G475=$CO$108,CS$108,IF($G475=$CO$109,CS$109,IF($G475=$CO$111,CS$111,IF($G475=$CO$112,CS$112,IF($G475=$CO$113,CS$113,IF($G475=$CO$115,CS$115,IF($G475=$CO$116,CS$116,IF($G475=$CO$117,CS$117,IF($G475=$CO$119,CS$119,IF($G475=$CO$120,CS$120,))))))))))))))","v":3.76611E-4},{"$f":"\"\"","v":""},{"$f":"\"\"","v":""},{"$f":"\"\"","v":""},{"$f":"\"\"","v":""},{"$f":"\"\"","v":""},{"$f":"\"\"","v":""},{"$f":"\"\"","v":""},{"$f":"\"\"","v":""},{"$f":"\"\"","v":""},{"$f":"\"\"","v":""},{"$f":"\"\"","v":""},{"$f":"\"\"","v":""},{"$f":"\"\"","v":""},{"$f":"\"\"","v":""},{"$f":"\"\"","v":""},1.1,{"$f":"\"\"","v":""},{"$f":"\"\"","v":""},{"$f":"\"\"","v":""}]
[{"$f":"CONCATENATE(D476,E476,F476,G476)","v":"2509520"},null,null,2,50,95,20,20.9,{"$f":"\"\"","v":""},{"$f":"\"\"","v":""},{"$f":"\"\"","v":""},{"$f":"\"\"","v":""},{"v":1766.28,"d":"1766"},{"v":1766.28,"d":"1766"},{"v":1766.28,"d":"1766"},{"v":1766.28,"d":"1766"},1.3707,1.3707,1.3707,1.3707,{"$f":"ROUND(M476*POWER(CF_heat,Q476),0)","v":260},260,260,260,{"$f":"ROUND(U476*3600/(4186*ABS($O$1-$O$2)),0)","v":45},45,45,45,{"$f":"(($AG476*(Y476^$AH476)*((($F476-14.4)*$AI476)/100))+($AJ476*(Y476^2)))*0.0098","v":{"v":0.00888999255047336,"d":"0.01"}},{"v":0.00888999255047336,"d":"0.01"},{"v":0.00888999255047336,"d":"0.01"},{"v":0.00888999255047336,"d":"0.01"},{"$f":"IF($G476=$CO$103,CP$103,IF($G476=$CO$104,CP$104,IF($G476=$CO$105,CP$105,IF($G476=$CO$107,CP$107,IF($G476=$CO$108,CP$108,IF($G476=$CO$109,CP$109,IF($G476=$CO$111,CP$111,IF($G476=$CO$112,CP$112,IF($G476=$CO$113,CP$113,IF($G476=$CO$115,CP$115,IF($G476=$CO$116,CP$116,IF($G476=$CO$117,CP$117,IF($G476=$CO$119,CP$119,IF($G476=$CO$120,CP$120,))))))))))))))","v":0.0001276},1.7219,2,3.76611E-4,{"$f":"\"\"","v":""},{"$f":"\"\"","v":""},{"$f":"\"\"","v":""},{"$f":"\"\"","v":""},{"$f":"\"\"","v":""},{"$f":"\"\"","v":""},{"$f":"\"\"","v":""},{"$f":"\"\"","v":""},{"$f":"\"\"","v":""},{"$f":"\"\"","v":""},{"$f":"\"\"","v":""},{"$f":"\"\"","v":""},{"$f":"\"\"","v":""},{"$f":"\"\"","v":""},{"$f":"\"\"","v":""},{"$f":"ROUND(IF(G476=10,$CO$92*F476,IF(G476=11,$CO$93*F476,IF(G476=15,$CO$94*F476,IF(G476=16,$CO$95*F476,IF(G476=20,$CO$96*F476,IF(G476=21,$CO$97*F476,)))))),1)","v":1.3},{"$f":"\"\"","v":""},{"$f":"\"\"","v":""},{"$f":"\"\"","v":""}]
["25010520",null,null,2,50,105,20,20.9,{"$f":"\"\"","v":""},{"$f":"\"\"","v":""},{"$f":"\"\"","v":""},{"$f":"\"\"","v":""},{"v":1981.68,"d":"1982"},{"v":1981.68,"d":"1982"},{"v":1981.68,"d":"1982"},{"v":1981.68,"d":"1982"},1.3707,1.3707,1.3707,1.3707,292,292,292,292,50,50,50,50,{"v":0.011135466114490625,"d":"0.01"},{"v":0.011135466114490625,"d":"0.01"},{"v":0.011135466114490625,"d":"0.01"},{"v":0.011135466114490625,"d":"0.01"},0.0001276,1.7219,2,3.76611E-4,{"$f":"\"\"","v":""},{"$f":"\"\"","v":""},{"$f":"\"\"","v":""},{"$f":"\"\"","v":""},{"$f":"\"\"","v":""},{"$f":"\"\"","v":""},{"$f":"\"\"","v":""},{"$f":"\"\"","v":""},{"$f":"\"\"","v":""},{"$f":"\"\"","v":""},{"$f":"\"\"","v":""},{"$f":"\"\"","v":""},{"$f":"\"\"","v":""},{"$f":"\"\"","v":""},{"$f":"\"\"","v":""},1.4,{"$f":"\"\"","v":""},{"$f":"\"\"","v":""},{"$f":"\"\"","v":""}]
["25011520",null,null,2,50,115,20,20.9,{"$f":"\"\"","v":""},{"$f":"\"\"","v":""},{"$f":"\"\"","v":""},{"$f":"\"\"","v":""},{"v":2197.08,"d":"2197"},{"v":2197.08,"d":"2197"},{"v":2197.08,"d":"2197"},{"v":2197.08,"d":"2197"},1.3707,1.3707,1.3707,1.3707,324,324,324,324,56,56,56,56,{"v":0.014150096017606974,"d":"0.01"},{"v":0.014150096017606974,"d":"0.01"},{"v":0.014150096017606974,"d":"0.01"},{"v":0.014150096017606974,"d":"0.01"},0.0001276,1.7219,2,3.76611E-4,{"$f":"\"\"","v":""},{"$f":"\"\"","v":""},{"$f":"\"\"","v":""},{"$f":"\"\"","v":""},{"$f":"\"\"","v":""},{"$f":"\"\"","v":""},{"$f":"\"\"","v":""},{"$f":"\"\"","v":""},{"$f":"\"\"","v":""},{"$f":"\"\"","v":""},{"$f":"\"\"","v":""},{"$f":"\"\"","v":""},{"$f":"\"\"","v":""},{"$f":"\"\"","v":""},{"$f":"\"\"","v":""},1.5,{"$f":"\"\"","v":""},{"$f":"\"\"","v":""},{"$f":"\"\"","v":""}]
["25013520",null,null,2,50,135,20,20.9,{"$f":"\"\"","v":""},{"$f":"\"\"","v":""},{"$f":"\"\"","v":""},{"$f":"\"\"","v":""},{"v":2627.88,"d":"2628"},{"v":2627.88,"d":"2628"},{"v":2627.88,"d":"2628"},{"v":2627.88,"d":"2628"},1.3707,1.3707,1.3707,1.3707,388,388,388,388,67,67,67,67,{"v":0.020773007009310816,"d":"0.02"},{"v":0.020773007009310816,"d":"0.02"},{"v":0.020773007009310816,"d":"0.02"},{"v":0.020773007009310816,"d":"0.02"},0.0001276,1.7219,2,3.76611E-4,{"$f":"\"\"","v":""},{"$f":"\"\"","v":""},{"$f":"\"\"","v":""},{"$f":"\"\"","v":""},{"$f":"\"\"","v":""},{"$f":"\"\"","v":""},{"$f":"\"\"","v":""},{"$f":"\"\"","v":""},{"$f":"\"\"","v":""},{"$f":"\"\"","v":""},{"$f":"\"\"","v":""},{"$f":"\"\"","v":""},{"$f":"\"\"","v":""},{"$f":"\"\"","v":""},{"$f":"\"\"","v":""},1.8,{"$f":"\"\"","v":""},{"$f":"\"\"","v":""},{"$f":"\"\"","v":""}]
["25015520",null,null,2,50,155,20,20.9,{"$f":"\"\"","v":""},{"$f":"\"\"","v":""},{"$f":"\"\"","v":""},{"$f":"\"\"","v":""},{"v":3058.68,"d":"3059"},{"v":3058.68,"d":"3059"},{"v":3058.68,"d":"3059"},{"v":3058.68,"d":"3059"},1.3707,1.3707,1.3707,1.3707,451,451,451,451,78,78,78,78,{"v":0.028824024490558875,"d":"0.03"},{"v":0.028824024490558875,"d":"0.03"},{"v":0.028824024490558875,"d":"0.03"},{"v":0.028824024490558875,"d":"0.03"},0.0001276,1.7219,2,3.76611E-4,{"$f":"\"\"","v":""},{"$f":"\"\"","v":""},{"$f":"\"\"","v":""},{"$f":"\"\"","v":""},{"$f":"\"\"","v":""},{"$f":"\"\"","v":""},{"$f":"\"\"","v":""},{"$f":"\"\"","v":""},{"$f":"\"\"","v":""},{"$f":"\"\"","v":""},{"$f":"\"\"","v":""},{"$f":"\"\"","v":""},{"$f":"\"\"","v":""},{"$f":"\"\"","v":""},{"$f":"\"\"","v":""},2.1,{"$f":"\"\"","v":""},{"$f":"\"\"","v":""},{"$f":"\"\"","v":""}]
["25017520",null,null,2,50,175,20,20.9,{"$f":"\"\"","v":""},{"$f":"\"\"","v":""},{"$f":"\"\"","v":""},{"$f":"\"\"","v":""},{"v":3489.48,"d":"3489"},{"v":3489.48,"d":"3489"},{"v":3489.48,"d":"3489"},{"v":3489.48,"d":"3489"},1.3707,1.3707,1.3707,1.3707,515,515,515,515,89,89,89,89,{"v":0.03836549040620007,"d":"0.04"},{"v":0.03836549040620007,"d":"0.04"},{"v":0.03836549040620007,"d":"0.04"},{"v":0.03836549040620007,"d":"0.04"},0.0001276,1.7219,2,3.76611E-4,{"$f":"\"\"","v":""},{"$f":"\"\"","v":""},{"$f":"\"\"","v":""},{"$f":"\"\"","v":""},{"$f":"\"\"","v":""},{"$f":"\"\"","v":""},{"$f":"\"\"","v":""},{"$f":"\"\"","v":""},{"$f":"\"\"","v":""},{"$f":"\"\"","v":""},{"$f":"\"\"","v":""},{"$f":"\"\"","v":""},{"$f":"\"\"","v":""},{"$f":"\"\"","v":""},{"$f":"\"\"","v":""},2.3,{"$f":"\"\"","v":""},{"$f":"\"\"","v":""},{"$f":"\"\"","v":""}]
["25019520",null,null,2,50,195,20,20.9,{"$f":"\"\"","v":""},{"$f":"\"\"","v":""},{"$f":"\"\"","v":""},{"$f":"\"\"","v":""},{"v":3920.28,"d":"3920"},{"v":3920.28,"d":"3920"},{"v":3920.28,"d":"3920"},{"v":3920.28,"d":"3920"},1.3707,1.3707,1.3707,1.3707,578,578,578,578,99,99,99,99,{"v":0.04850754724241492,"d":"0.05"},{"v":0.04850754724241492,"d":"0.05"},{"v":0.04850754724241492,"d":"0.05"},{"v":0.04850754724241492,"d":"0.05"},0.0001276,1.7219,2,3.76611E-4,{"$f":"\"\"","v":""},{"$f":"\"\"","v":""},{"$f":"\"\"","v":""},{"$f":"\"\"","v":""},{"$f":"\"\"","v":""},{"$f":"\"\"","v":""},{"$f":"\"\"","v":""},{"$f":"\"\"","v":""},{"$f":"\"\"","v":""},{"$f":"\"\"","v":""},{"$f":"\"\"","v":""},{"$f":"\"\"","v":""},{"$f":"\"\"","v":""},{"$f":"\"\"","v":""},{"$f":"\"\"","v":""},2.6,{"$f":"\"\"","v":""},{"$f":"\"\"","v":""},{"$f":"\"\"","v":""}]
["25021520",null,null,2,50,215,20,20.9,{"$f":"\"\"","v":""},{"$f":"\"\"","v":""},{"$f":"\"\"","v":""},{"$f":"\"\"","v":""},{"v":4351.08,"d":"4351"},{"v":4351.08,"d":"4351"},{"v":4351.08,"d":"4351"},{"v":4351.08,"d":"4351"},1.3707,1.3707,1.3707,1.3707,642,642,642,642,110,110,110,110,{"v":0.06108377294575958,"d":"0.06"},{"v":0.06108377294575958,"d":"0.06"},{"v":0.06108377294575958,"d":"0.06"},{"v":0.06108377294575958,"d":"0.06"},0.0001276,1.7219,2,3.76611E-4,{"$f":"\"\"","v":""},{"$f":"\"\"","v":""},{"$f":"\"\"","v":""},{"$f":"\"\"","v":""},{"$f":"\"\"","v":""},{"$f":"\"\"","v":""},{"$f":"\"\"","v":""},{"$f":"\"\"","v":""},{"$f":"\"\"","v":""},{"$f":"\"\"","v":""},{"$f":"\"\"","v":""},{"$f":"\"\"","v":""},{"$f":"\"\"","v":""},{"$f":"\"\"","v":""},{"$f":"\"\"","v":""},2.9,{"$f":"\"\"","v":""},{"$f":"\"\"","v":""},{"$f":"\"\"","v":""}]
["25023520",null,null,2,50,235,20,20.9,{"$f":"\"\"","v":""},{"$f":"\"\"","v":""},{"$f":"\"\"","v":""},{"$f":"\"\"","v":""},{"v":4781.88,"d":"4782"},{"v":4781.88,"d":"4782"},{"v":4781.88,"d":"4782"},{"v":4781.88,"d":"4782"},1.3707,1.3707,1.3707,1.3707,705,705,705,705,121,121,121,121,{"v":0.07532117374561881,"d":"0.08"},{"v":0.07532117374561881,"d":"0.08"},{"v":0.07532117374561881,"d":"0.08"},{"v":0.07532117374561881,"d":"0.08"},0.0001276,1.7219,2,3.76611E-4,{"$f":"\"\"","v":""},{"$f":"\"\"","v":""},{"$f":"\"\"","v":""},{"$f":"\"\"","v":""},{"$f":"\"\"","v":""},{"$f":"\"\"","v":""},{"$f":"\"\"","v":""},{"$f":"\"\"","v":""},{"$f":"\"\"","v":""},{"$f":"\"\"","v":""},{"$f":"\"\"","v":""},{"$f":"\"\"","v":""},{"$f":"\"\"","v":""},{"$f":"\"\"","v":""},{"$f":"\"\"","v":""},3.1,{"$f":"\"\"","v":""},{"$f":"\"\"","v":""},{"$f":"\"\"","v":""}]
["2555520",null,null,2,55,55,20,20.9,{"$f":"\"\"","v":""},{"$f":"\"\"","v":""},{"$f":"\"\"","v":""},{"$f":"\"\"","v":""},{"v":934.5,"d":"935"},{"v":934.5,"d":"935"},{"v":934.5,"d":"935"},{"v":934.5,"d":"935"},1.3575,1.3575,1.3575,1.3575,140,140,140,140,24,24,24,24,{"v":2.3675614213782554E-3,"d":"0.00"},{"v":2.3675614213782554E-3,"d":"0.00"},{"v":2.3675614213782554E-3,"d":"0.00"},{"v":2.3675614213782554E-3,"d":"0.00"},0.0001276,1.7219,2,3.76611E-4,{"$f":"\"\"","v":""},{"$f":"\"\"","v":""},{"$f":"\"\"","v":""},{"$f":"\"\"","v":""},{"$f":"\"\"","v":""},{"$f":"\"\"","v":""},{"$f":"\"\"","v":""},{"$f":"\"\"","v":""},{"$f":"\"\"","v":""},{"$f":"\"\"","v":""},{"$f":"\"\"","v":""},{"$f":"\"\"","v":""},{"$f":"\"\"","v":""},{"$f":"\"\"","v":""},{"$f":"\"\"","v":""},0.7,{"$f":"\"\"","v":""},{"$f":"\"\"","v":""},{"$f":"\"\"","v":""}]
["2556520",null,null,2,55,65,20,20.9,{"$f":"\"\"","v":""},{"$f":"\"\"","v":""},{"$f":"\"\"","v":""},{"$f":"\"\"","v":""},1157,1157,1157,1157,1.3575,1.3575,1.3575,1.3575,174,174,174,174,30,30,30,30,{"v":3.7640043471606293E-3,"d":"0.00"},{"v":3.7640043471606293E-3,"d":"0.00"},{"v":3.7640043471606293E-3,"d":"0.00"},{"v":3.7640043471606293E-3,"d":"0.00"},0.0001276,1.7219,2,3.76611E-4,{"$f":"\"\"","v":""},{"$f":"\"\"","v":""},{"$f":"\"\"","v":""},{"$f":"\"\"","v":""},{"$f":"\"\"","v":""},{"$f":"\"\"","v":""},{"$f":"\"\"","v":""},{"$f":"\"\"","v":""},{"$f":"\"\"","v":""},{"$f":"\"\"","v":""},{"$f":"\"\"","v":""},{"$f":"\"\"","v":""},{"$f":"\"\"","v":""},{"$f":"\"\"","v":""},{"$f":"\"\"","v":""},0.9,{"$f":"\"\"","v":""},{"$f":"\"\"","v":""},{"$f":"\"\"","v":""}]
["2557520",null,null,2,55,75,20,20.9,{"$f":"\"\"","v":""},{"$f":"\"\"","v":""},{"$f":"\"\"","v":""},{"$f":"\"\"","v":""},{"v":1379.5,"d":"1380"},{"v":1379.5,"d":"1380"},{"v":1379.5,"d":"1380"},{"v":1379.5,"d":"1380"},1.3575,1.3575,1.3575,1.3575,207,207,207,207,36,36,36,36,{"v":0.005508325495300245,"d":"0.01"},{"v":0.005508325495300245,"d":"0.01"},{"v":0.005508325495300245,"d":"0.01"},{"v":0.005508325495300245,"d":"0.01"},0.0001276,1.7219,2,3.76611E-4,{"$f":"\"\"","v":""},{"$f":"\"\"","v":""},{"$f":"\"\"","v":""},{"$f":"\"\"","v":""},{"$f":"\"\"","v":""},{"$f":"\"\"","v":""},{"$f":"\"\"","v":""},{"$f":"\"\"","v":""},{"$f":"\"\"","v":""},{"$f":"\"\"","v":""},{"$f":"\"\"","v":""},{"$f":"\"\"","v":""},{"$f":"\"\"","v":""},{"$f":"\"\"","v":""},{"$f":"\"\"","v":""},{"v":1,"d":"1.0"},{"$f":"\"\"","v":""},{"$f":"\"\"","v":""},{"$f":"\"\"","v":""}]
["2558520",null,null,2,55,85,20,20.9,{"$f":"\"\"","v":""},{"$f":"\"\"","v":""},{"$f":"\"\"","v":""},{"$f":"\"\"","v":""},1602,1602,1602,1602,1.3575,1.3575,1.3575,1.3575,241,241,241,241,41,41,41,41,{"v":0.00726094412802661,"d":"0.01"},{"v":0.00726094412802661,"d":"0.01"},{"v":0.00726094412802661,"d":"0.01"},{"v":0.00726094412802661,"d":"0.01"},0.0001276,1.7219,2,3.76611E-4,{"$f":"\"\"","v":""},{"$f":"\"\"","v":""},{"$f":"\"\"","v":""},{"$f":"\"\"","v":""},{"$f":"\"\"","v":""},{"$f":"\"\"","v":""},{"$f":"\"\"","v":""},{"$f":"\"\"","v":""},{"$f":"\"\"","v":""},{"$f":"\"\"","v":""},{"$f":"\"\"","v":""},{"$f":"\"\"","v":""},{"$f":"\"\"","v":""},{"$f":"\"\"","v":""},{"$f":"\"\"","v":""},1.1,{"$f":"\"\"","v":""},{"$f":"\"\"","v":""},{"$f":"\"\"","v":""}]
["2559520",null,null,2,55,95,20,20.9,{"$f":"\"\"","v":""},{"$f":"\"\"","v":""},{"$f":"\"\"","v":""},{"$f":"\"\"","v":""},{"v":1824.5,"d":"1825"},1824.5,1824.5,1824.5,1.3575,1.3575,1.3575,1.3575,274,274,274,274,47,47,47,47,{"v":0.009679205213037584,"d":"0.01"},{"v":0.009679205213037584,"d":"0.01"},{"v":0.009679205213037584,"d":"0.01"},{"v":0.009679205213037584,"d":"0.01"},0.0001276,1.7219,2,3.76611E-4,{"$f":"\"\"","v":""},{"$f":"\"\"","v":""},{"$f":"\"\"","v":""},{"$f":"\"\"","v":""},{"$f":"\"\"","v":""},{"$f":"\"\"","v":""},{"$f":"\"\"","v":""},{"$f":"\"\"","v":""},{"$f":"\"\"","v":""},{"$f":"\"\"","v":""},{"$f":"\"\"","v":""},{"$f":"\"\"","v":""},{"$f":"\"\"","v":""},{"$f":"\"\"","v":""},{"$f":"\"\"","v":""},1.3,{"$f":"\"\"","v":""},{"$f":"\"\"","v":""},{"$f":"\"\"","v":""}]
["25510520",null,null,2,55,105,20,20.9,{"$f":"\"\"","v":""},{"$f":"\"\"","v":""},{"$f":"\"\"","v":""},{"$f":"\"\"","v":""},2047,2047,2047,2047,1.3575,1.3575,1.3575,1.3575,307,307,307,307,53,53,53,53,{"v":0.012477340862715462,"d":"0.01"},{"v":0.012477340862715462,"d":"0.01"},{"v":0.012477340862715462,"d":"0.01"},{"v":0.012477340862715462,"d":"0.01"},0.0001276,1.7219,2,3.76611E-4,{"$f":"\"\"","v":""},{"$f":"\"\"","v":""},{"$f":"\"\"","v":""},{"$f":"\"\"","v":""},{"$f":"\"\"","v":""},{"$f":"\"\"","v":""},{"$f":"\"\"","v":""},{"$f":"\"\"","v":""},{"$f":"\"\"","v":""},{"$f":"\"\"","v":""},{"$f":"\"\"","v":""},{"$f":"\"\"","v":""},{"$f":"\"\"","v":""},{"$f":"\"\"","v":""},{"$f":"\"\"","v":""},1.4,{"$f":"\"\"","v":""},{"$f":"\"\"","v":""},{"$f":"\"\"","v":""}]
["25511520",null,null,2,55,115,20,20.9,{"$f":"\"\"","v":""},{"$f":"\"\"","v":""},{"$f":"\"\"","v":""},{"$f":"\"\"","v":""},{"v":2269.5,"d":"2270"},{"v":2269.5,"d":"2270"},{"v":2269.5,"d":"2270"},{"v":2269.5,"d":"2270"},1.3575,1.3575,1.3575,1.3575,341,341,341,341,59,59,59,59,{"v":0.015665592209529018,"d":"0.02"},{"v":0.015665592209529018,"d":"0.02"},{"v":0.015665592209529018,"d":"0.02"},{"v":0.015665592209529018,"d":"0.02"},0.0001276,1.7219,2,3.76611E-4,{"$f":"\"\"","v":""},{"$f":"\"\"","v":""},{"$f":"\"\"","v":""},{"$f":"\"\"","v":""},{"$f":"\"\"","v":""},{"$f":"\"\"","v":""},{"$f":"\"\"","v":""},{"$f":"\"\"","v":""},{"$f":"\"\"","v":""},{"$f":"\"\"","v":""},{"$f":"\"\"","v":""},{"$f":"\"\"","v":""},{"$f":"\"\"","v":""},{"$f":"\"\"","v":""},{"$f":"\"\"","v":""},1.5,{"$f":"\"\"","v":""},{"$f":"\"\"","v":""},{"$f":"\"\"","v":""}]
["25513520",null,null,2,55,135,20,20.9,{"$f":"\"\"","v":""},{"$f":"\"\"","v":""},{"$f":"\"\"","v":""},{"$f":"\"\"","v":""},{"v":2714.5,"d":"2715"},{"v":2714.5,"d":"2715"},{"v":2714.5,"d":"2715"},{"v":2714.5,"d":"2715"},1.3575,1.3575,1.3575,1.3575,408,408,408,408,70,70,70,70,{"v":0.022619349386490198,"d":"0.02"},{"v":0.022619349386490198,"d":"0.02"},{"v":0.022619349386490198,"d":"0.02"},{"v":0.022619349386490198,"d":"0.02"},0.0001276,1.7219,2,3.76611E-4,{"$f":"\"\"","v":""},{"$f":"\"\"","v":""},{"$f":"\"\"","v":""},{"$f":"\"\"","v":""},{"$f":"\"\"","v":""},{"$f":"\"\"","v":""},{"$f":"\"\"","v":""},{"$f":"\"\"","v":""},{"$f":"\"\"","v":""},{"$f":"\"\"","v":""},{"$f":"\"\"","v":""},{"$f":"\"\"","v":""},{"$f":"\"\"","v":""},{"$f":"\"\"","v":""},{"$f":"\"\"","v":""},1.8,{"$f":"\"\"","v":""},{"$f":"\"\"","v":""},{"$f":"\"\"","v":""}]
["25515520",null,null,2,55,155,20,20.9,{"$f":"\"\"","v":""},{"$f":"\"\"","v":""},{"$f":"\"\"","v":""},{"$f":"\"\"","v":""},{"v":3159.5,"d":"3160"},{"v":3159.5,"d":"3160"},{"v":3159.5,"d":"3160"},{"v":3159.5,"d":"3160"},1.3575,1.3575,1.3575,1.3575,475,475,475,475,82,82,82,82,{"v":0.03175891358503606,"d":"0.03"},{"v":0.03175891358503606,"d":"0.03"},{"v":0.03175891358503606,"d":"0.03"},{"v":0.03175891358503606,"d":"0.03"},0.0001276,1.7219,2,3.76611E-4,{"$f":"\"\"","v":""},{"$f":"\"\"","v":""},{"$f":"\"\"","v":""},{"$f":"\"\"","v":""},{"$f":"\"\"","v":""},{"$f":"\"\"","v":""},{"$f":"\"\"","v":""},{"$f":"\"\"","v":""},{"$f":"\"\"","v":""},{"$f":"\"\"","v":""},{"$f":"\"\"","v":""},{"$f":"\"\"","v":""},{"$f":"\"\"","v":""},{"$f":"\"\"","v":""},{"$f":"\"\"","v":""},2.1,{"$f":"\"\"","v":""},{"$f":"\"\"","v":""},{"$f":"\"\"","v":""}]
["25517520",null,null,2,55,175,20,20.9,{"$f":"\"\"","v":""},{"$f":"\"\"","v":""},{"$f":"\"\"","v":""},{"$f":"\"\"","v":""},{"v":3604.5,"d":"3605"},{"v":3604.5,"d":"3605"},{"v":3604.5,"d":"3605"},{"v":3604.5,"d":"3605"},1.3575,1.3575,1.3575,1.3575,541,541,541,541,93,93,93,93,{"v":0.04177041818279688,"d":"0.04"},{"v":0.04177041818279688,"d":"0.04"},{"v":0.04177041818279688,"d":"0.04"},{"v":0.04177041818279688,"d":"0.04"},0.0001276,1.7219,2,3.76611E-4,{"$f":"\"\"","v":""},{"$f":"\"\"","v":""},{"$f":"\"\"","v":""},{"$f":"\"\"","v":""},{"$f":"\"\"","v":""},{"$f":"\"\"","v":""},{"$f":"\"\"","v":""},{"$f":"\"\"","v":""},{"$f":"\"\"","v":""},{"$f":"\"\"","v":""},{"$f":"\"\"","v":""},{"$f":"\"\"","v":""},{"$f":"\"\"","v":""},{"$f":"\"\"","v":""},{"$f":"\"\"","v":""},2.3,{"$f":"\"\"","v":""},{"$f":"\"\"","v":""},{"$f":"\"\"","v":""}]
["25519520",null,null,2,55,195,20,20.9,{"$f":"\"\"","v":""},{"$f":"\"\"","v":""},{"$f":"\"\"","v":""},{"$f":"\"\"","v":""},{"v":4049.5,"d":"4050"},{"v":4049.5,"d":"4050"},{"v":4049.5,"d":"4050"},{"v":4049.5,"d":"4050"},1.3575,1.3575,1.3575,1.3575,608,608,608,608,105,105,105,105,{"v":0.05434023444194566,"d":"0.05"},{"v":0.05434023444194566,"d":"0.05"},{"v":0.05434023444194566,"d":"0.05"},{"v":0.05434023444194566,"d":"0.05"},0.0001276,1.7219,2,3.76611E-4,{"$f":"\"\"","v":""},{"$f":"\"\"","v":""},{"$f":"\"\"","v":""},{"$f":"\"\"","v":""},{"$f":"\"\"","v":""},{"$f":"\"\"","v":""},{"$f":"\"\"","v":""},{"$f":"\"\"","v":""},{"$f":"\"\"","v":""},{"$f":"\"\"","v":""},{"$f":"\"\"","v":""},{"$f":"\"\"","v":""},{"$f":"\"\"","v":""},{"$f":"\"\"","v":""},{"$f":"\"\"","v":""},2.6,{"$f":"\"\"","v":""},{"$f":"\"\"","v":""},{"$f":"\"\"","v":""}]
["25521520",null,null,2,55,215,20,20.9,{"$f":"\"\"","v":""},{"$f":"\"\"","v":""},{"$f":"\"\"","v":""},{"$f":"\"\"","v":""},{"v":4494.5,"d":"4495"},{"v":4494.5,"d":"4495"},{"v":4494.5,"d":"4495"},{"v":4494.5,"d":"4495"},1.3575,1.3575,1.3575,1.3575,675,675,675,675,116,116,116,116,{"v":0.06766139142785994,"d":"0.07"},{"v":0.06766139142785994,"d":"0.07"},{"v":0.06766139142785994,"d":"0.07"},{"v":0.06766139142785994,"d":"0.07"},0.0001276,1.7219,2,3.76611E-4,{"$f":"\"\"","v":""},{"$f":"\"\"","v":""},{"$f":"\"\"","v":""},{"$f":"\"\"","v":""},{"$f":"\"\"","v":""},{"$f":"\"\"","v":""},{"$f":"\"\"","v":""},{"$f":"\"\"","v":""},{"$f":"\"\"","v":""},{"$f":"\"\"","v":""},{"$f":"\"\"","v":""},{"$f":"\"\"","v":""},{"$f":"\"\"","v":""},{"$f":"\"\"","v":""},{"$f":"\"\"","v":""},2.9,{"$f":"\"\"","v":""},{"$f":"\"\"","v":""},{"$f":"\"\"","v":""}]
["25523520",null,null,2,55,235,20,20.9,{"$f":"\"\"","v":""},{"$f":"\"\"","v":""},{"$f":"\"\"","v":""},{"$f":"\"\"","v":""},{"v":4939.5,"d":"4940"},{"v":4939.5,"d":"4940"},{"v":4939.5,"d":"4940"},{"v":4939.5,"d":"4940"},1.3575,1.3575,1.3575,1.3575,742,742,742,742,128,128,128,128,{"v":0.08391847715985853,"d":"0.08"},{"v":0.08391847715985853,"d":"0.08"},{"v":0.08391847715985853,"d":"0.08"},{"v":0.08391847715985853,"d":"0.08"},0.0001276,1.7219,2,3.76611E-4,{"$f":"\"\"","v":""},{"$f":"\"\"","v":""},{"$f":"\"\"","v":""},{"$f":"\"\"","v":""},{"$f":"\"\"","v":""},{"$f":"\"\"","v":""},{"$f":"\"\"","v":""},{"$f":"\"\"","v":""},{"$f":"\"\"","v":""},{"$f":"\"\"","v":""},{"$f":"\"\"","v":""},{"$f":"\"\"","v":""},{"$f":"\"\"","v":""},{"$f":"\"\"","v":""},{"$f":"\"\"","v":""},3.1,{"$f":"\"\"","v":""},{"$f":"\"\"","v":""},{"$f":"\"\"","v":""}]
["2605520",null,null,2,60,55,20,20.9,{"$f":"\"\"","v":""},{"$f":"\"\"","v":""},{"$f":"\"\"","v":""},{"$f":"\"\"","v":""},{"v":960.54,"d":"961"},{"v":960.54,"d":"961"},{"v":960.54,"d":"961"},{"v":960.54,"d":"961"},1.3443,1.3443,1.3443,1.3443,147,147,147,147,25,25,25,25,{"v":2.5660084423910325E-3,"d":"0.00"},{"v":2.5660084423910325E-3,"d":"0.00"},{"v":2.5660084423910325E-3,"d":"0.00"},{"v":2.5660084423910325E-3,"d":"0.00"},0.0001276,1.7219,2,3.76611E-4,{"$f":"\"\"","v":""},{"$f":"\"\"","v":""},{"$f":"\"\"","v":""},{"$f":"\"\"","v":""},{"$f":"\"\"","v":""},{"$f":"\"\"","v":""},{"$f":"\"\"","v":""},{"$f":"\"\"","v":""},{"$f":"\"\"","v":""},{"$f":"\"\"","v":""},{"$f":"\"\"","v":""},{"$f":"\"\"","v":""},{"$f":"\"\"","v":""},{"$f":"\"\"","v":""},{"$f":"\"\"","v":""},0.7,{"$f":"\"\"","v":""},{"$f":"\"\"","v":""},{"$f":"\"\"","v":""}]
["2606520",null,null,2,60,65,20,20.9,{"$f":"\"\"","v":""},{"$f":"\"\"","v":""},{"$f":"\"\"","v":""},{"$f":"\"\"","v":""},{"v":1189.24,"d":"1189"},{"v":1189.24,"d":"1189"},{"v":1189.24,"d":"1189"},{"v":1189.24,"d":"1189"},1.3443,1.3443,1.3443,1.3443,182,182,182,182,31,31,31,31,{"v":0.004014833185745387,"d":"0.00"},{"v":0.004014833185745387,"d":"0.00"},{"v":0.004014833185745387,"d":"0.00"},{"v":0.004014833185745387,"d":"0.00"},0.0001276,1.7219,2,3.76611E-4,{"$f":"\"\"","v":""},{"$f":"\"\"","v":""},{"$f":"\"\"","v":""},{"$f":"\"\"","v":""},{"$f":"\"\"","v":""},{"$f":"\"\"","v":""},{"$f":"\"\"","v":""},{"$f":"\"\"","v":""},{"$f":"\"\"","v":""},{"$f":"\"\"","v":""},{"$f":"\"\"","v":""},{"$f":"\"\"","v":""},{"$f":"\"\"","v":""},{"$f":"\"\"","v":""},{"$f":"\"\"","v":""},0.9,{"$f":"\"\"","v":""},{"$f":"\"\"","v":""},{"$f":"\"\"","v":""}]
["2607520",null,null,2,60,75,20,20.9,{"$f":"\"\"","v":""},{"$f":"\"\"","v":""},{"$f":"\"\"","v":""},{"$f":"\"\"","v":""},{"v":1417.94,"d":"1418"},{"v":1417.94,"d":"1418"},{"v":1417.94,"d":"1418"},{"v":1417.94,"d":"1418"},1.3443,1.3443,1.3443,1.3443,217,217,217,217,37,37,37,37,{"v":0.005812780072889587,"d":"0.01"},{"v":0.005812780072889587,"d":"0.01"},{"v":0.005812780072889587,"d":"0.01"},{"v":0.005812780072889587,"d":"0.01"},0.0001276,1.7219,2,3.76611E-4,{"$f":"\"\"","v":""},{"$f":"\"\"","v":""},{"$f":"\"\"","v":""},{"$f":"\"\"","v":""},{"$f":"\"\"","v":""},{"$f":"\"\"","v":""},{"$f":"\"\"","v":""},{"$f":"\"\"","v":""},{"$f":"\"\"","v":""},{"$f":"\"\"","v":""},{"$f":"\"\"","v":""},{"$f":"\"\"","v":""},{"$f":"\"\"","v":""},{"$f":"\"\"","v":""},{"$f":"\"\"","v":""},{"v":1,"d":"1.0"},{"$f":"\"\"","v":""},{"$f":"\"\"","v":""},{"$f":"\"\"","v":""}]
["2608520",null,null,2,60,85,20,20.9,{"$f":"\"\"","v":""},{"$f":"\"\"","v":""},{"$f":"\"\"","v":""},{"$f":"\"\"","v":""},{"v":1646.64,"d":"1647"},{"v":1646.64,"d":"1647"},{"v":1646.64,"d":"1647"},{"v":1646.64,"d":"1647"},1.3443,1.3443,1.3443,1.3443,252,252,252,252,43,43,43,43,{"v":0.007971312498753788,"d":"0.01"},{"v":0.007971312498753788,"d":"0.01"},{"v":0.007971312498753788,"d":"0.01"},{"v":0.007971312498753788,"d":"0.01"},0.0001276,1.7219,2,3.76611E-4,{"$f":"\"\"","v":""},{"$f":"\"\"","v":""},{"$f":"\"\"","v":""},{"$f":"\"\"","v":""},{"$f":"\"\"","v":""},{"$f":"\"\"","v":""},{"$f":"\"\"","v":""},{"$f":"\"\"","v":""},{"$f":"\"\"","v":""},{"$f":"\"\"","v":""},{"$f":"\"\"","v":""},{"$f":"\"\"","v":""},{"$f":"\"\"","v":""},{"$f":"\"\"","v":""},{"$f":"\"\"","v":""},1.1,{"$f":"\"\"","v":""},{"$f":"\"\"","v":""},{"$f":"\"\"","v":""}]
["2609520",null,null,2,60,95,20,20.9,{"$f":"\"\"","v":""},{"$f":"\"\"","v":""},{"$f":"\"\"","v":""},{"$f":"\"\"","v":""},{"v":1875.34,"d":"1875"},{"v":1875.34,"d":"1875"},{"v":1875.34,"d":"1875"},{"v":1875.34,"d":"1875"},1.3443,1.3443,1.3443,1.3443,287,287,287,287,49,49,49,49,{"v":0.010501379754599133,"d":"0.01"},{"v":0.010501379754599133,"d":"0.01"},{"v":0.010501379754599133,"d":"0.01"},{"v":0.010501379754599133,"d":"0.01"},0.0001276,1.7219,2,3.76611E-4,{"$f":"\"\"","v":""},{"$f":"\"\"","v":""},{"$f":"\"\"","v":""},{"$f":"\"\"","v":""},{"$f":"\"\"","v":""},{"$f":"\"\"","v":""},{"$f":"\"\"","v":""},{"$f":"\"\"","v":""},{"$f":"\"\"","v":""},{"$f":"\"\"","v":""},{"$f":"\"\"","v":""},{"$f":"\"\"","v":""},{"$f":"\"\"","v":""},{"$f":"\"\"","v":""},{"$f":"\"\"","v":""},1.3,{"$f":"\"\"","v":""},{"$f":"\"\"","v":""},{"$f":"\"\"","v":""}]
["26010520",null,null,2,60,105,20,20.9,{"$f":"\"\"","v":""},{"$f":"\"\"","v":""},{"$f":"\"\"","v":""},{"$f":"\"\"","v":""},{"v":2104.04,"d":"2104"},{"v":2104.04,"d":"2104"},{"v":2104.04,"d":"2104"},{"v":2104.04,"d":"2104"},1.3443,1.3443,1.3443,1.3443,322,322,322,322,55,55,55,55,{"v":0.013413508829754527,"d":"0.01"},{"v":0.013413508829754527,"d":"0.01"},{"v":0.013413508829754527,"d":"0.01"},{"v":0.013413508829754527,"d":"0.01"},0.0001276,1.7219,2,3.76611E-4,{"$f":"\"\"","v":""},{"$f":"\"\"","v":""},{"$f":"\"\"","v":""},{"$f":"\"\"","v":""},{"$f":"\"\"","v":""},{"$f":"\"\"","v":""},{"$f":"\"\"","v":""},{"$f":"\"\"","v":""},{"$f":"\"\"","v":""},{"$f":"\"\"","v":""},{"$f":"\"\"","v":""},{"$f":"\"\"","v":""},{"$f":"\"\"","v":""},{"$f":"\"\"","v":""},{"$f":"\"\"","v":""},1.4,{"$f":"\"\"","v":""},{"$f":"\"\"","v":""},{"$f":"\"\"","v":""}]
["26011520",null,null,2,60,115,20,20.9,{"$f":"\"\"","v":""},{"$f":"\"\"","v":""},{"$f":"\"\"","v":""},{"$f":"\"\"","v":""},{"v":2332.74,"d":"2333"},{"v":2332.74,"d":"2333"},{"v":2332.74,"d":"2333"},{"v":2332.74,"d":"2333"},1.3443,1.3443,1.3443,1.3443,357,357,357,357,61,61,61,61,{"v":0.01671787045569776,"d":"0.02"},{"v":0.01671787045569776,"d":"0.02"},{"v":0.01671787045569776,"d":"0.02"},{"v":0.01671787045569776,"d":"0.02"},0.0001276,1.7219,2,3.76611E-4,{"$f":"\"\"","v":""},{"$f":"\"\"","v":""},{"$f":"\"\"","v":""},{"$f":"\"\"","v":""},{"$f":"\"\"","v":""},{"$f":"\"\"","v":""},{"$f":"\"\"","v":""},{"$f":"\"\"","v":""},{"$f":"\"\"","v":""},{"$f":"\"\"","v":""},{"$f":"\"\"","v":""},{"$f":"\"\"","v":""},{"$f":"\"\"","v":""},{"$f":"\"\"","v":""},{"$f":"\"\"","v":""},1.5,{"$f":"\"\"","v":""},{"$f":"\"\"","v":""},{"$f":"\"\"","v":""}]
["26013520",null,null,2,60,135,20,20.9,{"$f":"\"\"","v":""},{"$f":"\"\"","v":""},{"$f":"\"\"","v":""},{"$f":"\"\"","v":""},{"v":2790.14,"d":"2790"},{"v":2790.14,"d":"2790"},{"v":2790.14,"d":"2790"},{"v":2790.14,"d":"2790"},1.3443,1.3443,1.3443,1.3443,427,427,427,427,73,73,73,73,{"v":0.024542479353850614,"d":"0.02"},{"v":0.024542479353850614,"d":"0.02"},{"v":0.024542479353850614,"d":"0.02"},{"v":0.024542479353850614,"d":"0.02"},0.0001276,1.7219,2,3.76611E-4,{"$f":"\"\"","v":""},{"$f":"\"\"","v":""},{"$f":"\"\"","v":""},{"$f":"\"\"","v":""},{"$f":"\"\"","v":""},{"$f":"\"\"","v":""},{"$f":"\"\"","v":""},{"$f":"\"\"","v":""},{"$f":"\"\"","v":""},{"$f":"\"\"","v":""},{"$f":"\"\"","v":""},{"$f":"\"\"","v":""},{"$f":"\"\"","v":""},{"$f":"\"\"","v":""},{"$f":"\"\"","v":""},1.8,{"$f":"\"\"","v":""},{"$f":"\"\"","v":""},{"$f":"\"\"","v":""}]
["26015520",null,null,2,60,155,20,20.9,{"$f":"\"\"","v":""},{"$f":"\"\"","v":""},{"$f":"\"\"","v":""},{"$f":"\"\"","v":""},{"v":3247.54,"d":"3248"},{"v":3247.54,"d":"3248"},{"v":3247.54,"d":"3248"},{"v":3247.54,"d":"3248"},1.3443,1.3443,1.3443,1.3443,497,497,497,497,85,85,85,85,{"v":0.03405107814745689,"d":"0.03"},{"v":0.03405107814745689,"d":"0.03"},{"v":0.03405107814745689,"d":"0.03"},{"v":0.03405107814745689,"d":"0.03"},0.0001276,1.7219,2,3.76611E-4,{"$f":"\"\"","v":""},{"$f":"\"\"","v":""},{"$f":"\"\"","v":""},{"$f":"\"\"","v":""},{"$f":"\"\"","v":""},{"$f":"\"\"","v":""},{"$f":"\"\"","v":""},{"$f":"\"\"","v":""},{"$f":"\"\"","v":""},{"$f":"\"\"","v":""},{"$f":"\"\"","v":""},{"$f":"\"\"","v":""},{"$f":"\"\"","v":""},{"$f":"\"\"","v":""},{"$f":"\"\"","v":""},2.1,{"$f":"\"\"","v":""},{"$f":"\"\"","v":""},{"$f":"\"\"","v":""}]
["26017520",null,null,2,60,175,20,20.9,{"$f":"\"\"","v":""},{"$f":"\"\"","v":""},{"$f":"\"\"","v":""},{"$f":"\"\"","v":""},{"v":3704.94,"d":"3705"},{"v":3704.94,"d":"3705"},{"v":3704.94,"d":"3705"},{"v":3704.94,"d":"3705"},1.3443,1.3443,1.3443,1.3443,567,567,567,567,98,98,98,98,{"v":0.0462244820624069,"d":"0.05"},{"v":0.0462244820624069,"d":"0.05"},{"v":0.0462244820624069,"d":"0.05"},{"v":0.0462244820624069,"d":"0.05"},0.0001276,1.7219,2,3.76611E-4,{"$f":"\"\"","v":""},{"$f":"\"\"","v":""},{"$f":"\"\"","v":""},{"$f":"\"\"","v":""},{"$f":"\"\"","v":""},{"$f":"\"\"","v":""},{"$f":"\"\"","v":""},{"$f":"\"\"","v":""},{"$f":"\"\"","v":""},{"$f":"\"\"","v":""},{"$f":"\"\"","v":""},{"$f":"\"\"","v":""},{"$f":"\"\"","v":""},{"$f":"\"\"","v":""},{"$f":"\"\"","v":""},2.3,{"$f":"\"\"","v":""},{"$f":"\"\"","v":""},{"$f":"\"\"","v":""}]
["26019520",null,null,2,60,195,20,20.9,{"$f":"\"\"","v":""},{"$f":"\"\"","v":""},{"$f":"\"\"","v":""},{"$f":"\"\"","v":""},{"v":4162.34,"d":"4162"},{"v":4162.34,"d":"4162"},{"v":4162.34,"d":"4162"},{"v":4162.34,"d":"4162"},1.3443,1.3443,1.3443,1.3443,637,637,637,637,110,110,110,110,{"v":0.05944616172285236,"d":"0.06"},{"v":0.05944616172285236,"d":"0.06"},{"v":0.05944616172285236,"d":"0.06"},{"v":0.05944616172285236,"d":"0.06"},0.0001276,1.7219,2,3.76611E-4,{"$f":"\"\"","v":""},{"$f":"\"\"","v":""},{"$f":"\"\"","v":""},{"$f":"\"\"","v":""},{"$f":"\"\"","v":""},{"$f":"\"\"","v":""},{"$f":"\"\"","v":""},{"$f":"\"\"","v":""},{"$f":"\"\"","v":""},{"$f":"\"\"","v":""},{"$f":"\"\"","v":""},{"$f":"\"\"","v":""},{"$f":"\"\"","v":""},{"$f":"\"\"","v":""},{"$f":"\"\"","v":""},2.6,{"$f":"\"\"","v":""},{"$f":"\"\"","v":""},{"$f":"\"\"","v":""}]
["26021520",null,null,2,60,215,20,20.9,{"$f":"\"\"","v":""},{"$f":"\"\"","v":""},{"$f":"\"\"","v":""},{"$f":"\"\"","v":""},{"v":4619.74,"d":"4620"},{"v":4619.74,"d":"4620"},{"v":4619.74,"d":"4620"},{"v":4619.74,"d":"4620"},1.3443,1.3443,1.3443,1.3443,707,707,707,707,122,122,122,122,{"v":0.07456460623197282,"d":"0.07"},{"v":0.07456460623197282,"d":"0.07"},{"v":0.07456460623197282,"d":"0.07"},{"v":0.07456460623197282,"d":"0.07"},0.0001276,1.7219,2,3.76611E-4,{"$f":"\"\"","v":""},{"$f":"\"\"","v":""},{"$f":"\"\"","v":""},{"$f":"\"\"","v":""},{"$f":"\"\"","v":""},{"$f":"\"\"","v":""},{"$f":"\"\"","v":""},{"$f":"\"\"","v":""},{"$f":"\"\"","v":""},{"$f":"\"\"","v":""},{"$f":"\"\"","v":""},{"$f":"\"\"","v":""},{"$f":"\"\"","v":""},{"$f":"\"\"","v":""},{"$f":"\"\"","v":""},2.9,{"$f":"\"\"","v":""},{"$f":"\"\"","v":""},{"$f":"\"\"","v":""}]
["26023520",null,null,2,60,235,20,20.9,{"$f":"\"\"","v":""},{"$f":"\"\"","v":""},{"$f":"\"\"","v":""},{"$f":"\"\"","v":""},{"v":5077.14,"d":"5077"},{"v":5077.14,"d":"5077"},{"v":5077.14,"d":"5077"},{"v":5077.14,"d":"5077"},1.3443,1.3443,1.3443,1.3443,777,777,777,777,134,134,134,134,{"v":0.09164491349088683,"d":"0.09"},{"v":0.09164491349088683,"d":"0.09"},{"v":0.09164491349088683,"d":"0.09"},{"v":0.09164491349088683,"d":"0.09"},0.0001276,1.7219,2,3.76611E-4,{"$f":"\"\"","v":""},{"$f":"\"\"","v":""},{"$f":"\"\"","v":""},{"$f":"\"\"","v":""},{"$f":"\"\"","v":""},{"$f":"\"\"","v":""},{"$f":"\"\"","v":""},{"$f":"\"\"","v":""},{"$f":"\"\"","v":""},{"$f":"\"\"","v":""},{"$f":"\"\"","v":""},{"$f":"\"\"","v":""},{"$f":"\"\"","v":""},{"$f":"\"\"","v":""},{"$f":"\"\"","v":""},3.1,{"$f":"\"\"","v":""},{"$f":"\"\"","v":""},{"$f":"\"\"","v":""}]
["2655520",null,null,2,65,55,20,20.9,{"$f":"\"\"","v":""},{"$f":"\"\"","v":""},{"$f":"\"\"","v":""},{"$f":"\"\"","v":""},{"v":982.8,"d":"983"},{"v":982.8,"d":"983"},{"v":982.8,"d":"983"},{"v":982.8,"d":"983"},1.3312,1.3312,1.3312,1.3312,153,153,153,153,26,26,26,26,{"v":0.002772352708237033,"d":"0.00"},{"v":0.002772352708237033,"d":"0.00"},{"v":0.002772352708237033,"d":"0.00"},{"v":0.002772352708237033,"d":"0.00"},0.0001276,1.7219,2,3.76611E-4,{"$f":"\"\"","v":""},{"$f":"\"\"","v":""},{"$f":"\"\"","v":""},{"$f":"\"\"","v":""},{"$f":"\"\"","v":""},{"$f":"\"\"","v":""},{"$f":"\"\"","v":""},{"$f":"\"\"","v":""},{"$f":"\"\"","v":""},{"$f":"\"\"","v":""},{"$f":"\"\"","v":""},{"$f":"\"\"","v":""},{"$f":"\"\"","v":""},{"$f":"\"\"","v":""},{"$f":"\"\"","v":""},0.7,{"$f":"\"\"","v":""},{"$f":"\"\"","v":""},{"$f":"\"\"","v":""}]
["2656520",null,null,2,65,65,20,20.9,{"$f":"\"\"","v":""},{"$f":"\"\"","v":""},{"$f":"\"\"","v":""},{"$f":"\"\"","v":""},{"v":1216.8,"d":"1217"},{"v":1216.8,"d":"1217"},{"v":1216.8,"d":"1217"},{"v":1216.8,"d":"1217"},1.3312,1.3312,1.3312,1.3312,190,190,190,190,33,33,33,33,{"v":0.004540446323055772,"d":"0.00"},{"v":0.004540446323055772,"d":"0.00"},{"v":0.004540446323055772,"d":"0.00"},{"v":0.004540446323055772,"d":"0.00"},0.0001276,1.7219,2,3.76611E-4,{"$f":"\"\"","v":""},{"$f":"\"\"","v":""},{"$f":"\"\"","v":""},{"$f":"\"\"","v":""},{"$f":"\"\"","v":""},{"$f":"\"\"","v":""},{"$f":"\"\"","v":""},{"$f":"\"\"","v":""},{"$f":"\"\"","v":""},{"$f":"\"\"","v":""},{"$f":"\"\"","v":""},{"$f":"\"\"","v":""},{"$f":"\"\"","v":""},{"$f":"\"\"","v":""},{"$f":"\"\"","v":""},0.9,{"$f":"\"\"","v":""},{"$f":"\"\"","v":""},{"$f":"\"\"","v":""}]
["2657520",null,null,2,65,75,20,20.9,{"$f":"\"\"","v":""},{"$f":"\"\"","v":""},{"$f":"\"\"","v":""},{"$f":"\"\"","v":""},{"v":1450.8,"d":"1451"},{"v":1450.8,"d":"1451"},{"v":1450.8,"d":"1451"},{"v":1450.8,"d":"1451"},1.3312,1.3312,1.3312,1.3312,226,226,226,226,39,39,39,39,{"v":6.4458993680365515E-3,"d":"0.01"},{"v":6.4458993680365515E-3,"d":"0.01"},{"v":6.4458993680365515E-3,"d":"0.01"},{"v":6.4458993680365515E-3,"d":"0.01"},0.0001276,1.7219,2,3.76611E-4,{"$f":"\"\"","v":""},{"$f":"\"\"","v":""},{"$f":"\"\"","v":""},{"$f":"\"\"","v":""},{"$f":"\"\"","v":""},{"$f":"\"\"","v":""},{"$f":"\"\"","v":""},{"$f":"\"\"","v":""},{"$f":"\"\"","v":""},{"$f":"\"\"","v":""},{"$f":"\"\"","v":""},{"$f":"\"\"","v":""},{"$f":"\"\"","v":""},{"$f":"\"\"","v":""},{"$f":"\"\"","v":""},{"v":1,"d":"1.0"},{"$f":"\"\"","v":""},{"$f":"\"\"","v":""},{"$f":"\"\"","v":""}]
["2658520",null,null,2,65,85,20,20.9,{"$f":"\"\"","v":""},{"$f":"\"\"","v":""},{"$f":"\"\"","v":""},{"$f":"\"\"","v":""},{"v":1684.8,"d":"1685"},{"v":1684.8,"d":"1685"},{"v":1684.8,"d":"1685"},{"v":1684.8,"d":"1685"},1.3312,1.3312,1.3312,1.3312,263,263,263,263,45,45,45,45,{"v":8.714291898429519E-3,"d":"0.01"},{"v":8.714291898429519E-3,"d":"0.01"},{"v":8.714291898429519E-3,"d":"0.01"},{"v":8.714291898429519E-3,"d":"0.01"},0.0001276,1.7219,2,3.76611E-4,{"$f":"\"\"","v":""},{"$f":"\"\"","v":""},{"$f":"\"\"","v":""},{"$f":"\"\"","v":""},{"$f":"\"\"","v":""},{"$f":"\"\"","v":""},{"$f":"\"\"","v":""},{"$f":"\"\"","v":""},{"$f":"\"\"","v":""},{"$f":"\"\"","v":""},{"$f":"\"\"","v":""},{"$f":"\"\"","v":""},{"$f":"\"\"","v":""},{"$f":"\"\"","v":""},{"$f":"\"\"","v":""},1.1,{"$f":"\"\"","v":""},{"$f":"\"\"","v":""},{"$f":"\"\"","v":""}]
["2659520",null,null,2,65,95,20,20.9,{"$f":"\"\"","v":""},{"$f":"\"\"","v":""},{"$f":"\"\"","v":""},{"$f":"\"\"","v":""},{"v":1918.8,"d":"1919"},{"v":1918.8,"d":"1919"},{"v":1918.8,"d":"1919"},{"v":1918.8,"d":"1919"},1.3312,1.3312,1.3312,1.3312,299,299,299,299,51,51,51,51,{"v":0.011356476574901648,"d":"0.01"},{"v":0.011356476574901648,"d":"0.01"},{"v":0.011356476574901648,"d":"0.01"},{"v":0.011356476574901648,"d":"0.01"},0.0001276,1.7219,2,3.76611E-4,{"$f":"\"\"","v":""},{"$f":"\"\"","v":""},{"$f":"\"\"","v":""},{"$f":"\"\"","v":""},{"$f":"\"\"","v":""},{"$f":"\"\"","v":""},{"$f":"\"\"","v":""},{"$f":"\"\"","v":""},{"$f":"\"\"","v":""},{"$f":"\"\"","v":""},{"$f":"\"\"","v":""},{"$f":"\"\"","v":""},{"$f":"\"\"","v":""},{"$f":"\"\"","v":""},{"$f":"\"\"","v":""},1.3,{"$f":"\"\"","v":""},{"$f":"\"\"","v":""},{"$f":"\"\"","v":""}]
["26510520",null,null,2,65,105,20,20.9,{"$f":"\"\"","v":""},{"$f":"\"\"","v":""},{"$f":"\"\"","v":""},{"$f":"\"\"","v":""},{"v":2152.8,"d":"2153"},{"v":2152.8,"d":"2153"},{"v":2152.8,"d":"2153"},{"v":2152.8,"d":"2153"},1.3312,1.3312,1.3312,1.3312,335,335,335,335,58,58,58,58,{"v":0.0148800422307134,"d":"0.01"},{"v":0.0148800422307134,"d":"0.01"},{"v":0.0148800422307134,"d":"0.01"},{"v":0.0148800422307134,"d":"0.01"},0.0001276,1.7219,2,3.76611E-4,{"$f":"\"\"","v":""},{"$f":"\"\"","v":""},{"$f":"\"\"","v":""},{"$f":"\"\"","v":""},{"$f":"\"\"","v":""},{"$f":"\"\"","v":""},{"$f":"\"\"","v":""},{"$f":"\"\"","v":""},{"$f":"\"\"","v":""},{"$f":"\"\"","v":""},{"$f":"\"\"","v":""},{"$f":"\"\"","v":""},{"$f":"\"\"","v":""},{"$f":"\"\"","v":""},{"$f":"\"\"","v":""},1.4,{"$f":"\"\"","v":""},{"$f":"\"\"","v":""},{"$f":"\"\"","v":""}]
["26511520",null,null,2,65,115,20,20.9,{"$f":"\"\"","v":""},{"$f":"\"\"","v":""},{"$f":"\"\"","v":""},{"$f":"\"\"","v":""},{"v":2386.8,"d":"2387"},{"v":2386.8,"d":"2387"},{"v":2386.8,"d":"2387"},{"v":2386.8,"d":"2387"},1.3312,1.3312,1.3312,1.3312,372,372,372,372,64,64,64,64,{"v":0.018359116091851296,"d":"0.02"},{"v":0.018359116091851296,"d":"0.02"},{"v":0.018359116091851296,"d":"0.02"},{"v":0.018359116091851296,"d":"0.02"},0.0001276,1.7219,2,3.76611E-4,{"$f":"\"\"","v":""},{"$f":"\"\"","v":""},{"$f":"\"\"","v":""},{"$f":"\"\"","v":""},{"$f":"\"\"","v":""},{"$f":"\"\"","v":""},{"$f":"\"\"","v":""},{"$f":"\"\"","v":""},{"$f":"\"\"","v":""},{"$f":"\"\"","v":""},{"$f":"\"\"","v":""},{"$f":"\"\"","v":""},{"$f":"\"\"","v":""},{"$f":"\"\"","v":""},{"$f":"\"\"","v":""},1.5,{"$f":"\"\"","v":""},{"$f":"\"\"","v":""},{"$f":"\"\"","v":""}]
["26513520",null,null,2,65,135,20,20.9,{"$f":"\"\"","v":""},{"$f":"\"\"","v":""},{"$f":"\"\"","v":""},{"$f":"\"\"","v":""},{"v":2854.8,"d":"2855"},{"v":2854.8,"d":"2855"},{"v":2854.8,"d":"2855"},{"v":2854.8,"d":"2855"},1.3312,1.3312,1.3312,1.3312,445,445,445,445,77,77,77,77,{"v":0.027225893203387603,"d":"0.03"},{"v":0.027225893203387603,"d":"0.03"},{"v":0.027225893203387603,"d":"0.03"},{"v":0.027225893203387603,"d":"0.03"},0.0001276,1.7219,2,3.76611E-4,{"$f":"\"\"","v":""},{"$f":"\"\"","v":""},{"$f":"\"\"","v":""},{"$f":"\"\"","v":""},{"$f":"\"\"","v":""},{"$f":"\"\"","v":""},{"$f":"\"\"","v":""},{"$f":"\"\"","v":""},{"$f":"\"\"","v":""},{"$f":"\"\"","v":""},{"$f":"\"\"","v":""},{"$f":"\"\"","v":""},{"$f":"\"\"","v":""},{"$f":"\"\"","v":""},{"$f":"\"\"","v":""},1.8,{"$f":"\"\"","v":""},{"$f":"\"\"","v":""},{"$f":"\"\"","v":""}]
["26515520",null,null,2,65,155,20,20.9,{"$f":"\"\"","v":""},{"$f":"\"\"","v":""},{"$f":"\"\"","v":""},{"$f":"\"\"","v":""},{"v":3322.8,"d":"3323"},{"v":3322.8,"d":"3323"},{"v":3322.8,"d":"3323"},{"v":3322.8,"d":"3323"},1.3312,1.3312,1.3312,1.3312,518,518,518,518,89,89,89,89,{"v":0.03722840942956245,"d":"0.04"},{"v":0.03722840942956245,"d":"0.04"},{"v":0.03722840942956245,"d":"0.04"},{"v":0.03722840942956245,"d":"0.04"},0.0001276,1.7219,2,3.76611E-4,{"$f":"\"\"","v":""},{"$f":"\"\"","v":""},{"$f":"\"\"","v":""},{"$f":"\"\"","v":""},{"$f":"\"\"","v":""},{"$f":"\"\"","v":""},{"$f":"\"\"","v":""},{"$f":"\"\"","v":""},{"$f":"\"\"","v":""},{"$f":"\"\"","v":""},{"$f":"\"\"","v":""},{"$f":"\"\"","v":""},{"$f":"\"\"","v":""},{"$f":"\"\"","v":""},{"$f":"\"\"","v":""},2.1,{"$f":"\"\"","v":""},{"$f":"\"\"","v":""},{"$f":"\"\"","v":""}]
["26517520",null,null,2,65,175,20,20.9,{"$f":"\"\"","v":""},{"$f":"\"\"","v":""},{"$f":"\"\"","v":""},{"$f":"\"\"","v":""},{"v":3790.8,"d":"3791"},{"v":3790.8,"d":"3791"},{"v":3790.8,"d":"3791"},{"v":3790.8,"d":"3791"},1.3312,1.3312,1.3312,1.3312,591,591,591,591,102,102,102,102,{"v":0.04994573709888699,"d":"0.05"},{"v":0.04994573709888699,"d":"0.05"},{"v":0.04994573709888699,"d":"0.05"},{"v":0.04994573709888699,"d":"0.05"},0.0001276,1.7219,2,3.76611E-4,{"$f":"\"\"","v":""},{"$f":"\"\"","v":""},{"$f":"\"\"","v":""},{"$f":"\"\"","v":""},{"$f":"\"\"","v":""},{"$f":"\"\"","v":""},{"$f":"\"\"","v":""},{"$f":"\"\"","v":""},{"$f":"\"\"","v":""},{"$f":"\"\"","v":""},{"$f":"\"\"","v":""},{"$f":"\"\"","v":""},{"$f":"\"\"","v":""},{"$f":"\"\"","v":""},{"$f":"\"\"","v":""},2.3,{"$f":"\"\"","v":""},{"$f":"\"\"","v":""},{"$f":"\"\"","v":""}]
["26519520",null,null,2,65,195,20,20.9,{"$f":"\"\"","v":""},{"$f":"\"\"","v":""},{"$f":"\"\"","v":""},{"$f":"\"\"","v":""},{"v":4258.8,"d":"4259"},{"v":4258.8,"d":"4259"},{"v":4258.8,"d":"4259"},{"v":4258.8,"d":"4259"},1.3312,1.3312,1.3312,1.3312,664,664,664,664,114,114,114,114,{"v":0.06369114091240127,"d":"0.06"},{"v":0.06369114091240127,"d":"0.06"},{"v":0.06369114091240127,"d":"0.06"},{"v":0.06369114091240127,"d":"0.06"},0.0001276,1.7219,2,3.76611E-4,{"$f":"\"\"","v":""},{"$f":"\"\"","v":""},{"$f":"\"\"","v":""},{"$f":"\"\"","v":""},{"$f":"\"\"","v":""},{"$f":"\"\"","v":""},{"$f":"\"\"","v":""},{"$f":"\"\"","v":""},{"$f":"\"\"","v":""},{"$f":"\"\"","v":""},{"$f":"\"\"","v":""},{"$f":"\"\"","v":""},{"$f":"\"\"","v":""},{"$f":"\"\"","v":""},{"$f":"\"\"","v":""},2.6,{"$f":"\"\"","v":""},{"$f":"\"\"","v":""},{"$f":"\"\"","v":""}]
["26521520",null,null,2,65,215,20,20.9,{"$f":"\"\"","v":""},{"$f":"\"\"","v":""},{"$f":"\"\"","v":""},{"$f":"\"\"","v":""},{"v":4726.8,"d":"4727"},{"v":4726.8,"d":"4727"},{"v":4726.8,"d":"4727"},{"v":4726.8,"d":"4727"},1.3312,1.3312,1.3312,1.3312,737,737,737,737,127,127,127,127,{"v":0.08056540130994716,"d":"0.08"},{"v":0.08056540130994716,"d":"0.08"},{"v":0.08056540130994716,"d":"0.08"},{"v":0.08056540130994716,"d":"0.08"},0.0001276,1.7219,2,3.76611E-4,{"$f":"\"\"","v":""},{"$f":"\"\"","v":""},{"$f":"\"\"","v":""},{"$f":"\"\"","v":""},{"$f":"\"\"","v":""},{"$f":"\"\"","v":""},{"$f":"\"\"","v":""},{"$f":"\"\"","v":""},{"$f":"\"\"","v":""},{"$f":"\"\"","v":""},{"$f":"\"\"","v":""},{"$f":"\"\"","v":""},{"$f":"\"\"","v":""},{"$f":"\"\"","v":""},{"$f":"\"\"","v":""},2.9,{"$f":"\"\"","v":""},{"$f":"\"\"","v":""},{"$f":"\"\"","v":""}]
["26523520",null,null,2,65,235,20,20.9,{"$f":"\"\"","v":""},{"$f":"\"\"","v":""},{"$f":"\"\"","v":""},{"$f":"\"\"","v":""},{"v":5194.8,"d":"5195"},{"v":5194.8,"d":"5195"},{"v":5194.8,"d":"5195"},{"v":5194.8,"d":"5195"},1.3312,1.3312,1.3312,1.3312,809,809,809,809,139,139,139,139,{"v":0.09833494355240839,"d":"0.10"},{"v":0.09833494355240839,"d":"0.10"},{"v":0.09833494355240839,"d":"0.10"},{"v":0.09833494355240839,"d":"0.10"},0.0001276,1.7219,2,3.76611E-4,{"$f":"\"\"","v":""},{"$f":"\"\"","v":""},{"$f":"\"\"","v":""},{"$f":"\"\"","v":""},{"$f":"\"\"","v":""},{"$f":"\"\"","v":""},{"$f":"\"\"","v":""},{"$f":"\"\"","v":""},{"$f":"\"\"","v":""},{"$f":"\"\"","v":""},{"$f":"\"\"","v":""},{"$f":"\"\"","v":""},{"$f":"\"\"","v":""},{"$f":"\"\"","v":""},{"$f":"\"\"","v":""},3.1,{"$f":"\"\"","v":""},{"$f":"\"\"","v":""},{"$f":"\"\"","v":""}]
["2705520",null,null,2,70,55,20,20.9,{"$f":"\"\"","v":""},{"$f":"\"\"","v":""},{"$f":"\"\"","v":""},{"$f":"\"\"","v":""},{"v":1002.54,"d":"1003"},{"v":1002.54,"d":"1003"},{"v":1002.54,"d":"1003"},{"v":1002.54,"d":"1003"},1.318,1.318,1.318,1.318,159,159,159,159,27,27,27,27,{"v":2.9865886231053695E-3,"d":"0.00"},{"v":2.9865886231053695E-3,"d":"0.00"},{"v":2.9865886231053695E-3,"d":"0.00"},{"v":2.9865886231053695E-3,"d":"0.00"},0.0001276,1.7219,2,3.76611E-4,{"$f":"\"\"","v":""},{"$f":"\"\"","v":""},{"$f":"\"\"","v":""},{"$f":"\"\"","v":""},{"$f":"\"\"","v":""},{"$f":"\"\"","v":""},{"$f":"\"\"","v":""},{"$f":"\"\"","v":""},{"$f":"\"\"","v":""},{"$f":"\"\"","v":""},{"$f":"\"\"","v":""},{"$f":"\"\"","v":""},{"$f":"\"\"","v":""},{"$f":"\"\"","v":""},{"$f":"\"\"","v":""},0.7,{"$f":"\"\"","v":""},{"$f":"\"\"","v":""},{"$f":"\"\"","v":""}]
["2706520",null,null,2,70,65,20,20.9,{"$f":"\"\"","v":""},{"$f":"\"\"","v":""},{"$f":"\"\"","v":""},{"$f":"\"\"","v":""},{"v":1241.24,"d":"1241"},{"v":1241.24,"d":"1241"},{"v":1241.24,"d":"1241"},{"v":1241.24,"d":"1241"},1.318,1.318,1.318,1.318,197,197,197,197,34,34,34,34,{"v":0.004815220185397182,"d":"0.00"},{"v":0.004815220185397182,"d":"0.00"},{"v":0.004815220185397182,"d":"0.00"},{"v":0.004815220185397182,"d":"0.00"},0.0001276,1.7219,2,3.76611E-4,{"$f":"\"\"","v":""},{"$f":"\"\"","v":""},{"$f":"\"\"","v":""},{"$f":"\"\"","v":""},{"$f":"\"\"","v":""},{"$f":"\"\"","v":""},{"$f":"\"\"","v":""},{"$f":"\"\"","v":""},{"$f":"\"\"","v":""},{"$f":"\"\"","v":""},{"$f":"\"\"","v":""},{"$f":"\"\"","v":""},{"$f":"\"\"","v":""},{"$f":"\"\"","v":""},{"$f":"\"\"","v":""},0.9,{"$f":"\"\"","v":""},{"$f":"\"\"","v":""},{"$f":"\"\"","v":""}]
["2707520",null,null,2,70,75,20,20.9,{"$f":"\"\"","v":""},{"$f":"\"\"","v":""},{"$f":"\"\"","v":""},{"$f":"\"\"","v":""},{"v":1479.94,"d":"1480"},{"v":1479.94,"d":"1480"},{"v":1479.94,"d":"1480"},{"v":1479.94,"d":"1480"},1.318,1.318,1.318,1.318,235,235,235,235,40,40,40,40,{"v":0.006774554053467905,"d":"0.01"},{"v":0.006774554053467905,"d":"0.01"},{"v":0.006774554053467905,"d":"0.01"},{"v":0.006774554053467905,"d":"0.01"},0.0001276,1.7219,2,3.76611E-4,{"$f":"\"\"","v":""},{"$f":"\"\"","v":""},{"$f":"\"\"","v":""},{"$f":"\"\"","v":""},{"$f":"\"\"","v":""},{"$f":"\"\"","v":""},{"$f":"\"\"","v":""},{"$f":"\"\"","v":""},{"$f":"\"\"","v":""},{"$f":"\"\"","v":""},{"$f":"\"\"","v":""},{"$f":"\"\"","v":""},{"$f":"\"\"","v":""},{"$f":"\"\"","v":""},{"$f":"\"\"","v":""},{"v":1,"d":"1.0"},{"$f":"\"\"","v":""},{"$f":"\"\"","v":""},{"$f":"\"\"","v":""}]
["2708520",null,null,2,70,85,20,20.9,{"$f":"\"\"","v":""},{"$f":"\"\"","v":""},{"$f":"\"\"","v":""},{"$f":"\"\"","v":""},{"v":1718.64,"d":"1719"},{"v":1718.64,"d":"1719"},{"v":1718.64,"d":"1719"},{"v":1718.64,"d":"1719"},1.318,1.318,1.318,1.318,273,273,273,273,47,47,47,47,{"v":0.009489843555117288,"d":"0.01"},{"v":0.009489843555117288,"d":"0.01"},{"v":0.009489843555117288,"d":"0.01"},{"v":0.009489843555117288,"d":"0.01"},0.0001276,1.7219,2,3.76611E-4,{"$f":"\"\"","v":""},{"$f":"\"\"","v":""},{"$f":"\"\"","v":""},{"$f":"\"\"","v":""},{"$f":"\"\"","v":""},{"$f":"\"\"","v":""},{"$f":"\"\"","v":""},{"$f":"\"\"","v":""},{"$f":"\"\"","v":""},{"$f":"\"\"","v":""},{"$f":"\"\"","v":""},{"$f":"\"\"","v":""},{"$f":"\"\"","v":""},{"$f":"\"\"","v":""},{"$f":"\"\"","v":""},1.1,{"$f":"\"\"","v":""},{"$f":"\"\"","v":""},{"$f":"\"\"","v":""}]
["2709520",null,null,2,70,95,20,20.9,{"$f":"\"\"","v":""},{"$f":"\"\"","v":""},{"$f":"\"\"","v":""},{"$f":"\"\"","v":""},{"v":1957.34,"d":"1957"},{"v":1957.34,"d":"1957"},{"v":1957.34,"d":"1957"},{"v":1957.34,"d":"1957"},1.318,1.318,1.318,1.318,311,311,311,311,53,53,53,53,{"v":0.012244458088707133,"d":"0.01"},{"v":0.012244458088707133,"d":"0.01"},{"v":0.012244458088707133,"d":"0.01"},{"v":0.012244458088707133,"d":"0.01"},0.0001276,1.7219,2,3.76611E-4,{"$f":"\"\"","v":""},{"$f":"\"\"","v":""},{"$f":"\"\"","v":""},{"$f":"\"\"","v":""},{"$f":"\"\"","v":""},{"$f":"\"\"","v":""},{"$f":"\"\"","v":""},{"$f":"\"\"","v":""},{"$f":"\"\"","v":""},{"$f":"\"\"","v":""},{"$f":"\"\"","v":""},{"$f":"\"\"","v":""},{"$f":"\"\"","v":""},{"$f":"\"\"","v":""},{"$f":"\"\"","v":""},1.3,{"$f":"\"\"","v":""},{"$f":"\"\"","v":""},{"$f":"\"\"","v":""}]
["27010520",null,null,2,70,105,20,20.9,{"$f":"\"\"","v":""},{"$f":"\"\"","v":""},{"$f":"\"\"","v":""},{"$f":"\"\"","v":""},{"v":2196.04,"d":"2196"},{"v":2196.04,"d":"2196"},{"v":2196.04,"d":"2196"},{"v":2196.04,"d":"2196"},1.318,1.318,1.318,1.318,349,349,349,349,60,60,60,60,{"v":0.015899199425379117,"d":"0.02"},{"v":0.015899199425379117,"d":"0.02"},{"v":0.015899199425379117,"d":"0.02"},{"v":0.015899199425379117,"d":"0.02"},0.0001276,1.7219,2,3.76611E-4,{"$f":"\"\"","v":""},{"$f":"\"\"","v":""},{"$f":"\"\"","v":""},{"$f":"\"\"","v":""},{"$f":"\"\"","v":""},{"$f":"\"\"","v":""},{"$f":"\"\"","v":""},{"$f":"\"\"","v":""},{"$f":"\"\"","v":""},{"$f":"\"\"","v":""},{"$f":"\"\"","v":""},{"$f":"\"\"","v":""},{"$f":"\"\"","v":""},{"$f":"\"\"","v":""},{"$f":"\"\"","v":""},1.4,{"$f":"\"\"","v":""},{"$f":"\"\"","v":""},{"$f":"\"\"","v":""}]
["27011520",null,null,2,70,115,20,20.9,{"$f":"\"\"","v":""},{"$f":"\"\"","v":""},{"$f":"\"\"","v":""},{"$f":"\"\"","v":""},{"v":2434.74,"d":"2435"},{"v":2434.74,"d":"2435"},{"v":2434.74,"d":"2435"},{"v":2434.74,"d":"2435"},1.318,1.318,1.318,1.318,386,386,386,386,66,66,66,66,{"v":0.019495113925629626,"d":"0.02"},{"v":0.019495113925629626,"d":"0.02"},{"v":0.019495113925629626,"d":"0.02"},{"v":0.019495113925629626,"d":"0.02"},0.0001276,1.7219,2,3.76611E-4,{"$f":"\"\"","v":""},{"$f":"\"\"","v":""},{"$f":"\"\"","v":""},{"$f":"\"\"","v":""},{"$f":"\"\"","v":""},{"$f":"\"\"","v":""},{"$f":"\"\"","v":""},{"$f":"\"\"","v":""},{"$f":"\"\"","v":""},{"$f":"\"\"","v":""},{"$f":"\"\"","v":""},{"$f":"\"\"","v":""},{"$f":"\"\"","v":""},{"$f":"\"\"","v":""},{"$f":"\"\"","v":""},1.5,{"$f":"\"\"","v":""},{"$f":"\"\"","v":""},{"$f":"\"\"","v":""}]
["27013520",null,null,2,70,135,20,20.9,{"$f":"\"\"","v":""},{"$f":"\"\"","v":""},{"$f":"\"\"","v":""},{"$f":"\"\"","v":""},{"v":2912.14,"d":"2912"},{"v":2912.14,"d":"2912"},{"v":2912.14,"d":"2912"},{"v":2912.14,"d":"2912"},1.318,1.318,1.318,1.318,462,462,462,462,79,79,79,79,{"v":0.02861862753722168,"d":"0.03"},{"v":0.02861862753722168,"d":"0.03"},{"v":0.02861862753722168,"d":"0.03"},{"v":0.02861862753722168,"d":"0.03"},0.0001276,1.7219,2,3.76611E-4,{"$f":"\"\"","v":""},{"$f":"\"\"","v":""},{"$f":"\"\"","v":""},{"$f":"\"\"","v":""},{"$f":"\"\"","v":""},{"$f":"\"\"","v":""},{"$f":"\"\"","v":""},{"$f":"\"\"","v":""},{"$f":"\"\"","v":""},{"$f":"\"\"","v":""},{"$f":"\"\"","v":""},{"$f":"\"\"","v":""},{"$f":"\"\"","v":""},{"$f":"\"\"","v":""},{"$f":"\"\"","v":""},1.8,{"$f":"\"\"","v":""},{"$f":"\"\"","v":""},{"$f":"\"\"","v":""}]
["27015520",null,null,2,70,155,20,20.9,{"$f":"\"\"","v":""},{"$f":"\"\"","v":""},{"$f":"\"\"","v":""},{"$f":"\"\"","v":""},{"v":3389.54,"d":"3390"},{"v":3389.54,"d":"3390"},{"v":3389.54,"d":"3390"},{"v":3389.54,"d":"3390"},1.318,1.318,1.318,1.318,538,538,538,538,93,93,93,93,{"v":0.04054391824498905,"d":"0.04"},{"v":0.04054391824498905,"d":"0.04"},{"v":0.04054391824498905,"d":"0.04"},{"v":0.04054391824498905,"d":"0.04"},0.0001276,1.7219,2,3.76611E-4,{"$f":"\"\"","v":""},{"$f":"\"\"","v":""},{"$f":"\"\"","v":""},{"$f":"\"\"","v":""},{"$f":"\"\"","v":""},{"$f":"\"\"","v":""},{"$f":"\"\"","v":""},{"$f":"\"\"","v":""},{"$f":"\"\"","v":""},{"$f":"\"\"","v":""},{"$f":"\"\"","v":""},{"$f":"\"\"","v":""},{"$f":"\"\"","v":""},{"$f":"\"\"","v":""},{"$f":"\"\"","v":""},2.1,{"$f":"\"\"","v":""},{"$f":"\"\"","v":""},{"$f":"\"\"","v":""}]
["27017520",null,null,2,70,175,20,20.9,{"$f":"\"\"","v":""},{"$f":"\"\"","v":""},{"$f":"\"\"","v":""},{"$f":"\"\"","v":""},{"v":3866.94,"d":"3867"},{"v":3866.94,"d":"3867"},{"v":3866.94,"d":"3867"},{"v":3866.94,"d":"3867"},1.318,1.318,1.318,1.318,614,614,614,614,106,106,106,106,{"v":0.05380717156256812,"d":"0.05"},{"v":0.05380717156256812,"d":"0.05"},{"v":0.05380717156256812,"d":"0.05"},{"v":0.05380717156256812,"d":"0.05"},0.0001276,1.7219,2,3.76611E-4,{"$f":"\"\"","v":""},{"$f":"\"\"","v":""},{"$f":"\"\"","v":""},{"$f":"\"\"","v":""},{"$f":"\"\"","v":""},{"$f":"\"\"","v":""},{"$f":"\"\"","v":""},{"$f":"\"\"","v":""},{"$f":"\"\"","v":""},{"$f":"\"\"","v":""},{"$f":"\"\"","v":""},{"$f":"\"\"","v":""},{"$f":"\"\"","v":""},{"$f":"\"\"","v":""},{"$f":"\"\"","v":""},2.3,{"$f":"\"\"","v":""},{"$f":"\"\"","v":""},{"$f":"\"\"","v":""}]
["27019520",null,null,2,70,195,20,20.9,{"$f":"\"\"","v":""},{"$f":"\"\"","v":""},{"$f":"\"\"","v":""},{"$f":"\"\"","v":""},{"v":4344.34,"d":"4344"},{"v":4344.34,"d":"4344"},{"v":4344.34,"d":"4344"},{"v":4344.34,"d":"4344"},1.318,1.318,1.318,1.318,690,690,690,690,119,119,119,119,{"v":0.06919726727375208,"d":"0.07"},{"v":0.06919726727375208,"d":"0.07"},{"v":0.06919726727375208,"d":"0.07"},{"v":0.06919726727375208,"d":"0.07"},0.0001276,1.7219,2,3.76611E-4,{"$f":"\"\"","v":""},{"$f":"\"\"","v":""},{"$f":"\"\"","v":""},{"$f":"\"\"","v":""},{"$f":"\"\"","v":""},{"$f":"\"\"","v":""},{"$f":"\"\"","v":""},{"$f":"\"\"","v":""},{"$f":"\"\"","v":""},{"$f":"\"\"","v":""},{"$f":"\"\"","v":""},{"$f":"\"\"","v":""},{"$f":"\"\"","v":""},{"$f":"\"\"","v":""},{"$f":"\"\"","v":""},2.6,{"$f":"\"\"","v":""},{"$f":"\"\"","v":""},{"$f":"\"\"","v":""}]
["27021520",null,null,2,70,215,20,20.9,{"$f":"\"\"","v":""},{"$f":"\"\"","v":""},{"$f":"\"\"","v":""},{"$f":"\"\"","v":""},{"v":4821.74,"d":"4822"},{"v":4821.74,"d":"4822"},{"v":4821.74,"d":"4822"},{"v":4821.74,"d":"4822"},1.318,1.318,1.318,1.318,765,765,765,765,132,132,132,132,{"v":0.08679126934104499,"d":"0.09"},{"v":0.08679126934104499,"d":"0.09"},{"v":0.08679126934104499,"d":"0.09"},{"v":0.08679126934104499,"d":"0.09"},0.0001276,1.7219,2,3.76611E-4,{"$f":"\"\"","v":""},{"$f":"\"\"","v":""},{"$f":"\"\"","v":""},{"$f":"\"\"","v":""},{"$f":"\"\"","v":""},{"$f":"\"\"","v":""},{"$f":"\"\"","v":""},{"$f":"\"\"","v":""},{"$f":"\"\"","v":""},{"$f":"\"\"","v":""},{"$f":"\"\"","v":""},{"$f":"\"\"","v":""},{"$f":"\"\"","v":""},{"$f":"\"\"","v":""},{"$f":"\"\"","v":""},2.9,{"$f":"\"\"","v":""},{"$f":"\"\"","v":""},{"$f":"\"\"","v":""}]
["27023520",null,null,2,70,235,20,20.9,{"$f":"\"\"","v":""},{"$f":"\"\"","v":""},{"$f":"\"\"","v":""},{"$f":"\"\"","v":""},{"v":5299.14,"d":"5299"},{"v":5299.14,"d":"5299"},{"v":5299.14,"d":"5299"},{"v":5299.14,"d":"5299"},1.318,1.318,1.318,1.318,841,841,841,841,145,145,145,145,{"v":0.10666391318622799,"d":"0.11"},{"v":0.10666391318622799,"d":"0.11"},{"v":0.10666391318622799,"d":"0.11"},{"v":0.10666391318622799,"d":"0.11"},0.0001276,1.7219,2,3.76611E-4,{"$f":"\"\"","v":""},{"$f":"\"\"","v":""},{"$f":"\"\"","v":""},{"$f":"\"\"","v":""},{"$f":"\"\"","v":""},{"$f":"\"\"","v":""},{"$f":"\"\"","v":""},{"$f":"\"\"","v":""},{"$f":"\"\"","v":""},{"$f":"\"\"","v":""},{"$f":"\"\"","v":""},{"$f":"\"\"","v":""},{"$f":"\"\"","v":""},{"$f":"\"\"","v":""},{"$f":"\"\"","v":""},3.1,{"$f":"\"\"","v":""},{"$f":"\"\"","v":""},{"$f":"\"\"","v":""}]
["2755520",null,null,2,75,55,20,20.9,{"$f":"\"\"","v":""},{"$f":"\"\"","v":""},{"$f":"\"\"","v":""},{"$f":"\"\"","v":""},{"v":1019.34,"d":"1019"},{"v":1019.34,"d":"1019"},{"v":1019.34,"d":"1019"},{"v":1019.34,"d":"1019"},1.3141,1.3141,1.3141,1.3141,163,163,163,163,28,28,28,28,{"v":0.003208710859864121,"d":"0.00"},{"v":0.003208710859864121,"d":"0.00"},{"v":0.003208710859864121,"d":"0.00"},{"v":0.003208710859864121,"d":"0.00"},0.0001276,1.7219,2,3.76611E-4,{"$f":"\"\"","v":""},{"$f":"\"\"","v":""},{"$f":"\"\"","v":""},{"$f":"\"\"","v":""},{"$f":"\"\"","v":""},{"$f":"\"\"","v":""},{"$f":"\"\"","v":""},{"$f":"\"\"","v":""},{"$f":"\"\"","v":""},{"$f":"\"\"","v":""},{"$f":"\"\"","v":""},{"$f":"\"\"","v":""},{"$f":"\"\"","v":""},{"$f":"\"\"","v":""},{"$f":"\"\"","v":""},0.7,{"$f":"\"\"","v":""},{"$f":"\"\"","v":""},{"$f":"\"\"","v":""}]
["2756520",null,null,2,75,65,20,20.9,{"$f":"\"\"","v":""},{"$f":"\"\"","v":""},{"$f":"\"\"","v":""},{"$f":"\"\"","v":""},{"v":1262.04,"d":"1262"},{"v":1262.04,"d":"1262"},{"v":1262.04,"d":"1262"},{"v":1262.04,"d":"1262"},1.3141,1.3141,1.3141,1.3141,201,201,201,201,35,35,35,35,{"v":5.0979656193473315E-3,"d":"0.01"},{"v":5.0979656193473315E-3,"d":"0.01"},{"v":5.0979656193473315E-3,"d":"0.01"},{"v":5.0979656193473315E-3,"d":"0.01"},0.0001276,1.7219,2,3.76611E-4,{"$f":"\"\"","v":""},{"$f":"\"\"","v":""},{"$f":"\"\"","v":""},{"$f":"\"\"","v":""},{"$f":"\"\"","v":""},{"$f":"\"\"","v":""},{"$f":"\"\"","v":""},{"$f":"\"\"","v":""},{"$f":"\"\"","v":""},{"$f":"\"\"","v":""},{"$f":"\"\"","v":""},{"$f":"\"\"","v":""},{"$f":"\"\"","v":""},{"$f":"\"\"","v":""},{"$f":"\"\"","v":""},0.9,{"$f":"\"\"","v":""},{"$f":"\"\"","v":""},{"$f":"\"\"","v":""}]
["2757520",null,null,2,75,75,20,20.9,{"$f":"\"\"","v":""},{"$f":"\"\"","v":""},{"$f":"\"\"","v":""},{"$f":"\"\"","v":""},{"v":1504.74,"d":"1505"},{"v":1504.74,"d":"1505"},{"v":1504.74,"d":"1505"},{"v":1504.74,"d":"1505"},1.3141,1.3141,1.3141,1.3141,240,240,240,240,41,41,41,41,{"v":0.007111265680969018,"d":"0.01"},{"v":0.007111265680969018,"d":"0.01"},{"v":0.007111265680969018,"d":"0.01"},{"v":0.007111265680969018,"d":"0.01"},0.0001276,1.7219,2,3.76611E-4,{"$f":"\"\"","v":""},{"$f":"\"\"","v":""},{"$f":"\"\"","v":""},{"$f":"\"\"","v":""},{"$f":"\"\"","v":""},{"$f":"\"\"","v":""},{"$f":"\"\"","v":""},{"$f":"\"\"","v":""},{"$f":"\"\"","v":""},{"$f":"\"\"","v":""},{"$f":"\"\"","v":""},{"$f":"\"\"","v":""},{"$f":"\"\"","v":""},{"$f":"\"\"","v":""},{"$f":"\"\"","v":""},{"v":1,"d":"1.0"},{"$f":"\"\"","v":""},{"$f":"\"\"","v":""},{"$f":"\"\"","v":""}]
[{"$f":"CONCATENATE(D540,E540,F540,G540)","v":"2758520"},null,null,2,75,85,20,20.9,{"$f":"\"\"","v":""},{"$f":"\"\"","v":""},{"$f":"\"\"","v":""},{"$f":"\"\"","v":""},{"v":1747.44,"d":"1747"},{"v":1747.44,"d":"1747"},{"v":1747.44,"d":"1747"},{"v":1747.44,"d":"1747"},1.3141,1.3141,1.3141,1.3141,{"$f":"ROUND(M540*POWER(CF_heat,Q540),0)","v":279},279,279,279,{"$f":"ROUND(U540*3600/(4186*ABS($O$1-$O$2)),0)","v":48},48,48,48,{"$f":"(($AG540*(Y540^$AH540)*((($F540-14.4)*$AI540)/100))+($AJ540*(Y540^2)))*0.0098","v":{"v":0.009889822455516855,"d":"0.01"}},{"v":0.009889822455516855,"d":"0.01"},{"v":0.009889822455516855,"d":"0.01"},{"v":0.009889822455516855,"d":"0.01"},{"$f":"IF($G540=$CO$103,CP$103,IF($G540=$CO$104,CP$104,IF($G540=$CO$105,CP$105,IF($G540=$CO$107,CP$107,IF($G540=$CO$108,CP$108,IF($G540=$CO$109,CP$109,IF($G540=$CO$111,CP$111,IF($G540=$CO$112,CP$112,IF($G540=$CO$113,CP$113,IF($G540=$CO$115,CP$115,IF($G540=$CO$116,CP$116,IF($G540=$CO$117,CP$117,IF($G540=$CO$119,CP$119,IF($G540=$CO$120,CP$120,))))))))))))))","v":0.0001276},1.7219,2,3.76611E-4,{"$f":"\"\"","v":""},{"$f":"\"\"","v":""},{"$f":"\"\"","v":""},{"$f":"\"\"","v":""},{"$f":"\"\"","v":""},{"$f":"\"\"","v":""},{"$f":"\"\"","v":""},{"$f":"\"\"","v":""},{"$f":"\"\"","v":""},{"$f":"\"\"","v":""},{"$f":"\"\"","v":""},{"$f":"\"\"","v":""},{"$f":"\"\"","v":""},{"$f":"\"\"","v":""},{"$f":"\"\"","v":""},{"$f":"ROUND(IF(G540=10,$CO$92*F540,IF(G540=11,$CO$93*F540,IF(G540=15,$CO$94*F540,IF(G540=16,$CO$95*F540,IF(G540=20,$CO$96*F540,IF(G540=21,$CO$97*F540,)))))),1)","v":1.1},{"$f":"\"\"","v":""},{"$f":"\"\"","v":""},{"$f":"\"\"","v":""}]
["2759520",null,null,2,75,95,20,20.9,{"$f":"\"\"","v":""},{"$f":"\"\"","v":""},{"$f":"\"\"","v":""},{"$f":"\"\"","v":""},{"v":1990.14,"d":"1990"},{"v":1990.14,"d":"1990"},{"v":1990.14,"d":"1990"},{"v":1990.14,"d":"1990"},1.3141,1.3141,1.3141,1.3141,318,318,318,318,55,55,55,55,{"v":0.013165288549980295,"d":"0.01"},{"v":0.013165288549980295,"d":"0.01"},{"v":0.013165288549980295,"d":"0.01"},{"v":0.013165288549980295,"d":"0.01"},0.0001276,1.7219,2,3.76611E-4,{"$f":"\"\"","v":""},{"$f":"\"\"","v":""},{"$f":"\"\"","v":""},{"$f":"\"\"","v":""},{"$f":"\"\"","v":""},{"$f":"\"\"","v":""},{"$f":"\"\"","v":""},{"$f":"\"\"","v":""},{"$f":"\"\"","v":""},{"$f":"\"\"","v":""},{"$f":"\"\"","v":""},{"$f":"\"\"","v":""},{"$f":"\"\"","v":""},{"$f":"\"\"","v":""},{"$f":"\"\"","v":""},1.3,{"$f":"\"\"","v":""},{"$f":"\"\"","v":""},{"$f":"\"\"","v":""}]
["27510520",null,null,2,75,105,20,20.9,{"$f":"\"\"","v":""},{"$f":"\"\"","v":""},{"$f":"\"\"","v":""},{"$f":"\"\"","v":""},{"v":2232.84,"d":"2233"},{"v":2232.84,"d":"2233"},{"v":2232.84,"d":"2233"},{"v":2232.84,"d":"2233"},1.3141,1.3141,1.3141,1.3141,356,356,356,356,61,61,61,61,{"v":0.016421205540002155,"d":"0.02"},{"v":0.016421205540002155,"d":"0.02"},{"v":0.016421205540002155,"d":"0.02"},{"v":0.016421205540002155,"d":"0.02"},0.0001276,1.7219,2,3.76611E-4,{"$f":"\"\"","v":""},{"$f":"\"\"","v":""},{"$f":"\"\"","v":""},{"$f":"\"\"","v":""},{"$f":"\"\"","v":""},{"$f":"\"\"","v":""},{"$f":"\"\"","v":""},{"$f":"\"\"","v":""},{"$f":"\"\"","v":""},{"$f":"\"\"","v":""},{"$f":"\"\"","v":""},{"$f":"\"\"","v":""},{"$f":"\"\"","v":""},{"$f":"\"\"","v":""},{"$f":"\"\"","v":""},1.4,{"$f":"\"\"","v":""},{"$f":"\"\"","v":""},{"$f":"\"\"","v":""}]
["27511520",null,null,2,75,115,20,20.9,{"$f":"\"\"","v":""},{"$f":"\"\"","v":""},{"$f":"\"\"","v":""},{"$f":"\"\"","v":""},{"v":2475.54,"d":"2476"},{"v":2475.54,"d":"2476"},{"v":2475.54,"d":"2476"},{"v":2475.54,"d":"2476"},1.3141,1.3141,1.3141,1.3141,395,395,395,395,68,68,68,68,{"v":0.020664539694056176,"d":"0.02"},{"v":0.020664539694056176,"d":"0.02"},{"v":0.020664539694056176,"d":"0.02"},{"v":0.020664539694056176,"d":"0.02"},0.0001276,1.7219,2,3.76611E-4,{"$f":"\"\"","v":""},{"$f":"\"\"","v":""},{"$f":"\"\"","v":""},{"$f":"\"\"","v":""},{"$f":"\"\"","v":""},{"$f":"\"\"","v":""},{"$f":"\"\"","v":""},{"$f":"\"\"","v":""},{"$f":"\"\"","v":""},{"$f":"\"\"","v":""},{"$f":"\"\"","v":""},{"$f":"\"\"","v":""},{"$f":"\"\"","v":""},{"$f":"\"\"","v":""},{"$f":"\"\"","v":""},1.5,{"$f":"\"\"","v":""},{"$f":"\"\"","v":""},{"$f":"\"\"","v":""}]
["27513520",null,null,2,75,135,20,20.9,{"$f":"\"\"","v":""},{"$f":"\"\"","v":""},{"$f":"\"\"","v":""},{"$f":"\"\"","v":""},{"v":2960.94,"d":"2961"},{"v":2960.94,"d":"2961"},{"v":2960.94,"d":"2961"},{"v":2960.94,"d":"2961"},1.3141,1.3141,1.3141,1.3141,473,473,473,473,81,81,81,81,{"v":0.03004533732465062,"d":"0.03"},{"v":0.03004533732465062,"d":"0.03"},{"v":0.03004533732465062,"d":"0.03"},{"v":0.03004533732465062,"d":"0.03"},0.0001276,1.7219,2,3.76611E-4,{"$f":"\"\"","v":""},{"$f":"\"\"","v":""},{"$f":"\"\"","v":""},{"$f":"\"\"","v":""},{"$f":"\"\"","v":""},{"$f":"\"\"","v":""},{"$f":"\"\"","v":""},{"$f":"\"\"","v":""},{"$f":"\"\"","v":""},{"$f":"\"\"","v":""},{"$f":"\"\"","v":""},{"$f":"\"\"","v":""},{"$f":"\"\"","v":""},{"$f":"\"\"","v":""},{"$f":"\"\"","v":""},1.8,{"$f":"\"\"","v":""},{"$f":"\"\"","v":""},{"$f":"\"\"","v":""}]
["27515520",null,null,2,75,155,20,20.9,{"$f":"\"\"","v":""},{"$f":"\"\"","v":""},{"$f":"\"\"","v":""},{"$f":"\"\"","v":""},{"v":3446.34,"d":"3446"},{"v":3446.34,"d":"3446"},{"v":3446.34,"d":"3446"},{"v":3446.34,"d":"3446"},1.3141,1.3141,1.3141,1.3141,550,550,550,550,95,95,95,95,{"v":0.04225341244835957,"d":"0.04"},{"v":0.04225341244835957,"d":"0.04"},{"v":0.04225341244835957,"d":"0.04"},{"v":0.04225341244835957,"d":"0.04"},0.0001276,1.7219,2,3.76611E-4,{"$f":"\"\"","v":""},{"$f":"\"\"","v":""},{"$f":"\"\"","v":""},{"$f":"\"\"","v":""},{"$f":"\"\"","v":""},{"$f":"\"\"","v":""},{"$f":"\"\"","v":""},{"$f":"\"\"","v":""},{"$f":"\"\"","v":""},{"$f":"\"\"","v":""},{"$f":"\"\"","v":""},{"$f":"\"\"","v":""},{"$f":"\"\"","v":""},{"$f":"\"\"","v":""},{"$f":"\"\"","v":""},2.1,{"$f":"\"\"","v":""},{"$f":"\"\"","v":""},{"$f":"\"\"","v":""}]
["27517520",null,null,2,75,175,20,20.9,{"$f":"\"\"","v":""},{"$f":"\"\"","v":""},{"$f":"\"\"","v":""},{"$f":"\"\"","v":""},{"v":3931.74,"d":"3932"},{"v":3931.74,"d":"3932"},{"v":3931.74,"d":"3932"},{"v":3931.74,"d":"3932"},1.3141,1.3141,1.3141,1.3141,627,627,627,627,108,108,108,108,{"v":0.05579038221305226,"d":"0.06"},{"v":0.05579038221305226,"d":"0.06"},{"v":0.05579038221305226,"d":"0.06"},{"v":0.05579038221305226,"d":"0.06"},0.0001276,1.7219,2,3.76611E-4,{"$f":"\"\"","v":""},{"$f":"\"\"","v":""},{"$f":"\"\"","v":""},{"$f":"\"\"","v":""},{"$f":"\"\"","v":""},{"$f":"\"\"","v":""},{"$f":"\"\"","v":""},{"$f":"\"\"","v":""},{"$f":"\"\"","v":""},{"$f":"\"\"","v":""},{"$f":"\"\"","v":""},{"$f":"\"\"","v":""},{"$f":"\"\"","v":""},{"$f":"\"\"","v":""},{"$f":"\"\"","v":""},2.3,{"$f":"\"\"","v":""},{"$f":"\"\"","v":""},{"$f":"\"\"","v":""}]
["27519520",null,null,2,75,195,20,20.9,{"$f":"\"\"","v":""},{"$f":"\"\"","v":""},{"$f":"\"\"","v":""},{"$f":"\"\"","v":""},{"v":4417.14,"d":"4417"},{"v":4417.14,"d":"4417"},{"v":4417.14,"d":"4417"},{"v":4417.14,"d":"4417"},1.3141,1.3141,1.3141,1.3141,705,705,705,705,121,121,121,121,{"v":0.07146181752334885,"d":"0.07"},{"v":0.07146181752334885,"d":"0.07"},{"v":0.07146181752334885,"d":"0.07"},{"v":0.07146181752334885,"d":"0.07"},0.0001276,1.7219,2,3.76611E-4,{"$f":"\"\"","v":""},{"$f":"\"\"","v":""},{"$f":"\"\"","v":""},{"$f":"\"\"","v":""},{"$f":"\"\"","v":""},{"$f":"\"\"","v":""},{"$f":"\"\"","v":""},{"$f":"\"\"","v":""},{"$f":"\"\"","v":""},{"$f":"\"\"","v":""},{"$f":"\"\"","v":""},{"$f":"\"\"","v":""},{"$f":"\"\"","v":""},{"$f":"\"\"","v":""},{"$f":"\"\"","v":""},2.6,{"$f":"\"\"","v":""},{"$f":"\"\"","v":""},{"$f":"\"\"","v":""}]
["27521520",null,null,2,75,215,20,20.9,{"$f":"\"\"","v":""},{"$f":"\"\"","v":""},{"$f":"\"\"","v":""},{"$f":"\"\"","v":""},{"v":4902.54,"d":"4903"},{"v":4902.54,"d":"4903"},{"v":4902.54,"d":"4903"},{"v":4902.54,"d":"4903"},1.3141,1.3141,1.3141,1.3141,782,782,782,782,135,135,135,135,{"v":0.09063464413945445,"d":"0.09"},{"v":0.09063464413945445,"d":"0.09"},{"v":0.09063464413945445,"d":"0.09"},{"v":0.09063464413945445,"d":"0.09"},0.0001276,1.7219,2,3.76611E-4,{"$f":"\"\"","v":""},{"$f":"\"\"","v":""},{"$f":"\"\"","v":""},{"$f":"\"\"","v":""},{"$f":"\"\"","v":""},{"$f":"\"\"","v":""},{"$f":"\"\"","v":""},{"$f":"\"\"","v":""},{"$f":"\"\"","v":""},{"$f":"\"\"","v":""},{"$f":"\"\"","v":""},{"$f":"\"\"","v":""},{"$f":"\"\"","v":""},{"$f":"\"\"","v":""},{"$f":"\"\"","v":""},2.9,{"$f":"\"\"","v":""},{"$f":"\"\"","v":""},{"$f":"\"\"","v":""}]
["27523520",null,null,2,75,235,20,20.9,{"$f":"\"\"","v":""},{"$f":"\"\"","v":""},{"$f":"\"\"","v":""},{"$f":"\"\"","v":""},{"v":5387.94,"d":"5388"},{"v":5387.94,"d":"5388"},{"v":5387.94,"d":"5388"},{"v":5387.94,"d":"5388"},1.3141,1.3141,1.3141,1.3141,860,860,860,860,148,148,148,148,{"v":0.11095129287684354,"d":"0.11"},{"v":0.11095129287684354,"d":"0.11"},{"v":0.11095129287684354,"d":"0.11"},{"v":0.11095129287684354,"d":"0.11"},0.0001276,1.7219,2,3.76611E-4,{"$f":"\"\"","v":""},{"$f":"\"\"","v":""},{"$f":"\"\"","v":""},{"$f":"\"\"","v":""},{"$f":"\"\"","v":""},{"$f":"\"\"","v":""},{"$f":"\"\"","v":""},{"$f":"\"\"","v":""},{"$f":"\"\"","v":""},{"$f":"\"\"","v":""},{"$f":"\"\"","v":""},{"$f":"\"\"","v":""},{"$f":"\"\"","v":""},{"$f":"\"\"","v":""},{"$f":"\"\"","v":""},3.1,{"$f":"\"\"","v":""},{"$f":"\"\"","v":""},{"$f":"\"\"","v":""}]
["2805520",null,null,2,80,55,20,20.9,{"$f":"\"\"","v":""},{"$f":"\"\"","v":""},{"$f":"\"\"","v":""},{"$f":"\"\"","v":""},{"v":1034.04,"d":"1034"},{"v":1034.04,"d":"1034"},{"v":1034.04,"d":"1034"},{"v":1034.04,"d":"1034"},1.3101,1.3101,1.3101,1.3101,166,166,166,166,29,29,29,29,{"v":3.4387143378923984E-3,"d":"0.00"},{"v":3.4387143378923984E-3,"d":"0.00"},{"v":3.4387143378923984E-3,"d":"0.00"},{"v":3.4387143378923984E-3,"d":"0.00"},0.0001276,1.7219,2,3.76611E-4,{"$f":"\"\"","v":""},{"$f":"\"\"","v":""},{"$f":"\"\"","v":""},{"$f":"\"\"","v":""},{"$f":"\"\"","v":""},{"$f":"\"\"","v":""},{"$f":"\"\"","v":""},{"$f":"\"\"","v":""},{"$f":"\"\"","v":""},{"$f":"\"\"","v":""},{"$f":"\"\"","v":""},{"$f":"\"\"","v":""},{"$f":"\"\"","v":""},{"$f":"\"\"","v":""},{"$f":"\"\"","v":""},0.7,{"$f":"\"\"","v":""},{"$f":"\"\"","v":""},{"$f":"\"\"","v":""}]
["2806520",null,null,2,80,65,20,20.9,{"$f":"\"\"","v":""},{"$f":"\"\"","v":""},{"$f":"\"\"","v":""},{"$f":"\"\"","v":""},{"v":1280.24,"d":"1280"},{"v":1280.24,"d":"1280"},{"v":1280.24,"d":"1280"},{"v":1280.24,"d":"1280"},1.3101,1.3101,1.3101,1.3101,205,205,205,205,35,35,35,35,{"v":5.0979656193473315E-3,"d":"0.01"},{"v":5.0979656193473315E-3,"d":"0.01"},{"v":5.0979656193473315E-3,"d":"0.01"},{"v":5.0979656193473315E-3,"d":"0.01"},0.0001276,1.7219,2,3.76611E-4,{"$f":"\"\"","v":""},{"$f":"\"\"","v":""},{"$f":"\"\"","v":""},{"$f":"\"\"","v":""},{"$f":"\"\"","v":""},{"$f":"\"\"","v":""},{"$f":"\"\"","v":""},{"$f":"\"\"","v":""},{"$f":"\"\"","v":""},{"$f":"\"\"","v":""},{"$f":"\"\"","v":""},{"$f":"\"\"","v":""},{"$f":"\"\"","v":""},{"$f":"\"\"","v":""},{"$f":"\"\"","v":""},0.9,{"$f":"\"\"","v":""},{"$f":"\"\"","v":""},{"$f":"\"\"","v":""}]
["2807520",null,null,2,80,75,20,20.9,{"$f":"\"\"","v":""},{"$f":"\"\"","v":""},{"$f":"\"\"","v":""},{"$f":"\"\"","v":""},{"v":1526.44,"d":"1526"},{"v":1526.44,"d":"1526"},{"v":1526.44,"d":"1526"},{"v":1526.44,"d":"1526"},1.3101,1.3101,1.3101,1.3101,245,245,245,245,42,42,42,42,{"v":0.007456029628076703,"d":"0.01"},{"v":0.007456029628076703,"d":"0.01"},{"v":0.007456029628076703,"d":"0.01"},{"v":0.007456029628076703,"d":"0.01"},0.0001276,1.7219,2,3.76611E-4,{"$f":"\"\"","v":""},{"$f":"\"\"","v":""},{"$f":"\"\"","v":""},{"$f":"\"\"","v":""},{"$f":"\"\"","v":""},{"$f":"\"\"","v":""},{"$f":"\"\"","v":""},{"$f":"\"\"","v":""},{"$f":"\"\"","v":""},{"$f":"\"\"","v":""},{"$f":"\"\"","v":""},{"$f":"\"\"","v":""},{"$f":"\"\"","v":""},{"$f":"\"\"","v":""},{"$f":"\"\"","v":""},{"v":1,"d":"1.0"},{"$f":"\"\"","v":""},{"$f":"\"\"","v":""},{"$f":"\"\"","v":""}]
["2808520",null,null,2,80,85,20,20.9,{"$f":"\"\"","v":""},{"$f":"\"\"","v":""},{"$f":"\"\"","v":""},{"$f":"\"\"","v":""},{"v":1772.64,"d":"1773"},{"v":1772.64,"d":"1773"},{"v":1772.64,"d":"1773"},{"v":1772.64,"d":"1773"},1.3101,1.3101,1.3101,1.3101,284,284,284,284,49,49,49,49,{"v":0.010297930840604205,"d":"0.01"},{"v":0.010297930840604205,"d":"0.01"},{"v":0.010297930840604205,"d":"0.01"},{"v":0.010297930840604205,"d":"0.01"},0.0001276,1.7219,2,3.76611E-4,{"$f":"\"\"","v":""},{"$f":"\"\"","v":""},{"$f":"\"\"","v":""},{"$f":"\"\"","v":""},{"$f":"\"\"","v":""},{"$f":"\"\"","v":""},{"$f":"\"\"","v":""},{"$f":"\"\"","v":""},{"$f":"\"\"","v":""},{"$f":"\"\"","v":""},{"$f":"\"\"","v":""},{"$f":"\"\"","v":""},{"$f":"\"\"","v":""},{"$f":"\"\"","v":""},{"$f":"\"\"","v":""},1.1,{"$f":"\"\"","v":""},{"$f":"\"\"","v":""},{"$f":"\"\"","v":""}]
["2809520",null,null,2,80,95,20,20.9,{"$f":"\"\"","v":""},{"$f":"\"\"","v":""},{"$f":"\"\"","v":""},{"$f":"\"\"","v":""},{"v":2018.84,"d":"2019"},{"v":2018.84,"d":"2019"},{"v":2018.84,"d":"2019"},{"v":2018.84,"d":"2019"},1.3101,1.3101,1.3101,1.3101,324,324,324,324,56,56,56,56,{"v":0.013638011429772586,"d":"0.01"},{"v":0.013638011429772586,"d":"0.01"},{"v":0.013638011429772586,"d":"0.01"},{"v":0.013638011429772586,"d":"0.01"},0.0001276,1.7219,2,3.76611E-4,{"$f":"\"\"","v":""},{"$f":"\"\"","v":""},{"$f":"\"\"","v":""},{"$f":"\"\"","v":""},{"$f":"\"\"","v":""},{"$f":"\"\"","v":""},{"$f":"\"\"","v":""},{"$f":"\"\"","v":""},{"$f":"\"\"","v":""},{"$f":"\"\"","v":""},{"$f":"\"\"","v":""},{"$f":"\"\"","v":""},{"$f":"\"\"","v":""},{"$f":"\"\"","v":""},{"$f":"\"\"","v":""},1.3,{"$f":"\"\"","v":""},{"$f":"\"\"","v":""},{"$f":"\"\"","v":""}]
["28010520",null,null,2,80,105,20,20.9,{"$f":"\"\"","v":""},{"$f":"\"\"","v":""},{"$f":"\"\"","v":""},{"$f":"\"\"","v":""},{"v":2265.04,"d":"2265"},{"v":2265.04,"d":"2265"},{"v":2265.04,"d":"2265"},{"v":2265.04,"d":"2265"},1.3101,1.3101,1.3101,1.3101,363,363,363,363,62,62,62,62,{"v":0.016951491120239026,"d":"0.02"},{"v":0.016951491120239026,"d":"0.02"},{"v":0.016951491120239026,"d":"0.02"},{"v":0.016951491120239026,"d":"0.02"},0.0001276,1.7219,2,3.76611E-4,{"$f":"\"\"","v":""},{"$f":"\"\"","v":""},{"$f":"\"\"","v":""},{"$f":"\"\"","v":""},{"$f":"\"\"","v":""},{"$f":"\"\"","v":""},{"$f":"\"\"","v":""},{"$f":"\"\"","v":""},{"$f":"\"\"","v":""},{"$f":"\"\"","v":""},{"$f":"\"\"","v":""},{"$f":"\"\"","v":""},{"$f":"\"\"","v":""},{"$f":"\"\"","v":""},{"$f":"\"\"","v":""},1.4,{"$f":"\"\"","v":""},{"$f":"\"\"","v":""},{"$f":"\"\"","v":""}]
["28011520",null,null,2,80,115,20,20.9,{"$f":"\"\"","v":""},{"$f":"\"\"","v":""},{"$f":"\"\"","v":""},{"$f":"\"\"","v":""},{"v":2511.24,"d":"2511"},{"v":2511.24,"d":"2511"},{"v":2511.24,"d":"2511"},{"v":2511.24,"d":"2511"},1.3101,1.3101,1.3101,1.3101,403,403,403,403,69,69,69,69,{"v":0.021261777923877397,"d":"0.02"},{"v":0.021261777923877397,"d":"0.02"},{"v":0.021261777923877397,"d":"0.02"},{"v":0.021261777923877397,"d":"0.02"},0.0001276,1.7219,2,3.76611E-4,{"$f":"\"\"","v":""},{"$f":"\"\"","v":""},{"$f":"\"\"","v":""},{"$f":"\"\"","v":""},{"$f":"\"\"","v":""},{"$f":"\"\"","v":""},{"$f":"\"\"","v":""},{"$f":"\"\"","v":""},{"$f":"\"\"","v":""},{"$f":"\"\"","v":""},{"$f":"\"\"","v":""},{"$f":"\"\"","v":""},{"$f":"\"\"","v":""},{"$f":"\"\"","v":""},{"$f":"\"\"","v":""},1.5,{"$f":"\"\"","v":""},{"$f":"\"\"","v":""},{"$f":"\"\"","v":""}]
["28013520",null,null,2,80,135,20,20.9,{"$f":"\"\"","v":""},{"$f":"\"\"","v":""},{"$f":"\"\"","v":""},{"$f":"\"\"","v":""},{"v":3003.64,"d":"3004"},{"v":3003.64,"d":"3004"},{"v":3003.64,"d":"3004"},{"v":3003.64,"d":"3004"},1.3101,1.3101,1.3101,1.3101,482,482,482,482,83,83,83,83,{"v":0.03150599173453961,"d":"0.03"},{"v":0.03150599173453961,"d":"0.03"},{"v":0.03150599173453961,"d":"0.03"},{"v":0.03150599173453961,"d":"0.03"},0.0001276,1.7219,2,3.76611E-4,{"$f":"\"\"","v":""},{"$f":"\"\"","v":""},{"$f":"\"\"","v":""},{"$f":"\"\"","v":""},{"$f":"\"\"","v":""},{"$f":"\"\"","v":""},{"$f":"\"\"","v":""},{"$f":"\"\"","v":""},{"$f":"\"\"","v":""},{"$f":"\"\"","v":""},{"$f":"\"\"","v":""},{"$f":"\"\"","v":""},{"$f":"\"\"","v":""},{"$f":"\"\"","v":""},{"$f":"\"\"","v":""},1.8,{"$f":"\"\"","v":""},{"$f":"\"\"","v":""},{"$f":"\"\"","v":""}]
["28015520",null,null,2,80,155,20,20.9,{"$f":"\"\"","v":""},{"$f":"\"\"","v":""},{"$f":"\"\"","v":""},{"$f":"\"\"","v":""},{"v":3496.04,"d":"3496"},{"v":3496.04,"d":"3496"},{"v":3496.04,"d":"3496"},{"v":3496.04,"d":"3496"},1.3101,1.3101,1.3101,1.3101,561,561,561,561,96,96,96,96,{"v":0.04312108157060713,"d":"0.04"},{"v":0.04312108157060713,"d":"0.04"},{"v":0.04312108157060713,"d":"0.04"},{"v":0.04312108157060713,"d":"0.04"},0.0001276,1.7219,2,3.76611E-4,{"$f":"\"\"","v":""},{"$f":"\"\"","v":""},{"$f":"\"\"","v":""},{"$f":"\"\"","v":""},{"$f":"\"\"","v":""},{"$f":"\"\"","v":""},{"$f":"\"\"","v":""},{"$f":"\"\"","v":""},{"$f":"\"\"","v":""},{"$f":"\"\"","v":""},{"$f":"\"\"","v":""},{"$f":"\"\"","v":""},{"$f":"\"\"","v":""},{"$f":"\"\"","v":""},{"$f":"\"\"","v":""},2.1,{"$f":"\"\"","v":""},{"$f":"\"\"","v":""},{"$f":"\"\"","v":""}]
["28017520",null,null,2,80,175,20,20.9,{"$f":"\"\"","v":""},{"$f":"\"\"","v":""},{"$f":"\"\"","v":""},{"$f":"\"\"","v":""},{"v":3988.44,"d":"3988"},{"v":3988.44,"d":"3988"},{"v":3988.44,"d":"3988"},{"v":3988.44,"d":"3988"},1.3101,1.3101,1.3101,1.3101,640,640,640,640,110,110,110,110,{"v":0.05780855049994512,"d":"0.06"},{"v":0.05780855049994512,"d":"0.06"},{"v":0.05780855049994512,"d":"0.06"},{"v":0.05780855049994512,"d":"0.06"},0.0001276,1.7219,2,3.76611E-4,{"$f":"\"\"","v":""},{"$f":"\"\"","v":""},{"$f":"\"\"","v":""},{"$f":"\"\"","v":""},{"$f":"\"\"","v":""},{"$f":"\"\"","v":""},{"$f":"\"\"","v":""},{"$f":"\"\"","v":""},{"$f":"\"\"","v":""},{"$f":"\"\"","v":""},{"$f":"\"\"","v":""},{"$f":"\"\"","v":""},{"$f":"\"\"","v":""},{"$f":"\"\"","v":""},{"$f":"\"\"","v":""},2.3,{"$f":"\"\"","v":""},{"$f":"\"\"","v":""},{"$f":"\"\"","v":""}]
["28019520",null,null,2,80,195,20,20.9,{"$f":"\"\"","v":""},{"$f":"\"\"","v":""},{"$f":"\"\"","v":""},{"$f":"\"\"","v":""},{"v":4480.84,"d":"4481"},{"v":4480.84,"d":"4481"},{"v":4480.84,"d":"4481"},{"v":4480.84,"d":"4481"},1.3101,1.3101,1.3101,1.3101,719,719,719,719,124,124,124,124,{"v":0.07492509190185469,"d":"0.07"},{"v":0.07492509190185469,"d":"0.07"},{"v":0.07492509190185469,"d":"0.07"},{"v":0.07492509190185469,"d":"0.07"},0.0001276,1.7219,2,3.76611E-4,{"$f":"\"\"","v":""},{"$f":"\"\"","v":""},{"$f":"\"\"","v":""},{"$f":"\"\"","v":""},{"$f":"\"\"","v":""},{"$f":"\"\"","v":""},{"$f":"\"\"","v":""},{"$f":"\"\"","v":""},{"$f":"\"\"","v":""},{"$f":"\"\"","v":""},{"$f":"\"\"","v":""},{"$f":"\"\"","v":""},{"$f":"\"\"","v":""},{"$f":"\"\"","v":""},{"$f":"\"\"","v":""},2.6,{"$f":"\"\"","v":""},{"$f":"\"\"","v":""},{"$f":"\"\"","v":""}]
["28021520",null,null,2,80,215,20,20.9,{"$f":"\"\"","v":""},{"$f":"\"\"","v":""},{"$f":"\"\"","v":""},{"$f":"\"\"","v":""},{"v":4973.24,"d":"4973"},{"v":4973.24,"d":"4973"},{"v":4973.24,"d":"4973"},{"v":4973.24,"d":"4973"},1.3101,1.3101,1.3101,1.3101,798,798,798,798,137,137,137,137,{"v":0.09324177723593324,"d":"0.09"},{"v":0.09324177723593324,"d":"0.09"},{"v":0.09324177723593324,"d":"0.09"},{"v":0.09324177723593324,"d":"0.09"},0.0001276,1.7219,2,3.76611E-4,{"$f":"\"\"","v":""},{"$f":"\"\"","v":""},{"$f":"\"\"","v":""},{"$f":"\"\"","v":""},{"$f":"\"\"","v":""},{"$f":"\"\"","v":""},{"$f":"\"\"","v":""},{"$f":"\"\"","v":""},{"$f":"\"\"","v":""},{"$f":"\"\"","v":""},{"$f":"\"\"","v":""},{"$f":"\"\"","v":""},{"$f":"\"\"","v":""},{"$f":"\"\"","v":""},{"$f":"\"\"","v":""},2.9,{"$f":"\"\"","v":""},{"$f":"\"\"","v":""},{"$f":"\"\"","v":""}]
["28023520",null,null,2,80,235,20,20.9,{"$f":"\"\"","v":""},{"$f":"\"\"","v":""},{"$f":"\"\"","v":""},{"$f":"\"\"","v":""},{"v":5465.64,"d":"5466"},{"v":5465.64,"d":"5466"},{"v":5465.64,"d":"5466"},{"v":5465.64,"d":"5466"},1.3101,1.3101,1.3101,1.3101,877,877,877,877,151,151,151,151,{"v":0.11532048458418266,"d":"0.12"},{"v":0.11532048458418266,"d":"0.12"},{"v":0.11532048458418266,"d":"0.12"},{"v":0.11532048458418266,"d":"0.12"},0.0001276,1.7219,2,3.76611E-4,{"$f":"\"\"","v":""},{"$f":"\"\"","v":""},{"$f":"\"\"","v":""},{"$f":"\"\"","v":""},{"$f":"\"\"","v":""},{"$f":"\"\"","v":""},{"$f":"\"\"","v":""},{"$f":"\"\"","v":""},{"$f":"\"\"","v":""},{"$f":"\"\"","v":""},{"$f":"\"\"","v":""},{"$f":"\"\"","v":""},{"$f":"\"\"","v":""},{"$f":"\"\"","v":""},{"$f":"\"\"","v":""},3.1,{"$f":"\"\"","v":""},{"$f":"\"\"","v":""},{"$f":"\"\"","v":""}]
["2855520",null,null,2,85,55,20,20.9,{"$f":"\"\"","v":""},{"$f":"\"\"","v":""},{"$f":"\"\"","v":""},{"$f":"\"\"","v":""},{"v":1046.22,"d":"1046"},{"v":1046.22,"d":"1046"},{"v":1046.22,"d":"1046"},{"v":1046.22,"d":"1046"},1.3062,1.3062,1.3062,1.3062,169,169,169,169,29,29,29,29,{"v":3.4387143378923984E-3,"d":"0.00"},{"v":3.4387143378923984E-3,"d":"0.00"},{"v":3.4387143378923984E-3,"d":"0.00"},{"v":3.4387143378923984E-3,"d":"0.00"},0.0001276,1.7219,2,3.76611E-4,{"$f":"\"\"","v":""},{"$f":"\"\"","v":""},{"$f":"\"\"","v":""},{"$f":"\"\"","v":""},{"$f":"\"\"","v":""},{"$f":"\"\"","v":""},{"$f":"\"\"","v":""},{"$f":"\"\"","v":""},{"$f":"\"\"","v":""},{"$f":"\"\"","v":""},{"$f":"\"\"","v":""},{"$f":"\"\"","v":""},{"$f":"\"\"","v":""},{"$f":"\"\"","v":""},{"$f":"\"\"","v":""},0.7,{"$f":"\"\"","v":""},{"$f":"\"\"","v":""},{"$f":"\"\"","v":""}]
["2856520",null,null,2,85,65,20,20.9,{"$f":"\"\"","v":""},{"$f":"\"\"","v":""},{"$f":"\"\"","v":""},{"$f":"\"\"","v":""},{"v":1295.32,"d":"1295"},{"v":1295.32,"d":"1295"},{"v":1295.32,"d":"1295"},{"v":1295.32,"d":"1295"},1.3062,1.3062,1.3062,1.3062,209,209,209,209,36,36,36,36,{"v":0.005388677886966871,"d":"0.01"},{"v":0.005388677886966871,"d":"0.01"},{"v":0.005388677886966871,"d":"0.01"},{"v":0.005388677886966871,"d":"0.01"},0.0001276,1.7219,2,3.76611E-4,{"$f":"\"\"","v":""},{"$f":"\"\"","v":""},{"$f":"\"\"","v":""},{"$f":"\"\"","v":""},{"$f":"\"\"","v":""},{"$f":"\"\"","v":""},{"$f":"\"\"","v":""},{"$f":"\"\"","v":""},{"$f":"\"\"","v":""},{"$f":"\"\"","v":""},{"$f":"\"\"","v":""},{"$f":"\"\"","v":""},{"$f":"\"\"","v":""},{"$f":"\"\"","v":""},{"$f":"\"\"","v":""},0.9,{"$f":"\"\"","v":""},{"$f":"\"\"","v":""},{"$f":"\"\"","v":""}]
["2857520",null,null,2,85,75,20,20.9,{"$f":"\"\"","v":""},{"$f":"\"\"","v":""},{"$f":"\"\"","v":""},{"$f":"\"\"","v":""},{"v":1544.42,"d":"1544"},{"v":1544.42,"d":"1544"},{"v":1544.42,"d":"1544"},{"v":1544.42,"d":"1544"},1.3062,1.3062,1.3062,1.3062,249,249,249,249,43,43,43,43,{"v":0.007808841414256084,"d":"0.01"},{"v":0.007808841414256084,"d":"0.01"},{"v":0.007808841414256084,"d":"0.01"},{"v":0.007808841414256084,"d":"0.01"},0.0001276,1.7219,2,3.76611E-4,{"$f":"\"\"","v":""},{"$f":"\"\"","v":""},{"$f":"\"\"","v":""},{"$f":"\"\"","v":""},{"$f":"\"\"","v":""},{"$f":"\"\"","v":""},{"$f":"\"\"","v":""},{"$f":"\"\"","v":""},{"$f":"\"\"","v":""},{"$f":"\"\"","v":""},{"$f":"\"\"","v":""},{"$f":"\"\"","v":""},{"$f":"\"\"","v":""},{"$f":"\"\"","v":""},{"$f":"\"\"","v":""},{"v":1,"d":"1.0"},{"$f":"\"\"","v":""},{"$f":"\"\"","v":""},{"$f":"\"\"","v":""}]
["2858520",null,null,2,85,85,20,20.9,{"$f":"\"\"","v":""},{"$f":"\"\"","v":""},{"$f":"\"\"","v":""},{"$f":"\"\"","v":""},{"v":1793.52,"d":"1794"},{"v":1793.52,"d":"1794"},{"v":1793.52,"d":"1794"},{"v":1793.52,"d":"1794"},1.3062,1.3062,1.3062,1.3062,289,289,289,289,50,50,50,50,{"v":0.010714164433587619,"d":"0.01"},{"v":0.010714164433587619,"d":"0.01"},{"v":0.010714164433587619,"d":"0.01"},{"v":0.010714164433587619,"d":"0.01"},0.0001276,1.7219,2,3.76611E-4,{"$f":"\"\"","v":""},{"$f":"\"\"","v":""},{"$f":"\"\"","v":""},{"$f":"\"\"","v":""},{"$f":"\"\"","v":""},{"$f":"\"\"","v":""},{"$f":"\"\"","v":""},{"$f":"\"\"","v":""},{"$f":"\"\"","v":""},{"$f":"\"\"","v":""},{"$f":"\"\"","v":""},{"$f":"\"\"","v":""},{"$f":"\"\"","v":""},{"$f":"\"\"","v":""},{"$f":"\"\"","v":""},1.1,{"$f":"\"\"","v":""},{"$f":"\"\"","v":""},{"$f":"\"\"","v":""}]
["2859520",null,null,2,85,95,20,20.9,{"$f":"\"\"","v":""},{"$f":"\"\"","v":""},{"$f":"\"\"","v":""},{"$f":"\"\"","v":""},{"v":2042.62,"d":"2043"},{"v":2042.62,"d":"2043"},{"v":2042.62,"d":"2043"},{"v":2042.62,"d":"2043"},1.3062,1.3062,1.3062,1.3062,330,330,330,330,57,57,57,57,{"v":0.014118933897339418,"d":"0.01"},{"v":0.014118933897339418,"d":"0.01"},{"v":0.014118933897339418,"d":"0.01"},{"v":0.014118933897339418,"d":"0.01"},0.0001276,1.7219,2,3.76611E-4,{"$f":"\"\"","v":""},{"$f":"\"\"","v":""},{"$f":"\"\"","v":""},{"$f":"\"\"","v":""},{"$f":"\"\"","v":""},{"$f":"\"\"","v":""},{"$f":"\"\"","v":""},{"$f":"\"\"","v":""},{"$f":"\"\"","v":""},{"$f":"\"\"","v":""},{"$f":"\"\"","v":""},{"$f":"\"\"","v":""},{"$f":"\"\"","v":""},{"$f":"\"\"","v":""},{"$f":"\"\"","v":""},1.3,{"$f":"\"\"","v":""},{"$f":"\"\"","v":""},{"$f":"\"\"","v":""}]
["28510520",null,null,2,85,105,20,20.9,{"$f":"\"\"","v":""},{"$f":"\"\"","v":""},{"$f":"\"\"","v":""},{"$f":"\"\"","v":""},{"v":2291.72,"d":"2292"},{"v":2291.72,"d":"2292"},{"v":2291.72,"d":"2292"},{"v":2291.72,"d":"2292"},1.3062,1.3062,1.3062,1.3062,370,370,370,370,64,64,64,64,{"v":0.01803688455476866,"d":"0.02"},{"v":0.01803688455476866,"d":"0.02"},{"v":0.01803688455476866,"d":"0.02"},{"v":0.01803688455476866,"d":"0.02"},0.0001276,1.7219,2,3.76611E-4,{"$f":"\"\"","v":""},{"$f":"\"\"","v":""},{"$f":"\"\"","v":""},{"$f":"\"\"","v":""},{"$f":"\"\"","v":""},{"$f":"\"\"","v":""},{"$f":"\"\"","v":""},{"$f":"\"\"","v":""},{"$f":"\"\"","v":""},{"$f":"\"\"","v":""},{"$f":"\"\"","v":""},{"$f":"\"\"","v":""},{"$f":"\"\"","v":""},{"$f":"\"\"","v":""},{"$f":"\"\"","v":""},1.4,{"$f":"\"\"","v":""},{"$f":"\"\"","v":""},{"$f":"\"\"","v":""}]
["28511520",null,null,2,85,115,20,20.9,{"$f":"\"\"","v":""},{"$f":"\"\"","v":""},{"$f":"\"\"","v":""},{"$f":"\"\"","v":""},{"v":2540.82,"d":"2541"},{"v":2540.82,"d":"2541"},{"v":2540.82,"d":"2541"},{"v":2540.82,"d":"2541"},1.3062,1.3062,1.3062,1.3062,410,410,410,410,71,71,71,71,{"v":0.022481285474911253,"d":"0.02"},{"v":0.022481285474911253,"d":"0.02"},{"v":0.022481285474911253,"d":"0.02"},{"v":0.022481285474911253,"d":"0.02"},0.0001276,1.7219,2,3.76611E-4,{"$f":"\"\"","v":""},{"$f":"\"\"","v":""},{"$f":"\"\"","v":""},{"$f":"\"\"","v":""},{"$f":"\"\"","v":""},{"$f":"\"\"","v":""},{"$f":"\"\"","v":""},{"$f":"\"\"","v":""},{"$f":"\"\"","v":""},{"$f":"\"\"","v":""},{"$f":"\"\"","v":""},{"$f":"\"\"","v":""},{"$f":"\"\"","v":""},{"$f":"\"\"","v":""},{"$f":"\"\"","v":""},1.5,{"$f":"\"\"","v":""},{"$f":"\"\"","v":""},{"$f":"\"\"","v":""}]
["28513520",null,null,2,85,135,20,20.9,{"$f":"\"\"","v":""},{"$f":"\"\"","v":""},{"$f":"\"\"","v":""},{"$f":"\"\"","v":""},{"v":3039.02,"d":"3039"},{"v":3039.02,"d":"3039"},{"v":3039.02,"d":"3039"},{"v":3039.02,"d":"3039"},1.3062,1.3062,1.3062,1.3062,490,490,490,490,84,84,84,84,{"v":0.032249038801616864,"d":"0.03"},{"v":0.032249038801616864,"d":"0.03"},{"v":0.032249038801616864,"d":"0.03"},{"v":0.032249038801616864,"d":"0.03"},0.0001276,1.7219,2,3.76611E-4,{"$f":"\"\"","v":""},{"$f":"\"\"","v":""},{"$f":"\"\"","v":""},{"$f":"\"\"","v":""},{"$f":"\"\"","v":""},{"$f":"\"\"","v":""},{"$f":"\"\"","v":""},{"$f":"\"\"","v":""},{"$f":"\"\"","v":""},{"$f":"\"\"","v":""},{"$f":"\"\"","v":""},{"$f":"\"\"","v":""},{"$f":"\"\"","v":""},{"$f":"\"\"","v":""},{"$f":"\"\"","v":""},1.8,{"$f":"\"\"","v":""},{"$f":"\"\"","v":""},{"$f":"\"\"","v":""}]
["28515520",null,null,2,85,155,20,20.9,{"$f":"\"\"","v":""},{"$f":"\"\"","v":""},{"$f":"\"\"","v":""},{"$f":"\"\"","v":""},{"v":3537.22,"d":"3537"},{"v":3537.22,"d":"3537"},{"v":3537.22,"d":"3537"},{"v":3537.22,"d":"3537"},1.3062,1.3062,1.3062,1.3062,571,571,571,571,98,98,98,98,{"v":0.04488224594395025,"d":"0.04"},{"v":0.04488224594395025,"d":"0.04"},{"v":0.04488224594395025,"d":"0.04"},{"v":0.04488224594395025,"d":"0.04"},0.0001276,1.7219,2,3.76611E-4,{"$f":"\"\"","v":""},{"$f":"\"\"","v":""},{"$f":"\"\"","v":""},{"$f":"\"\"","v":""},{"$f":"\"\"","v":""},{"$f":"\"\"","v":""},{"$f":"\"\"","v":""},{"$f":"\"\"","v":""},{"$f":"\"\"","v":""},{"$f":"\"\"","v":""},{"$f":"\"\"","v":""},{"$f":"\"\"","v":""},{"$f":"\"\"","v":""},{"$f":"\"\"","v":""},{"$f":"\"\"","v":""},2.1,{"$f":"\"\"","v":""},{"$f":"\"\"","v":""},{"$f":"\"\"","v":""}]
["28517520",null,null,2,85,175,20,20.9,{"$f":"\"\"","v":""},{"$f":"\"\"","v":""},{"$f":"\"\"","v":""},{"$f":"\"\"","v":""},{"v":4035.42,"d":"4035"},{"v":4035.42,"d":"4035"},{"v":4035.42,"d":"4035"},{"v":4035.42,"d":"4035"},1.3062,1.3062,1.3062,1.3062,651,651,651,651,112,112,112,112,{"v":0.059861648776333494,"d":"0.06"},{"v":0.059861648776333494,"d":"0.06"},{"v":0.059861648776333494,"d":"0.06"},{"v":0.059861648776333494,"d":"0.06"},0.0001276,1.7219,2,3.76611E-4,{"$f":"\"\"","v":""},{"$f":"\"\"","v":""},{"$f":"\"\"","v":""},{"$f":"\"\"","v":""},{"$f":"\"\"","v":""},{"$f":"\"\"","v":""},{"$f":"\"\"","v":""},{"$f":"\"\"","v":""},{"$f":"\"\"","v":""},{"$f":"\"\"","v":""},{"$f":"\"\"","v":""},{"$f":"\"\"","v":""},{"$f":"\"\"","v":""},{"$f":"\"\"","v":""},{"$f":"\"\"","v":""},2.3,{"$f":"\"\"","v":""},{"$f":"\"\"","v":""},{"$f":"\"\"","v":""}]
["28519520",null,null,2,85,195,20,20.9,{"$f":"\"\"","v":""},{"$f":"\"\"","v":""},{"$f":"\"\"","v":""},{"$f":"\"\"","v":""},{"v":4533.62,"d":"4534"},{"v":4533.62,"d":"4534"},{"v":4533.62,"d":"4534"},{"v":4533.62,"d":"4534"},1.3062,1.3062,1.3062,1.3062,732,732,732,732,126,126,126,126,{"v":0.07727820176905172,"d":"0.08"},{"v":0.07727820176905172,"d":"0.08"},{"v":0.07727820176905172,"d":"0.08"},{"v":0.07727820176905172,"d":"0.08"},0.0001276,1.7219,2,3.76611E-4,{"$f":"\"\"","v":""},{"$f":"\"\"","v":""},{"$f":"\"\"","v":""},{"$f":"\"\"","v":""},{"$f":"\"\"","v":""},{"$f":"\"\"","v":""},{"$f":"\"\"","v":""},{"$f":"\"\"","v":""},{"$f":"\"\"","v":""},{"$f":"\"\"","v":""},{"$f":"\"\"","v":""},{"$f":"\"\"","v":""},{"$f":"\"\"","v":""},{"$f":"\"\"","v":""},{"$f":"\"\"","v":""},2.6,{"$f":"\"\"","v":""},{"$f":"\"\"","v":""},{"$f":"\"\"","v":""}]
["28521520",null,null,2,85,215,20,20.9,{"$f":"\"\"","v":""},{"$f":"\"\"","v":""},{"$f":"\"\"","v":""},{"$f":"\"\"","v":""},{"v":5031.82,"d":"5032"},{"v":5031.82,"d":"5032"},{"v":5031.82,"d":"5032"},{"v":5031.82,"d":"5032"},1.3062,1.3062,1.3062,1.3062,812,812,812,812,140,140,140,140,{"v":0.09721973666372238,"d":"0.10"},{"v":0.09721973666372238,"d":"0.10"},{"v":0.09721973666372238,"d":"0.10"},{"v":0.09721973666372238,"d":"0.10"},0.0001276,1.7219,2,3.76611E-4,{"$f":"\"\"","v":""},{"$f":"\"\"","v":""},{"$f":"\"\"","v":""},{"$f":"\"\"","v":""},{"$f":"\"\"","v":""},{"$f":"\"\"","v":""},{"$f":"\"\"","v":""},{"$f":"\"\"","v":""},{"$f":"\"\"","v":""},{"$f":"\"\"","v":""},{"$f":"\"\"","v":""},{"$f":"\"\"","v":""},{"$f":"\"\"","v":""},{"$f":"\"\"","v":""},{"$f":"\"\"","v":""},2.9,{"$f":"\"\"","v":""},{"$f":"\"\"","v":""},{"$f":"\"\"","v":""}]
["28523520",null,null,2,85,235,20,20.9,{"$f":"\"\"","v":""},{"$f":"\"\"","v":""},{"$f":"\"\"","v":""},{"$f":"\"\"","v":""},{"v":5530.02,"d":"5530"},{"v":5530.02,"d":"5530"},{"v":5530.02,"d":"5530"},{"v":5530.02,"d":"5530"},1.3062,1.3062,1.3062,1.3062,892,892,892,892,153,153,153,153,{"v":0.11827868782069746,"d":"0.12"},{"v":0.11827868782069746,"d":"0.12"},{"v":0.11827868782069746,"d":"0.12"},{"v":0.11827868782069746,"d":"0.12"},0.0001276,1.7219,2,3.76611E-4,{"$f":"\"\"","v":""},{"$f":"\"\"","v":""},{"$f":"\"\"","v":""},{"$f":"\"\"","v":""},{"$f":"\"\"","v":""},{"$f":"\"\"","v":""},{"$f":"\"\"","v":""},{"$f":"\"\"","v":""},{"$f":"\"\"","v":""},{"$f":"\"\"","v":""},{"$f":"\"\"","v":""},{"$f":"\"\"","v":""},{"$f":"\"\"","v":""},{"$f":"\"\"","v":""},{"$f":"\"\"","v":""},3.1,{"$f":"\"\"","v":""},{"$f":"\"\"","v":""},{"$f":"\"\"","v":""}]
["2905520",null,null,2,90,55,20,20.9,{"$f":"\"\"","v":""},{"$f":"\"\"","v":""},{"$f":"\"\"","v":""},{"$f":"\"\"","v":""},{"v":1056.3,"d":"1056"},{"v":1056.3,"d":"1056"},{"v":1056.3,"d":"1056"},{"v":1056.3,"d":"1056"},1.3023,1.3023,1.3023,1.3023,171,171,171,171,29,29,29,29,{"v":3.4387143378923984E-3,"d":"0.00"},{"v":3.4387143378923984E-3,"d":"0.00"},{"v":3.4387143378923984E-3,"d":"0.00"},{"v":3.4387143378923984E-3,"d":"0.00"},0.0001276,1.7219,2,3.76611E-4,{"$f":"\"\"","v":""},{"$f":"\"\"","v":""},{"$f":"\"\"","v":""},{"$f":"\"\"","v":""},{"$f":"\"\"","v":""},{"$f":"\"\"","v":""},{"$f":"\"\"","v":""},{"$f":"\"\"","v":""},{"$f":"\"\"","v":""},{"$f":"\"\"","v":""},{"$f":"\"\"","v":""},{"$f":"\"\"","v":""},{"$f":"\"\"","v":""},{"$f":"\"\"","v":""},{"$f":"\"\"","v":""},0.7,{"$f":"\"\"","v":""},{"$f":"\"\"","v":""},{"$f":"\"\"","v":""}]
["2906520",null,null,2,90,65,20,20.9,{"$f":"\"\"","v":""},{"$f":"\"\"","v":""},{"$f":"\"\"","v":""},{"$f":"\"\"","v":""},{"v":1307.8,"d":"1308"},{"v":1307.8,"d":"1308"},{"v":1307.8,"d":"1308"},{"v":1307.8,"d":"1308"},1.3023,1.3023,1.3023,1.3023,212,212,212,212,36,36,36,36,{"v":0.005388677886966871,"d":"0.01"},{"v":0.005388677886966871,"d":"0.01"},{"v":0.005388677886966871,"d":"0.01"},{"v":0.005388677886966871,"d":"0.01"},0.0001276,1.7219,2,3.76611E-4,{"$f":"\"\"","v":""},{"$f":"\"\"","v":""},{"$f":"\"\"","v":""},{"$f":"\"\"","v":""},{"$f":"\"\"","v":""},{"$f":"\"\"","v":""},{"$f":"\"\"","v":""},{"$f":"\"\"","v":""},{"$f":"\"\"","v":""},{"$f":"\"\"","v":""},{"$f":"\"\"","v":""},{"$f":"\"\"","v":""},{"$f":"\"\"","v":""},{"$f":"\"\"","v":""},{"$f":"\"\"","v":""},0.9,{"$f":"\"\"","v":""},{"$f":"\"\"","v":""},{"$f":"\"\"","v":""}]
["2907520",null,null,2,90,75,20,20.9,{"$f":"\"\"","v":""},{"$f":"\"\"","v":""},{"$f":"\"\"","v":""},{"$f":"\"\"","v":""},{"v":1559.3,"d":"1559"},{"v":1559.3,"d":"1559"},{"v":1559.3,"d":"1559"},{"v":1559.3,"d":"1559"},1.3023,1.3023,1.3023,1.3023,253,253,253,253,44,44,44,44,{"v":0.008169696693314518,"d":"0.01"},{"v":0.008169696693314518,"d":"0.01"},{"v":0.008169696693314518,"d":"0.01"},{"v":0.008169696693314518,"d":"0.01"},0.0001276,1.7219,2,3.76611E-4,{"$f":"\"\"","v":""},{"$f":"\"\"","v":""},{"$f":"\"\"","v":""},{"$f":"\"\"","v":""},{"$f":"\"\"","v":""},{"$f":"\"\"","v":""},{"$f":"\"\"","v":""},{"$f":"\"\"","v":""},{"$f":"\"\"","v":""},{"$f":"\"\"","v":""},{"$f":"\"\"","v":""},{"$f":"\"\"","v":""},{"$f":"\"\"","v":""},{"$f":"\"\"","v":""},{"$f":"\"\"","v":""},{"v":1,"d":"1.0"},{"$f":"\"\"","v":""},{"$f":"\"\"","v":""},{"$f":"\"\"","v":""}]
["2908520",null,null,2,90,85,20,20.9,{"$f":"\"\"","v":""},{"$f":"\"\"","v":""},{"$f":"\"\"","v":""},{"$f":"\"\"","v":""},{"v":1810.8,"d":"1811"},{"v":1810.8,"d":"1811"},{"v":1810.8,"d":"1811"},{"v":1810.8,"d":"1811"},1.3023,1.3023,1.3023,1.3023,294,294,294,294,51,51,51,51,{"v":0.011138519067817076,"d":"0.01"},{"v":0.011138519067817076,"d":"0.01"},{"v":0.011138519067817076,"d":"0.01"},{"v":0.011138519067817076,"d":"0.01"},0.0001276,1.7219,2,3.76611E-4,{"$f":"\"\"","v":""},{"$f":"\"\"","v":""},{"$f":"\"\"","v":""},{"$f":"\"\"","v":""},{"$f":"\"\"","v":""},{"$f":"\"\"","v":""},{"$f":"\"\"","v":""},{"$f":"\"\"","v":""},{"$f":"\"\"","v":""},{"$f":"\"\"","v":""},{"$f":"\"\"","v":""},{"$f":"\"\"","v":""},{"$f":"\"\"","v":""},{"$f":"\"\"","v":""},{"$f":"\"\"","v":""},1.1,{"$f":"\"\"","v":""},{"$f":"\"\"","v":""},{"$f":"\"\"","v":""}]
["2909520",null,null,2,90,95,20,20.9,{"$f":"\"\"","v":""},{"$f":"\"\"","v":""},{"$f":"\"\"","v":""},{"$f":"\"\"","v":""},{"v":2062.3,"d":"2062"},{"v":2062.3,"d":"2062"},{"v":2062.3,"d":"2062"},{"v":2062.3,"d":"2062"},1.3023,1.3023,1.3023,1.3023,335,335,335,335,58,58,58,58,{"v":0.01460805193584437,"d":"0.01"},{"v":0.01460805193584437,"d":"0.01"},{"v":0.01460805193584437,"d":"0.01"},{"v":0.01460805193584437,"d":"0.01"},0.0001276,1.7219,2,3.76611E-4,{"$f":"\"\"","v":""},{"$f":"\"\"","v":""},{"$f":"\"\"","v":""},{"$f":"\"\"","v":""},{"$f":"\"\"","v":""},{"$f":"\"\"","v":""},{"$f":"\"\"","v":""},{"$f":"\"\"","v":""},{"$f":"\"\"","v":""},{"$f":"\"\"","v":""},{"$f":"\"\"","v":""},{"$f":"\"\"","v":""},{"$f":"\"\"","v":""},{"$f":"\"\"","v":""},{"$f":"\"\"","v":""},1.3,{"$f":"\"\"","v":""},{"$f":"\"\"","v":""},{"$f":"\"\"","v":""}]
["29010520",null,null,2,90,105,20,20.9,{"$f":"\"\"","v":""},{"$f":"\"\"","v":""},{"$f":"\"\"","v":""},{"$f":"\"\"","v":""},{"v":2313.8,"d":"2314"},{"v":2313.8,"d":"2314"},{"v":2313.8,"d":"2314"},{"v":2313.8,"d":"2314"},1.3023,1.3023,1.3023,1.3023,375,375,375,375,65,65,65,65,{"v":0.018591984551398235,"d":"0.02"},{"v":0.018591984551398235,"d":"0.02"},{"v":0.018591984551398235,"d":"0.02"},{"v":0.018591984551398235,"d":"0.02"},0.0001276,1.7219,2,3.76611E-4,{"$f":"\"\"","v":""},{"$f":"\"\"","v":""},{"$f":"\"\"","v":""},{"$f":"\"\"","v":""},{"$f":"\"\"","v":""},{"$f":"\"\"","v":""},{"$f":"\"\"","v":""},{"$f":"\"\"","v":""},{"$f":"\"\"","v":""},{"$f":"\"\"","v":""},{"$f":"\"\"","v":""},{"$f":"\"\"","v":""},{"$f":"\"\"","v":""},{"$f":"\"\"","v":""},{"$f":"\"\"","v":""},1.4,{"$f":"\"\"","v":""},{"$f":"\"\"","v":""},{"$f":"\"\"","v":""}]
["29011520",null,null,2,90,115,20,20.9,{"$f":"\"\"","v":""},{"$f":"\"\"","v":""},{"$f":"\"\"","v":""},{"$f":"\"\"","v":""},{"v":2565.3,"d":"2565"},{"v":2565.3,"d":"2565"},{"v":2565.3,"d":"2565"},{"v":2565.3,"d":"2565"},1.3023,1.3023,1.3023,1.3023,416,416,416,416,72,72,72,72,{"v":0.023103547170675195,"d":"0.02"},{"v":0.023103547170675195,"d":"0.02"},{"v":0.023103547170675195,"d":"0.02"},{"v":0.023103547170675195,"d":"0.02"},0.0001276,1.7219,2,3.76611E-4,{"$f":"\"\"","v":""},{"$f":"\"\"","v":""},{"$f":"\"\"","v":""},{"$f":"\"\"","v":""},{"$f":"\"\"","v":""},{"$f":"\"\"","v":""},{"$f":"\"\"","v":""},{"$f":"\"\"","v":""},{"$f":"\"\"","v":""},{"$f":"\"\"","v":""},{"$f":"\"\"","v":""},{"$f":"\"\"","v":""},{"$f":"\"\"","v":""},{"$f":"\"\"","v":""},{"$f":"\"\"","v":""},1.5,{"$f":"\"\"","v":""},{"$f":"\"\"","v":""},{"$f":"\"\"","v":""}]
["29013520",null,null,2,90,135,20,20.9,{"$f":"\"\"","v":""},{"$f":"\"\"","v":""},{"$f":"\"\"","v":""},{"$f":"\"\"","v":""},{"v":3068.3,"d":"3068"},{"v":3068.3,"d":"3068"},{"v":3068.3,"d":"3068"},{"v":3068.3,"d":"3068"},1.3023,1.3023,1.3023,1.3023,498,498,498,498,86,86,86,86,{"v":0.033760554418497436,"d":"0.03"},{"v":0.033760554418497436,"d":"0.03"},{"v":0.033760554418497436,"d":"0.03"},{"v":0.033760554418497436,"d":"0.03"},0.0001276,1.7219,2,3.76611E-4,{"$f":"\"\"","v":""},{"$f":"\"\"","v":""},{"$f":"\"\"","v":""},{"$f":"\"\"","v":""},{"$f":"\"\"","v":""},{"$f":"\"\"","v":""},{"$f":"\"\"","v":""},{"$f":"\"\"","v":""},{"$f":"\"\"","v":""},{"$f":"\"\"","v":""},{"$f":"\"\"","v":""},{"$f":"\"\"","v":""},{"$f":"\"\"","v":""},{"$f":"\"\"","v":""},{"$f":"\"\"","v":""},1.8,{"$f":"\"\"","v":""},{"$f":"\"\"","v":""},{"$f":"\"\"","v":""}]
["29015520",null,null,2,90,155,20,20.9,{"$f":"\"\"","v":""},{"$f":"\"\"","v":""},{"$f":"\"\"","v":""},{"$f":"\"\"","v":""},{"v":3571.3,"d":"3571"},{"v":3571.3,"d":"3571"},{"v":3571.3,"d":"3571"},{"v":3571.3,"d":"3571"},1.3023,1.3023,1.3023,1.3023,579,579,579,579,100,100,100,100,{"v":0.04667782182041016,"d":"0.05"},{"v":0.04667782182041016,"d":"0.05"},{"v":0.04667782182041016,"d":"0.05"},{"v":0.04667782182041016,"d":"0.05"},0.0001276,1.7219,2,3.76611E-4,{"$f":"\"\"","v":""},{"$f":"\"\"","v":""},{"$f":"\"\"","v":""},{"$f":"\"\"","v":""},{"$f":"\"\"","v":""},{"$f":"\"\"","v":""},{"$f":"\"\"","v":""},{"$f":"\"\"","v":""},{"$f":"\"\"","v":""},{"$f":"\"\"","v":""},{"$f":"\"\"","v":""},{"$f":"\"\"","v":""},{"$f":"\"\"","v":""},{"$f":"\"\"","v":""},{"$f":"\"\"","v":""},2.1,{"$f":"\"\"","v":""},{"$f":"\"\"","v":""},{"$f":"\"\"","v":""}]
["29017520",null,null,2,90,175,20,20.9,{"$f":"\"\"","v":""},{"$f":"\"\"","v":""},{"$f":"\"\"","v":""},{"$f":"\"\"","v":""},{"v":4074.3,"d":"4074"},{"v":4074.3,"d":"4074"},{"v":4074.3,"d":"4074"},{"v":4074.3,"d":"4074"},1.3023,1.3023,1.3023,1.3023,661,661,661,661,114,114,114,114,{"v":0.061949650030496364,"d":"0.06"},{"v":0.061949650030496364,"d":"0.06"},{"v":0.061949650030496364,"d":"0.06"},{"v":0.061949650030496364,"d":"0.06"},0.0001276,1.7219,2,3.76611E-4,{"$f":"\"\"","v":""},{"$f":"\"\"","v":""},{"$f":"\"\"","v":""},{"$f":"\"\"","v":""},{"$f":"\"\"","v":""},{"$f":"\"\"","v":""},{"$f":"\"\"","v":""},{"$f":"\"\"","v":""},{"$f":"\"\"","v":""},{"$f":"\"\"","v":""},{"$f":"\"\"","v":""},{"$f":"\"\"","v":""},{"$f":"\"\"","v":""},{"$f":"\"\"","v":""},{"$f":"\"\"","v":""},2.3,{"$f":"\"\"","v":""},{"$f":"\"\"","v":""},{"$f":"\"\"","v":""}]
["29019520",null,null,2,90,195,20,20.9,{"$f":"\"\"","v":""},{"$f":"\"\"","v":""},{"$f":"\"\"","v":""},{"$f":"\"\"","v":""},{"v":4577.3,"d":"4577"},{"v":4577.3,"d":"4577"},{"v":4577.3,"d":"4577"},{"v":4577.3,"d":"4577"},1.3023,1.3023,1.3023,1.3023,743,743,743,743,128,128,128,128,{"v":0.07966668933671102,"d":"0.08"},{"v":0.07966668933671102,"d":"0.08"},{"v":0.07966668933671102,"d":"0.08"},{"v":0.07966668933671102,"d":"0.08"},0.0001276,1.7219,2,3.76611E-4,{"$f":"\"\"","v":""},{"$f":"\"\"","v":""},{"$f":"\"\"","v":""},{"$f":"\"\"","v":""},{"$f":"\"\"","v":""},{"$f":"\"\"","v":""},{"$f":"\"\"","v":""},{"$f":"\"\"","v":""},{"$f":"\"\"","v":""},{"$f":"\"\"","v":""},{"$f":"\"\"","v":""},{"$f":"\"\"","v":""},{"$f":"\"\"","v":""},{"$f":"\"\"","v":""},{"$f":"\"\"","v":""},2.6,{"$f":"\"\"","v":""},{"$f":"\"\"","v":""},{"$f":"\"\"","v":""}]
["29021520",null,null,2,90,215,20,20.9,{"$f":"\"\"","v":""},{"$f":"\"\"","v":""},{"$f":"\"\"","v":""},{"$f":"\"\"","v":""},{"v":5080.3,"d":"5080"},{"v":5080.3,"d":"5080"},{"v":5080.3,"d":"5080"},{"v":5080.3,"d":"5080"},1.3023,1.3023,1.3023,1.3023,824,824,824,824,142,142,142,142,{"v":0.09991651239168468,"d":"0.10"},{"v":0.09991651239168468,"d":"0.10"},{"v":0.09991651239168468,"d":"0.10"},{"v":0.09991651239168468,"d":"0.10"},0.0001276,1.7219,2,3.76611E-4,{"$f":"\"\"","v":""},{"$f":"\"\"","v":""},{"$f":"\"\"","v":""},{"$f":"\"\"","v":""},{"$f":"\"\"","v":""},{"$f":"\"\"","v":""},{"$f":"\"\"","v":""},{"$f":"\"\"","v":""},{"$f":"\"\"","v":""},{"$f":"\"\"","v":""},{"$f":"\"\"","v":""},{"$f":"\"\"","v":""},{"$f":"\"\"","v":""},{"$f":"\"\"","v":""},{"$f":"\"\"","v":""},2.9,{"$f":"\"\"","v":""},{"$f":"\"\"","v":""},{"$f":"\"\"","v":""}]
["29023520",null,null,2,90,235,20,20.9,{"$f":"\"\"","v":""},{"$f":"\"\"","v":""},{"$f":"\"\"","v":""},{"$f":"\"\"","v":""},{"v":5583.3,"d":"5583"},{"v":5583.3,"d":"5583"},{"v":5583.3,"d":"5583"},{"v":5583.3,"d":"5583"},1.3023,1.3023,1.3023,1.3023,906,906,906,906,156,156,156,156,{"v":0.12278404375594688,"d":"0.12"},{"v":0.12278404375594688,"d":"0.12"},{"v":0.12278404375594688,"d":"0.12"},{"v":0.12278404375594688,"d":"0.12"},0.0001276,1.7219,2,3.76611E-4,{"$f":"\"\"","v":""},{"$f":"\"\"","v":""},{"$f":"\"\"","v":""},{"$f":"\"\"","v":""},{"$f":"\"\"","v":""},{"$f":"\"\"","v":""},{"$f":"\"\"","v":""},{"$f":"\"\"","v":""},{"$f":"\"\"","v":""},{"$f":"\"\"","v":""},{"$f":"\"\"","v":""},{"$f":"\"\"","v":""},{"$f":"\"\"","v":""},{"$f":"\"\"","v":""},{"$f":"\"\"","v":""},3.1,{"$f":"\"\"","v":""},{"$f":"\"\"","v":""},{"$f":"\"\"","v":""}]
["2955520",null,null,2,95,55,20,20.9,{"$f":"\"\"","v":""},{"$f":"\"\"","v":""},{"$f":"\"\"","v":""},{"$f":"\"\"","v":""},{"v":1064.28,"d":"1064"},{"v":1064.28,"d":"1064"},{"v":1064.28,"d":"1064"},{"v":1064.28,"d":"1064"},1.2983,1.2983,1.2983,1.2983,174,174,174,174,30,30,30,30,{"v":0.003676594203452995,"d":"0.00"},{"v":0.003676594203452995,"d":"0.00"},{"v":0.003676594203452995,"d":"0.00"},{"v":0.003676594203452995,"d":"0.00"},0.0001276,1.7219,2,3.76611E-4,{"$f":"\"\"","v":""},{"$f":"\"\"","v":""},{"$f":"\"\"","v":""},{"$f":"\"\"","v":""},{"$f":"\"\"","v":""},{"$f":"\"\"","v":""},{"$f":"\"\"","v":""},{"$f":"\"\"","v":""},{"$f":"\"\"","v":""},{"$f":"\"\"","v":""},{"$f":"\"\"","v":""},{"$f":"\"\"","v":""},{"$f":"\"\"","v":""},{"$f":"\"\"","v":""},{"$f":"\"\"","v":""},0.7,{"$f":"\"\"","v":""},{"$f":"\"\"","v":""},{"$f":"\"\"","v":""}]
["2956520",null,null,2,95,65,20,20.9,{"$f":"\"\"","v":""},{"$f":"\"\"","v":""},{"$f":"\"\"","v":""},{"$f":"\"\"","v":""},{"v":1317.68,"d":"1318"},{"v":1317.68,"d":"1318"},{"v":1317.68,"d":"1318"},{"v":1317.68,"d":"1318"},1.2983,1.2983,1.2983,1.2983,215,215,215,215,37,37,37,37,{"v":0.005687352420300547,"d":"0.01"},{"v":0.005687352420300547,"d":"0.01"},{"v":0.005687352420300547,"d":"0.01"},{"v":0.005687352420300547,"d":"0.01"},0.0001276,1.7219,2,3.76611E-4,{"$f":"\"\"","v":""},{"$f":"\"\"","v":""},{"$f":"\"\"","v":""},{"$f":"\"\"","v":""},{"$f":"\"\"","v":""},{"$f":"\"\"","v":""},{"$f":"\"\"","v":""},{"$f":"\"\"","v":""},{"$f":"\"\"","v":""},{"$f":"\"\"","v":""},{"$f":"\"\"","v":""},{"$f":"\"\"","v":""},{"$f":"\"\"","v":""},{"$f":"\"\"","v":""},{"$f":"\"\"","v":""},0.9,{"$f":"\"\"","v":""},{"$f":"\"\"","v":""},{"$f":"\"\"","v":""}]
["2957520",null,null,2,95,75,20,20.9,{"$f":"\"\"","v":""},{"$f":"\"\"","v":""},{"$f":"\"\"","v":""},{"$f":"\"\"","v":""},{"v":1571.08,"d":"1571"},{"v":1571.08,"d":"1571"},{"v":1571.08,"d":"1571"},{"v":1571.08,"d":"1571"},1.2983,1.2983,1.2983,1.2983,256,256,256,256,44,44,44,44,{"v":0.008169696693314518,"d":"0.01"},{"v":0.008169696693314518,"d":"0.01"},{"v":0.008169696693314518,"d":"0.01"},{"v":0.008169696693314518,"d":"0.01"},0.0001276,1.7219,2,3.76611E-4,{"$f":"\"\"","v":""},{"$f":"\"\"","v":""},{"$f":"\"\"","v":""},{"$f":"\"\"","v":""},{"$f":"\"\"","v":""},{"$f":"\"\"","v":""},{"$f":"\"\"","v":""},{"$f":"\"\"","v":""},{"$f":"\"\"","v":""},{"$f":"\"\"","v":""},{"$f":"\"\"","v":""},{"$f":"\"\"","v":""},{"$f":"\"\"","v":""},{"$f":"\"\"","v":""},{"$f":"\"\"","v":""},{"v":1,"d":"1.0"},{"$f":"\"\"","v":""},{"$f":"\"\"","v":""},{"$f":"\"\"","v":""}]
["2958520",null,null,2,95,85,20,20.9,{"$f":"\"\"","v":""},{"$f":"\"\"","v":""},{"$f":"\"\"","v":""},{"$f":"\"\"","v":""},{"v":1824.48,"d":"1824"},{"v":1824.48,"d":"1824"},{"v":1824.48,"d":"1824"},{"v":1824.48,"d":"1824"},1.2983,1.2983,1.2983,1.2983,298,298,298,298,51,51,51,51,{"v":0.011138519067817076,"d":"0.01"},{"v":0.011138519067817076,"d":"0.01"},{"v":0.011138519067817076,"d":"0.01"},{"v":0.011138519067817076,"d":"0.01"},0.0001276,1.7219,2,3.76611E-4,{"$f":"\"\"","v":""},{"$f":"\"\"","v":""},{"$f":"\"\"","v":""},{"$f":"\"\"","v":""},{"$f":"\"\"","v":""},{"$f":"\"\"","v":""},{"$f":"\"\"","v":""},{"$f":"\"\"","v":""},{"$f":"\"\"","v":""},{"$f":"\"\"","v":""},{"$f":"\"\"","v":""},{"$f":"\"\"","v":""},{"$f":"\"\"","v":""},{"$f":"\"\"","v":""},{"$f":"\"\"","v":""},1.1,{"$f":"\"\"","v":""},{"$f":"\"\"","v":""},{"$f":"\"\"","v":""}]
["2959520",null,null,2,95,95,20,20.9,{"$f":"\"\"","v":""},{"$f":"\"\"","v":""},{"$f":"\"\"","v":""},{"$f":"\"\"","v":""},{"v":2077.88,"d":"2078"},{"v":2077.88,"d":"2078"},{"v":2077.88,"d":"2078"},{"v":2077.88,"d":"2078"},1.2983,1.2983,1.2983,1.2983,339,339,339,339,58,58,58,58,{"v":0.01460805193584437,"d":"0.01"},{"v":0.01460805193584437,"d":"0.01"},{"v":0.01460805193584437,"d":"0.01"},{"v":0.01460805193584437,"d":"0.01"},0.0001276,1.7219,2,3.76611E-4,{"$f":"\"\"","v":""},{"$f":"\"\"","v":""},{"$f":"\"\"","v":""},{"$f":"\"\"","v":""},{"$f":"\"\"","v":""},{"$f":"\"\"","v":""},{"$f":"\"\"","v":""},{"$f":"\"\"","v":""},{"$f":"\"\"","v":""},{"$f":"\"\"","v":""},{"$f":"\"\"","v":""},{"$f":"\"\"","v":""},{"$f":"\"\"","v":""},{"$f":"\"\"","v":""},{"$f":"\"\"","v":""},1.3,{"$f":"\"\"","v":""},{"$f":"\"\"","v":""},{"$f":"\"\"","v":""}]
["29510520",null,null,2,95,105,20,20.9,{"$f":"\"\"","v":""},{"$f":"\"\"","v":""},{"$f":"\"\"","v":""},{"$f":"\"\"","v":""},{"v":2331.28,"d":"2331"},{"v":2331.28,"d":"2331"},{"v":2331.28,"d":"2331"},{"v":2331.28,"d":"2331"},1.2983,1.2983,1.2983,1.2983,380,380,380,380,65,65,65,65,{"v":0.018591984551398235,"d":"0.02"},{"v":0.018591984551398235,"d":"0.02"},{"v":0.018591984551398235,"d":"0.02"},{"v":0.018591984551398235,"d":"0.02"},0.0001276,1.7219,2,3.76611E-4,{"$f":"\"\"","v":""},{"$f":"\"\"","v":""},{"$f":"\"\"","v":""},{"$f":"\"\"","v":""},{"$f":"\"\"","v":""},{"$f":"\"\"","v":""},{"$f":"\"\"","v":""},{"$f":"\"\"","v":""},{"$f":"\"\"","v":""},{"$f":"\"\"","v":""},{"$f":"\"\"","v":""},{"$f":"\"\"","v":""},{"$f":"\"\"","v":""},{"$f":"\"\"","v":""},{"$f":"\"\"","v":""},1.4,{"$f":"\"\"","v":""},{"$f":"\"\"","v":""},{"$f":"\"\"","v":""}]
["29511520",null,null,2,95,115,20,20.9,{"$f":"\"\"","v":""},{"$f":"\"\"","v":""},{"$f":"\"\"","v":""},{"$f":"\"\"","v":""},{"v":2584.68,"d":"2585"},{"v":2584.68,"d":"2585"},{"v":2584.68,"d":"2585"},{"v":2584.68,"d":"2585"},1.2983,1.2983,1.2983,1.2983,422,422,422,422,73,73,73,73,{"v":0.023734142510127464,"d":"0.02"},{"v":0.023734142510127464,"d":"0.02"},{"v":0.023734142510127464,"d":"0.02"},{"v":0.023734142510127464,"d":"0.02"},0.0001276,1.7219,2,3.76611E-4,{"$f":"\"\"","v":""},{"$f":"\"\"","v":""},{"$f":"\"\"","v":""},{"$f":"\"\"","v":""},{"$f":"\"\"","v":""},{"$f":"\"\"","v":""},{"$f":"\"\"","v":""},{"$f":"\"\"","v":""},{"$f":"\"\"","v":""},{"$f":"\"\"","v":""},{"$f":"\"\"","v":""},{"$f":"\"\"","v":""},{"$f":"\"\"","v":""},{"$f":"\"\"","v":""},{"$f":"\"\"","v":""},1.5,{"$f":"\"\"","v":""},{"$f":"\"\"","v":""},{"$f":"\"\"","v":""}]
["29513520",null,null,2,95,135,20,20.9,{"$f":"\"\"","v":""},{"$f":"\"\"","v":""},{"$f":"\"\"","v":""},{"$f":"\"\"","v":""},{"v":3091.48,"d":"3091"},{"v":3091.48,"d":"3091"},{"v":3091.48,"d":"3091"},{"v":3091.48,"d":"3091"},1.2983,1.2983,1.2983,1.2983,504,504,504,504,87,87,87,87,{"v":0.03452901583610201,"d":"0.03"},{"v":0.03452901583610201,"d":"0.03"},{"v":0.03452901583610201,"d":"0.03"},{"v":0.03452901583610201,"d":"0.03"},0.0001276,1.7219,2,3.76611E-4,{"$f":"\"\"","v":""},{"$f":"\"\"","v":""},{"$f":"\"\"","v":""},{"$f":"\"\"","v":""},{"$f":"\"\"","v":""},{"$f":"\"\"","v":""},{"$f":"\"\"","v":""},{"$f":"\"\"","v":""},{"$f":"\"\"","v":""},{"$f":"\"\"","v":""},{"$f":"\"\"","v":""},{"$f":"\"\"","v":""},{"$f":"\"\"","v":""},{"$f":"\"\"","v":""},{"$f":"\"\"","v":""},1.8,{"$f":"\"\"","v":""},{"$f":"\"\"","v":""},{"$f":"\"\"","v":""}]
["29515520",null,null,2,95,155,20,20.9,{"$f":"\"\"","v":""},{"$f":"\"\"","v":""},{"$f":"\"\"","v":""},{"$f":"\"\"","v":""},{"v":3598.28,"d":"3598"},{"v":3598.28,"d":"3598"},{"v":3598.28,"d":"3598"},{"v":3598.28,"d":"3598"},1.2983,1.2983,1.2983,1.2983,587,587,587,587,101,101,101,101,{"v":0.047588505491107845,"d":"0.05"},{"v":0.047588505491107845,"d":"0.05"},{"v":0.047588505491107845,"d":"0.05"},{"v":0.047588505491107845,"d":"0.05"},0.0001276,1.7219,2,3.76611E-4,{"$f":"\"\"","v":""},{"$f":"\"\"","v":""},{"$f":"\"\"","v":""},{"$f":"\"\"","v":""},{"$f":"\"\"","v":""},{"$f":"\"\"","v":""},{"$f":"\"\"","v":""},{"$f":"\"\"","v":""},{"$f":"\"\"","v":""},{"$f":"\"\"","v":""},{"$f":"\"\"","v":""},{"$f":"\"\"","v":""},{"$f":"\"\"","v":""},{"$f":"\"\"","v":""},{"$f":"\"\"","v":""},2.1,{"$f":"\"\"","v":""},{"$f":"\"\"","v":""},{"$f":"\"\"","v":""}]
["29517520",null,null,2,95,175,20,20.9,{"$f":"\"\"","v":""},{"$f":"\"\"","v":""},{"$f":"\"\"","v":""},{"$f":"\"\"","v":""},{"v":4105.08,"d":"4105"},{"v":4105.08,"d":"4105"},{"v":4105.08,"d":"4105"},{"v":4105.08,"d":"4105"},1.2983,1.2983,1.2983,1.2983,670,670,670,670,115,115,115,115,{"v":0.0630067310004467,"d":"0.06"},{"v":0.0630067310004467,"d":"0.06"},{"v":0.0630067310004467,"d":"0.06"},{"v":0.0630067310004467,"d":"0.06"},0.0001276,1.7219,2,3.76611E-4,{"$f":"\"\"","v":""},{"$f":"\"\"","v":""},{"$f":"\"\"","v":""},{"$f":"\"\"","v":""},{"$f":"\"\"","v":""},{"$f":"\"\"","v":""},{"$f":"\"\"","v":""},{"$f":"\"\"","v":""},{"$f":"\"\"","v":""},{"$f":"\"\"","v":""},{"$f":"\"\"","v":""},{"$f":"\"\"","v":""},{"$f":"\"\"","v":""},{"$f":"\"\"","v":""},{"$f":"\"\"","v":""},2.3,{"$f":"\"\"","v":""},{"$f":"\"\"","v":""},{"$f":"\"\"","v":""}]
["29519520",null,null,2,95,195,20,20.9,{"$f":"\"\"","v":""},{"$f":"\"\"","v":""},{"$f":"\"\"","v":""},{"$f":"\"\"","v":""},{"v":4611.88,"d":"4612"},{"v":4611.88,"d":"4612"},{"v":4611.88,"d":"4612"},{"v":4611.88,"d":"4612"},1.2983,1.2983,1.2983,1.2983,752,752,752,752,129,129,129,129,{"v":0.08087419174693736,"d":"0.08"},{"v":0.08087419174693736,"d":"0.08"},{"v":0.08087419174693736,"d":"0.08"},{"v":0.08087419174693736,"d":"0.08"},0.0001276,1.7219,2,3.76611E-4,{"$f":"\"\"","v":""},{"$f":"\"\"","v":""},{"$f":"\"\"","v":""},{"$f":"\"\"","v":""},{"$f":"\"\"","v":""},{"$f":"\"\"","v":""},{"$f":"\"\"","v":""},{"$f":"\"\"","v":""},{"$f":"\"\"","v":""},{"$f":"\"\"","v":""},{"$f":"\"\"","v":""},{"$f":"\"\"","v":""},{"$f":"\"\"","v":""},{"$f":"\"\"","v":""},{"$f":"\"\"","v":""},2.6,{"$f":"\"\"","v":""},{"$f":"\"\"","v":""},{"$f":"\"\"","v":""}]
["29521520",null,null,2,95,215,20,20.9,{"$f":"\"\"","v":""},{"$f":"\"\"","v":""},{"$f":"\"\"","v":""},{"$f":"\"\"","v":""},{"v":5118.68,"d":"5119"},{"v":5118.68,"d":"5119"},{"v":5118.68,"d":"5119"},{"v":5118.68,"d":"5119"},1.2983,1.2983,1.2983,1.2983,835,835,835,835,144,144,144,144,{"v":0.10264910128215818,"d":"0.10"},{"v":0.10264910128215818,"d":"0.10"},{"v":0.10264910128215818,"d":"0.10"},{"v":0.10264910128215818,"d":"0.10"},0.0001276,1.7219,2,3.76611E-4,{"$f":"\"\"","v":""},{"$f":"\"\"","v":""},{"$f":"\"\"","v":""},{"$f":"\"\"","v":""},{"$f":"\"\"","v":""},{"$f":"\"\"","v":""},{"$f":"\"\"","v":""},{"$f":"\"\"","v":""},{"$f":"\"\"","v":""},{"$f":"\"\"","v":""},{"$f":"\"\"","v":""},{"$f":"\"\"","v":""},{"$f":"\"\"","v":""},{"$f":"\"\"","v":""},{"$f":"\"\"","v":""},2.9,{"$f":"\"\"","v":""},{"$f":"\"\"","v":""},{"$f":"\"\"","v":""}]
["29523520",null,null,2,95,235,20,20.9,{"$f":"\"\"","v":""},{"$f":"\"\"","v":""},{"$f":"\"\"","v":""},{"$f":"\"\"","v":""},{"v":5625.48,"d":"5625"},{"v":5625.48,"d":"5625"},{"v":5625.48,"d":"5625"},{"v":5625.48,"d":"5625"},1.2983,1.2983,1.2983,1.2983,918,918,918,918,158,158,158,158,{"v":0.12583294630845734,"d":"0.13"},{"v":0.12583294630845734,"d":"0.13"},{"v":0.12583294630845734,"d":"0.13"},{"v":0.12583294630845734,"d":"0.13"},0.0001276,1.7219,2,3.76611E-4,{"$f":"\"\"","v":""},{"$f":"\"\"","v":""},{"$f":"\"\"","v":""},{"$f":"\"\"","v":""},{"$f":"\"\"","v":""},{"$f":"\"\"","v":""},{"$f":"\"\"","v":""},{"$f":"\"\"","v":""},{"$f":"\"\"","v":""},{"$f":"\"\"","v":""},{"$f":"\"\"","v":""},{"$f":"\"\"","v":""},{"$f":"\"\"","v":""},{"$f":"\"\"","v":""},{"$f":"\"\"","v":""},3.1,{"$f":"\"\"","v":""},{"$f":"\"\"","v":""},{"$f":"\"\"","v":""}]
["21005520",null,null,2,100,55,20,20.9,{"$f":"\"\"","v":""},{"$f":"\"\"","v":""},{"$f":"\"\"","v":""},{"$f":"\"\"","v":""},1071,1071,1071,1071,1.2944,1.2944,1.2944,1.2944,176,176,176,176,30,30,30,30,{"v":0.003676594203452995,"d":"0.00"},{"v":0.003676594203452995,"d":"0.00"},{"v":0.003676594203452995,"d":"0.00"},{"v":0.003676594203452995,"d":"0.00"},0.0001276,1.7219,2,3.76611E-4,{"$f":"\"\"","v":""},{"$f":"\"\"","v":""},{"$f":"\"\"","v":""},{"$f":"\"\"","v":""},{"$f":"\"\"","v":""},{"$f":"\"\"","v":""},{"$f":"\"\"","v":""},{"$f":"\"\"","v":""},{"$f":"\"\"","v":""},{"$f":"\"\"","v":""},{"$f":"\"\"","v":""},{"$f":"\"\"","v":""},{"$f":"\"\"","v":""},{"$f":"\"\"","v":""},{"$f":"\"\"","v":""},0.7,{"$f":"\"\"","v":""},{"$f":"\"\"","v":""},{"$f":"\"\"","v":""}]
["21006520",null,null,2,100,65,20,20.9,{"$f":"\"\"","v":""},{"$f":"\"\"","v":""},{"$f":"\"\"","v":""},{"$f":"\"\"","v":""},1326,1326,1326,1326,1.2944,1.2944,1.2944,1.2944,218,218,218,{"$f":"ROUND(P603*POWER(CF_heat,T603),0)","v":218},37,37,37,{"$f":"ROUND(X603*3600/(4186*ABS($O$1-$O$2)),0)","v":37},{"v":0.005687352420300547,"d":"0.01"},{"v":0.005687352420300547,"d":"0.01"},{"v":0.005687352420300547,"d":"0.01"},{"$f":"(($AG603*(AB603^$AH603)*((($F603-14.4)*$AI603)/100))+($AJ603*(AB603^2)))*0.0098","v":{"v":0.005687352420300547,"d":"0.01"}},0.0001276,1.7219,2,{"$f":"IF($G603=$CO$103,CS$103,IF($G603=$CO$104,CS$104,IF($G603=$CO$105,CS$105,IF($G603=$CO$107,CS$107,IF($G603=$CO$108,CS$108,IF($G603=$CO$109,CS$109,IF($G603=$CO$111,CS$111,IF($G603=$CO$112,CS$112,IF($G603=$CO$113,CS$113,IF($G603=$CO$115,CS$115,IF($G603=$CO$116,CS$116,IF($G603=$CO$117,CS$117,IF($G603=$CO$119,CS$119,IF($G603=$CO$120,CS$120,))))))))))))))","v":3.76611E-4},{"$f":"\"\"","v":""},{"$f":"\"\"","v":""},{"$f":"\"\"","v":""},{"$f":"\"\"","v":""},{"$f":"\"\"","v":""},{"$f":"\"\"","v":""},{"$f":"\"\"","v":""},{"$f":"\"\"","v":""},{"$f":"\"\"","v":""},{"$f":"\"\"","v":""},{"$f":"\"\"","v":""},{"$f":"\"\"","v":""},{"$f":"\"\"","v":""},{"$f":"\"\"","v":""},{"$f":"\"\"","v":""},0.9,{"$f":"\"\"","v":""},{"$f":"\"\"","v":""},{"$f":"\"\"","v":""}]
[{"$f":"CONCATENATE(D604,E604,F604,G604)","v":"21007520"},null,null,2,100,75,20,20.9,{"$f":"\"\"","v":""},{"$f":"\"\"","v":""},{"$f":"\"\"","v":""},{"$f":"\"\"","v":""},1581,1581,1581,1581,1.2944,1.2944,1.2944,1.2944,{"$f":"ROUND(M604*POWER(CF_heat,Q604),0)","v":259},259,259,259,{"$f":"ROUND(U604*3600/(4186*ABS($O$1-$O$2)),0)","v":45},45,45,45,{"$f":"(($AG604*(Y604^$AH604)*((($F604-14.4)*$AI604)/100))+($AJ604*(Y604^2)))*0.0098","v":{"v":0.008538591246385679,"d":"0.01"}},{"v":0.008538591246385679,"d":"0.01"},{"v":0.008538591246385679,"d":"0.01"},{"v":0.008538591246385679,"d":"0.01"},{"$f":"IF($G604=$CO$103,CP$103,IF($G604=$CO$104,CP$104,IF($G604=$CO$105,CP$105,IF($G604=$CO$107,CP$107,IF($G604=$CO$108,CP$108,IF($G604=$CO$109,CP$109,IF($G604=$CO$111,CP$111,IF($G604=$CO$112,CP$112,IF($G604=$CO$113,CP$113,IF($G604=$CO$115,CP$115,IF($G604=$CO$116,CP$116,IF($G604=$CO$117,CP$117,IF($G604=$CO$119,CP$119,IF($G604=$CO$120,CP$120,))))))))))))))","v":0.0001276},1.7219,2,3.76611E-4,{"$f":"\"\"","v":""},{"$f":"\"\"","v":""},{"$f":"\"\"","v":""},{"$f":"\"\"","v":""},{"$f":"\"\"","v":""},{"$f":"\"\"","v":""},{"$f":"\"\"","v":""},{"$f":"\"\"","v":""},{"$f":"\"\"","v":""},{"$f":"\"\"","v":""},{"$f":"\"\"","v":""},{"$f":"\"\"","v":""},{"$f":"\"\"","v":""},{"$f":"\"\"","v":""},{"$f":"\"\"","v":""},{"$f":"ROUND(IF(G604=10,$CO$92*F604,IF(G604=11,$CO$93*F604,IF(G604=15,$CO$94*F604,IF(G604=16,$CO$95*F604,IF(G604=20,$CO$96*F604,IF(G604=21,$CO$97*F604,)))))),1)","v":{"v":1,"d":"1.0"}},{"$f":"\"\"","v":""},{"$f":"\"\"","v":""},{"$f":"\"\"","v":""}]
["21008520",null,null,2,100,85,20,20.9,{"$f":"\"\"","v":""},{"$f":"\"\"","v":""},{"$f":"\"\"","v":""},{"$f":"\"\"","v":""},1836,1836,1836,1836,1.2944,1.2944,1.2944,1.2944,301,301,301,301,52,52,52,52,{"v":0.011570990681827844,"d":"0.01"},{"v":0.011570990681827844,"d":"0.01"},{"v":0.011570990681827844,"d":"0.01"},{"v":0.011570990681827844,"d":"0.01"},0.0001276,1.7219,2,3.76611E-4,{"$f":"\"\"","v":""},{"$f":"\"\"","v":""},{"$f":"\"\"","v":""},{"$f":"\"\"","v":""},{"$f":"\"\"","v":""},{"$f":"\"\"","v":""},{"$f":"\"\"","v":""},{"$f":"\"\"","v":""},{"$f":"\"\"","v":""},{"$f":"\"\"","v":""},{"$f":"\"\"","v":""},{"$f":"\"\"","v":""},{"$f":"\"\"","v":""},{"$f":"\"\"","v":""},{"$f":"\"\"","v":""},1.1,{"$f":"\"\"","v":""},{"$f":"\"\"","v":""},{"$f":"\"\"","v":""}]
["21009520",null,null,2,100,95,20,20.9,{"$f":"\"\"","v":""},{"$f":"\"\"","v":""},{"$f":"\"\"","v":""},{"$f":"\"\"","v":""},2091,2091,2091,2091,1.2944,1.2944,1.2944,1.2944,343,343,343,343,59,59,59,59,{"v":0.015105361617535177,"d":"0.02"},{"v":0.015105361617535177,"d":"0.02"},{"v":0.015105361617535177,"d":"0.02"},{"v":0.015105361617535177,"d":"0.02"},0.0001276,1.7219,2,3.76611E-4,{"$f":"\"\"","v":""},{"$f":"\"\"","v":""},{"$f":"\"\"","v":""},{"$f":"\"\"","v":""},{"$f":"\"\"","v":""},{"$f":"\"\"","v":""},{"$f":"\"\"","v":""},{"$f":"\"\"","v":""},{"$f":"\"\"","v":""},{"$f":"\"\"","v":""},{"$f":"\"\"","v":""},{"$f":"\"\"","v":""},{"$f":"\"\"","v":""},{"$f":"\"\"","v":""},{"$f":"\"\"","v":""},1.3,{"$f":"\"\"","v":""},{"$f":"\"\"","v":""},{"$f":"\"\"","v":""}]
["210010520",null,null,2,100,105,20,20.9,{"$f":"\"\"","v":""},{"$f":"\"\"","v":""},{"$f":"\"\"","v":""},{"$f":"\"\"","v":""},2346,2346,2346,2346,1.2944,1.2944,1.2944,1.2944,385,385,385,385,66,66,66,66,{"v":0.01915534829254517,"d":"0.02"},{"v":0.01915534829254517,"d":"0.02"},{"v":0.01915534829254517,"d":"0.02"},{"v":0.01915534829254517,"d":"0.02"},0.0001276,1.7219,2,3.76611E-4,{"$f":"\"\"","v":""},{"$f":"\"\"","v":""},{"$f":"\"\"","v":""},{"$f":"\"\"","v":""},{"$f":"\"\"","v":""},{"$f":"\"\"","v":""},{"$f":"\"\"","v":""},{"$f":"\"\"","v":""},{"$f":"\"\"","v":""},{"$f":"\"\"","v":""},{"$f":"\"\"","v":""},{"$f":"\"\"","v":""},{"$f":"\"\"","v":""},{"$f":"\"\"","v":""},{"$f":"\"\"","v":""},1.4,{"$f":"\"\"","v":""},{"$f":"\"\"","v":""},{"$f":"\"\"","v":""}]
["210011520",null,null,2,100,115,20,20.9,{"$f":"\"\"","v":""},{"$f":"\"\"","v":""},{"$f":"\"\"","v":""},{"$f":"\"\"","v":""},2601,2601,2601,2601,1.2944,1.2944,1.2944,1.2944,427,427,427,427,73,73,73,73,{"v":0.023734142510127464,"d":"0.02"},{"v":0.023734142510127464,"d":"0.02"},{"v":0.023734142510127464,"d":"0.02"},{"v":0.023734142510127464,"d":"0.02"},0.0001276,1.7219,2,3.76611E-4,{"$f":"\"\"","v":""},{"$f":"\"\"","v":""},{"$f":"\"\"","v":""},{"$f":"\"\"","v":""},{"$f":"\"\"","v":""},{"$f":"\"\"","v":""},{"$f":"\"\"","v":""},{"$f":"\"\"","v":""},{"$f":"\"\"","v":""},{"$f":"\"\"","v":""},{"$f":"\"\"","v":""},{"$f":"\"\"","v":""},{"$f":"\"\"","v":""},{"$f":"\"\"","v":""},{"$f":"\"\"","v":""},1.5,{"$f":"\"\"","v":""},{"$f":"\"\"","v":""},{"$f":"\"\"","v":""}]
["210013520",null,null,2,100,135,20,20.9,{"$f":"\"\"","v":""},{"$f":"\"\"","v":""},{"$f":"\"\"","v":""},{"$f":"\"\"","v":""},3111,3111,3111,3111,1.2944,1.2944,1.2944,1.2944,510,510,510,510,88,88,88,88,{"v":0.035305941659649044,"d":"0.04"},{"v":0.035305941659649044,"d":"0.04"},{"v":0.035305941659649044,"d":"0.04"},{"v":0.035305941659649044,"d":"0.04"},0.0001276,1.7219,2,3.76611E-4,{"$f":"\"\"","v":""},{"$f":"\"\"","v":""},{"$f":"\"\"","v":""},{"$f":"\"\"","v":""},{"$f":"\"\"","v":""},{"$f":"\"\"","v":""},{"$f":"\"\"","v":""},{"$f":"\"\"","v":""},{"$f":"\"\"","v":""},{"$f":"\"\"","v":""},{"$f":"\"\"","v":""},{"$f":"\"\"","v":""},{"$f":"\"\"","v":""},{"$f":"\"\"","v":""},{"$f":"\"\"","v":""},1.8,{"$f":"\"\"","v":""},{"$f":"\"\"","v":""},{"$f":"\"\"","v":""}]
["210015520",null,null,2,100,155,20,20.9,{"$f":"\"\"","v":""},{"$f":"\"\"","v":""},{"$f":"\"\"","v":""},{"$f":"\"\"","v":""},3621,3621,3621,3621,1.2944,1.2944,1.2944,1.2944,594,594,594,594,102,102,102,102,{"v":0.048507781827693094,"d":"0.05"},{"v":0.048507781827693094,"d":"0.05"},{"v":0.048507781827693094,"d":"0.05"},{"v":0.048507781827693094,"d":"0.05"},0.0001276,1.7219,2,3.76611E-4,{"$f":"\"\"","v":""},{"$f":"\"\"","v":""},{"$f":"\"\"","v":""},{"$f":"\"\"","v":""},{"$f":"\"\"","v":""},{"$f":"\"\"","v":""},{"$f":"\"\"","v":""},{"$f":"\"\"","v":""},{"$f":"\"\"","v":""},{"$f":"\"\"","v":""},{"$f":"\"\"","v":""},{"$f":"\"\"","v":""},{"$f":"\"\"","v":""},{"$f":"\"\"","v":""},{"$f":"\"\"","v":""},2.1,{"$f":"\"\"","v":""},{"$f":"\"\"","v":""},{"$f":"\"\"","v":""}]
["210017520",null,null,2,100,175,20,20.9,{"$f":"\"\"","v":""},{"$f":"\"\"","v":""},{"$f":"\"\"","v":""},{"$f":"\"\"","v":""},4131,4131,4131,4131,1.2944,1.2944,1.2944,1.2944,678,678,678,678,117,117,117,117,{"v":0.06514703740124954,"d":"0.07"},{"v":0.06514703740124954,"d":"0.07"},{"v":0.06514703740124954,"d":"0.07"},{"v":0.06514703740124954,"d":"0.07"},0.0001276,1.7219,2,3.76611E-4,{"$f":"\"\"","v":""},{"$f":"\"\"","v":""},{"$f":"\"\"","v":""},{"$f":"\"\"","v":""},{"$f":"\"\"","v":""},{"$f":"\"\"","v":""},{"$f":"\"\"","v":""},{"$f":"\"\"","v":""},{"$f":"\"\"","v":""},{"$f":"\"\"","v":""},{"$f":"\"\"","v":""},{"$f":"\"\"","v":""},{"$f":"\"\"","v":""},{"$f":"\"\"","v":""},{"$f":"\"\"","v":""},2.3,{"$f":"\"\"","v":""},{"$f":"\"\"","v":""},{"$f":"\"\"","v":""}]
["210019520",null,null,2,100,195,20,20.9,{"$f":"\"\"","v":""},{"$f":"\"\"","v":""},{"$f":"\"\"","v":""},{"$f":"\"\"","v":""},4641,4641,4641,4641,1.2944,1.2944,1.2944,1.2944,761,761,761,761,131,131,131,131,{"v":0.08331569807614082,"d":"0.08"},{"v":0.08331569807614082,"d":"0.08"},{"v":0.08331569807614082,"d":"0.08"},{"v":0.08331569807614082,"d":"0.08"},0.0001276,1.7219,2,3.76611E-4,{"$f":"\"\"","v":""},{"$f":"\"\"","v":""},{"$f":"\"\"","v":""},{"$f":"\"\"","v":""},{"$f":"\"\"","v":""},{"$f":"\"\"","v":""},{"$f":"\"\"","v":""},{"$f":"\"\"","v":""},{"$f":"\"\"","v":""},{"$f":"\"\"","v":""},{"$f":"\"\"","v":""},{"$f":"\"\"","v":""},{"$f":"\"\"","v":""},{"$f":"\"\"","v":""},{"$f":"\"\"","v":""},2.6,{"$f":"\"\"","v":""},{"$f":"\"\"","v":""},{"$f":"\"\"","v":""}]
["210021520",null,null,2,100,215,20,20.9,{"$f":"\"\"","v":""},{"$f":"\"\"","v":""},{"$f":"\"\"","v":""},{"$f":"\"\"","v":""},5151,5151,5151,5151,1.2944,1.2944,1.2944,1.2944,845,845,845,845,145,145,145,145,{"v":0.10402881801929889,"d":"0.10"},{"v":0.10402881801929889,"d":"0.10"},{"v":0.10402881801929889,"d":"0.10"},{"v":0.10402881801929889,"d":"0.10"},0.0001276,1.7219,2,3.76611E-4,{"$f":"\"\"","v":""},{"$f":"\"\"","v":""},{"$f":"\"\"","v":""},{"$f":"\"\"","v":""},{"$f":"\"\"","v":""},{"$f":"\"\"","v":""},{"$f":"\"\"","v":""},{"$f":"\"\"","v":""},{"$f":"\"\"","v":""},{"$f":"\"\"","v":""},{"$f":"\"\"","v":""},{"$f":"\"\"","v":""},{"$f":"\"\"","v":""},{"$f":"\"\"","v":""},{"$f":"\"\"","v":""},2.9,{"$f":"\"\"","v":""},{"$f":"\"\"","v":""},{"$f":"\"\"","v":""}]
["210023520",null,null,2,100,235,20,20.9,{"$f":"\"\"","v":""},{"$f":"\"\"","v":""},{"$f":"\"\"","v":""},{"$f":"\"\"","v":""},5661,5661,5661,5661,1.2944,1.2944,1.2944,1.2944,929,929,929,929,160,160,160,160,{"v":0.1289180865574152,"d":"0.13"},{"v":0.1289180865574152,"d":"0.13"},{"v":0.1289180865574152,"d":"0.13"},{"v":0.1289180865574152,"d":"0.13"},0.0001276,1.7219,2,3.76611E-4,{"$f":"\"\"","v":""},{"$f":"\"\"","v":""},{"$f":"\"\"","v":""},{"$f":"\"\"","v":""},{"$f":"\"\"","v":""},{"$f":"\"\"","v":""},{"$f":"\"\"","v":""},{"$f":"\"\"","v":""},{"$f":"\"\"","v":""},{"$f":"\"\"","v":""},{"$f":"\"\"","v":""},{"$f":"\"\"","v":""},{"$f":"\"\"","v":""},{"$f":"\"\"","v":""},{"$f":"\"\"","v":""},3.1,{"$f":"\"\"","v":""},{"$f":"\"\"","v":""},{"$f":"\"\"","v":""}]

{"sheet":"NL","index":2,"n_rows":22,"n_cols":10,"rows_kept":22,"hidden":true,"merged":[[0,1,0,5],[8,4,8,6],[9,4,9,6],[10,4,10,6],[12,2,12,3],[12,4,12,5],[12,6,13,6],[12,7,13,7],[12,8,13,8],[12,9,13,9],[14,0,14,1],[15,0,17,0]]}
[null,"Selectiontool Strada Hybrid"]
[]
[null,"Lengte",null,"mm","Invulformulier","Statisch toestel","rel. vocht.","Unit","Kopieer alle data"]
[null,"Hoogte",null,{"$f":"D3","v":"mm"},"Uitvoering","Hybrid toestel","Eenheidsstelsel","DBH set","SI-eenheden"]
[null,"Type",null,null,"Temperaturen","DBH rail type","Toestel",null,"Imperiale-eenheden"]
[null,"Diepte",null,{"$f":"D3","v":"mm"},"Indien de ventilatoren uitgeschakeld zijn, is de afgifte een indicatieve waarde.","Waterzijdig drukverlies"]
[]
[null,"Verwarmen:",{"$nulls":4},"Koelen:"]
[null,"Water aanvoer",null,null,{"$f":"B9","v":"Water aanvoer"},{"$nulls":3},{"$f":"D9","v":0}]
[null,"Water retour",null,{"$f":"D9","v":0},{"$f":"B10","v":"Water retour"},{"$nulls":3},{"$f":"D9","v":0}]
[null,"Ruimte (droge bol)",null,{"$f":"D9","v":0},{"$f":"B11","v":"Ruimte (droge bol)"},{"$nulls":3},{"$f":"D9","v":0}]
[]
[null,null,{"$f":"CONCATENATE(B8,\" \",C9,\"/\",C10,\"/\",C11)","v":"Verwarmen: //"},null,{"$f":"CONCATENATE(G8,\" \",H9,\"/\",H10,\"/\",H11)","v":"Koelen: //"},null,"Watervolume","Elektrisch verbruik [W]","Geluidsdrukniveau [dB(A)]****","Geluidsvermogen [dB(A)]****"]
[null,null,"Verwarmvermogen","Waterdebiet","Koelvermogen",{"$f":"D14","v":"Waterdebiet"}]
["Statisch (indicatieve waarde)"]
["EN16430","Ventilatorsnelheid "]
[null,"Ventilatorsnelheid 2"]
[null,"Ventilatorsnelheid 3"]
[null,"Stuurspanning [v]"]
["*","Koelvermogen is berekend volgens EN16430 met de ventilatoren naar boven blazend voor alle types."]
["**","Wanneer het watervolume in gallons wordt gegeven, zijn dit imperial gallons."]
["***","Geluidsvermogen volgens ISO 3741:2010, Voor het geluidsdrukniveau is er een aangenomen kamerdemping van 8 dB(A)."]

{"sheet":"EN","index":3,"n_rows":22,"n_cols":10,"rows_kept":22,"hidden":true,"merged":[[0,1,0,5],[8,4,8,6],[9,4,9,6],[10,4,10,6],[12,2,12,3],[12,4,12,5],[12,6,13,6],[12,7,13,7],[12,8,13,8],[12,9,13,9],[14,0,14,1],[15,0,17,0]]}
[null,"Selectiontool Strada Hybrid"]
[]
[null,"Length",null,"mm","Formulary","Static device","rel. humid.","Unit","Copy all data"]
[null,"Heigth",null,{"$f":"D3","v":"mm"},"Version","Hybrid device","Unit conversion","DBH set","SI-units"]
[null,"Type",null,null,"Temperatures","DBH rail type","Device",null,"Imperial-units"]
[null,"Depth",null,{"$f":"D3","v":"mm"},"If the fans are switched off, the output is an indicative value.","Water side pressure loss "]
[]
[null,"Heating:",{"$nulls":4},"Cooling:"]
[null,"Supply water",null,null,{"$f":"B9","v":"Supply water"},{"$nulls":3},{"$f":"D9","v":0}]
[null,"Return water",null,{"$f":"D9","v":0},{"$f":"B10","v":"Return water"},{"$nulls":3},{"$f":"D9","v":0}]
[null,"Entering air (dry bulb)",null,{"$f":"D9","v":0},{"$f":"B11","v":"Entering air (dry bulb)"},{"$nulls":3},{"$f":"D9","v":0}]
[]
[null,null,{"$f":"CONCATENATE(B8,\" \",C9,\"/\",C10,\"/\",C11)","v":"Heating: //"},null,{"$f":"CONCATENATE(G8,\" \",H9,\"/\",H10,\"/\",H11)","v":"Cooling: //"},null,"Water volume","Electrical consumption [W]","Sound pressure level [dB(A)]****","Sound power [dB(A)]****"]
[null,null,"Heating capacity","Water flow","Cooling capacity",{"$f":"D14","v":"Water flow"}]
["Fans off (indicative value)"]
["EN16430","Fan speed"]
[null,"Fan speed selection 2"]
[null,"Fan speed selection 3"]
[null,"Fan voltage [V]"]
["*","Cooling power is calcullated according EN16430 with fans blowing up for all heights."]
["**","When the water volume is given in gallons, the units are specifically imperial gallons."]
["***","Soundpower according to ISO 3741:2010, sound pressure level with assumed room damping of 8 dB(A)."]

{"sheet":"FR","index":4,"n_rows":22,"n_cols":10,"rows_kept":22,"hidden":true,"merged":[[0,1,0,5],[8,4,8,6],[9,4,9,6],[10,4,10,6],[12,2,12,3],[12,4,12,5],[12,6,13,6],[12,7,13,7],[12,8,13,8],[12,9,13,9],[14,0,14,1],[15,0,17,0]]}
[null,"Selectiontool Strada Hybrid"]
[]
[null,"Longeur",null,"mm","Formulaire","Appareil statique","hum. rel.","Unité","Copier toutes des données"]
[null,"Hauteur",null,{"$f":"D3","v":"mm"},"Version","Appareil Hybrid","Système unitaire","DBH set","Unités-SI"]
[null,"Type",null,null,"Températures","DBH rail type","Appareil",null,"Unités-Impériales"]
[null,"Profondeur",null,{"$f":"D3","v":"mm"},"Si les ventilateurs sont éteints, la sortie est une valeur indicative.","Perte de charge"]
[]
[null,"Chauffer:",{"$nulls":4},"Refroidir:"]
[null,"Entrée de l'eau",null,null,{"$f":"B9","v":"Entrée de l'eau"},{"$nulls":3},{"$f":"D9","v":0}]
[null,"Retour de l'eau",null,{"$f":"D9","v":0},{"$f":"B10","v":"Retour de l'eau"},{"$nulls":3},{"$f":"D9","v":0}]
[null,"Ambiante (bulbe sec)",null,{"$f":"D9","v":0},{"$f":"B11","v":"Ambiante (bulbe sec)"},{"$nulls":3},{"$f":"D9","v":0}]
[]
[null,null,{"$f":"CONCATENATE(B8,\" \",C9,\"/\",C10,\"/\",C11)","v":"Chauffer: //"},null,{"$f":"CONCATENATE(G8,\" \",H9,\"/\",H10,\"/\",H11)","v":"Refroidir: //"},null,"Volume d'eau","Puissance absorbée elec. [W]","Pression sonore [dB(A)]****","Puissance sonore [dB(A)]****"]
[null,null,"Puissance de chauffer","Débit d'eau","Puissance de refroidir",{"$f":"D14","v":"Débit d'eau"}]
["Ventilateur éteint (indicative)"]
["EN16430","Vitesse ventilateur "]
[null,"Vitesse du ventilateur 2"]
[null,"Vitesse du ventilateur 3"]
[null,"Tension ventilateur [V]"]
["*","La puissance de refroidissement est calculée selon EN 16430 avec des ventilateurs qui soufflent pour toutes les hauteurs."]
["**","Lorsque le volume d'eau est donné en gallons, ce sont des gallons impérial."]
["***","Puissance acoustique selon ISO 3741: 2010, niveau de pression acoustique avec un amortissement de la pièce supposé de 8 dB(A)."]

{"sheet":"DE","index":5,"n_rows":22,"n_cols":10,"rows_kept":22,"hidden":true,"merged":[[0,1,0,5],[8,4,8,6],[9,4,9,6],[10,4,10,6],[12,2,12,3],[12,4,12,5],[12,6,13,6],[12,7,13,7],[12,8,13,8],[12,9,13,9],[14,0,14,1],[15,0,17,0]]}
[null,"Selectiontool Strada Hybrid"]
[]
[null,"Länge",null,"mm","Eingabefelder","Statisches Gerät","rel. Luftf.","Unit","Kopieren Sie alle daten"]
[null,"Höhe",null,{"$f":"D3","v":"mm"},"Ausführung","Hybrid Gerät","Einheiten","DBH set","SI-einheiten"]
[null,"Typ",null,null,"Temperaturen","DBH rail typ","Gerät",null,"Imperiale-einheiten"]
[null,"Tiefe",null,{"$f":"D3","v":"mm"},"Wenn die Lüfter ausgeschaltet sind, ist der Ausgang ein Richtwert.","zug. wassers. Druckverlust"]
[]
[null,"Heizen:",{"$nulls":4},"Kühlen:"]
[null,"Vorlauf wasser",null,null,{"$f":"B9","v":"Vorlauf wasser"},{"$nulls":3},{"$f":"D9","v":0}]
[null,"Rücklauf wasser",null,{"$f":"D9","v":0},{"$f":"B10","v":"Rücklauf wasser"},{"$nulls":3},{"$f":"D9","v":0}]
[null,"Raum (trocken)",null,{"$f":"D9","v":0},{"$f":"B11","v":"Raum (trocken)"},{"$nulls":3},{"$f":"D9","v":0}]
[]
[null,null,{"$f":"CONCATENATE(B8,\" \",C9,\"/\",C10,\"/\",C11)","v":"Heizen: //"},null,{"$f":"CONCATENATE(G8,\" \",H9,\"/\",H10,\"/\",H11)","v":"Kühlen: //"},null,"Wasservolumen","Elektr. Leistung [W]","Schalldruckpegel [dB(A)]****","Schallleistungspegel [dB(A)]****"]
[null,null,"Heizleistung","Heizmittelstrom","Kühlleistung","Kühlmittelstrom"]
["Lüfter aus (richtwert)"]
["EN16430","Auslegungsstufe "]
[null,"Auslegungsstufe 2"]
[null,"Auslegungsstufe 3"]
[null,"Lufterspannung [V]"]
["*","Die Kühlleistung wird nach EN 16430 berechnet, wobei die Lüfter für alle Höhen hochgehen."]
["**","Wenn das Wasservolumen in Gallonen angegeben ist, sind dies imperiale Gallonen."]
["***","Schallleistung nach ISO 3741: 2010, Schalldruckpegel bei angenommener Raumdämpfung von 8 dB(A)."]

{"sheet":"NR","index":6,"n_rows":22,"n_cols":10,"rows_kept":22,"hidden":true,"merged":[[0,1,0,5],[8,4,8,6],[9,4,9,6],[10,4,10,6],[12,2,12,3],[12,4,12,5],[12,6,13,6],[12,7,13,7],[12,8,13,8],[12,9,13,9],[14,0,14,1],[15,0,17,0]]}
[null,"Selectiontool Strada Hybrid"]
[]
[null,"Lengde",null,"mm","Inngangsskjema","Statisk modell","rel. fuktighet","Unit","Kopier alle data"]
[null,"Høyde",null,{"$f":"D3","v":"mm"},"Versjon","Hybrid modell","Enhetssystem","DBH set","SI-enheter"]
[null,"Type",null,null,"Temperaturer","DBH rail type","Modell",null,"Imperiale-enheter"]
[null,"Bredde",null,{"$f":"D3","v":"mm"},"Hvis viftene er slått av, er utgangen en indikativ verdi.","Trykktap"]
[]
[null,"Varme:",{"$nulls":4},"Kjøling:"]
[null,"Tur vann",null,null,{"$f":"B9","v":"Tur vann"},{"$nulls":3},{"$f":"D9","v":0}]
[null,"Retur vann",null,0,{"$f":"B10","v":"Retur vann"},{"$nulls":3},{"$f":"D9","v":0}]
[null,"Rom (tørr pære)",null,0,{"$f":"B11","v":"Rom (tørr pære)"},{"$nulls":3},{"$f":"D9","v":0}]
[]
[null,null,{"$f":"CONCATENATE(B8,\" \",C9,\"/\",C10,\"/\",C11)","v":"Varme: //"},null,{"$f":"CONCATENATE(G8,\" \",H9,\"/\",H10,\"/\",H11)","v":"Kjøling: //"},null,"Vannvolum","Elektrisk effekt [W]","Lydtrykk [dB(A)]****","Lydeffekt [dB(A)]****"]
[null,null,"Varme effekt","Vannmengde","Kjøle effekt",{"$f":"D14","v":"Vannmengde"}]
["Lüfter aus (richtwert)"]
["EN16430","Styresignal"]
[null,"Auslegungsstufe 2"]
[null,"Auslegungsstufe 3"]
[null,"Viftespenning [V]"]
["*","Kjølekapasitet beregnes i henhold til EN16430 med viftene som blåser oppover for alle typer."]
["**","Når vannvolumet er gitt i gallon, er dette imperial gallons."]
["***","Lydeffekt i henhold til ISO 3741: 2010. For lydtrykknivået er det en antatt romdemping på 8 dB (A)."]

{"sheet":"SP","index":7,"n_rows":22,"n_cols":10,"rows_kept":22,"hidden":true,"merged":[[0,1,0,5],[8,4,8,6],[9,4,9,6],[10,4,10,6],[12,2,12,3],[12,4,12,5],[12,6,13,6],[12,7,13,7],[12,8,13,8],[12,9,13,9],[14,0,14,1],[15,0,17,0]]}
[null,"Selectiontool Strada Hybrid"]
[]
[null,"Longitud",null,"mm","Formulary","Dispositivo estático","Hum. Relativa","Unit","Copiar todos los datos"]
[null,"Altura",null,{"$f":"D3","v":"mm"},"Versión","Dispositivo Hybrid","Convers. de unidades","DBH set","Unidades-SI"]
[null,"Tipo",null,null,"Temperaturas","tipo de riel DBH","Despositivo",null,"Unidades-Imperial"]
[null,"Profund.",null,{"$f":"D3","v":"mm"},"La velocidad del ventilador en \"0\" tiene una emisión indicativa.","Pérdida de carga del agua"]
[]
[null,"Calefacción:",{"$nulls":4},"Enfriamiento:"]
[null,"Agua impulsión",null,null,{"$f":"B9","v":"Agua impulsión"},{"$nulls":3},{"$f":"D9","v":0}]
[null,"Agua retorno",null,{"$f":"D9","v":0},{"$f":"B10","v":"Agua retorno"},{"$nulls":3},{"$f":"D9","v":0}]
[null,"Ambiente (bulbo seco)",null,{"$f":"D9","v":0},{"$f":"B11","v":"Ambiente (bulbo seco)"},{"$nulls":3},{"$f":"D9","v":0}]
[]
[null,null,{"$f":"CONCATENATE(B8,\" \",C9,\"/\",C10,\"/\",C11)","v":"Calefacción: //"},null,{"$f":"CONCATENATE(G8,\" \",H9,\"/\",H10,\"/\",H11)","v":"Enfriamiento: //"},null,"Volumen de agua","Potencia eléctrica absorbida [W]","Presión sonora [dB(A)]****","Potencia sonora [dB(A)]****"]
[null,null,"Emisión calefacción","Caudal de agua, calefacción","Emisión sensible Frío",{"$f":"D14","v":"Caudal de agua, calefacción"}]
["Fans off (indicative value)"]
["EN16430","Velocidad del ventilador"]
[null,"Fan speed selection 2"]
[null,"Fan speed selection 3"]
[null," Voltaje control [V]"]
["*","La potencia de enfriamiento se calcula según la norma EN 16430 con ventiladores de todas las alturas."]
["**","Cuando el volumen de agua se da en galones, las unidades son específicamente galones imperiales."]
["***","Potencia sonora según ISO 3741: 2010, nivel de presión acústica con una amortiguación ambiental supuesta de 8 dB (A)."]

{"sheet":"SW","index":8,"n_rows":22,"n_cols":10,"rows_kept":22,"hidden":true,"merged":[[0,1,0,5],[8,4,8,6],[9,4,9,6],[10,4,10,6],[12,2,12,3],[12,4,12,5],[12,6,13,6],[12,7,13,7],[12,8,13,8],[12,9,13,9],[14,0,14,1],[15,0,17,0]]}
[null,"Selectiontool Strada Hybrid"]
[]
[null,"Längd",null,"mm","Inngangsskjema","Statisk modell","rel. Fuktighet","Unit","Kopiera all data"]
[null,"Höjd",null,{"$f":"D3","v":"mm"},"Storlek","Hybrid modell","Enhetssystem","DBH set","SI-enheter"]
[null,"Typ",null,null,"Temperaturer","DBH rail typ","Modell",null,"Imperiella-enheter"]
[null,"Djup",null,{"$f":"D3","v":"mm"},"Om fläktarna är avstängda är utgången ett indikationsvärde.","Tryckfall, vatten"]
[]
[null,"Värme:",{"$nulls":4},"Kyla:"]
[null,"Tillopp",null,null,{"$f":"B9","v":"Tillopp"},{"$nulls":3},{"$f":"D9","v":0}]
[null,"Retur",null,0,{"$f":"B10","v":"Retur"},{"$nulls":3},{"$f":"D9","v":0}]
[null,"Rum (torr)",null,0,{"$f":"B11","v":"Rum (torr)"},{"$nulls":3},{"$f":"D9","v":0}]
[]
[null,null,{"$f":"CONCATENATE(B8,\" \",C9,\"/\",C10,\"/\",C11)","v":"Värme: //"},null,{"$f":"CONCATENATE(G8,\" \",H9,\"/\",H10,\"/\",H11)","v":"Kyla: //"},null,"Vattenvolym","Effektförbrukning [W]","Ljudtryck [dB(A)]****","Ljudeffekt [dB(A)]****"]
[null,null,"Effekt","Vattenflöde","Kyleffekt",{"$f":"D14","v":"Vattenflöde"}]
["Fans off (indicative value)"]
["EN16430","Fläkthastighet"]
[null,"Fan speed selection 2"]
[null,"Fan speed selection 3"]
[null,"Spänning, Fläkt [V]"]
["*","Kyleffekt är beräknad enligt EN16430 med fläktar blåsandes i riktning uppåt för alla höjder"]
["**","När vattenvolymen är given i gallon avser det Imperiella gallon."]
["***","Ljudeffekt enligt ISO 3741:2010 ljudtryck med antagen ljudreduktion från rummet på 8 dB(A)"]

{"sheet":"TS","index":9,"n_rows":22,"n_cols":10,"rows_kept":22,"hidden":true,"merged":[[0,1,0,5],[8,4,8,6],[9,4,9,6],[10,4,10,6],[12,2,12,3],[12,4,12,5],[12,6,13,6],[12,7,13,7],[12,8,13,8],[12,9,13,9],[14,0,14,1],[15,0,17,0]]}
[null,"Selectiontool Strada Hybrid"]
[]
[null,"Délka",null,"mm","Formulary","Statická jednotka","Relativní vlhkost","Jednotka","Kopírovat všechna data"]
[null,"Výška",null,{"$f":"D3","v":"mm"},"Verze","Hybridní jednotka","Převod jednotek","DBH sada","Mezinárodní (Sl)"]
[null,"Typ",null,null,"Teploty","DBH rail type","Device",null,"Imperiální"]
[null,"Hloubka",null,{"$f":"D3","v":"mm"},"Pokud jsou ventilátory vypnuté, je výkon pouze orientační.","Tlaková ztráta"]
[]
[null,"Topení:",{"$nulls":4},"Chlazení:"]
[null,"Voda na přívodu",null,null,{"$f":"B9","v":"Voda na přívodu"},{"$nulls":3},{"$f":"D9","v":0}]
[null,"Voda na zpátečce",null,{"$f":"D9","v":0},{"$f":"B10","v":"Voda na zpátečce"},{"$nulls":3},{"$f":"D9","v":0}]
[null,"\"Suchá\" teplota vzduchu",null,{"$f":"D9","v":0},{"$f":"B11","v":"\"Suchá\" teplota vzduchu"},{"$nulls":3},{"$f":"D9","v":0}]
[]
[null,null,{"$f":"CONCATENATE(B8,\" \",C9,\"/\",C10,\"/\",C11)","v":"Topení: //"},null,{"$f":"CONCATENATE(G8,\" \",H9,\"/\",H10,\"/\",H11)","v":"Chlazení: //"},null,"Objem vody","Elektrický výkon [W]","Akustický tlak [dB(A)]****","Akustický výkon [dB(A)]****"]
[null,null,"Výkon Topení","Průtok vody","Výkon Chlazení","Průtok vody"]
["Fans off (indicative value)"]
["EN16430","Rychlost otáček ventilátoru"]
[null,"Fan speed selection 2"]
[null,"Fan speed selection 3"]
[null,"Napětí ventilárotu [V]"]
["*","Chladicí výkon vypočítán podle EN 16430  s ventilátory, které u všech typů - výšek foukají nahoru."]
["**","Když je objem vody uveden v galonech, jednotky jsou konkrétně imperiální galony. "]
["***","Akustický výkon podle ISO 3741: 2010, hladina akustického tlaku s předpokládaným útlumem místnosti o 8 dB (A)."]

{"sheet":"ExtraTaal1","index":10,"n_rows":22,"n_cols":10,"rows_kept":22,"hidden":true,"merged":[[0,1,0,5],[8,4,8,6],[9,4,9,6],[10,4,10,6],[12,2,12,3],[12,4,12,5],[12,6,13,6],[12,7,13,7],[12,8,13,8],[12,9,13,9],[14,0,14,1],[15,0,17,0]]}
[null,"Selectiontool Strada Hybrid"]
[]
[null,"Length",null,"mm","Formulary","Static device","rel. humid.","Unit","Copy all data"]
[null,"Heigth",null,{"$f":"D3","v":"mm"},"Version","Hybrid device","Unit conversion","DBH set","SI-units"]
[null,"Type",null,null,"Temperatures","DBH rail type","Device",null,"Imperial-units"]
[null,"Depth",null,{"$f":"D3","v":"mm"},"If the fans are switched off, the output is an indicative value.","Water side pressure loss "]
[]
[null,"Heating:",{"$nulls":4},"Cooling:"]
[null,"Supply water",null,null,{"$f":"B9","v":"Supply water"},{"$nulls":3},{"$f":"D9","v":0}]
[null,"Return water",null,{"$f":"D9","v":0},{"$f":"B10","v":"Return water"},{"$nulls":3},{"$f":"D9","v":0}]
[null,"Entering air (dry bulb)",null,{"$f":"D9","v":0},{"$f":"B11","v":"Entering air (dry bulb)"},{"$nulls":3},{"$f":"D9","v":0}]
[]
[null,null,{"$f":"CONCATENATE(B8,\" \",C9,\"/\",C10,\"/\",C11)","v":"Heating: //"},null,{"$f":"CONCATENATE(G8,\" \",H9,\"/\",H10,\"/\",H11)","v":"Cooling: //"},null,"Water volume","Electrical consumption [W]","Sound pressure level [dB(A)]****","Sound power [dB(A)]****"]
[null,null,"Heating capacity","Water flow","Cooling capacity",{"$f":"D14","v":"Water flow"}]
["Fans off (indicative value)"]
["EN16430","Fan speed"]
[null,"Fan speed selection 2"]
[null,"Fan speed selection 3"]
[null,"Fan voltage [V]"]
["*","Cooling power is calcullated according EN16430 with fans blowing up for all heights."]
["**","When the water volume is given in gallons, the units are specifically imperial gallons."]
["***","Soundpower according to ISO 3741:2010, sound pressure level with assumed room damping of 8 dB(A)."]

{"sheet":"ExtraTaal2","index":11,"n_rows":22,"n_cols":10,"rows_kept":22,"hidden":true,"merged":[[0,1,0,5],[8,4,8,6],[9,4,9,6],[10,4,10,6],[12,2,12,3],[12,4,12,5],[12,6,13,6],[12,7,13,7],[12,8,13,8],[12,9,13,9],[14,0,14,1],[15,0,17,0]]}
[null,"Selectiontool Strada Hybrid"]
[]
[null,"Length",null,"mm","Formulary","Static device","rel. humid.","Unit","Copy all data"]
[null,"Heigth",null,{"$f":"D3","v":"mm"},"Version","Hybrid device","Unit conversion","DBH set","SI-units"]
[null,"Type",null,null,"Temperatures","DBH rail type","Device",null,"Imperial-units"]
[null,"Depth",null,{"$f":"D3","v":"mm"},"If the fans are switched off, the output is an indicative value.","Water side pressure loss "]
[]
[null,"Heating:",{"$nulls":4},"Cooling:"]
[null,"Supply water",null,null,{"$f":"B9","v":"Supply water"},{"$nulls":3},{"$f":"D9","v":0}]
[null,"Return water",null,{"$f":"D9","v":0},{"$f":"B10","v":"Return water"},{"$nulls":3},{"$f":"D9","v":0}]
[null,"Entering air (dry bulb)",null,{"$f":"D9","v":0},{"$f":"B11","v":"Entering air (dry bulb)"},{"$nulls":3},{"$f":"D9","v":0}]
[]
[null,null,{"$f":"CONCATENATE(B8,\" \",C9,\"/\",C10,\"/\",C11)","v":"Heating: //"},null,{"$f":"CONCATENATE(G8,\" \",H9,\"/\",H10,\"/\",H11)","v":"Cooling: //"},null,"Water volume","Electrical consumption [W]","Sound pressure level [dB(A)]****","Sound power [dB(A)]****"]
[null,null,"Heating capacity","Water flow","Cooling capacity",{"$f":"D14","v":"Water flow"}]
["Fans off (indicative value)"]
["EN16430","Fan speed"]
[null,"Fan speed selection 2"]
[null,"Fan speed selection 3"]
[null,"Fan voltage [V]"]
["*","Cooling power is calcullated according EN16430 with fans blowing up for all heights."]
["**","When the water volume is given in gallons, the units are specifically imperial gallons."]
["***","Soundpower according to ISO 3741:2010, sound pressure level with assumed room damping of 8 dB(A)."]

{"sheet":"ExtraTaal3","index":12,"n_rows":22,"n_cols":10,"rows_kept":22,"hidden":true,"merged":[[0,1,0,5],[8,4,8,6],[9,4,9,6],[10,4,10,6],[12,2,12,3],[12,4,12,5],[12,6,13,6],[12,7,13,7],[12,8,13,8],[12,9,13,9],[14,0,14,1],[15,0,17,0]]}
[null,"Selectiontool Strada Hybrid"]
[]
[null,"Length",null,"mm","Formulary","Static device","rel. humid.","Unit","Copy all data"]
[null,"Heigth",null,{"$f":"D3","v":"mm"},"Version","Hybrid device","Unit conversion","DBH set","SI-units"]
[null,"Type",null,null,"Temperatures","DBH rail type","Device",null,"Imperial-units"]
[null,"Depth",null,{"$f":"D3","v":"mm"},"If the fans are switched off, the output is an indicative value.","Water side pressure loss "]
[]
[null,"Heating:",{"$nulls":4},"Cooling:"]
[null,"Supply water",null,null,{"$f":"B9","v":"Supply water"},{"$nulls":3},{"$f":"D9","v":0}]
[null,"Return water",null,{"$f":"D9","v":0},{"$f":"B10","v":"Return water"},{"$nulls":3},{"$f":"D9","v":0}]
[null,"Entering air (dry bulb)",null,{"$f":"D9","v":0},{"$f":"B11","v":"Entering air (dry bulb)"},{"$nulls":3},{"$f":"D9","v":0}]
[]
[null,null,{"$f":"CONCATENATE(B8,\" \",C9,\"/\",C10,\"/\",C11)","v":"Heating: //"},null,{"$f":"CONCATENATE(G8,\" \",H9,\"/\",H10,\"/\",H11)","v":"Cooling: //"},null,"Water volume","Electrical consumption [W]","Sound pressure level [dB(A)]****","Sound power [dB(A)]****"]
[null,null,"Heating capacity","Water flow","Cooling capacity",{"$f":"D14","v":"Water flow"}]
["Fans off (indicative value)"]
["EN16430","Fan speed"]
[null,"Fan speed selection 2"]
[null,"Fan speed selection 3"]
[null,"Fan voltage [V]"]
["*","Cooling power is calcullated according EN16430 with fans blowing up for all heights."]
["**","When the water volume is given in gallons, the units are specifically imperial gallons."]
["***","Soundpower according to ISO 3741:2010, sound pressure level with assumed room damping of 8 dB(A)."]